{"text_format":"3","workbook":"xlsx","n_sheets":6,"sheets":["Anleitung","Instructions","Eingabeblatt","Table males","Table females","Dropdownliste"],"not_rendered":{"images":3,"defined_names":4},"read":"whole","date_system":"1900"}

{"sheet":"Anleitung","index":0,"n_rows":51,"n_cols":3,"rows_kept":51}
[]
[null,"Anleitung zur Bestimmung der geschätzten Erwachsenengrösse nach Khamis- Roche bei Mädchen und Knaben"]
[]
[null,"In einigen Sportarten ist die Erwachenengrösse ein leistungslimitierendes Kriterium. Die Khamis-Roche-Methode (1) ist eine praktikable Möglichkeit die geschätzte Erwachsenengrösse zu bestimmen."]
[null,"Die nachfolgende Anleitung soll sicherstellen, dass die Tests (gemäss Swiss Olympic Manual \"Talentidentifikation und -selektion\") möglichst standardisiert umgesetzt werden können."]
[]
[null,"             Die Tests beeinflussen Selektonsentscheide und beinflussen daher sowohl die sportliche wie auch auf die persönliche Zukunft jedes Athletn/-in."]
[null,"             Der Testleiter/die Testleiterin trägt daher eine grosse Verantwortung, genau und seriös zu testen!"]
[]
[]
[null,"Optimale Rahmenbedingungen:"]
[null,"-   Den Test vorher ankündigen (auf normale Nahrungsaufnahme hinweisen, am Testtag erfragen, ob aussergewöhnliche Gewichtsveränderung vorliegt; z.B. durch Erbrechen, falls ja, Test auf einen"]
[null,"    anderen Tag verschieben)"]
[null,"-   Test morgens und vor sportlicher Betätigung durchführen."]
[null,"-   Athlet/in trägt während des Tests nur Unterwäsche (keine Socken, keine Schuhe, keine langen Hosen,…). Die Athletinnen können einheitliche Shorts und Dresses tragen. Das Gewicht der Shorts und"]
[null,"    Dresses (vorher abwiegen) muss vom Gewicht abgezogen werden (somit haben alle die gleichen Bedingungen, den Kleidung/Schuhe haben grossen Einfluss auf Grössen- und Gewichtsmessung)."]
[]
[null,"Stichwortartige Zusammenfassung des Testsprotokolls:"]
[null,"1) Auf \"neue Eingabe / nouvelle entrée\" anklicken"]
[null,"2) Messdatum, Name, Vornmae, Geburtsdatum in vorgegebene Felder eintragen"]
[null,"3) Geschlecht in der Drop-Down-Liste auswählen"]
[null,"4) Körpergewicht bestimmen"]
[null,null,"1. Kalibriete Waag verwenden - Nullmessung überprüfen"]
[null,null,"2. Athlet/in mittig auf Waage, Gewicht auf beide Füsse gleichmässig verteilt"]
[null,null,"3. Messung auf 0.1 genau"]
[null,null,"4. Erneute Durchführung der Schritte 1 bis 3"]
[null,null,"5. Falls Unterschied zw. 1 und 2. Messung maximal 0.4 kg, dann Durschnitt als Ergebnis verwenden. Falls Unterschied grösser ist als 0.4kg, dann wieder bei Punkt 1 beginnen."]
[]
[]
[null,"5) Körpergrösse stehend"]
[null,"(in „gestreckter“ Haltung – maximale Distanz zwischen Boden und Scheitel des Kopfes. "]
[null,"Der Scheitel gilt dabei als höchster Punkt des Schädels, wenn der Kopf exakt horizontal gehalten wird)."]
[]
[null,"1.","Athlet/in steht mit Rücken, Gesäss und Fersen gegen die Wand. Füsse sind zusammen und flach auf dem Boden."]
[null,"2.","Kopf / Blick horizontal ausrichten."]
[null,"3.","Athlet/in atmet möglichst tief ein und hält den Atem an."]
[null,"4.","In der maximal gestreckten Haltung (Füsse immer noch flach auf dem  Boden) und am Ende der tiefen Atmung, wird auf 0.1 cm genau gemessen."]
[null,"5.","Athlet/in verlässt den Messplatz."]
[null,"6.","Erneute Durchführung der Schritte 1 bis 5."]
[null,"7.","Falls Unterschied zw. 1. und 2. Messung maximal 0.4 cm, dann Durchschnitt als Ergebnis verwenden. "]
[null,null,"Falls Unterschied grösser ist als 0.4 cm, dann wieder bei Schritt 1 beginnen."]
[]
[null,"6) Körpergrösse der Eltern messen (Befragung möglich, kann aber ungenau sein)"]
[]
[null,"Es empfiehlt sich, das Protokoll vor der messung mit mehreren Athlet/innen auszuprobieren."]
[]
[null,"Autoren: Michael Romann, Marie Javet & Markus Tschopp (BASPO)"]
[null,"Kontakt: Verbandssupport Leistungssport Swiss Olympic"]
[null,"Version: 14.02.2024"]
[]
[null,"(1) Khamis, H. J., & Roche, A. F. (1994). Predicting adult stature without using skeletal age: the Khamis-Roche method. Pediatrics, 94(4), 504-507."]

{"sheet":"Instructions","index":1,"n_rows":57,"n_cols":3,"rows_kept":57}
[]
[null,"Instructions pour définir la taille à l'âge adulte d'après Khamis-Roche pour les filles et les graçons"]
[]
[null,"Dans certaines disciplines sportives, la taille corporelle est un facteur limitant la performance. La méthode de Khamis-Roche (1) est une méthode practique pour estimer"]
[null,"la taille à l'âge adulte. Les instructions ci-dessous visent à assurer la réalisation la plus standardisée possible (conformément au manuel de Swiss Olympic"]
[null,"pour la détection et la sélection des talents)"]
[]
[null,null,"   Les tests influencent le processus de sélection ainsi que la décision de sélection et ont une influence sur l'avenir sportif et personnel de chaque athlète. "]
[null,null,"   Le responsable du test est en charge de tester de manière exacte et sérieuse. "]
[]
[]
[null,"Conditions à assurer"]
[null,"-         ","Annoncer le test à l’avance (préciser aux athlètes qu’ils peuvent s’alimenter normalement. Le jour du test, leur demander si leur poids risque de différer de leur"]
[null,null,"poids habituel, dans le cas où ils auraient vomi, p. ex.; si oui, reporter le test à un autre jour)."]
[null,"-","Réaliser le test avant l’activité physique – de préférence avant l’entraînement de l’après-midi ou du soir et, dans l’idéal, sans qu’un entraînement ait eu lieu le"]
[null,null,"matin (de manière à éviter toute déshydratation et toute modification excessive de la taille par compression des disques intervertébraux)."]
[null,"-","Durant le test, les joueurs (gardien compris) ne portent que des sous-vêtements (pas de tenue de football, chaussettes, chaussures, pantalons longs, tapes,"]
[null,null,"pullovers, casquettes, accessoires de gardien de but, etc.). Les femmes peuvent porter des shorts et des maillots uniformes. Ces vêtements devront être pesés"]
[null,null,"avant le test, et leur poids devra être déduit de manière à ce que tout le monde soit dans les mêmes conditions (le port de vêtements ou de chaussures influe "]
[null,null,"beaucoup sur la taille ou le poids mesurés)."]
[]
[null,"Le protocole de test en bref"]
[]
[null,"A.","Cliquer sur \"neue Eingabe / nouvelle entrée\""]
[null,"B.","Entrer les données \"date de la mesure, Nom, Prénom, date de naissance dans la feuille \"Eingabe\""]
[null,"C.","Choisir le sexe dans la liste déroulante"]
[]
[null,"D.","Poids corporel"]
[null,"1.       ","Utiliser une balance calibrée. Contrôler le zéro."]
[null,"2.      "," L’athlète doit se placer au milieu de la balance, son poids réparti équitablement sur ses deux pieds."]
[null,"3.       ","Mesurer le poids à 0,1 kg près."]
[null,"4.       ","Répéter les étapes 1 à 3"]
[null,"5.       ","Si les deux résultats divergent de moins de 0,4 kg, le résultat pris en compte sera la moyenne des deux valeurs. "]
[null,null,"Si l’écart entre les deux résultats est supérieur à 0,4 kg, recommencer à l’étape 1. "]
[]
[null,"E.","Taille debout "]
[null,"(à mesurer en position «étendue», c’est-à-dire avec une distance maximale entre le sol et le sommet de la tête."]
[null,"Sommet de la tête = point du crâne le plus haut lorsque la tête est tenue exactement à l’horizontale)."]
[]
[null,"1.   ","L’athlète est debout, adossé au mur. Son dos, ses fesses et ses talons doivent toucher le mur. Ses pieds sont joints et posés à plat sur le sol."]
[null,"2.    ","Tête / regard à l’horizontale."]
[null,"3.   ","L’athlète inspire aussi profondément que possible et bloque sa respiration."]
[null,"4.    ","Dans la position étendue maximale (les pieds restent sur le sol) et à la fin de la respiration profonde, mesurer la taille du joueur à 0,1 cm près."]
[null,"5.    ","L’athlète se retire de l’endroit de la mesure."]
[null,"6.    ","Répéter les étapes 1 à 5."]
[null,"7.    ","Si les deux résultats divergent de moins de 0,4 cm, le résultat pris en compte sera la moyenne des deux valeurs."]
[null,null,"Si l’écart entre les deux résultats est supérieur à 0,4 cm, recommencer à l’étape 1."]
[]
[null,"F.","Taille des parents (questionner est aussi possible, mais la réponse peut être moins précise qu'une mesure)"]
[]
[null,"Nous vous recommandons d’exercer ce protocole avec plusieurs joueurs avant la réalisation du test proprement dit. "]
[]
[null,"Auteurs: Michael Romann, Marie Javet & Markus Tschopp (OFSPO)"]
[null,"Contact: Soutien aux fédérations dans le sport de compétition Swiss Olympic"]
[null,"Version: 14.02.2024"]
[]
[null,"(1) Khamis, H. J., & Roche, A. F. (1994). Predicting adult stature without using skeletal age: the Khamis-Roche method. Pediatrics, 94(4), 504-507."]

{"sheet":"Eingabeblatt","index":2,"n_rows":501,"n_cols":18,"rows_kept":501,"merged":[[1,5,1,12],[2,5,2,12]]}
[]
[{"$nulls":5},"Khamis-Roche bei Mädchen und Knaben - Einschätzung der biologischen Entwicklung in der Adoleszenz"]
[{"$nulls":5},"Khamis-Roche chez les filles et les garçons - Estimation de l'avancée du développement biologique lors de l'adolescence"]
[]
[null,"Geschlecht\nm = männlich      / f = weiblich\n\n\nSexe\nm = homme      / f = femme","Messdatum (tt.mm.jjjj)\n\n\n\nDate de la mesure (tt.mm.aaaa)","Name\n\n\n\n\nNom","Vorname\n\n\n\n\nPrénom","Geburtsdatum\n(tt.mm.jjjj)\n\n\n\nDate de naissance\n(jj.mm.aaaa)","Chronologisches Alter\n\n\n\n\nÂge chronologique","Körpergewicht (kg)\n\n\n\nPoids (kg)\n\n","Körpergrösse stehend (cm)\n\n\n\nTaille debout (cm)","Körpergrösse Vater (cm)\n\n\n\nTaille du papa (cm)","Körpergrösse Mutter (cm)\n\n\n\nTaille de la maman (cm)","Ergebnis geschätzte Erwachsenengrösse\n\nEstimation de la taille à l'âge adulte","Fehlerquote vom Ergebnis geschätzte Erwachsenen- grösse\n\nMarge d'erreur estimation de la taille à l'âge adulte","Prozent Erwachsenengrösse\n\n\nPourcentage de la taille adulte atteinte actuellement","Einschätzung biologische Entwicklung\n\n\n\n\nEstimation du dévelopment biologique"]
[{"$nulls":6},{"$f":"IF(AND(C6>0,F6>0),(C6-F6)/365.25,\"\")","v":""},{"$nulls":4},{"$f":"IF(OR(C6=\"\",G6=\"\",H6=\"\",I6=\"\",K6=\"\",B6=Dropdownliste!A$9,J6=\"\"),\"\",IF(B6=\"m\",(VLOOKUP(Eingabeblatt!$G6,'Table males'!$A$3:$E$138,2)+(VLOOKUP(Eingabeblatt!$G6,'Table males'!$A$3:$E$138,3)*Eingabeblatt!I6)+(VLOOKUP(Eingabeblatt!$G6,'Table males'!$A$3:$E$138,4)*Eingabeblatt!H6)+(VLOOKUP(Eingabeblatt!$G6,'Table males'!$A$3:$E$138,5)*(Eingabeblatt!J6+Eingabeblatt!K6)/2)),VLOOKUP(Eingabeblatt!$G6,'Table females'!$A$3:$E$138,2)+(VLOOKUP(Eingabeblatt!$G6,'Table females'!$A$3:$E$138,3)*Eingabeblatt!I6)+(VLOOKUP(Eingabeblatt!$G6,'Table females'!$A$3:$E$138,4)*Eingabeblatt!H6)+(VLOOKUP(Eingabeblatt!$G6,'Table females'!$A$3:$E$138,5)*(Eingabeblatt!J6+Eingabeblatt!K6)/2)))","v":""},{"$f":"CONCATENATE(\" \",IF(OR(J6=\"\",K6=\"\",L6=\"\"),\"\",IF(B6=\"m\",'Table males'!D$141,'Table females'!D$141)))","v":" "},{"$f":"IF(OR(J6=\"\",K6=\"\",I6=\"\",L6=\"\"),\"\",I6/L6)","v":""},{"$f":"IF(N6=\"\",\"\",IF(N6<0.8,\"vorpubertär / prépubère\",IF(N6<0.9,\"frühpubertär / début de la puberté\",IF(N6<0.95,\"pubertär / pubertaire\",\"spätpubertär / fin de la puberté\"))))","v":""},null,"*exakte Messung gemäss Anleitung befolgen / pour des mesures exactes suivre les instructions"]
[{"$nulls":6},"",{"$nulls":4},{"$f":"IF(OR(C7=\"\",G7=\"\",H7=\"\",I7=\"\",K7=\"\",B7=Dropdownliste!A$9,J7=\"\"),\"\",IF(B7=\"m\",(VLOOKUP(Eingabeblatt!$G7,'Table males'!$A$3:$E$138,2)+(VLOOKUP(Eingabeblatt!$G7,'Table males'!$A$3:$E$138,3)*Eingabeblatt!I7)+(VLOOKUP(Eingabeblatt!$G7,'Table males'!$A$3:$E$138,4)*Eingabeblatt!H7)+(VLOOKUP(Eingabeblatt!$G7,'Table males'!$A$3:$E$138,5)*(Eingabeblatt!J7+Eingabeblatt!K7)/2)),VLOOKUP(Eingabeblatt!$G7,'Table females'!$A$3:$E$138,2)+(VLOOKUP(Eingabeblatt!$G7,'Table females'!$A$3:$E$138,3)*Eingabeblatt!I7)+(VLOOKUP(Eingabeblatt!$G7,'Table females'!$A$3:$E$138,4)*Eingabeblatt!H7)+(VLOOKUP(Eingabeblatt!$G7,'Table females'!$A$3:$E$138,5)*(Eingabeblatt!J7+Eingabeblatt!K7)/2)))","v":""},{"$f":"CONCATENATE(\" \",IF(OR(J7=\"\",K7=\"\",L7=\"\"),\"\",IF(B7=\"m\",'Table males'!D$141,'Table females'!D$141)))","v":" "},{"$f":"IF(OR(J7=\"\",K7=\"\",I7=\"\",L7=\"\"),\"\",I7/L7)","v":""},{"$f":"IF(N7=\"\",\"\",IF(N7<0.8,\"vorpubertär / prépubère\",IF(N7<0.9,\"frühpubertär / début de la puberté\",IF(N7<0.95,\"pubertär / pubertaire\",\"spätpubertär / fin de la puberté\"))))","v":""},null,"† 90% der Kinder liegen in diesem Bereich / 90% des enfants se trouvent dans cette marge"]
[{"$nulls":6},"",{"$nulls":4},{"$f":"IF(OR(C8=\"\",G8=\"\",H8=\"\",I8=\"\",K8=\"\",B8=Dropdownliste!A$9,J8=\"\"),\"\",IF(B8=\"m\",(VLOOKUP(Eingabeblatt!$G8,'Table males'!$A$3:$E$138,2)+(VLOOKUP(Eingabeblatt!$G8,'Table males'!$A$3:$E$138,3)*Eingabeblatt!I8)+(VLOOKUP(Eingabeblatt!$G8,'Table males'!$A$3:$E$138,4)*Eingabeblatt!H8)+(VLOOKUP(Eingabeblatt!$G8,'Table males'!$A$3:$E$138,5)*(Eingabeblatt!J8+Eingabeblatt!K8)/2)),VLOOKUP(Eingabeblatt!$G8,'Table females'!$A$3:$E$138,2)+(VLOOKUP(Eingabeblatt!$G8,'Table females'!$A$3:$E$138,3)*Eingabeblatt!I8)+(VLOOKUP(Eingabeblatt!$G8,'Table females'!$A$3:$E$138,4)*Eingabeblatt!H8)+(VLOOKUP(Eingabeblatt!$G8,'Table females'!$A$3:$E$138,5)*(Eingabeblatt!J8+Eingabeblatt!K8)/2)))","v":""},{"$f":"CONCATENATE(\" \",IF(OR(J8=\"\",K8=\"\",L8=\"\"),\"\",IF(B8=\"m\",'Table males'!D$141,'Table females'!D$141)))","v":" "},"",""]
[{"$nulls":6},"",{"$nulls":4},{"$f":"IF(OR(C9=\"\",G9=\"\",H9=\"\",I9=\"\",K9=\"\",B9=Dropdownliste!A$9,J9=\"\"),\"\",IF(B9=\"m\",(VLOOKUP(Eingabeblatt!$G9,'Table males'!$A$3:$E$138,2)+(VLOOKUP(Eingabeblatt!$G9,'Table males'!$A$3:$E$138,3)*Eingabeblatt!I9)+(VLOOKUP(Eingabeblatt!$G9,'Table males'!$A$3:$E$138,4)*Eingabeblatt!H9)+(VLOOKUP(Eingabeblatt!$G9,'Table males'!$A$3:$E$138,5)*(Eingabeblatt!J9+Eingabeblatt!K9)/2)),VLOOKUP(Eingabeblatt!$G9,'Table females'!$A$3:$E$138,2)+(VLOOKUP(Eingabeblatt!$G9,'Table females'!$A$3:$E$138,3)*Eingabeblatt!I9)+(VLOOKUP(Eingabeblatt!$G9,'Table females'!$A$3:$E$138,4)*Eingabeblatt!H9)+(VLOOKUP(Eingabeblatt!$G9,'Table females'!$A$3:$E$138,5)*(Eingabeblatt!J9+Eingabeblatt!K9)/2)))","v":""},{"$f":"CONCATENATE(\" \",IF(OR(J9=\"\",K9=\"\",L9=\"\"),\"\",IF(B9=\"m\",'Table males'!D$141,'Table females'!D$141)))","v":" "},"",""]
[{"$nulls":6},"",{"$nulls":4},{"$f":"IF(OR(C10=\"\",G10=\"\",H10=\"\",I10=\"\",K10=\"\",B10=Dropdownliste!A$9,J10=\"\"),\"\",IF(B10=\"m\",(VLOOKUP(Eingabeblatt!$G10,'Table males'!$A$3:$E$138,2)+(VLOOKUP(Eingabeblatt!$G10,'Table males'!$A$3:$E$138,3)*Eingabeblatt!I10)+(VLOOKUP(Eingabeblatt!$G10,'Table males'!$A$3:$E$138,4)*Eingabeblatt!H10)+(VLOOKUP(Eingabeblatt!$G10,'Table males'!$A$3:$E$138,5)*(Eingabeblatt!J10+Eingabeblatt!K10)/2)),VLOOKUP(Eingabeblatt!$G10,'Table females'!$A$3:$E$138,2)+(VLOOKUP(Eingabeblatt!$G10,'Table females'!$A$3:$E$138,3)*Eingabeblatt!I10)+(VLOOKUP(Eingabeblatt!$G10,'Table females'!$A$3:$E$138,4)*Eingabeblatt!H10)+(VLOOKUP(Eingabeblatt!$G10,'Table females'!$A$3:$E$138,5)*(Eingabeblatt!J10+Eingabeblatt!K10)/2)))","v":""},{"$f":"CONCATENATE(\" \",IF(OR(J10=\"\",K10=\"\",L10=\"\"),\"\",IF(B10=\"m\",'Table males'!D$141,'Table females'!D$141)))","v":" "},{"$f":"IF(OR(J10=\"\",K10=\"\",I10=\"\",L10=\"\"),\"\",I10/L10)","v":""},{"$f":"IF(N10=\"\",\"\",IF(N10<0.8,\"vorpubertär / prépubère\",IF(N10<0.9,\"frühpubertär / début de la puberté\",IF(N10<0.95,\"pubertär / pubertaire\",\"spätpubertär / fin de la puberté\"))))","v":""},null,"Prozent Erwachsenengrösse","Einschätzung biologische Entwicklung"]
[{"$nulls":6},"",{"$nulls":4},{"$f":"IF(OR(C11=\"\",G11=\"\",H11=\"\",I11=\"\",K11=\"\",B11=Dropdownliste!A$9,J11=\"\"),\"\",IF(B11=\"m\",(VLOOKUP(Eingabeblatt!$G11,'Table males'!$A$3:$E$138,2)+(VLOOKUP(Eingabeblatt!$G11,'Table males'!$A$3:$E$138,3)*Eingabeblatt!I11)+(VLOOKUP(Eingabeblatt!$G11,'Table males'!$A$3:$E$138,4)*Eingabeblatt!H11)+(VLOOKUP(Eingabeblatt!$G11,'Table males'!$A$3:$E$138,5)*(Eingabeblatt!J11+Eingabeblatt!K11)/2)),VLOOKUP(Eingabeblatt!$G11,'Table females'!$A$3:$E$138,2)+(VLOOKUP(Eingabeblatt!$G11,'Table females'!$A$3:$E$138,3)*Eingabeblatt!I11)+(VLOOKUP(Eingabeblatt!$G11,'Table females'!$A$3:$E$138,4)*Eingabeblatt!H11)+(VLOOKUP(Eingabeblatt!$G11,'Table females'!$A$3:$E$138,5)*(Eingabeblatt!J11+Eingabeblatt!K11)/2)))","v":""},{"$f":"CONCATENATE(\" \",IF(OR(J11=\"\",K11=\"\",L11=\"\"),\"\",IF(B11=\"m\",'Table males'!D$141,'Table females'!D$141)))","v":" "},"","",null,"Erwachsenengrösse"]
[{"$nulls":6},"",{"$nulls":4},{"$f":"IF(OR(C12=\"\",G12=\"\",H12=\"\",I12=\"\",K12=\"\",B12=Dropdownliste!A$9,J12=\"\"),\"\",IF(B12=\"m\",(VLOOKUP(Eingabeblatt!$G12,'Table males'!$A$3:$E$138,2)+(VLOOKUP(Eingabeblatt!$G12,'Table males'!$A$3:$E$138,3)*Eingabeblatt!I12)+(VLOOKUP(Eingabeblatt!$G12,'Table males'!$A$3:$E$138,4)*Eingabeblatt!H12)+(VLOOKUP(Eingabeblatt!$G12,'Table males'!$A$3:$E$138,5)*(Eingabeblatt!J12+Eingabeblatt!K12)/2)),VLOOKUP(Eingabeblatt!$G12,'Table females'!$A$3:$E$138,2)+(VLOOKUP(Eingabeblatt!$G12,'Table females'!$A$3:$E$138,3)*Eingabeblatt!I12)+(VLOOKUP(Eingabeblatt!$G12,'Table females'!$A$3:$E$138,4)*Eingabeblatt!H12)+(VLOOKUP(Eingabeblatt!$G12,'Table females'!$A$3:$E$138,5)*(Eingabeblatt!J12+Eingabeblatt!K12)/2)))","v":""},{"$f":"CONCATENATE(\" \",IF(OR(J12=\"\",K12=\"\",L12=\"\"),\"\",IF(B12=\"m\",'Table males'!D$141,'Table females'!D$141)))","v":" "},"","",null,"Pourcentage","Estimation du dévelopment biologique"]
[{"$nulls":6},"",{"$nulls":4},{"$f":"IF(OR(C13=\"\",G13=\"\",H13=\"\",I13=\"\",K13=\"\",B13=Dropdownliste!A$9,J13=\"\"),\"\",IF(B13=\"m\",(VLOOKUP(Eingabeblatt!$G13,'Table males'!$A$3:$E$138,2)+(VLOOKUP(Eingabeblatt!$G13,'Table males'!$A$3:$E$138,3)*Eingabeblatt!I13)+(VLOOKUP(Eingabeblatt!$G13,'Table males'!$A$3:$E$138,4)*Eingabeblatt!H13)+(VLOOKUP(Eingabeblatt!$G13,'Table males'!$A$3:$E$138,5)*(Eingabeblatt!J13+Eingabeblatt!K13)/2)),VLOOKUP(Eingabeblatt!$G13,'Table females'!$A$3:$E$138,2)+(VLOOKUP(Eingabeblatt!$G13,'Table females'!$A$3:$E$138,3)*Eingabeblatt!I13)+(VLOOKUP(Eingabeblatt!$G13,'Table females'!$A$3:$E$138,4)*Eingabeblatt!H13)+(VLOOKUP(Eingabeblatt!$G13,'Table females'!$A$3:$E$138,5)*(Eingabeblatt!J13+Eingabeblatt!K13)/2)))","v":""},{"$f":"CONCATENATE(\" \",IF(OR(J13=\"\",K13=\"\",L13=\"\"),\"\",IF(B13=\"m\",'Table males'!D$141,'Table females'!D$141)))","v":" "},"","",null,"de la taille adulte"]
[{"$nulls":6},"",{"$nulls":4},{"$f":"IF(OR(C14=\"\",G14=\"\",H14=\"\",I14=\"\",K14=\"\",B14=Dropdownliste!A$9,J14=\"\"),\"\",IF(B14=\"m\",(VLOOKUP(Eingabeblatt!$G14,'Table males'!$A$3:$E$138,2)+(VLOOKUP(Eingabeblatt!$G14,'Table males'!$A$3:$E$138,3)*Eingabeblatt!I14)+(VLOOKUP(Eingabeblatt!$G14,'Table males'!$A$3:$E$138,4)*Eingabeblatt!H14)+(VLOOKUP(Eingabeblatt!$G14,'Table males'!$A$3:$E$138,5)*(Eingabeblatt!J14+Eingabeblatt!K14)/2)),VLOOKUP(Eingabeblatt!$G14,'Table females'!$A$3:$E$138,2)+(VLOOKUP(Eingabeblatt!$G14,'Table females'!$A$3:$E$138,3)*Eingabeblatt!I14)+(VLOOKUP(Eingabeblatt!$G14,'Table females'!$A$3:$E$138,4)*Eingabeblatt!H14)+(VLOOKUP(Eingabeblatt!$G14,'Table females'!$A$3:$E$138,5)*(Eingabeblatt!J14+Eingabeblatt!K14)/2)))","v":""},{"$f":"CONCATENATE(\" \",IF(OR(J14=\"\",K14=\"\",L14=\"\"),\"\",IF(B14=\"m\",'Table males'!D$141,'Table females'!D$141)))","v":" "},"","",null,"< 80%","vorpubertär / prépubère"]
[{"$nulls":6},"",{"$nulls":4},{"$f":"IF(OR(C15=\"\",G15=\"\",H15=\"\",I15=\"\",K15=\"\",B15=Dropdownliste!A$9,J15=\"\"),\"\",IF(B15=\"m\",(VLOOKUP(Eingabeblatt!$G15,'Table males'!$A$3:$E$138,2)+(VLOOKUP(Eingabeblatt!$G15,'Table males'!$A$3:$E$138,3)*Eingabeblatt!I15)+(VLOOKUP(Eingabeblatt!$G15,'Table males'!$A$3:$E$138,4)*Eingabeblatt!H15)+(VLOOKUP(Eingabeblatt!$G15,'Table males'!$A$3:$E$138,5)*(Eingabeblatt!J15+Eingabeblatt!K15)/2)),VLOOKUP(Eingabeblatt!$G15,'Table females'!$A$3:$E$138,2)+(VLOOKUP(Eingabeblatt!$G15,'Table females'!$A$3:$E$138,3)*Eingabeblatt!I15)+(VLOOKUP(Eingabeblatt!$G15,'Table females'!$A$3:$E$138,4)*Eingabeblatt!H15)+(VLOOKUP(Eingabeblatt!$G15,'Table females'!$A$3:$E$138,5)*(Eingabeblatt!J15+Eingabeblatt!K15)/2)))","v":""},{"$f":"CONCATENATE(\" \",IF(OR(J15=\"\",K15=\"\",L15=\"\"),\"\",IF(B15=\"m\",'Table males'!D$141,'Table females'!D$141)))","v":" "},"","",null,"80 - 90%","frühpubertär / début de la puberté"]
[{"$nulls":6},"",{"$nulls":4},{"$f":"IF(OR(C16=\"\",G16=\"\",H16=\"\",I16=\"\",K16=\"\",B16=Dropdownliste!A$9,J16=\"\"),\"\",IF(B16=\"m\",(VLOOKUP(Eingabeblatt!$G16,'Table males'!$A$3:$E$138,2)+(VLOOKUP(Eingabeblatt!$G16,'Table males'!$A$3:$E$138,3)*Eingabeblatt!I16)+(VLOOKUP(Eingabeblatt!$G16,'Table males'!$A$3:$E$138,4)*Eingabeblatt!H16)+(VLOOKUP(Eingabeblatt!$G16,'Table males'!$A$3:$E$138,5)*(Eingabeblatt!J16+Eingabeblatt!K16)/2)),VLOOKUP(Eingabeblatt!$G16,'Table females'!$A$3:$E$138,2)+(VLOOKUP(Eingabeblatt!$G16,'Table females'!$A$3:$E$138,3)*Eingabeblatt!I16)+(VLOOKUP(Eingabeblatt!$G16,'Table females'!$A$3:$E$138,4)*Eingabeblatt!H16)+(VLOOKUP(Eingabeblatt!$G16,'Table females'!$A$3:$E$138,5)*(Eingabeblatt!J16+Eingabeblatt!K16)/2)))","v":""},{"$f":"CONCATENATE(\" \",IF(OR(J16=\"\",K16=\"\",L16=\"\"),\"\",IF(B16=\"m\",'Table males'!D$141,'Table females'!D$141)))","v":" "},"","",null,"90 - 95%","pubertär / pubertaire"]
[{"$nulls":6},"",{"$nulls":4},{"$f":"IF(OR(C17=\"\",G17=\"\",H17=\"\",I17=\"\",K17=\"\",B17=Dropdownliste!A$9,J17=\"\"),\"\",IF(B17=\"m\",(VLOOKUP(Eingabeblatt!$G17,'Table males'!$A$3:$E$138,2)+(VLOOKUP(Eingabeblatt!$G17,'Table males'!$A$3:$E$138,3)*Eingabeblatt!I17)+(VLOOKUP(Eingabeblatt!$G17,'Table males'!$A$3:$E$138,4)*Eingabeblatt!H17)+(VLOOKUP(Eingabeblatt!$G17,'Table males'!$A$3:$E$138,5)*(Eingabeblatt!J17+Eingabeblatt!K17)/2)),VLOOKUP(Eingabeblatt!$G17,'Table females'!$A$3:$E$138,2)+(VLOOKUP(Eingabeblatt!$G17,'Table females'!$A$3:$E$138,3)*Eingabeblatt!I17)+(VLOOKUP(Eingabeblatt!$G17,'Table females'!$A$3:$E$138,4)*Eingabeblatt!H17)+(VLOOKUP(Eingabeblatt!$G17,'Table females'!$A$3:$E$138,5)*(Eingabeblatt!J17+Eingabeblatt!K17)/2)))","v":""},{"$f":"CONCATENATE(\" \",IF(OR(J17=\"\",K17=\"\",L17=\"\"),\"\",IF(B17=\"m\",'Table males'!D$141,'Table females'!D$141)))","v":" "},"","",null,"> 95%","spätpubertär / fin de la puberté"]
[{"$nulls":6},"",{"$nulls":4},{"$f":"IF(OR(C18=\"\",G18=\"\",H18=\"\",I18=\"\",K18=\"\",B18=Dropdownliste!A$9,J18=\"\"),\"\",IF(B18=\"m\",(VLOOKUP(Eingabeblatt!$G18,'Table males'!$A$3:$E$138,2)+(VLOOKUP(Eingabeblatt!$G18,'Table males'!$A$3:$E$138,3)*Eingabeblatt!I18)+(VLOOKUP(Eingabeblatt!$G18,'Table males'!$A$3:$E$138,4)*Eingabeblatt!H18)+(VLOOKUP(Eingabeblatt!$G18,'Table males'!$A$3:$E$138,5)*(Eingabeblatt!J18+Eingabeblatt!K18)/2)),VLOOKUP(Eingabeblatt!$G18,'Table females'!$A$3:$E$138,2)+(VLOOKUP(Eingabeblatt!$G18,'Table females'!$A$3:$E$138,3)*Eingabeblatt!I18)+(VLOOKUP(Eingabeblatt!$G18,'Table females'!$A$3:$E$138,4)*Eingabeblatt!H18)+(VLOOKUP(Eingabeblatt!$G18,'Table females'!$A$3:$E$138,5)*(Eingabeblatt!J18+Eingabeblatt!K18)/2)))","v":""},{"$f":"CONCATENATE(\" \",IF(OR(J18=\"\",K18=\"\",L18=\"\"),\"\",IF(B18=\"m\",'Table males'!D$141,'Table females'!D$141)))","v":" "},"",""]
[{"$nulls":6},"",{"$nulls":4},{"$f":"IF(OR(C19=\"\",G19=\"\",H19=\"\",I19=\"\",K19=\"\",B19=Dropdownliste!A$9,J19=\"\"),\"\",IF(B19=\"m\",(VLOOKUP(Eingabeblatt!$G19,'Table males'!$A$3:$E$138,2)+(VLOOKUP(Eingabeblatt!$G19,'Table males'!$A$3:$E$138,3)*Eingabeblatt!I19)+(VLOOKUP(Eingabeblatt!$G19,'Table males'!$A$3:$E$138,4)*Eingabeblatt!H19)+(VLOOKUP(Eingabeblatt!$G19,'Table males'!$A$3:$E$138,5)*(Eingabeblatt!J19+Eingabeblatt!K19)/2)),VLOOKUP(Eingabeblatt!$G19,'Table females'!$A$3:$E$138,2)+(VLOOKUP(Eingabeblatt!$G19,'Table females'!$A$3:$E$138,3)*Eingabeblatt!I19)+(VLOOKUP(Eingabeblatt!$G19,'Table females'!$A$3:$E$138,4)*Eingabeblatt!H19)+(VLOOKUP(Eingabeblatt!$G19,'Table females'!$A$3:$E$138,5)*(Eingabeblatt!J19+Eingabeblatt!K19)/2)))","v":""},{"$f":"CONCATENATE(\" \",IF(OR(J19=\"\",K19=\"\",L19=\"\"),\"\",IF(B19=\"m\",'Table males'!D$141,'Table females'!D$141)))","v":" "},"",""]
[{"$nulls":6},"",{"$nulls":4},{"$f":"IF(OR(C20=\"\",G20=\"\",H20=\"\",I20=\"\",K20=\"\",B20=Dropdownliste!A$9,J20=\"\"),\"\",IF(B20=\"m\",(VLOOKUP(Eingabeblatt!$G20,'Table males'!$A$3:$E$138,2)+(VLOOKUP(Eingabeblatt!$G20,'Table males'!$A$3:$E$138,3)*Eingabeblatt!I20)+(VLOOKUP(Eingabeblatt!$G20,'Table males'!$A$3:$E$138,4)*Eingabeblatt!H20)+(VLOOKUP(Eingabeblatt!$G20,'Table males'!$A$3:$E$138,5)*(Eingabeblatt!J20+Eingabeblatt!K20)/2)),VLOOKUP(Eingabeblatt!$G20,'Table females'!$A$3:$E$138,2)+(VLOOKUP(Eingabeblatt!$G20,'Table females'!$A$3:$E$138,3)*Eingabeblatt!I20)+(VLOOKUP(Eingabeblatt!$G20,'Table females'!$A$3:$E$138,4)*Eingabeblatt!H20)+(VLOOKUP(Eingabeblatt!$G20,'Table females'!$A$3:$E$138,5)*(Eingabeblatt!J20+Eingabeblatt!K20)/2)))","v":""},{"$f":"CONCATENATE(\" \",IF(OR(J20=\"\",K20=\"\",L20=\"\"),\"\",IF(B20=\"m\",'Table males'!D$141,'Table females'!D$141)))","v":" "},"",""]
[{"$nulls":6},"",{"$nulls":4},{"$f":"IF(OR(C21=\"\",G21=\"\",H21=\"\",I21=\"\",K21=\"\",B21=Dropdownliste!A$9,J21=\"\"),\"\",IF(B21=\"m\",(VLOOKUP(Eingabeblatt!$G21,'Table males'!$A$3:$E$138,2)+(VLOOKUP(Eingabeblatt!$G21,'Table males'!$A$3:$E$138,3)*Eingabeblatt!I21)+(VLOOKUP(Eingabeblatt!$G21,'Table males'!$A$3:$E$138,4)*Eingabeblatt!H21)+(VLOOKUP(Eingabeblatt!$G21,'Table males'!$A$3:$E$138,5)*(Eingabeblatt!J21+Eingabeblatt!K21)/2)),VLOOKUP(Eingabeblatt!$G21,'Table females'!$A$3:$E$138,2)+(VLOOKUP(Eingabeblatt!$G21,'Table females'!$A$3:$E$138,3)*Eingabeblatt!I21)+(VLOOKUP(Eingabeblatt!$G21,'Table females'!$A$3:$E$138,4)*Eingabeblatt!H21)+(VLOOKUP(Eingabeblatt!$G21,'Table females'!$A$3:$E$138,5)*(Eingabeblatt!J21+Eingabeblatt!K21)/2)))","v":""},{"$f":"CONCATENATE(\" \",IF(OR(J21=\"\",K21=\"\",L21=\"\"),\"\",IF(B21=\"m\",'Table males'!D$141,'Table females'!D$141)))","v":" "},"",""]
[{"$nulls":6},"",{"$nulls":4},{"$f":"IF(OR(C22=\"\",G22=\"\",H22=\"\",I22=\"\",K22=\"\",B22=Dropdownliste!A$9,J22=\"\"),\"\",IF(B22=\"m\",(VLOOKUP(Eingabeblatt!$G22,'Table males'!$A$3:$E$138,2)+(VLOOKUP(Eingabeblatt!$G22,'Table males'!$A$3:$E$138,3)*Eingabeblatt!I22)+(VLOOKUP(Eingabeblatt!$G22,'Table males'!$A$3:$E$138,4)*Eingabeblatt!H22)+(VLOOKUP(Eingabeblatt!$G22,'Table males'!$A$3:$E$138,5)*(Eingabeblatt!J22+Eingabeblatt!K22)/2)),VLOOKUP(Eingabeblatt!$G22,'Table females'!$A$3:$E$138,2)+(VLOOKUP(Eingabeblatt!$G22,'Table females'!$A$3:$E$138,3)*Eingabeblatt!I22)+(VLOOKUP(Eingabeblatt!$G22,'Table females'!$A$3:$E$138,4)*Eingabeblatt!H22)+(VLOOKUP(Eingabeblatt!$G22,'Table females'!$A$3:$E$138,5)*(Eingabeblatt!J22+Eingabeblatt!K22)/2)))","v":""},{"$f":"CONCATENATE(\" \",IF(OR(J22=\"\",K22=\"\",L22=\"\"),\"\",IF(B22=\"m\",'Table males'!D$141,'Table females'!D$141)))","v":" "},"",""]
[{"$nulls":6},"",{"$nulls":4},{"$f":"IF(OR(C23=\"\",G23=\"\",H23=\"\",I23=\"\",K23=\"\",B23=Dropdownliste!A$9,J23=\"\"),\"\",IF(B23=\"m\",(VLOOKUP(Eingabeblatt!$G23,'Table males'!$A$3:$E$138,2)+(VLOOKUP(Eingabeblatt!$G23,'Table males'!$A$3:$E$138,3)*Eingabeblatt!I23)+(VLOOKUP(Eingabeblatt!$G23,'Table males'!$A$3:$E$138,4)*Eingabeblatt!H23)+(VLOOKUP(Eingabeblatt!$G23,'Table males'!$A$3:$E$138,5)*(Eingabeblatt!J23+Eingabeblatt!K23)/2)),VLOOKUP(Eingabeblatt!$G23,'Table females'!$A$3:$E$138,2)+(VLOOKUP(Eingabeblatt!$G23,'Table females'!$A$3:$E$138,3)*Eingabeblatt!I23)+(VLOOKUP(Eingabeblatt!$G23,'Table females'!$A$3:$E$138,4)*Eingabeblatt!H23)+(VLOOKUP(Eingabeblatt!$G23,'Table females'!$A$3:$E$138,5)*(Eingabeblatt!J23+Eingabeblatt!K23)/2)))","v":""},{"$f":"CONCATENATE(\" \",IF(OR(J23=\"\",K23=\"\",L23=\"\"),\"\",IF(B23=\"m\",'Table males'!D$141,'Table females'!D$141)))","v":" "},"",""]
[{"$nulls":6},"",{"$nulls":4},{"$f":"IF(OR(C24=\"\",G24=\"\",H24=\"\",I24=\"\",K24=\"\",B24=Dropdownliste!A$9,J24=\"\"),\"\",IF(B24=\"m\",(VLOOKUP(Eingabeblatt!$G24,'Table males'!$A$3:$E$138,2)+(VLOOKUP(Eingabeblatt!$G24,'Table males'!$A$3:$E$138,3)*Eingabeblatt!I24)+(VLOOKUP(Eingabeblatt!$G24,'Table males'!$A$3:$E$138,4)*Eingabeblatt!H24)+(VLOOKUP(Eingabeblatt!$G24,'Table males'!$A$3:$E$138,5)*(Eingabeblatt!J24+Eingabeblatt!K24)/2)),VLOOKUP(Eingabeblatt!$G24,'Table females'!$A$3:$E$138,2)+(VLOOKUP(Eingabeblatt!$G24,'Table females'!$A$3:$E$138,3)*Eingabeblatt!I24)+(VLOOKUP(Eingabeblatt!$G24,'Table females'!$A$3:$E$138,4)*Eingabeblatt!H24)+(VLOOKUP(Eingabeblatt!$G24,'Table females'!$A$3:$E$138,5)*(Eingabeblatt!J24+Eingabeblatt!K24)/2)))","v":""},{"$f":"CONCATENATE(\" \",IF(OR(J24=\"\",K24=\"\",L24=\"\"),\"\",IF(B24=\"m\",'Table males'!D$141,'Table females'!D$141)))","v":" "},"",""]
[{"$nulls":6},"",{"$nulls":4},{"$f":"IF(OR(C25=\"\",G25=\"\",H25=\"\",I25=\"\",K25=\"\",B25=Dropdownliste!A$9,J25=\"\"),\"\",IF(B25=\"m\",(VLOOKUP(Eingabeblatt!$G25,'Table males'!$A$3:$E$138,2)+(VLOOKUP(Eingabeblatt!$G25,'Table males'!$A$3:$E$138,3)*Eingabeblatt!I25)+(VLOOKUP(Eingabeblatt!$G25,'Table males'!$A$3:$E$138,4)*Eingabeblatt!H25)+(VLOOKUP(Eingabeblatt!$G25,'Table males'!$A$3:$E$138,5)*(Eingabeblatt!J25+Eingabeblatt!K25)/2)),VLOOKUP(Eingabeblatt!$G25,'Table females'!$A$3:$E$138,2)+(VLOOKUP(Eingabeblatt!$G25,'Table females'!$A$3:$E$138,3)*Eingabeblatt!I25)+(VLOOKUP(Eingabeblatt!$G25,'Table females'!$A$3:$E$138,4)*Eingabeblatt!H25)+(VLOOKUP(Eingabeblatt!$G25,'Table females'!$A$3:$E$138,5)*(Eingabeblatt!J25+Eingabeblatt!K25)/2)))","v":""},{"$f":"CONCATENATE(\" \",IF(OR(J25=\"\",K25=\"\",L25=\"\"),\"\",IF(B25=\"m\",'Table males'!D$141,'Table females'!D$141)))","v":" "},"",""]
[{"$nulls":6},"",{"$nulls":4},{"$f":"IF(OR(C26=\"\",G26=\"\",H26=\"\",I26=\"\",K26=\"\",B26=Dropdownliste!A$9,J26=\"\"),\"\",IF(B26=\"m\",(VLOOKUP(Eingabeblatt!$G26,'Table males'!$A$3:$E$138,2)+(VLOOKUP(Eingabeblatt!$G26,'Table males'!$A$3:$E$138,3)*Eingabeblatt!I26)+(VLOOKUP(Eingabeblatt!$G26,'Table males'!$A$3:$E$138,4)*Eingabeblatt!H26)+(VLOOKUP(Eingabeblatt!$G26,'Table males'!$A$3:$E$138,5)*(Eingabeblatt!J26+Eingabeblatt!K26)/2)),VLOOKUP(Eingabeblatt!$G26,'Table females'!$A$3:$E$138,2)+(VLOOKUP(Eingabeblatt!$G26,'Table females'!$A$3:$E$138,3)*Eingabeblatt!I26)+(VLOOKUP(Eingabeblatt!$G26,'Table females'!$A$3:$E$138,4)*Eingabeblatt!H26)+(VLOOKUP(Eingabeblatt!$G26,'Table females'!$A$3:$E$138,5)*(Eingabeblatt!J26+Eingabeblatt!K26)/2)))","v":""},{"$f":"CONCATENATE(\" \",IF(OR(J26=\"\",K26=\"\",L26=\"\"),\"\",IF(B26=\"m\",'Table males'!D$141,'Table females'!D$141)))","v":" "},"",""]
[{"$nulls":6},"",{"$nulls":4},{"$f":"IF(OR(C27=\"\",G27=\"\",H27=\"\",I27=\"\",K27=\"\",B27=Dropdownliste!A$9,J27=\"\"),\"\",IF(B27=\"m\",(VLOOKUP(Eingabeblatt!$G27,'Table males'!$A$3:$E$138,2)+(VLOOKUP(Eingabeblatt!$G27,'Table males'!$A$3:$E$138,3)*Eingabeblatt!I27)+(VLOOKUP(Eingabeblatt!$G27,'Table males'!$A$3:$E$138,4)*Eingabeblatt!H27)+(VLOOKUP(Eingabeblatt!$G27,'Table males'!$A$3:$E$138,5)*(Eingabeblatt!J27+Eingabeblatt!K27)/2)),VLOOKUP(Eingabeblatt!$G27,'Table females'!$A$3:$E$138,2)+(VLOOKUP(Eingabeblatt!$G27,'Table females'!$A$3:$E$138,3)*Eingabeblatt!I27)+(VLOOKUP(Eingabeblatt!$G27,'Table females'!$A$3:$E$138,4)*Eingabeblatt!H27)+(VLOOKUP(Eingabeblatt!$G27,'Table females'!$A$3:$E$138,5)*(Eingabeblatt!J27+Eingabeblatt!K27)/2)))","v":""},{"$f":"CONCATENATE(\" \",IF(OR(J27=\"\",K27=\"\",L27=\"\"),\"\",IF(B27=\"m\",'Table males'!D$141,'Table females'!D$141)))","v":" "},"",""]
[{"$nulls":6},"",{"$nulls":4},{"$f":"IF(OR(C28=\"\",G28=\"\",H28=\"\",I28=\"\",K28=\"\",B28=Dropdownliste!A$9,J28=\"\"),\"\",IF(B28=\"m\",(VLOOKUP(Eingabeblatt!$G28,'Table males'!$A$3:$E$138,2)+(VLOOKUP(Eingabeblatt!$G28,'Table males'!$A$3:$E$138,3)*Eingabeblatt!I28)+(VLOOKUP(Eingabeblatt!$G28,'Table males'!$A$3:$E$138,4)*Eingabeblatt!H28)+(VLOOKUP(Eingabeblatt!$G28,'Table males'!$A$3:$E$138,5)*(Eingabeblatt!J28+Eingabeblatt!K28)/2)),VLOOKUP(Eingabeblatt!$G28,'Table females'!$A$3:$E$138,2)+(VLOOKUP(Eingabeblatt!$G28,'Table females'!$A$3:$E$138,3)*Eingabeblatt!I28)+(VLOOKUP(Eingabeblatt!$G28,'Table females'!$A$3:$E$138,4)*Eingabeblatt!H28)+(VLOOKUP(Eingabeblatt!$G28,'Table females'!$A$3:$E$138,5)*(Eingabeblatt!J28+Eingabeblatt!K28)/2)))","v":""},{"$f":"CONCATENATE(\" \",IF(OR(J28=\"\",K28=\"\",L28=\"\"),\"\",IF(B28=\"m\",'Table males'!D$141,'Table females'!D$141)))","v":" "},"",""]
[{"$nulls":6},"",{"$nulls":4},{"$f":"IF(OR(C29=\"\",G29=\"\",H29=\"\",I29=\"\",K29=\"\",B29=Dropdownliste!A$9,J29=\"\"),\"\",IF(B29=\"m\",(VLOOKUP(Eingabeblatt!$G29,'Table males'!$A$3:$E$138,2)+(VLOOKUP(Eingabeblatt!$G29,'Table males'!$A$3:$E$138,3)*Eingabeblatt!I29)+(VLOOKUP(Eingabeblatt!$G29,'Table males'!$A$3:$E$138,4)*Eingabeblatt!H29)+(VLOOKUP(Eingabeblatt!$G29,'Table males'!$A$3:$E$138,5)*(Eingabeblatt!J29+Eingabeblatt!K29)/2)),VLOOKUP(Eingabeblatt!$G29,'Table females'!$A$3:$E$138,2)+(VLOOKUP(Eingabeblatt!$G29,'Table females'!$A$3:$E$138,3)*Eingabeblatt!I29)+(VLOOKUP(Eingabeblatt!$G29,'Table females'!$A$3:$E$138,4)*Eingabeblatt!H29)+(VLOOKUP(Eingabeblatt!$G29,'Table females'!$A$3:$E$138,5)*(Eingabeblatt!J29+Eingabeblatt!K29)/2)))","v":""},{"$f":"CONCATENATE(\" \",IF(OR(J29=\"\",K29=\"\",L29=\"\"),\"\",IF(B29=\"m\",'Table males'!D$141,'Table females'!D$141)))","v":" "},"",""]
[{"$nulls":6},"",{"$nulls":4},{"$f":"IF(OR(C30=\"\",G30=\"\",H30=\"\",I30=\"\",K30=\"\",B30=Dropdownliste!A$9,J30=\"\"),\"\",IF(B30=\"m\",(VLOOKUP(Eingabeblatt!$G30,'Table males'!$A$3:$E$138,2)+(VLOOKUP(Eingabeblatt!$G30,'Table males'!$A$3:$E$138,3)*Eingabeblatt!I30)+(VLOOKUP(Eingabeblatt!$G30,'Table males'!$A$3:$E$138,4)*Eingabeblatt!H30)+(VLOOKUP(Eingabeblatt!$G30,'Table males'!$A$3:$E$138,5)*(Eingabeblatt!J30+Eingabeblatt!K30)/2)),VLOOKUP(Eingabeblatt!$G30,'Table females'!$A$3:$E$138,2)+(VLOOKUP(Eingabeblatt!$G30,'Table females'!$A$3:$E$138,3)*Eingabeblatt!I30)+(VLOOKUP(Eingabeblatt!$G30,'Table females'!$A$3:$E$138,4)*Eingabeblatt!H30)+(VLOOKUP(Eingabeblatt!$G30,'Table females'!$A$3:$E$138,5)*(Eingabeblatt!J30+Eingabeblatt!K30)/2)))","v":""},{"$f":"CONCATENATE(\" \",IF(OR(J30=\"\",K30=\"\",L30=\"\"),\"\",IF(B30=\"m\",'Table males'!D$141,'Table females'!D$141)))","v":" "},"",""]
[{"$nulls":6},"",{"$nulls":4},{"$f":"IF(OR(C31=\"\",G31=\"\",H31=\"\",I31=\"\",K31=\"\",B31=Dropdownliste!A$9,J31=\"\"),\"\",IF(B31=\"m\",(VLOOKUP(Eingabeblatt!$G31,'Table males'!$A$3:$E$138,2)+(VLOOKUP(Eingabeblatt!$G31,'Table males'!$A$3:$E$138,3)*Eingabeblatt!I31)+(VLOOKUP(Eingabeblatt!$G31,'Table males'!$A$3:$E$138,4)*Eingabeblatt!H31)+(VLOOKUP(Eingabeblatt!$G31,'Table males'!$A$3:$E$138,5)*(Eingabeblatt!J31+Eingabeblatt!K31)/2)),VLOOKUP(Eingabeblatt!$G31,'Table females'!$A$3:$E$138,2)+(VLOOKUP(Eingabeblatt!$G31,'Table females'!$A$3:$E$138,3)*Eingabeblatt!I31)+(VLOOKUP(Eingabeblatt!$G31,'Table females'!$A$3:$E$138,4)*Eingabeblatt!H31)+(VLOOKUP(Eingabeblatt!$G31,'Table females'!$A$3:$E$138,5)*(Eingabeblatt!J31+Eingabeblatt!K31)/2)))","v":""},{"$f":"CONCATENATE(\" \",IF(OR(J31=\"\",K31=\"\",L31=\"\"),\"\",IF(B31=\"m\",'Table males'!D$141,'Table females'!D$141)))","v":" "},"",""]
[{"$nulls":6},"",{"$nulls":4},{"$f":"IF(OR(C32=\"\",G32=\"\",H32=\"\",I32=\"\",K32=\"\",B32=Dropdownliste!A$9,J32=\"\"),\"\",IF(B32=\"m\",(VLOOKUP(Eingabeblatt!$G32,'Table males'!$A$3:$E$138,2)+(VLOOKUP(Eingabeblatt!$G32,'Table males'!$A$3:$E$138,3)*Eingabeblatt!I32)+(VLOOKUP(Eingabeblatt!$G32,'Table males'!$A$3:$E$138,4)*Eingabeblatt!H32)+(VLOOKUP(Eingabeblatt!$G32,'Table males'!$A$3:$E$138,5)*(Eingabeblatt!J32+Eingabeblatt!K32)/2)),VLOOKUP(Eingabeblatt!$G32,'Table females'!$A$3:$E$138,2)+(VLOOKUP(Eingabeblatt!$G32,'Table females'!$A$3:$E$138,3)*Eingabeblatt!I32)+(VLOOKUP(Eingabeblatt!$G32,'Table females'!$A$3:$E$138,4)*Eingabeblatt!H32)+(VLOOKUP(Eingabeblatt!$G32,'Table females'!$A$3:$E$138,5)*(Eingabeblatt!J32+Eingabeblatt!K32)/2)))","v":""},{"$f":"CONCATENATE(\" \",IF(OR(J32=\"\",K32=\"\",L32=\"\"),\"\",IF(B32=\"m\",'Table males'!D$141,'Table females'!D$141)))","v":" "},"",""]
[{"$nulls":6},"",{"$nulls":4},{"$f":"IF(OR(C33=\"\",G33=\"\",H33=\"\",I33=\"\",K33=\"\",B33=Dropdownliste!A$9,J33=\"\"),\"\",IF(B33=\"m\",(VLOOKUP(Eingabeblatt!$G33,'Table males'!$A$3:$E$138,2)+(VLOOKUP(Eingabeblatt!$G33,'Table males'!$A$3:$E$138,3)*Eingabeblatt!I33)+(VLOOKUP(Eingabeblatt!$G33,'Table males'!$A$3:$E$138,4)*Eingabeblatt!H33)+(VLOOKUP(Eingabeblatt!$G33,'Table males'!$A$3:$E$138,5)*(Eingabeblatt!J33+Eingabeblatt!K33)/2)),VLOOKUP(Eingabeblatt!$G33,'Table females'!$A$3:$E$138,2)+(VLOOKUP(Eingabeblatt!$G33,'Table females'!$A$3:$E$138,3)*Eingabeblatt!I33)+(VLOOKUP(Eingabeblatt!$G33,'Table females'!$A$3:$E$138,4)*Eingabeblatt!H33)+(VLOOKUP(Eingabeblatt!$G33,'Table females'!$A$3:$E$138,5)*(Eingabeblatt!J33+Eingabeblatt!K33)/2)))","v":""},{"$f":"CONCATENATE(\" \",IF(OR(J33=\"\",K33=\"\",L33=\"\"),\"\",IF(B33=\"m\",'Table males'!D$141,'Table females'!D$141)))","v":" "},"",""]
[{"$nulls":6},"",{"$nulls":4},{"$f":"IF(OR(C34=\"\",G34=\"\",H34=\"\",I34=\"\",K34=\"\",B34=Dropdownliste!A$9,J34=\"\"),\"\",IF(B34=\"m\",(VLOOKUP(Eingabeblatt!$G34,'Table males'!$A$3:$E$138,2)+(VLOOKUP(Eingabeblatt!$G34,'Table males'!$A$3:$E$138,3)*Eingabeblatt!I34)+(VLOOKUP(Eingabeblatt!$G34,'Table males'!$A$3:$E$138,4)*Eingabeblatt!H34)+(VLOOKUP(Eingabeblatt!$G34,'Table males'!$A$3:$E$138,5)*(Eingabeblatt!J34+Eingabeblatt!K34)/2)),VLOOKUP(Eingabeblatt!$G34,'Table females'!$A$3:$E$138,2)+(VLOOKUP(Eingabeblatt!$G34,'Table females'!$A$3:$E$138,3)*Eingabeblatt!I34)+(VLOOKUP(Eingabeblatt!$G34,'Table females'!$A$3:$E$138,4)*Eingabeblatt!H34)+(VLOOKUP(Eingabeblatt!$G34,'Table females'!$A$3:$E$138,5)*(Eingabeblatt!J34+Eingabeblatt!K34)/2)))","v":""},{"$f":"CONCATENATE(\" \",IF(OR(J34=\"\",K34=\"\",L34=\"\"),\"\",IF(B34=\"m\",'Table males'!D$141,'Table females'!D$141)))","v":" "},"",""]
[{"$nulls":6},"",{"$nulls":4},{"$f":"IF(OR(C35=\"\",G35=\"\",H35=\"\",I35=\"\",K35=\"\",B35=Dropdownliste!A$9,J35=\"\"),\"\",IF(B35=\"m\",(VLOOKUP(Eingabeblatt!$G35,'Table males'!$A$3:$E$138,2)+(VLOOKUP(Eingabeblatt!$G35,'Table males'!$A$3:$E$138,3)*Eingabeblatt!I35)+(VLOOKUP(Eingabeblatt!$G35,'Table males'!$A$3:$E$138,4)*Eingabeblatt!H35)+(VLOOKUP(Eingabeblatt!$G35,'Table males'!$A$3:$E$138,5)*(Eingabeblatt!J35+Eingabeblatt!K35)/2)),VLOOKUP(Eingabeblatt!$G35,'Table females'!$A$3:$E$138,2)+(VLOOKUP(Eingabeblatt!$G35,'Table females'!$A$3:$E$138,3)*Eingabeblatt!I35)+(VLOOKUP(Eingabeblatt!$G35,'Table females'!$A$3:$E$138,4)*Eingabeblatt!H35)+(VLOOKUP(Eingabeblatt!$G35,'Table females'!$A$3:$E$138,5)*(Eingabeblatt!J35+Eingabeblatt!K35)/2)))","v":""},{"$f":"CONCATENATE(\" \",IF(OR(J35=\"\",K35=\"\",L35=\"\"),\"\",IF(B35=\"m\",'Table males'!D$141,'Table females'!D$141)))","v":" "},"",""]
[{"$nulls":6},"",{"$nulls":4},{"$f":"IF(OR(C36=\"\",G36=\"\",H36=\"\",I36=\"\",K36=\"\",B36=Dropdownliste!A$9,J36=\"\"),\"\",IF(B36=\"m\",(VLOOKUP(Eingabeblatt!$G36,'Table males'!$A$3:$E$138,2)+(VLOOKUP(Eingabeblatt!$G36,'Table males'!$A$3:$E$138,3)*Eingabeblatt!I36)+(VLOOKUP(Eingabeblatt!$G36,'Table males'!$A$3:$E$138,4)*Eingabeblatt!H36)+(VLOOKUP(Eingabeblatt!$G36,'Table males'!$A$3:$E$138,5)*(Eingabeblatt!J36+Eingabeblatt!K36)/2)),VLOOKUP(Eingabeblatt!$G36,'Table females'!$A$3:$E$138,2)+(VLOOKUP(Eingabeblatt!$G36,'Table females'!$A$3:$E$138,3)*Eingabeblatt!I36)+(VLOOKUP(Eingabeblatt!$G36,'Table females'!$A$3:$E$138,4)*Eingabeblatt!H36)+(VLOOKUP(Eingabeblatt!$G36,'Table females'!$A$3:$E$138,5)*(Eingabeblatt!J36+Eingabeblatt!K36)/2)))","v":""},{"$f":"CONCATENATE(\" \",IF(OR(J36=\"\",K36=\"\",L36=\"\"),\"\",IF(B36=\"m\",'Table males'!D$141,'Table females'!D$141)))","v":" "},"",""]
[{"$nulls":6},"",{"$nulls":4},{"$f":"IF(OR(C37=\"\",G37=\"\",H37=\"\",I37=\"\",K37=\"\",B37=Dropdownliste!A$9,J37=\"\"),\"\",IF(B37=\"m\",(VLOOKUP(Eingabeblatt!$G37,'Table males'!$A$3:$E$138,2)+(VLOOKUP(Eingabeblatt!$G37,'Table males'!$A$3:$E$138,3)*Eingabeblatt!I37)+(VLOOKUP(Eingabeblatt!$G37,'Table males'!$A$3:$E$138,4)*Eingabeblatt!H37)+(VLOOKUP(Eingabeblatt!$G37,'Table males'!$A$3:$E$138,5)*(Eingabeblatt!J37+Eingabeblatt!K37)/2)),VLOOKUP(Eingabeblatt!$G37,'Table females'!$A$3:$E$138,2)+(VLOOKUP(Eingabeblatt!$G37,'Table females'!$A$3:$E$138,3)*Eingabeblatt!I37)+(VLOOKUP(Eingabeblatt!$G37,'Table females'!$A$3:$E$138,4)*Eingabeblatt!H37)+(VLOOKUP(Eingabeblatt!$G37,'Table females'!$A$3:$E$138,5)*(Eingabeblatt!J37+Eingabeblatt!K37)/2)))","v":""},{"$f":"CONCATENATE(\" \",IF(OR(J37=\"\",K37=\"\",L37=\"\"),\"\",IF(B37=\"m\",'Table males'!D$141,'Table females'!D$141)))","v":" "},"",""]
[{"$nulls":6},"",{"$nulls":4},{"$f":"IF(OR(C38=\"\",G38=\"\",H38=\"\",I38=\"\",K38=\"\",B38=Dropdownliste!A$9,J38=\"\"),\"\",IF(B38=\"m\",(VLOOKUP(Eingabeblatt!$G38,'Table males'!$A$3:$E$138,2)+(VLOOKUP(Eingabeblatt!$G38,'Table males'!$A$3:$E$138,3)*Eingabeblatt!I38)+(VLOOKUP(Eingabeblatt!$G38,'Table males'!$A$3:$E$138,4)*Eingabeblatt!H38)+(VLOOKUP(Eingabeblatt!$G38,'Table males'!$A$3:$E$138,5)*(Eingabeblatt!J38+Eingabeblatt!K38)/2)),VLOOKUP(Eingabeblatt!$G38,'Table females'!$A$3:$E$138,2)+(VLOOKUP(Eingabeblatt!$G38,'Table females'!$A$3:$E$138,3)*Eingabeblatt!I38)+(VLOOKUP(Eingabeblatt!$G38,'Table females'!$A$3:$E$138,4)*Eingabeblatt!H38)+(VLOOKUP(Eingabeblatt!$G38,'Table females'!$A$3:$E$138,5)*(Eingabeblatt!J38+Eingabeblatt!K38)/2)))","v":""},{"$f":"CONCATENATE(\" \",IF(OR(J38=\"\",K38=\"\",L38=\"\"),\"\",IF(B38=\"m\",'Table males'!D$141,'Table females'!D$141)))","v":" "},"",""]
[{"$nulls":6},"",{"$nulls":4},{"$f":"IF(OR(C39=\"\",G39=\"\",H39=\"\",I39=\"\",K39=\"\",B39=Dropdownliste!A$9,J39=\"\"),\"\",IF(B39=\"m\",(VLOOKUP(Eingabeblatt!$G39,'Table males'!$A$3:$E$138,2)+(VLOOKUP(Eingabeblatt!$G39,'Table males'!$A$3:$E$138,3)*Eingabeblatt!I39)+(VLOOKUP(Eingabeblatt!$G39,'Table males'!$A$3:$E$138,4)*Eingabeblatt!H39)+(VLOOKUP(Eingabeblatt!$G39,'Table males'!$A$3:$E$138,5)*(Eingabeblatt!J39+Eingabeblatt!K39)/2)),VLOOKUP(Eingabeblatt!$G39,'Table females'!$A$3:$E$138,2)+(VLOOKUP(Eingabeblatt!$G39,'Table females'!$A$3:$E$138,3)*Eingabeblatt!I39)+(VLOOKUP(Eingabeblatt!$G39,'Table females'!$A$3:$E$138,4)*Eingabeblatt!H39)+(VLOOKUP(Eingabeblatt!$G39,'Table females'!$A$3:$E$138,5)*(Eingabeblatt!J39+Eingabeblatt!K39)/2)))","v":""},{"$f":"CONCATENATE(\" \",IF(OR(J39=\"\",K39=\"\",L39=\"\"),\"\",IF(B39=\"m\",'Table males'!D$141,'Table females'!D$141)))","v":" "},"",""]
[{"$nulls":6},"",{"$nulls":4},{"$f":"IF(OR(C40=\"\",G40=\"\",H40=\"\",I40=\"\",K40=\"\",B40=Dropdownliste!A$9,J40=\"\"),\"\",IF(B40=\"m\",(VLOOKUP(Eingabeblatt!$G40,'Table males'!$A$3:$E$138,2)+(VLOOKUP(Eingabeblatt!$G40,'Table males'!$A$3:$E$138,3)*Eingabeblatt!I40)+(VLOOKUP(Eingabeblatt!$G40,'Table males'!$A$3:$E$138,4)*Eingabeblatt!H40)+(VLOOKUP(Eingabeblatt!$G40,'Table males'!$A$3:$E$138,5)*(Eingabeblatt!J40+Eingabeblatt!K40)/2)),VLOOKUP(Eingabeblatt!$G40,'Table females'!$A$3:$E$138,2)+(VLOOKUP(Eingabeblatt!$G40,'Table females'!$A$3:$E$138,3)*Eingabeblatt!I40)+(VLOOKUP(Eingabeblatt!$G40,'Table females'!$A$3:$E$138,4)*Eingabeblatt!H40)+(VLOOKUP(Eingabeblatt!$G40,'Table females'!$A$3:$E$138,5)*(Eingabeblatt!J40+Eingabeblatt!K40)/2)))","v":""},{"$f":"CONCATENATE(\" \",IF(OR(J40=\"\",K40=\"\",L40=\"\"),\"\",IF(B40=\"m\",'Table males'!D$141,'Table females'!D$141)))","v":" "},"",""]
[{"$nulls":6},"",{"$nulls":4},{"$f":"IF(OR(C41=\"\",G41=\"\",H41=\"\",I41=\"\",K41=\"\",B41=Dropdownliste!A$9,J41=\"\"),\"\",IF(B41=\"m\",(VLOOKUP(Eingabeblatt!$G41,'Table males'!$A$3:$E$138,2)+(VLOOKUP(Eingabeblatt!$G41,'Table males'!$A$3:$E$138,3)*Eingabeblatt!I41)+(VLOOKUP(Eingabeblatt!$G41,'Table males'!$A$3:$E$138,4)*Eingabeblatt!H41)+(VLOOKUP(Eingabeblatt!$G41,'Table males'!$A$3:$E$138,5)*(Eingabeblatt!J41+Eingabeblatt!K41)/2)),VLOOKUP(Eingabeblatt!$G41,'Table females'!$A$3:$E$138,2)+(VLOOKUP(Eingabeblatt!$G41,'Table females'!$A$3:$E$138,3)*Eingabeblatt!I41)+(VLOOKUP(Eingabeblatt!$G41,'Table females'!$A$3:$E$138,4)*Eingabeblatt!H41)+(VLOOKUP(Eingabeblatt!$G41,'Table females'!$A$3:$E$138,5)*(Eingabeblatt!J41+Eingabeblatt!K41)/2)))","v":""},{"$f":"CONCATENATE(\" \",IF(OR(J41=\"\",K41=\"\",L41=\"\"),\"\",IF(B41=\"m\",'Table males'!D$141,'Table females'!D$141)))","v":" "},"",""]
[{"$nulls":6},"",{"$nulls":4},{"$f":"IF(OR(C42=\"\",G42=\"\",H42=\"\",I42=\"\",K42=\"\",B42=Dropdownliste!A$9,J42=\"\"),\"\",IF(B42=\"m\",(VLOOKUP(Eingabeblatt!$G42,'Table males'!$A$3:$E$138,2)+(VLOOKUP(Eingabeblatt!$G42,'Table males'!$A$3:$E$138,3)*Eingabeblatt!I42)+(VLOOKUP(Eingabeblatt!$G42,'Table males'!$A$3:$E$138,4)*Eingabeblatt!H42)+(VLOOKUP(Eingabeblatt!$G42,'Table males'!$A$3:$E$138,5)*(Eingabeblatt!J42+Eingabeblatt!K42)/2)),VLOOKUP(Eingabeblatt!$G42,'Table females'!$A$3:$E$138,2)+(VLOOKUP(Eingabeblatt!$G42,'Table females'!$A$3:$E$138,3)*Eingabeblatt!I42)+(VLOOKUP(Eingabeblatt!$G42,'Table females'!$A$3:$E$138,4)*Eingabeblatt!H42)+(VLOOKUP(Eingabeblatt!$G42,'Table females'!$A$3:$E$138,5)*(Eingabeblatt!J42+Eingabeblatt!K42)/2)))","v":""},{"$f":"CONCATENATE(\" \",IF(OR(J42=\"\",K42=\"\",L42=\"\"),\"\",IF(B42=\"m\",'Table males'!D$141,'Table females'!D$141)))","v":" "},"",""]
[{"$nulls":6},"",{"$nulls":4},{"$f":"IF(OR(C43=\"\",G43=\"\",H43=\"\",I43=\"\",K43=\"\",B43=Dropdownliste!A$9,J43=\"\"),\"\",IF(B43=\"m\",(VLOOKUP(Eingabeblatt!$G43,'Table males'!$A$3:$E$138,2)+(VLOOKUP(Eingabeblatt!$G43,'Table males'!$A$3:$E$138,3)*Eingabeblatt!I43)+(VLOOKUP(Eingabeblatt!$G43,'Table males'!$A$3:$E$138,4)*Eingabeblatt!H43)+(VLOOKUP(Eingabeblatt!$G43,'Table males'!$A$3:$E$138,5)*(Eingabeblatt!J43+Eingabeblatt!K43)/2)),VLOOKUP(Eingabeblatt!$G43,'Table females'!$A$3:$E$138,2)+(VLOOKUP(Eingabeblatt!$G43,'Table females'!$A$3:$E$138,3)*Eingabeblatt!I43)+(VLOOKUP(Eingabeblatt!$G43,'Table females'!$A$3:$E$138,4)*Eingabeblatt!H43)+(VLOOKUP(Eingabeblatt!$G43,'Table females'!$A$3:$E$138,5)*(Eingabeblatt!J43+Eingabeblatt!K43)/2)))","v":""},{"$f":"CONCATENATE(\" \",IF(OR(J43=\"\",K43=\"\",L43=\"\"),\"\",IF(B43=\"m\",'Table males'!D$141,'Table females'!D$141)))","v":" "},"",""]
[{"$nulls":6},"",{"$nulls":4},{"$f":"IF(OR(C44=\"\",G44=\"\",H44=\"\",I44=\"\",K44=\"\",B44=Dropdownliste!A$9,J44=\"\"),\"\",IF(B44=\"m\",(VLOOKUP(Eingabeblatt!$G44,'Table males'!$A$3:$E$138,2)+(VLOOKUP(Eingabeblatt!$G44,'Table males'!$A$3:$E$138,3)*Eingabeblatt!I44)+(VLOOKUP(Eingabeblatt!$G44,'Table males'!$A$3:$E$138,4)*Eingabeblatt!H44)+(VLOOKUP(Eingabeblatt!$G44,'Table males'!$A$3:$E$138,5)*(Eingabeblatt!J44+Eingabeblatt!K44)/2)),VLOOKUP(Eingabeblatt!$G44,'Table females'!$A$3:$E$138,2)+(VLOOKUP(Eingabeblatt!$G44,'Table females'!$A$3:$E$138,3)*Eingabeblatt!I44)+(VLOOKUP(Eingabeblatt!$G44,'Table females'!$A$3:$E$138,4)*Eingabeblatt!H44)+(VLOOKUP(Eingabeblatt!$G44,'Table females'!$A$3:$E$138,5)*(Eingabeblatt!J44+Eingabeblatt!K44)/2)))","v":""},{"$f":"CONCATENATE(\" \",IF(OR(J44=\"\",K44=\"\",L44=\"\"),\"\",IF(B44=\"m\",'Table males'!D$141,'Table females'!D$141)))","v":" "},"",""]
[{"$nulls":6},"",{"$nulls":4},{"$f":"IF(OR(C45=\"\",G45=\"\",H45=\"\",I45=\"\",K45=\"\",B45=Dropdownliste!A$9,J45=\"\"),\"\",IF(B45=\"m\",(VLOOKUP(Eingabeblatt!$G45,'Table males'!$A$3:$E$138,2)+(VLOOKUP(Eingabeblatt!$G45,'Table males'!$A$3:$E$138,3)*Eingabeblatt!I45)+(VLOOKUP(Eingabeblatt!$G45,'Table males'!$A$3:$E$138,4)*Eingabeblatt!H45)+(VLOOKUP(Eingabeblatt!$G45,'Table males'!$A$3:$E$138,5)*(Eingabeblatt!J45+Eingabeblatt!K45)/2)),VLOOKUP(Eingabeblatt!$G45,'Table females'!$A$3:$E$138,2)+(VLOOKUP(Eingabeblatt!$G45,'Table females'!$A$3:$E$138,3)*Eingabeblatt!I45)+(VLOOKUP(Eingabeblatt!$G45,'Table females'!$A$3:$E$138,4)*Eingabeblatt!H45)+(VLOOKUP(Eingabeblatt!$G45,'Table females'!$A$3:$E$138,5)*(Eingabeblatt!J45+Eingabeblatt!K45)/2)))","v":""},{"$f":"CONCATENATE(\" \",IF(OR(J45=\"\",K45=\"\",L45=\"\"),\"\",IF(B45=\"m\",'Table males'!D$141,'Table females'!D$141)))","v":" "},"",""]
[{"$nulls":6},"",{"$nulls":4},{"$f":"IF(OR(C46=\"\",G46=\"\",H46=\"\",I46=\"\",K46=\"\",B46=Dropdownliste!A$9,J46=\"\"),\"\",IF(B46=\"m\",(VLOOKUP(Eingabeblatt!$G46,'Table males'!$A$3:$E$138,2)+(VLOOKUP(Eingabeblatt!$G46,'Table males'!$A$3:$E$138,3)*Eingabeblatt!I46)+(VLOOKUP(Eingabeblatt!$G46,'Table males'!$A$3:$E$138,4)*Eingabeblatt!H46)+(VLOOKUP(Eingabeblatt!$G46,'Table males'!$A$3:$E$138,5)*(Eingabeblatt!J46+Eingabeblatt!K46)/2)),VLOOKUP(Eingabeblatt!$G46,'Table females'!$A$3:$E$138,2)+(VLOOKUP(Eingabeblatt!$G46,'Table females'!$A$3:$E$138,3)*Eingabeblatt!I46)+(VLOOKUP(Eingabeblatt!$G46,'Table females'!$A$3:$E$138,4)*Eingabeblatt!H46)+(VLOOKUP(Eingabeblatt!$G46,'Table females'!$A$3:$E$138,5)*(Eingabeblatt!J46+Eingabeblatt!K46)/2)))","v":""},{"$f":"CONCATENATE(\" \",IF(OR(J46=\"\",K46=\"\",L46=\"\"),\"\",IF(B46=\"m\",'Table males'!D$141,'Table females'!D$141)))","v":" "},"",""]
[{"$nulls":6},"",{"$nulls":4},{"$f":"IF(OR(C47=\"\",G47=\"\",H47=\"\",I47=\"\",K47=\"\",B47=Dropdownliste!A$9,J47=\"\"),\"\",IF(B47=\"m\",(VLOOKUP(Eingabeblatt!$G47,'Table males'!$A$3:$E$138,2)+(VLOOKUP(Eingabeblatt!$G47,'Table males'!$A$3:$E$138,3)*Eingabeblatt!I47)+(VLOOKUP(Eingabeblatt!$G47,'Table males'!$A$3:$E$138,4)*Eingabeblatt!H47)+(VLOOKUP(Eingabeblatt!$G47,'Table males'!$A$3:$E$138,5)*(Eingabeblatt!J47+Eingabeblatt!K47)/2)),VLOOKUP(Eingabeblatt!$G47,'Table females'!$A$3:$E$138,2)+(VLOOKUP(Eingabeblatt!$G47,'Table females'!$A$3:$E$138,3)*Eingabeblatt!I47)+(VLOOKUP(Eingabeblatt!$G47,'Table females'!$A$3:$E$138,4)*Eingabeblatt!H47)+(VLOOKUP(Eingabeblatt!$G47,'Table females'!$A$3:$E$138,5)*(Eingabeblatt!J47+Eingabeblatt!K47)/2)))","v":""},{"$f":"CONCATENATE(\" \",IF(OR(J47=\"\",K47=\"\",L47=\"\"),\"\",IF(B47=\"m\",'Table males'!D$141,'Table females'!D$141)))","v":" "},"",""]
[{"$nulls":6},"",{"$nulls":4},{"$f":"IF(OR(C48=\"\",G48=\"\",H48=\"\",I48=\"\",K48=\"\",B48=Dropdownliste!A$9,J48=\"\"),\"\",IF(B48=\"m\",(VLOOKUP(Eingabeblatt!$G48,'Table males'!$A$3:$E$138,2)+(VLOOKUP(Eingabeblatt!$G48,'Table males'!$A$3:$E$138,3)*Eingabeblatt!I48)+(VLOOKUP(Eingabeblatt!$G48,'Table males'!$A$3:$E$138,4)*Eingabeblatt!H48)+(VLOOKUP(Eingabeblatt!$G48,'Table males'!$A$3:$E$138,5)*(Eingabeblatt!J48+Eingabeblatt!K48)/2)),VLOOKUP(Eingabeblatt!$G48,'Table females'!$A$3:$E$138,2)+(VLOOKUP(Eingabeblatt!$G48,'Table females'!$A$3:$E$138,3)*Eingabeblatt!I48)+(VLOOKUP(Eingabeblatt!$G48,'Table females'!$A$3:$E$138,4)*Eingabeblatt!H48)+(VLOOKUP(Eingabeblatt!$G48,'Table females'!$A$3:$E$138,5)*(Eingabeblatt!J48+Eingabeblatt!K48)/2)))","v":""},{"$f":"CONCATENATE(\" \",IF(OR(J48=\"\",K48=\"\",L48=\"\"),\"\",IF(B48=\"m\",'Table males'!D$141,'Table females'!D$141)))","v":" "},"",""]
[{"$nulls":6},"",{"$nulls":4},{"$f":"IF(OR(C49=\"\",G49=\"\",H49=\"\",I49=\"\",K49=\"\",B49=Dropdownliste!A$9,J49=\"\"),\"\",IF(B49=\"m\",(VLOOKUP(Eingabeblatt!$G49,'Table males'!$A$3:$E$138,2)+(VLOOKUP(Eingabeblatt!$G49,'Table males'!$A$3:$E$138,3)*Eingabeblatt!I49)+(VLOOKUP(Eingabeblatt!$G49,'Table males'!$A$3:$E$138,4)*Eingabeblatt!H49)+(VLOOKUP(Eingabeblatt!$G49,'Table males'!$A$3:$E$138,5)*(Eingabeblatt!J49+Eingabeblatt!K49)/2)),VLOOKUP(Eingabeblatt!$G49,'Table females'!$A$3:$E$138,2)+(VLOOKUP(Eingabeblatt!$G49,'Table females'!$A$3:$E$138,3)*Eingabeblatt!I49)+(VLOOKUP(Eingabeblatt!$G49,'Table females'!$A$3:$E$138,4)*Eingabeblatt!H49)+(VLOOKUP(Eingabeblatt!$G49,'Table females'!$A$3:$E$138,5)*(Eingabeblatt!J49+Eingabeblatt!K49)/2)))","v":""},{"$f":"CONCATENATE(\" \",IF(OR(J49=\"\",K49=\"\",L49=\"\"),\"\",IF(B49=\"m\",'Table males'!D$141,'Table females'!D$141)))","v":" "},"",""]
[{"$nulls":6},"",{"$nulls":4},{"$f":"IF(OR(C50=\"\",G50=\"\",H50=\"\",I50=\"\",K50=\"\",B50=Dropdownliste!A$9,J50=\"\"),\"\",IF(B50=\"m\",(VLOOKUP(Eingabeblatt!$G50,'Table males'!$A$3:$E$138,2)+(VLOOKUP(Eingabeblatt!$G50,'Table males'!$A$3:$E$138,3)*Eingabeblatt!I50)+(VLOOKUP(Eingabeblatt!$G50,'Table males'!$A$3:$E$138,4)*Eingabeblatt!H50)+(VLOOKUP(Eingabeblatt!$G50,'Table males'!$A$3:$E$138,5)*(Eingabeblatt!J50+Eingabeblatt!K50)/2)),VLOOKUP(Eingabeblatt!$G50,'Table females'!$A$3:$E$138,2)+(VLOOKUP(Eingabeblatt!$G50,'Table females'!$A$3:$E$138,3)*Eingabeblatt!I50)+(VLOOKUP(Eingabeblatt!$G50,'Table females'!$A$3:$E$138,4)*Eingabeblatt!H50)+(VLOOKUP(Eingabeblatt!$G50,'Table females'!$A$3:$E$138,5)*(Eingabeblatt!J50+Eingabeblatt!K50)/2)))","v":""},{"$f":"CONCATENATE(\" \",IF(OR(J50=\"\",K50=\"\",L50=\"\"),\"\",IF(B50=\"m\",'Table males'!D$141,'Table females'!D$141)))","v":" "},"",""]
[{"$nulls":6},"",{"$nulls":4},{"$f":"IF(OR(C51=\"\",G51=\"\",H51=\"\",I51=\"\",K51=\"\",B51=Dropdownliste!A$9,J51=\"\"),\"\",IF(B51=\"m\",(VLOOKUP(Eingabeblatt!$G51,'Table males'!$A$3:$E$138,2)+(VLOOKUP(Eingabeblatt!$G51,'Table males'!$A$3:$E$138,3)*Eingabeblatt!I51)+(VLOOKUP(Eingabeblatt!$G51,'Table males'!$A$3:$E$138,4)*Eingabeblatt!H51)+(VLOOKUP(Eingabeblatt!$G51,'Table males'!$A$3:$E$138,5)*(Eingabeblatt!J51+Eingabeblatt!K51)/2)),VLOOKUP(Eingabeblatt!$G51,'Table females'!$A$3:$E$138,2)+(VLOOKUP(Eingabeblatt!$G51,'Table females'!$A$3:$E$138,3)*Eingabeblatt!I51)+(VLOOKUP(Eingabeblatt!$G51,'Table females'!$A$3:$E$138,4)*Eingabeblatt!H51)+(VLOOKUP(Eingabeblatt!$G51,'Table females'!$A$3:$E$138,5)*(Eingabeblatt!J51+Eingabeblatt!K51)/2)))","v":""},{"$f":"CONCATENATE(\" \",IF(OR(J51=\"\",K51=\"\",L51=\"\"),\"\",IF(B51=\"m\",'Table males'!D$141,'Table females'!D$141)))","v":" "},"",""]
[{"$nulls":6},"",{"$nulls":4},{"$f":"IF(OR(C52=\"\",G52=\"\",H52=\"\",I52=\"\",K52=\"\",B52=Dropdownliste!A$9,J52=\"\"),\"\",IF(B52=\"m\",(VLOOKUP(Eingabeblatt!$G52,'Table males'!$A$3:$E$138,2)+(VLOOKUP(Eingabeblatt!$G52,'Table males'!$A$3:$E$138,3)*Eingabeblatt!I52)+(VLOOKUP(Eingabeblatt!$G52,'Table males'!$A$3:$E$138,4)*Eingabeblatt!H52)+(VLOOKUP(Eingabeblatt!$G52,'Table males'!$A$3:$E$138,5)*(Eingabeblatt!J52+Eingabeblatt!K52)/2)),VLOOKUP(Eingabeblatt!$G52,'Table females'!$A$3:$E$138,2)+(VLOOKUP(Eingabeblatt!$G52,'Table females'!$A$3:$E$138,3)*Eingabeblatt!I52)+(VLOOKUP(Eingabeblatt!$G52,'Table females'!$A$3:$E$138,4)*Eingabeblatt!H52)+(VLOOKUP(Eingabeblatt!$G52,'Table females'!$A$3:$E$138,5)*(Eingabeblatt!J52+Eingabeblatt!K52)/2)))","v":""},{"$f":"CONCATENATE(\" \",IF(OR(J52=\"\",K52=\"\",L52=\"\"),\"\",IF(B52=\"m\",'Table males'!D$141,'Table females'!D$141)))","v":" "},"",""]
[{"$nulls":6},"",{"$nulls":4},{"$f":"IF(OR(C53=\"\",G53=\"\",H53=\"\",I53=\"\",K53=\"\",B53=Dropdownliste!A$9,J53=\"\"),\"\",IF(B53=\"m\",(VLOOKUP(Eingabeblatt!$G53,'Table males'!$A$3:$E$138,2)+(VLOOKUP(Eingabeblatt!$G53,'Table males'!$A$3:$E$138,3)*Eingabeblatt!I53)+(VLOOKUP(Eingabeblatt!$G53,'Table males'!$A$3:$E$138,4)*Eingabeblatt!H53)+(VLOOKUP(Eingabeblatt!$G53,'Table males'!$A$3:$E$138,5)*(Eingabeblatt!J53+Eingabeblatt!K53)/2)),VLOOKUP(Eingabeblatt!$G53,'Table females'!$A$3:$E$138,2)+(VLOOKUP(Eingabeblatt!$G53,'Table females'!$A$3:$E$138,3)*Eingabeblatt!I53)+(VLOOKUP(Eingabeblatt!$G53,'Table females'!$A$3:$E$138,4)*Eingabeblatt!H53)+(VLOOKUP(Eingabeblatt!$G53,'Table females'!$A$3:$E$138,5)*(Eingabeblatt!J53+Eingabeblatt!K53)/2)))","v":""},{"$f":"CONCATENATE(\" \",IF(OR(J53=\"\",K53=\"\",L53=\"\"),\"\",IF(B53=\"m\",'Table males'!D$141,'Table females'!D$141)))","v":" "},"",""]
[{"$nulls":6},"",{"$nulls":4},{"$f":"IF(OR(C54=\"\",G54=\"\",H54=\"\",I54=\"\",K54=\"\",B54=Dropdownliste!A$9,J54=\"\"),\"\",IF(B54=\"m\",(VLOOKUP(Eingabeblatt!$G54,'Table males'!$A$3:$E$138,2)+(VLOOKUP(Eingabeblatt!$G54,'Table males'!$A$3:$E$138,3)*Eingabeblatt!I54)+(VLOOKUP(Eingabeblatt!$G54,'Table males'!$A$3:$E$138,4)*Eingabeblatt!H54)+(VLOOKUP(Eingabeblatt!$G54,'Table males'!$A$3:$E$138,5)*(Eingabeblatt!J54+Eingabeblatt!K54)/2)),VLOOKUP(Eingabeblatt!$G54,'Table females'!$A$3:$E$138,2)+(VLOOKUP(Eingabeblatt!$G54,'Table females'!$A$3:$E$138,3)*Eingabeblatt!I54)+(VLOOKUP(Eingabeblatt!$G54,'Table females'!$A$3:$E$138,4)*Eingabeblatt!H54)+(VLOOKUP(Eingabeblatt!$G54,'Table females'!$A$3:$E$138,5)*(Eingabeblatt!J54+Eingabeblatt!K54)/2)))","v":""},{"$f":"CONCATENATE(\" \",IF(OR(J54=\"\",K54=\"\",L54=\"\"),\"\",IF(B54=\"m\",'Table males'!D$141,'Table females'!D$141)))","v":" "},"",""]
[{"$nulls":6},"",{"$nulls":4},{"$f":"IF(OR(C55=\"\",G55=\"\",H55=\"\",I55=\"\",K55=\"\",B55=Dropdownliste!A$9,J55=\"\"),\"\",IF(B55=\"m\",(VLOOKUP(Eingabeblatt!$G55,'Table males'!$A$3:$E$138,2)+(VLOOKUP(Eingabeblatt!$G55,'Table males'!$A$3:$E$138,3)*Eingabeblatt!I55)+(VLOOKUP(Eingabeblatt!$G55,'Table males'!$A$3:$E$138,4)*Eingabeblatt!H55)+(VLOOKUP(Eingabeblatt!$G55,'Table males'!$A$3:$E$138,5)*(Eingabeblatt!J55+Eingabeblatt!K55)/2)),VLOOKUP(Eingabeblatt!$G55,'Table females'!$A$3:$E$138,2)+(VLOOKUP(Eingabeblatt!$G55,'Table females'!$A$3:$E$138,3)*Eingabeblatt!I55)+(VLOOKUP(Eingabeblatt!$G55,'Table females'!$A$3:$E$138,4)*Eingabeblatt!H55)+(VLOOKUP(Eingabeblatt!$G55,'Table females'!$A$3:$E$138,5)*(Eingabeblatt!J55+Eingabeblatt!K55)/2)))","v":""},{"$f":"CONCATENATE(\" \",IF(OR(J55=\"\",K55=\"\",L55=\"\"),\"\",IF(B55=\"m\",'Table males'!D$141,'Table females'!D$141)))","v":" "},"",""]
[{"$nulls":6},"",{"$nulls":4},{"$f":"IF(OR(C56=\"\",G56=\"\",H56=\"\",I56=\"\",K56=\"\",B56=Dropdownliste!A$9,J56=\"\"),\"\",IF(B56=\"m\",(VLOOKUP(Eingabeblatt!$G56,'Table males'!$A$3:$E$138,2)+(VLOOKUP(Eingabeblatt!$G56,'Table males'!$A$3:$E$138,3)*Eingabeblatt!I56)+(VLOOKUP(Eingabeblatt!$G56,'Table males'!$A$3:$E$138,4)*Eingabeblatt!H56)+(VLOOKUP(Eingabeblatt!$G56,'Table males'!$A$3:$E$138,5)*(Eingabeblatt!J56+Eingabeblatt!K56)/2)),VLOOKUP(Eingabeblatt!$G56,'Table females'!$A$3:$E$138,2)+(VLOOKUP(Eingabeblatt!$G56,'Table females'!$A$3:$E$138,3)*Eingabeblatt!I56)+(VLOOKUP(Eingabeblatt!$G56,'Table females'!$A$3:$E$138,4)*Eingabeblatt!H56)+(VLOOKUP(Eingabeblatt!$G56,'Table females'!$A$3:$E$138,5)*(Eingabeblatt!J56+Eingabeblatt!K56)/2)))","v":""},{"$f":"CONCATENATE(\" \",IF(OR(J56=\"\",K56=\"\",L56=\"\"),\"\",IF(B56=\"m\",'Table males'!D$141,'Table females'!D$141)))","v":" "},"",""]
[{"$nulls":6},"",{"$nulls":4},{"$f":"IF(OR(C57=\"\",G57=\"\",H57=\"\",I57=\"\",K57=\"\",B57=Dropdownliste!A$9,J57=\"\"),\"\",IF(B57=\"m\",(VLOOKUP(Eingabeblatt!$G57,'Table males'!$A$3:$E$138,2)+(VLOOKUP(Eingabeblatt!$G57,'Table males'!$A$3:$E$138,3)*Eingabeblatt!I57)+(VLOOKUP(Eingabeblatt!$G57,'Table males'!$A$3:$E$138,4)*Eingabeblatt!H57)+(VLOOKUP(Eingabeblatt!$G57,'Table males'!$A$3:$E$138,5)*(Eingabeblatt!J57+Eingabeblatt!K57)/2)),VLOOKUP(Eingabeblatt!$G57,'Table females'!$A$3:$E$138,2)+(VLOOKUP(Eingabeblatt!$G57,'Table females'!$A$3:$E$138,3)*Eingabeblatt!I57)+(VLOOKUP(Eingabeblatt!$G57,'Table females'!$A$3:$E$138,4)*Eingabeblatt!H57)+(VLOOKUP(Eingabeblatt!$G57,'Table females'!$A$3:$E$138,5)*(Eingabeblatt!J57+Eingabeblatt!K57)/2)))","v":""},{"$f":"CONCATENATE(\" \",IF(OR(J57=\"\",K57=\"\",L57=\"\"),\"\",IF(B57=\"m\",'Table males'!D$141,'Table females'!D$141)))","v":" "},"",""]
[{"$nulls":6},"",{"$nulls":4},{"$f":"IF(OR(C58=\"\",G58=\"\",H58=\"\",I58=\"\",K58=\"\",B58=Dropdownliste!A$9,J58=\"\"),\"\",IF(B58=\"m\",(VLOOKUP(Eingabeblatt!$G58,'Table males'!$A$3:$E$138,2)+(VLOOKUP(Eingabeblatt!$G58,'Table males'!$A$3:$E$138,3)*Eingabeblatt!I58)+(VLOOKUP(Eingabeblatt!$G58,'Table males'!$A$3:$E$138,4)*Eingabeblatt!H58)+(VLOOKUP(Eingabeblatt!$G58,'Table males'!$A$3:$E$138,5)*(Eingabeblatt!J58+Eingabeblatt!K58)/2)),VLOOKUP(Eingabeblatt!$G58,'Table females'!$A$3:$E$138,2)+(VLOOKUP(Eingabeblatt!$G58,'Table females'!$A$3:$E$138,3)*Eingabeblatt!I58)+(VLOOKUP(Eingabeblatt!$G58,'Table females'!$A$3:$E$138,4)*Eingabeblatt!H58)+(VLOOKUP(Eingabeblatt!$G58,'Table females'!$A$3:$E$138,5)*(Eingabeblatt!J58+Eingabeblatt!K58)/2)))","v":""},{"$f":"CONCATENATE(\" \",IF(OR(J58=\"\",K58=\"\",L58=\"\"),\"\",IF(B58=\"m\",'Table males'!D$141,'Table females'!D$141)))","v":" "},"",""]
[{"$nulls":6},"",{"$nulls":4},{"$f":"IF(OR(C59=\"\",G59=\"\",H59=\"\",I59=\"\",K59=\"\",B59=Dropdownliste!A$9,J59=\"\"),\"\",IF(B59=\"m\",(VLOOKUP(Eingabeblatt!$G59,'Table males'!$A$3:$E$138,2)+(VLOOKUP(Eingabeblatt!$G59,'Table males'!$A$3:$E$138,3)*Eingabeblatt!I59)+(VLOOKUP(Eingabeblatt!$G59,'Table males'!$A$3:$E$138,4)*Eingabeblatt!H59)+(VLOOKUP(Eingabeblatt!$G59,'Table males'!$A$3:$E$138,5)*(Eingabeblatt!J59+Eingabeblatt!K59)/2)),VLOOKUP(Eingabeblatt!$G59,'Table females'!$A$3:$E$138,2)+(VLOOKUP(Eingabeblatt!$G59,'Table females'!$A$3:$E$138,3)*Eingabeblatt!I59)+(VLOOKUP(Eingabeblatt!$G59,'Table females'!$A$3:$E$138,4)*Eingabeblatt!H59)+(VLOOKUP(Eingabeblatt!$G59,'Table females'!$A$3:$E$138,5)*(Eingabeblatt!J59+Eingabeblatt!K59)/2)))","v":""},{"$f":"CONCATENATE(\" \",IF(OR(J59=\"\",K59=\"\",L59=\"\"),\"\",IF(B59=\"m\",'Table males'!D$141,'Table females'!D$141)))","v":" "},"",""]
[{"$nulls":6},"",{"$nulls":4},{"$f":"IF(OR(C60=\"\",G60=\"\",H60=\"\",I60=\"\",K60=\"\",B60=Dropdownliste!A$9,J60=\"\"),\"\",IF(B60=\"m\",(VLOOKUP(Eingabeblatt!$G60,'Table males'!$A$3:$E$138,2)+(VLOOKUP(Eingabeblatt!$G60,'Table males'!$A$3:$E$138,3)*Eingabeblatt!I60)+(VLOOKUP(Eingabeblatt!$G60,'Table males'!$A$3:$E$138,4)*Eingabeblatt!H60)+(VLOOKUP(Eingabeblatt!$G60,'Table males'!$A$3:$E$138,5)*(Eingabeblatt!J60+Eingabeblatt!K60)/2)),VLOOKUP(Eingabeblatt!$G60,'Table females'!$A$3:$E$138,2)+(VLOOKUP(Eingabeblatt!$G60,'Table females'!$A$3:$E$138,3)*Eingabeblatt!I60)+(VLOOKUP(Eingabeblatt!$G60,'Table females'!$A$3:$E$138,4)*Eingabeblatt!H60)+(VLOOKUP(Eingabeblatt!$G60,'Table females'!$A$3:$E$138,5)*(Eingabeblatt!J60+Eingabeblatt!K60)/2)))","v":""},{"$f":"CONCATENATE(\" \",IF(OR(J60=\"\",K60=\"\",L60=\"\"),\"\",IF(B60=\"m\",'Table males'!D$141,'Table females'!D$141)))","v":" "},"",""]
[{"$nulls":6},"",{"$nulls":4},{"$f":"IF(OR(C61=\"\",G61=\"\",H61=\"\",I61=\"\",K61=\"\",B61=Dropdownliste!A$9,J61=\"\"),\"\",IF(B61=\"m\",(VLOOKUP(Eingabeblatt!$G61,'Table males'!$A$3:$E$138,2)+(VLOOKUP(Eingabeblatt!$G61,'Table males'!$A$3:$E$138,3)*Eingabeblatt!I61)+(VLOOKUP(Eingabeblatt!$G61,'Table males'!$A$3:$E$138,4)*Eingabeblatt!H61)+(VLOOKUP(Eingabeblatt!$G61,'Table males'!$A$3:$E$138,5)*(Eingabeblatt!J61+Eingabeblatt!K61)/2)),VLOOKUP(Eingabeblatt!$G61,'Table females'!$A$3:$E$138,2)+(VLOOKUP(Eingabeblatt!$G61,'Table females'!$A$3:$E$138,3)*Eingabeblatt!I61)+(VLOOKUP(Eingabeblatt!$G61,'Table females'!$A$3:$E$138,4)*Eingabeblatt!H61)+(VLOOKUP(Eingabeblatt!$G61,'Table females'!$A$3:$E$138,5)*(Eingabeblatt!J61+Eingabeblatt!K61)/2)))","v":""},{"$f":"CONCATENATE(\" \",IF(OR(J61=\"\",K61=\"\",L61=\"\"),\"\",IF(B61=\"m\",'Table males'!D$141,'Table females'!D$141)))","v":" "},"",""]
[{"$nulls":6},"",{"$nulls":4},{"$f":"IF(OR(C62=\"\",G62=\"\",H62=\"\",I62=\"\",K62=\"\",B62=Dropdownliste!A$9,J62=\"\"),\"\",IF(B62=\"m\",(VLOOKUP(Eingabeblatt!$G62,'Table males'!$A$3:$E$138,2)+(VLOOKUP(Eingabeblatt!$G62,'Table males'!$A$3:$E$138,3)*Eingabeblatt!I62)+(VLOOKUP(Eingabeblatt!$G62,'Table males'!$A$3:$E$138,4)*Eingabeblatt!H62)+(VLOOKUP(Eingabeblatt!$G62,'Table males'!$A$3:$E$138,5)*(Eingabeblatt!J62+Eingabeblatt!K62)/2)),VLOOKUP(Eingabeblatt!$G62,'Table females'!$A$3:$E$138,2)+(VLOOKUP(Eingabeblatt!$G62,'Table females'!$A$3:$E$138,3)*Eingabeblatt!I62)+(VLOOKUP(Eingabeblatt!$G62,'Table females'!$A$3:$E$138,4)*Eingabeblatt!H62)+(VLOOKUP(Eingabeblatt!$G62,'Table females'!$A$3:$E$138,5)*(Eingabeblatt!J62+Eingabeblatt!K62)/2)))","v":""},{"$f":"CONCATENATE(\" \",IF(OR(J62=\"\",K62=\"\",L62=\"\"),\"\",IF(B62=\"m\",'Table males'!D$141,'Table females'!D$141)))","v":" "},"",""]
[{"$nulls":6},"",{"$nulls":4},{"$f":"IF(OR(C63=\"\",G63=\"\",H63=\"\",I63=\"\",K63=\"\",B63=Dropdownliste!A$9,J63=\"\"),\"\",IF(B63=\"m\",(VLOOKUP(Eingabeblatt!$G63,'Table males'!$A$3:$E$138,2)+(VLOOKUP(Eingabeblatt!$G63,'Table males'!$A$3:$E$138,3)*Eingabeblatt!I63)+(VLOOKUP(Eingabeblatt!$G63,'Table males'!$A$3:$E$138,4)*Eingabeblatt!H63)+(VLOOKUP(Eingabeblatt!$G63,'Table males'!$A$3:$E$138,5)*(Eingabeblatt!J63+Eingabeblatt!K63)/2)),VLOOKUP(Eingabeblatt!$G63,'Table females'!$A$3:$E$138,2)+(VLOOKUP(Eingabeblatt!$G63,'Table females'!$A$3:$E$138,3)*Eingabeblatt!I63)+(VLOOKUP(Eingabeblatt!$G63,'Table females'!$A$3:$E$138,4)*Eingabeblatt!H63)+(VLOOKUP(Eingabeblatt!$G63,'Table females'!$A$3:$E$138,5)*(Eingabeblatt!J63+Eingabeblatt!K63)/2)))","v":""},{"$f":"CONCATENATE(\" \",IF(OR(J63=\"\",K63=\"\",L63=\"\"),\"\",IF(B63=\"m\",'Table males'!D$141,'Table females'!D$141)))","v":" "},"",""]
[{"$nulls":6},"",{"$nulls":4},{"$f":"IF(OR(C64=\"\",G64=\"\",H64=\"\",I64=\"\",K64=\"\",B64=Dropdownliste!A$9,J64=\"\"),\"\",IF(B64=\"m\",(VLOOKUP(Eingabeblatt!$G64,'Table males'!$A$3:$E$138,2)+(VLOOKUP(Eingabeblatt!$G64,'Table males'!$A$3:$E$138,3)*Eingabeblatt!I64)+(VLOOKUP(Eingabeblatt!$G64,'Table males'!$A$3:$E$138,4)*Eingabeblatt!H64)+(VLOOKUP(Eingabeblatt!$G64,'Table males'!$A$3:$E$138,5)*(Eingabeblatt!J64+Eingabeblatt!K64)/2)),VLOOKUP(Eingabeblatt!$G64,'Table females'!$A$3:$E$138,2)+(VLOOKUP(Eingabeblatt!$G64,'Table females'!$A$3:$E$138,3)*Eingabeblatt!I64)+(VLOOKUP(Eingabeblatt!$G64,'Table females'!$A$3:$E$138,4)*Eingabeblatt!H64)+(VLOOKUP(Eingabeblatt!$G64,'Table females'!$A$3:$E$138,5)*(Eingabeblatt!J64+Eingabeblatt!K64)/2)))","v":""},{"$f":"CONCATENATE(\" \",IF(OR(J64=\"\",K64=\"\",L64=\"\"),\"\",IF(B64=\"m\",'Table males'!D$141,'Table females'!D$141)))","v":" "},"",""]
[{"$nulls":6},"",{"$nulls":4},{"$f":"IF(OR(C65=\"\",G65=\"\",H65=\"\",I65=\"\",K65=\"\",B65=Dropdownliste!A$9,J65=\"\"),\"\",IF(B65=\"m\",(VLOOKUP(Eingabeblatt!$G65,'Table males'!$A$3:$E$138,2)+(VLOOKUP(Eingabeblatt!$G65,'Table males'!$A$3:$E$138,3)*Eingabeblatt!I65)+(VLOOKUP(Eingabeblatt!$G65,'Table males'!$A$3:$E$138,4)*Eingabeblatt!H65)+(VLOOKUP(Eingabeblatt!$G65,'Table males'!$A$3:$E$138,5)*(Eingabeblatt!J65+Eingabeblatt!K65)/2)),VLOOKUP(Eingabeblatt!$G65,'Table females'!$A$3:$E$138,2)+(VLOOKUP(Eingabeblatt!$G65,'Table females'!$A$3:$E$138,3)*Eingabeblatt!I65)+(VLOOKUP(Eingabeblatt!$G65,'Table females'!$A$3:$E$138,4)*Eingabeblatt!H65)+(VLOOKUP(Eingabeblatt!$G65,'Table females'!$A$3:$E$138,5)*(Eingabeblatt!J65+Eingabeblatt!K65)/2)))","v":""},{"$f":"CONCATENATE(\" \",IF(OR(J65=\"\",K65=\"\",L65=\"\"),\"\",IF(B65=\"m\",'Table males'!D$141,'Table females'!D$141)))","v":" "},"",""]
[{"$nulls":6},"",{"$nulls":4},{"$f":"IF(OR(C66=\"\",G66=\"\",H66=\"\",I66=\"\",K66=\"\",B66=Dropdownliste!A$9,J66=\"\"),\"\",IF(B66=\"m\",(VLOOKUP(Eingabeblatt!$G66,'Table males'!$A$3:$E$138,2)+(VLOOKUP(Eingabeblatt!$G66,'Table males'!$A$3:$E$138,3)*Eingabeblatt!I66)+(VLOOKUP(Eingabeblatt!$G66,'Table males'!$A$3:$E$138,4)*Eingabeblatt!H66)+(VLOOKUP(Eingabeblatt!$G66,'Table males'!$A$3:$E$138,5)*(Eingabeblatt!J66+Eingabeblatt!K66)/2)),VLOOKUP(Eingabeblatt!$G66,'Table females'!$A$3:$E$138,2)+(VLOOKUP(Eingabeblatt!$G66,'Table females'!$A$3:$E$138,3)*Eingabeblatt!I66)+(VLOOKUP(Eingabeblatt!$G66,'Table females'!$A$3:$E$138,4)*Eingabeblatt!H66)+(VLOOKUP(Eingabeblatt!$G66,'Table females'!$A$3:$E$138,5)*(Eingabeblatt!J66+Eingabeblatt!K66)/2)))","v":""},{"$f":"CONCATENATE(\" \",IF(OR(J66=\"\",K66=\"\",L66=\"\"),\"\",IF(B66=\"m\",'Table males'!D$141,'Table females'!D$141)))","v":" "},"",""]
[{"$nulls":6},"",{"$nulls":4},{"$f":"IF(OR(C67=\"\",G67=\"\",H67=\"\",I67=\"\",K67=\"\",B67=Dropdownliste!A$9,J67=\"\"),\"\",IF(B67=\"m\",(VLOOKUP(Eingabeblatt!$G67,'Table males'!$A$3:$E$138,2)+(VLOOKUP(Eingabeblatt!$G67,'Table males'!$A$3:$E$138,3)*Eingabeblatt!I67)+(VLOOKUP(Eingabeblatt!$G67,'Table males'!$A$3:$E$138,4)*Eingabeblatt!H67)+(VLOOKUP(Eingabeblatt!$G67,'Table males'!$A$3:$E$138,5)*(Eingabeblatt!J67+Eingabeblatt!K67)/2)),VLOOKUP(Eingabeblatt!$G67,'Table females'!$A$3:$E$138,2)+(VLOOKUP(Eingabeblatt!$G67,'Table females'!$A$3:$E$138,3)*Eingabeblatt!I67)+(VLOOKUP(Eingabeblatt!$G67,'Table females'!$A$3:$E$138,4)*Eingabeblatt!H67)+(VLOOKUP(Eingabeblatt!$G67,'Table females'!$A$3:$E$138,5)*(Eingabeblatt!J67+Eingabeblatt!K67)/2)))","v":""},{"$f":"CONCATENATE(\" \",IF(OR(J67=\"\",K67=\"\",L67=\"\"),\"\",IF(B67=\"m\",'Table males'!D$141,'Table females'!D$141)))","v":" "},"",""]
[{"$nulls":6},"",{"$nulls":4},{"$f":"IF(OR(C68=\"\",G68=\"\",H68=\"\",I68=\"\",K68=\"\",B68=Dropdownliste!A$9,J68=\"\"),\"\",IF(B68=\"m\",(VLOOKUP(Eingabeblatt!$G68,'Table males'!$A$3:$E$138,2)+(VLOOKUP(Eingabeblatt!$G68,'Table males'!$A$3:$E$138,3)*Eingabeblatt!I68)+(VLOOKUP(Eingabeblatt!$G68,'Table males'!$A$3:$E$138,4)*Eingabeblatt!H68)+(VLOOKUP(Eingabeblatt!$G68,'Table males'!$A$3:$E$138,5)*(Eingabeblatt!J68+Eingabeblatt!K68)/2)),VLOOKUP(Eingabeblatt!$G68,'Table females'!$A$3:$E$138,2)+(VLOOKUP(Eingabeblatt!$G68,'Table females'!$A$3:$E$138,3)*Eingabeblatt!I68)+(VLOOKUP(Eingabeblatt!$G68,'Table females'!$A$3:$E$138,4)*Eingabeblatt!H68)+(VLOOKUP(Eingabeblatt!$G68,'Table females'!$A$3:$E$138,5)*(Eingabeblatt!J68+Eingabeblatt!K68)/2)))","v":""},{"$f":"CONCATENATE(\" \",IF(OR(J68=\"\",K68=\"\",L68=\"\"),\"\",IF(B68=\"m\",'Table males'!D$141,'Table females'!D$141)))","v":" "},"",""]
[{"$nulls":6},"",{"$nulls":4},{"$f":"IF(OR(C69=\"\",G69=\"\",H69=\"\",I69=\"\",K69=\"\",B69=Dropdownliste!A$9,J69=\"\"),\"\",IF(B69=\"m\",(VLOOKUP(Eingabeblatt!$G69,'Table males'!$A$3:$E$138,2)+(VLOOKUP(Eingabeblatt!$G69,'Table males'!$A$3:$E$138,3)*Eingabeblatt!I69)+(VLOOKUP(Eingabeblatt!$G69,'Table males'!$A$3:$E$138,4)*Eingabeblatt!H69)+(VLOOKUP(Eingabeblatt!$G69,'Table males'!$A$3:$E$138,5)*(Eingabeblatt!J69+Eingabeblatt!K69)/2)),VLOOKUP(Eingabeblatt!$G69,'Table females'!$A$3:$E$138,2)+(VLOOKUP(Eingabeblatt!$G69,'Table females'!$A$3:$E$138,3)*Eingabeblatt!I69)+(VLOOKUP(Eingabeblatt!$G69,'Table females'!$A$3:$E$138,4)*Eingabeblatt!H69)+(VLOOKUP(Eingabeblatt!$G69,'Table females'!$A$3:$E$138,5)*(Eingabeblatt!J69+Eingabeblatt!K69)/2)))","v":""},{"$f":"CONCATENATE(\" \",IF(OR(J69=\"\",K69=\"\",L69=\"\"),\"\",IF(B69=\"m\",'Table males'!D$141,'Table females'!D$141)))","v":" "},"",""]
[{"$nulls":6},"",{"$nulls":4},{"$f":"IF(OR(C70=\"\",G70=\"\",H70=\"\",I70=\"\",K70=\"\",B70=Dropdownliste!A$9,J70=\"\"),\"\",IF(B70=\"m\",(VLOOKUP(Eingabeblatt!$G70,'Table males'!$A$3:$E$138,2)+(VLOOKUP(Eingabeblatt!$G70,'Table males'!$A$3:$E$138,3)*Eingabeblatt!I70)+(VLOOKUP(Eingabeblatt!$G70,'Table males'!$A$3:$E$138,4)*Eingabeblatt!H70)+(VLOOKUP(Eingabeblatt!$G70,'Table males'!$A$3:$E$138,5)*(Eingabeblatt!J70+Eingabeblatt!K70)/2)),VLOOKUP(Eingabeblatt!$G70,'Table females'!$A$3:$E$138,2)+(VLOOKUP(Eingabeblatt!$G70,'Table females'!$A$3:$E$138,3)*Eingabeblatt!I70)+(VLOOKUP(Eingabeblatt!$G70,'Table females'!$A$3:$E$138,4)*Eingabeblatt!H70)+(VLOOKUP(Eingabeblatt!$G70,'Table females'!$A$3:$E$138,5)*(Eingabeblatt!J70+Eingabeblatt!K70)/2)))","v":""},{"$f":"CONCATENATE(\" \",IF(OR(J70=\"\",K70=\"\",L70=\"\"),\"\",IF(B70=\"m\",'Table males'!D$141,'Table females'!D$141)))","v":" "},"",""]
[{"$nulls":6},{"$f":"IF(AND(C71>0,F71>0),(C71-F71)/365.25,\"\")","v":""},{"$nulls":4},{"$f":"IF(OR(C71=\"\",G71=\"\",H71=\"\",I71=\"\",K71=\"\",B71=Dropdownliste!A$9,J71=\"\"),\"\",IF(B71=\"m\",(VLOOKUP(Eingabeblatt!$G71,'Table males'!$A$3:$E$138,2)+(VLOOKUP(Eingabeblatt!$G71,'Table males'!$A$3:$E$138,3)*Eingabeblatt!I71)+(VLOOKUP(Eingabeblatt!$G71,'Table males'!$A$3:$E$138,4)*Eingabeblatt!H71)+(VLOOKUP(Eingabeblatt!$G71,'Table males'!$A$3:$E$138,5)*(Eingabeblatt!J71+Eingabeblatt!K71)/2)),VLOOKUP(Eingabeblatt!$G71,'Table females'!$A$3:$E$138,2)+(VLOOKUP(Eingabeblatt!$G71,'Table females'!$A$3:$E$138,3)*Eingabeblatt!I71)+(VLOOKUP(Eingabeblatt!$G71,'Table females'!$A$3:$E$138,4)*Eingabeblatt!H71)+(VLOOKUP(Eingabeblatt!$G71,'Table females'!$A$3:$E$138,5)*(Eingabeblatt!J71+Eingabeblatt!K71)/2)))","v":""},{"$f":"CONCATENATE(\" \",IF(OR(J71=\"\",K71=\"\",L71=\"\"),\"\",IF(B71=\"m\",'Table males'!D$141,'Table females'!D$141)))","v":" "},"",""]
[{"$nulls":6},"",{"$nulls":4},{"$f":"IF(OR(C72=\"\",G72=\"\",H72=\"\",I72=\"\",K72=\"\",B72=Dropdownliste!A$9,J72=\"\"),\"\",IF(B72=\"m\",(VLOOKUP(Eingabeblatt!$G72,'Table males'!$A$3:$E$138,2)+(VLOOKUP(Eingabeblatt!$G72,'Table males'!$A$3:$E$138,3)*Eingabeblatt!I72)+(VLOOKUP(Eingabeblatt!$G72,'Table males'!$A$3:$E$138,4)*Eingabeblatt!H72)+(VLOOKUP(Eingabeblatt!$G72,'Table males'!$A$3:$E$138,5)*(Eingabeblatt!J72+Eingabeblatt!K72)/2)),VLOOKUP(Eingabeblatt!$G72,'Table females'!$A$3:$E$138,2)+(VLOOKUP(Eingabeblatt!$G72,'Table females'!$A$3:$E$138,3)*Eingabeblatt!I72)+(VLOOKUP(Eingabeblatt!$G72,'Table females'!$A$3:$E$138,4)*Eingabeblatt!H72)+(VLOOKUP(Eingabeblatt!$G72,'Table females'!$A$3:$E$138,5)*(Eingabeblatt!J72+Eingabeblatt!K72)/2)))","v":""},{"$f":"CONCATENATE(\" \",IF(OR(J72=\"\",K72=\"\",L72=\"\"),\"\",IF(B72=\"m\",'Table males'!D$141,'Table females'!D$141)))","v":" "},"",""]
[{"$nulls":6},"",{"$nulls":4},{"$f":"IF(OR(C73=\"\",G73=\"\",H73=\"\",I73=\"\",K73=\"\",B73=Dropdownliste!A$9,J73=\"\"),\"\",IF(B73=\"m\",(VLOOKUP(Eingabeblatt!$G73,'Table males'!$A$3:$E$138,2)+(VLOOKUP(Eingabeblatt!$G73,'Table males'!$A$3:$E$138,3)*Eingabeblatt!I73)+(VLOOKUP(Eingabeblatt!$G73,'Table males'!$A$3:$E$138,4)*Eingabeblatt!H73)+(VLOOKUP(Eingabeblatt!$G73,'Table males'!$A$3:$E$138,5)*(Eingabeblatt!J73+Eingabeblatt!K73)/2)),VLOOKUP(Eingabeblatt!$G73,'Table females'!$A$3:$E$138,2)+(VLOOKUP(Eingabeblatt!$G73,'Table females'!$A$3:$E$138,3)*Eingabeblatt!I73)+(VLOOKUP(Eingabeblatt!$G73,'Table females'!$A$3:$E$138,4)*Eingabeblatt!H73)+(VLOOKUP(Eingabeblatt!$G73,'Table females'!$A$3:$E$138,5)*(Eingabeblatt!J73+Eingabeblatt!K73)/2)))","v":""},{"$f":"CONCATENATE(\" \",IF(OR(J73=\"\",K73=\"\",L73=\"\"),\"\",IF(B73=\"m\",'Table males'!D$141,'Table females'!D$141)))","v":" "},"",""]
[{"$nulls":6},"",{"$nulls":4},{"$f":"IF(OR(C74=\"\",G74=\"\",H74=\"\",I74=\"\",K74=\"\",B74=Dropdownliste!A$9,J74=\"\"),\"\",IF(B74=\"m\",(VLOOKUP(Eingabeblatt!$G74,'Table males'!$A$3:$E$138,2)+(VLOOKUP(Eingabeblatt!$G74,'Table males'!$A$3:$E$138,3)*Eingabeblatt!I74)+(VLOOKUP(Eingabeblatt!$G74,'Table males'!$A$3:$E$138,4)*Eingabeblatt!H74)+(VLOOKUP(Eingabeblatt!$G74,'Table males'!$A$3:$E$138,5)*(Eingabeblatt!J74+Eingabeblatt!K74)/2)),VLOOKUP(Eingabeblatt!$G74,'Table females'!$A$3:$E$138,2)+(VLOOKUP(Eingabeblatt!$G74,'Table females'!$A$3:$E$138,3)*Eingabeblatt!I74)+(VLOOKUP(Eingabeblatt!$G74,'Table females'!$A$3:$E$138,4)*Eingabeblatt!H74)+(VLOOKUP(Eingabeblatt!$G74,'Table females'!$A$3:$E$138,5)*(Eingabeblatt!J74+Eingabeblatt!K74)/2)))","v":""},{"$f":"CONCATENATE(\" \",IF(OR(J74=\"\",K74=\"\",L74=\"\"),\"\",IF(B74=\"m\",'Table males'!D$141,'Table females'!D$141)))","v":" "},{"$f":"IF(OR(J74=\"\",K74=\"\",I74=\"\",L74=\"\"),\"\",I74/L74)","v":""},{"$f":"IF(N74=\"\",\"\",IF(N74<0.8,\"vorpubertär / prépubère\",IF(N74<0.9,\"frühpubertär / début de la puberté\",IF(N74<0.95,\"pubertär / pubertaire\",\"spätpubertär / fin de la puberté\"))))","v":""}]
[{"$nulls":6},"",{"$nulls":4},{"$f":"IF(OR(C75=\"\",G75=\"\",H75=\"\",I75=\"\",K75=\"\",B75=Dropdownliste!A$9,J75=\"\"),\"\",IF(B75=\"m\",(VLOOKUP(Eingabeblatt!$G75,'Table males'!$A$3:$E$138,2)+(VLOOKUP(Eingabeblatt!$G75,'Table males'!$A$3:$E$138,3)*Eingabeblatt!I75)+(VLOOKUP(Eingabeblatt!$G75,'Table males'!$A$3:$E$138,4)*Eingabeblatt!H75)+(VLOOKUP(Eingabeblatt!$G75,'Table males'!$A$3:$E$138,5)*(Eingabeblatt!J75+Eingabeblatt!K75)/2)),VLOOKUP(Eingabeblatt!$G75,'Table females'!$A$3:$E$138,2)+(VLOOKUP(Eingabeblatt!$G75,'Table females'!$A$3:$E$138,3)*Eingabeblatt!I75)+(VLOOKUP(Eingabeblatt!$G75,'Table females'!$A$3:$E$138,4)*Eingabeblatt!H75)+(VLOOKUP(Eingabeblatt!$G75,'Table females'!$A$3:$E$138,5)*(Eingabeblatt!J75+Eingabeblatt!K75)/2)))","v":""},{"$f":"CONCATENATE(\" \",IF(OR(J75=\"\",K75=\"\",L75=\"\"),\"\",IF(B75=\"m\",'Table males'!D$141,'Table females'!D$141)))","v":" "},"",""]
[{"$nulls":6},"",{"$nulls":4},{"$f":"IF(OR(C76=\"\",G76=\"\",H76=\"\",I76=\"\",K76=\"\",B76=Dropdownliste!A$9,J76=\"\"),\"\",IF(B76=\"m\",(VLOOKUP(Eingabeblatt!$G76,'Table males'!$A$3:$E$138,2)+(VLOOKUP(Eingabeblatt!$G76,'Table males'!$A$3:$E$138,3)*Eingabeblatt!I76)+(VLOOKUP(Eingabeblatt!$G76,'Table males'!$A$3:$E$138,4)*Eingabeblatt!H76)+(VLOOKUP(Eingabeblatt!$G76,'Table males'!$A$3:$E$138,5)*(Eingabeblatt!J76+Eingabeblatt!K76)/2)),VLOOKUP(Eingabeblatt!$G76,'Table females'!$A$3:$E$138,2)+(VLOOKUP(Eingabeblatt!$G76,'Table females'!$A$3:$E$138,3)*Eingabeblatt!I76)+(VLOOKUP(Eingabeblatt!$G76,'Table females'!$A$3:$E$138,4)*Eingabeblatt!H76)+(VLOOKUP(Eingabeblatt!$G76,'Table females'!$A$3:$E$138,5)*(Eingabeblatt!J76+Eingabeblatt!K76)/2)))","v":""},{"$f":"CONCATENATE(\" \",IF(OR(J76=\"\",K76=\"\",L76=\"\"),\"\",IF(B76=\"m\",'Table males'!D$141,'Table females'!D$141)))","v":" "},"",""]
[{"$nulls":6},"",{"$nulls":4},{"$f":"IF(OR(C77=\"\",G77=\"\",H77=\"\",I77=\"\",K77=\"\",B77=Dropdownliste!A$9,J77=\"\"),\"\",IF(B77=\"m\",(VLOOKUP(Eingabeblatt!$G77,'Table males'!$A$3:$E$138,2)+(VLOOKUP(Eingabeblatt!$G77,'Table males'!$A$3:$E$138,3)*Eingabeblatt!I77)+(VLOOKUP(Eingabeblatt!$G77,'Table males'!$A$3:$E$138,4)*Eingabeblatt!H77)+(VLOOKUP(Eingabeblatt!$G77,'Table males'!$A$3:$E$138,5)*(Eingabeblatt!J77+Eingabeblatt!K77)/2)),VLOOKUP(Eingabeblatt!$G77,'Table females'!$A$3:$E$138,2)+(VLOOKUP(Eingabeblatt!$G77,'Table females'!$A$3:$E$138,3)*Eingabeblatt!I77)+(VLOOKUP(Eingabeblatt!$G77,'Table females'!$A$3:$E$138,4)*Eingabeblatt!H77)+(VLOOKUP(Eingabeblatt!$G77,'Table females'!$A$3:$E$138,5)*(Eingabeblatt!J77+Eingabeblatt!K77)/2)))","v":""},{"$f":"CONCATENATE(\" \",IF(OR(J77=\"\",K77=\"\",L77=\"\"),\"\",IF(B77=\"m\",'Table males'!D$141,'Table females'!D$141)))","v":" "},"",""]
[{"$nulls":6},"",{"$nulls":4},{"$f":"IF(OR(C78=\"\",G78=\"\",H78=\"\",I78=\"\",K78=\"\",B78=Dropdownliste!A$9,J78=\"\"),\"\",IF(B78=\"m\",(VLOOKUP(Eingabeblatt!$G78,'Table males'!$A$3:$E$138,2)+(VLOOKUP(Eingabeblatt!$G78,'Table males'!$A$3:$E$138,3)*Eingabeblatt!I78)+(VLOOKUP(Eingabeblatt!$G78,'Table males'!$A$3:$E$138,4)*Eingabeblatt!H78)+(VLOOKUP(Eingabeblatt!$G78,'Table males'!$A$3:$E$138,5)*(Eingabeblatt!J78+Eingabeblatt!K78)/2)),VLOOKUP(Eingabeblatt!$G78,'Table females'!$A$3:$E$138,2)+(VLOOKUP(Eingabeblatt!$G78,'Table females'!$A$3:$E$138,3)*Eingabeblatt!I78)+(VLOOKUP(Eingabeblatt!$G78,'Table females'!$A$3:$E$138,4)*Eingabeblatt!H78)+(VLOOKUP(Eingabeblatt!$G78,'Table females'!$A$3:$E$138,5)*(Eingabeblatt!J78+Eingabeblatt!K78)/2)))","v":""},{"$f":"CONCATENATE(\" \",IF(OR(J78=\"\",K78=\"\",L78=\"\"),\"\",IF(B78=\"m\",'Table males'!D$141,'Table females'!D$141)))","v":" "},"",""]
[{"$nulls":6},"",{"$nulls":4},{"$f":"IF(OR(C79=\"\",G79=\"\",H79=\"\",I79=\"\",K79=\"\",B79=Dropdownliste!A$9,J79=\"\"),\"\",IF(B79=\"m\",(VLOOKUP(Eingabeblatt!$G79,'Table males'!$A$3:$E$138,2)+(VLOOKUP(Eingabeblatt!$G79,'Table males'!$A$3:$E$138,3)*Eingabeblatt!I79)+(VLOOKUP(Eingabeblatt!$G79,'Table males'!$A$3:$E$138,4)*Eingabeblatt!H79)+(VLOOKUP(Eingabeblatt!$G79,'Table males'!$A$3:$E$138,5)*(Eingabeblatt!J79+Eingabeblatt!K79)/2)),VLOOKUP(Eingabeblatt!$G79,'Table females'!$A$3:$E$138,2)+(VLOOKUP(Eingabeblatt!$G79,'Table females'!$A$3:$E$138,3)*Eingabeblatt!I79)+(VLOOKUP(Eingabeblatt!$G79,'Table females'!$A$3:$E$138,4)*Eingabeblatt!H79)+(VLOOKUP(Eingabeblatt!$G79,'Table females'!$A$3:$E$138,5)*(Eingabeblatt!J79+Eingabeblatt!K79)/2)))","v":""},{"$f":"CONCATENATE(\" \",IF(OR(J79=\"\",K79=\"\",L79=\"\"),\"\",IF(B79=\"m\",'Table males'!D$141,'Table females'!D$141)))","v":" "},"",""]
[{"$nulls":6},"",{"$nulls":4},{"$f":"IF(OR(C80=\"\",G80=\"\",H80=\"\",I80=\"\",K80=\"\",B80=Dropdownliste!A$9,J80=\"\"),\"\",IF(B80=\"m\",(VLOOKUP(Eingabeblatt!$G80,'Table males'!$A$3:$E$138,2)+(VLOOKUP(Eingabeblatt!$G80,'Table males'!$A$3:$E$138,3)*Eingabeblatt!I80)+(VLOOKUP(Eingabeblatt!$G80,'Table males'!$A$3:$E$138,4)*Eingabeblatt!H80)+(VLOOKUP(Eingabeblatt!$G80,'Table males'!$A$3:$E$138,5)*(Eingabeblatt!J80+Eingabeblatt!K80)/2)),VLOOKUP(Eingabeblatt!$G80,'Table females'!$A$3:$E$138,2)+(VLOOKUP(Eingabeblatt!$G80,'Table females'!$A$3:$E$138,3)*Eingabeblatt!I80)+(VLOOKUP(Eingabeblatt!$G80,'Table females'!$A$3:$E$138,4)*Eingabeblatt!H80)+(VLOOKUP(Eingabeblatt!$G80,'Table females'!$A$3:$E$138,5)*(Eingabeblatt!J80+Eingabeblatt!K80)/2)))","v":""},{"$f":"CONCATENATE(\" \",IF(OR(J80=\"\",K80=\"\",L80=\"\"),\"\",IF(B80=\"m\",'Table males'!D$141,'Table females'!D$141)))","v":" "},"",""]
[{"$nulls":6},"",{"$nulls":4},{"$f":"IF(OR(C81=\"\",G81=\"\",H81=\"\",I81=\"\",K81=\"\",B81=Dropdownliste!A$9,J81=\"\"),\"\",IF(B81=\"m\",(VLOOKUP(Eingabeblatt!$G81,'Table males'!$A$3:$E$138,2)+(VLOOKUP(Eingabeblatt!$G81,'Table males'!$A$3:$E$138,3)*Eingabeblatt!I81)+(VLOOKUP(Eingabeblatt!$G81,'Table males'!$A$3:$E$138,4)*Eingabeblatt!H81)+(VLOOKUP(Eingabeblatt!$G81,'Table males'!$A$3:$E$138,5)*(Eingabeblatt!J81+Eingabeblatt!K81)/2)),VLOOKUP(Eingabeblatt!$G81,'Table females'!$A$3:$E$138,2)+(VLOOKUP(Eingabeblatt!$G81,'Table females'!$A$3:$E$138,3)*Eingabeblatt!I81)+(VLOOKUP(Eingabeblatt!$G81,'Table females'!$A$3:$E$138,4)*Eingabeblatt!H81)+(VLOOKUP(Eingabeblatt!$G81,'Table females'!$A$3:$E$138,5)*(Eingabeblatt!J81+Eingabeblatt!K81)/2)))","v":""},{"$f":"CONCATENATE(\" \",IF(OR(J81=\"\",K81=\"\",L81=\"\"),\"\",IF(B81=\"m\",'Table males'!D$141,'Table females'!D$141)))","v":" "},"",""]
[{"$nulls":6},"",{"$nulls":4},{"$f":"IF(OR(C82=\"\",G82=\"\",H82=\"\",I82=\"\",K82=\"\",B82=Dropdownliste!A$9,J82=\"\"),\"\",IF(B82=\"m\",(VLOOKUP(Eingabeblatt!$G82,'Table males'!$A$3:$E$138,2)+(VLOOKUP(Eingabeblatt!$G82,'Table males'!$A$3:$E$138,3)*Eingabeblatt!I82)+(VLOOKUP(Eingabeblatt!$G82,'Table males'!$A$3:$E$138,4)*Eingabeblatt!H82)+(VLOOKUP(Eingabeblatt!$G82,'Table males'!$A$3:$E$138,5)*(Eingabeblatt!J82+Eingabeblatt!K82)/2)),VLOOKUP(Eingabeblatt!$G82,'Table females'!$A$3:$E$138,2)+(VLOOKUP(Eingabeblatt!$G82,'Table females'!$A$3:$E$138,3)*Eingabeblatt!I82)+(VLOOKUP(Eingabeblatt!$G82,'Table females'!$A$3:$E$138,4)*Eingabeblatt!H82)+(VLOOKUP(Eingabeblatt!$G82,'Table females'!$A$3:$E$138,5)*(Eingabeblatt!J82+Eingabeblatt!K82)/2)))","v":""},{"$f":"CONCATENATE(\" \",IF(OR(J82=\"\",K82=\"\",L82=\"\"),\"\",IF(B82=\"m\",'Table males'!D$141,'Table females'!D$141)))","v":" "},"",""]
[{"$nulls":6},"",{"$nulls":4},{"$f":"IF(OR(C83=\"\",G83=\"\",H83=\"\",I83=\"\",K83=\"\",B83=Dropdownliste!A$9,J83=\"\"),\"\",IF(B83=\"m\",(VLOOKUP(Eingabeblatt!$G83,'Table males'!$A$3:$E$138,2)+(VLOOKUP(Eingabeblatt!$G83,'Table males'!$A$3:$E$138,3)*Eingabeblatt!I83)+(VLOOKUP(Eingabeblatt!$G83,'Table males'!$A$3:$E$138,4)*Eingabeblatt!H83)+(VLOOKUP(Eingabeblatt!$G83,'Table males'!$A$3:$E$138,5)*(Eingabeblatt!J83+Eingabeblatt!K83)/2)),VLOOKUP(Eingabeblatt!$G83,'Table females'!$A$3:$E$138,2)+(VLOOKUP(Eingabeblatt!$G83,'Table females'!$A$3:$E$138,3)*Eingabeblatt!I83)+(VLOOKUP(Eingabeblatt!$G83,'Table females'!$A$3:$E$138,4)*Eingabeblatt!H83)+(VLOOKUP(Eingabeblatt!$G83,'Table females'!$A$3:$E$138,5)*(Eingabeblatt!J83+Eingabeblatt!K83)/2)))","v":""},{"$f":"CONCATENATE(\" \",IF(OR(J83=\"\",K83=\"\",L83=\"\"),\"\",IF(B83=\"m\",'Table males'!D$141,'Table females'!D$141)))","v":" "},"",""]
[{"$nulls":6},"",{"$nulls":4},{"$f":"IF(OR(C84=\"\",G84=\"\",H84=\"\",I84=\"\",K84=\"\",B84=Dropdownliste!A$9,J84=\"\"),\"\",IF(B84=\"m\",(VLOOKUP(Eingabeblatt!$G84,'Table males'!$A$3:$E$138,2)+(VLOOKUP(Eingabeblatt!$G84,'Table males'!$A$3:$E$138,3)*Eingabeblatt!I84)+(VLOOKUP(Eingabeblatt!$G84,'Table males'!$A$3:$E$138,4)*Eingabeblatt!H84)+(VLOOKUP(Eingabeblatt!$G84,'Table males'!$A$3:$E$138,5)*(Eingabeblatt!J84+Eingabeblatt!K84)/2)),VLOOKUP(Eingabeblatt!$G84,'Table females'!$A$3:$E$138,2)+(VLOOKUP(Eingabeblatt!$G84,'Table females'!$A$3:$E$138,3)*Eingabeblatt!I84)+(VLOOKUP(Eingabeblatt!$G84,'Table females'!$A$3:$E$138,4)*Eingabeblatt!H84)+(VLOOKUP(Eingabeblatt!$G84,'Table females'!$A$3:$E$138,5)*(Eingabeblatt!J84+Eingabeblatt!K84)/2)))","v":""},{"$f":"CONCATENATE(\" \",IF(OR(J84=\"\",K84=\"\",L84=\"\"),\"\",IF(B84=\"m\",'Table males'!D$141,'Table females'!D$141)))","v":" "},"",""]
[{"$nulls":6},"",{"$nulls":4},{"$f":"IF(OR(C85=\"\",G85=\"\",H85=\"\",I85=\"\",K85=\"\",B85=Dropdownliste!A$9,J85=\"\"),\"\",IF(B85=\"m\",(VLOOKUP(Eingabeblatt!$G85,'Table males'!$A$3:$E$138,2)+(VLOOKUP(Eingabeblatt!$G85,'Table males'!$A$3:$E$138,3)*Eingabeblatt!I85)+(VLOOKUP(Eingabeblatt!$G85,'Table males'!$A$3:$E$138,4)*Eingabeblatt!H85)+(VLOOKUP(Eingabeblatt!$G85,'Table males'!$A$3:$E$138,5)*(Eingabeblatt!J85+Eingabeblatt!K85)/2)),VLOOKUP(Eingabeblatt!$G85,'Table females'!$A$3:$E$138,2)+(VLOOKUP(Eingabeblatt!$G85,'Table females'!$A$3:$E$138,3)*Eingabeblatt!I85)+(VLOOKUP(Eingabeblatt!$G85,'Table females'!$A$3:$E$138,4)*Eingabeblatt!H85)+(VLOOKUP(Eingabeblatt!$G85,'Table females'!$A$3:$E$138,5)*(Eingabeblatt!J85+Eingabeblatt!K85)/2)))","v":""},{"$f":"CONCATENATE(\" \",IF(OR(J85=\"\",K85=\"\",L85=\"\"),\"\",IF(B85=\"m\",'Table males'!D$141,'Table females'!D$141)))","v":" "},"",""]
[{"$nulls":6},"",{"$nulls":4},{"$f":"IF(OR(C86=\"\",G86=\"\",H86=\"\",I86=\"\",K86=\"\",B86=Dropdownliste!A$9,J86=\"\"),\"\",IF(B86=\"m\",(VLOOKUP(Eingabeblatt!$G86,'Table males'!$A$3:$E$138,2)+(VLOOKUP(Eingabeblatt!$G86,'Table males'!$A$3:$E$138,3)*Eingabeblatt!I86)+(VLOOKUP(Eingabeblatt!$G86,'Table males'!$A$3:$E$138,4)*Eingabeblatt!H86)+(VLOOKUP(Eingabeblatt!$G86,'Table males'!$A$3:$E$138,5)*(Eingabeblatt!J86+Eingabeblatt!K86)/2)),VLOOKUP(Eingabeblatt!$G86,'Table females'!$A$3:$E$138,2)+(VLOOKUP(Eingabeblatt!$G86,'Table females'!$A$3:$E$138,3)*Eingabeblatt!I86)+(VLOOKUP(Eingabeblatt!$G86,'Table females'!$A$3:$E$138,4)*Eingabeblatt!H86)+(VLOOKUP(Eingabeblatt!$G86,'Table females'!$A$3:$E$138,5)*(Eingabeblatt!J86+Eingabeblatt!K86)/2)))","v":""},{"$f":"CONCATENATE(\" \",IF(OR(J86=\"\",K86=\"\",L86=\"\"),\"\",IF(B86=\"m\",'Table males'!D$141,'Table females'!D$141)))","v":" "},"",""]
[{"$nulls":6},"",{"$nulls":4},{"$f":"IF(OR(C87=\"\",G87=\"\",H87=\"\",I87=\"\",K87=\"\",B87=Dropdownliste!A$9,J87=\"\"),\"\",IF(B87=\"m\",(VLOOKUP(Eingabeblatt!$G87,'Table males'!$A$3:$E$138,2)+(VLOOKUP(Eingabeblatt!$G87,'Table males'!$A$3:$E$138,3)*Eingabeblatt!I87)+(VLOOKUP(Eingabeblatt!$G87,'Table males'!$A$3:$E$138,4)*Eingabeblatt!H87)+(VLOOKUP(Eingabeblatt!$G87,'Table males'!$A$3:$E$138,5)*(Eingabeblatt!J87+Eingabeblatt!K87)/2)),VLOOKUP(Eingabeblatt!$G87,'Table females'!$A$3:$E$138,2)+(VLOOKUP(Eingabeblatt!$G87,'Table females'!$A$3:$E$138,3)*Eingabeblatt!I87)+(VLOOKUP(Eingabeblatt!$G87,'Table females'!$A$3:$E$138,4)*Eingabeblatt!H87)+(VLOOKUP(Eingabeblatt!$G87,'Table females'!$A$3:$E$138,5)*(Eingabeblatt!J87+Eingabeblatt!K87)/2)))","v":""},{"$f":"CONCATENATE(\" \",IF(OR(J87=\"\",K87=\"\",L87=\"\"),\"\",IF(B87=\"m\",'Table males'!D$141,'Table females'!D$141)))","v":" "},"",""]
[{"$nulls":6},"",{"$nulls":4},{"$f":"IF(OR(C88=\"\",G88=\"\",H88=\"\",I88=\"\",K88=\"\",B88=Dropdownliste!A$9,J88=\"\"),\"\",IF(B88=\"m\",(VLOOKUP(Eingabeblatt!$G88,'Table males'!$A$3:$E$138,2)+(VLOOKUP(Eingabeblatt!$G88,'Table males'!$A$3:$E$138,3)*Eingabeblatt!I88)+(VLOOKUP(Eingabeblatt!$G88,'Table males'!$A$3:$E$138,4)*Eingabeblatt!H88)+(VLOOKUP(Eingabeblatt!$G88,'Table males'!$A$3:$E$138,5)*(Eingabeblatt!J88+Eingabeblatt!K88)/2)),VLOOKUP(Eingabeblatt!$G88,'Table females'!$A$3:$E$138,2)+(VLOOKUP(Eingabeblatt!$G88,'Table females'!$A$3:$E$138,3)*Eingabeblatt!I88)+(VLOOKUP(Eingabeblatt!$G88,'Table females'!$A$3:$E$138,4)*Eingabeblatt!H88)+(VLOOKUP(Eingabeblatt!$G88,'Table females'!$A$3:$E$138,5)*(Eingabeblatt!J88+Eingabeblatt!K88)/2)))","v":""},{"$f":"CONCATENATE(\" \",IF(OR(J88=\"\",K88=\"\",L88=\"\"),\"\",IF(B88=\"m\",'Table males'!D$141,'Table females'!D$141)))","v":" "},"",""]
[{"$nulls":6},"",{"$nulls":4},{"$f":"IF(OR(C89=\"\",G89=\"\",H89=\"\",I89=\"\",K89=\"\",B89=Dropdownliste!A$9,J89=\"\"),\"\",IF(B89=\"m\",(VLOOKUP(Eingabeblatt!$G89,'Table males'!$A$3:$E$138,2)+(VLOOKUP(Eingabeblatt!$G89,'Table males'!$A$3:$E$138,3)*Eingabeblatt!I89)+(VLOOKUP(Eingabeblatt!$G89,'Table males'!$A$3:$E$138,4)*Eingabeblatt!H89)+(VLOOKUP(Eingabeblatt!$G89,'Table males'!$A$3:$E$138,5)*(Eingabeblatt!J89+Eingabeblatt!K89)/2)),VLOOKUP(Eingabeblatt!$G89,'Table females'!$A$3:$E$138,2)+(VLOOKUP(Eingabeblatt!$G89,'Table females'!$A$3:$E$138,3)*Eingabeblatt!I89)+(VLOOKUP(Eingabeblatt!$G89,'Table females'!$A$3:$E$138,4)*Eingabeblatt!H89)+(VLOOKUP(Eingabeblatt!$G89,'Table females'!$A$3:$E$138,5)*(Eingabeblatt!J89+Eingabeblatt!K89)/2)))","v":""},{"$f":"CONCATENATE(\" \",IF(OR(J89=\"\",K89=\"\",L89=\"\"),\"\",IF(B89=\"m\",'Table males'!D$141,'Table females'!D$141)))","v":" "},"",""]
[{"$nulls":6},"",{"$nulls":4},{"$f":"IF(OR(C90=\"\",G90=\"\",H90=\"\",I90=\"\",K90=\"\",B90=Dropdownliste!A$9,J90=\"\"),\"\",IF(B90=\"m\",(VLOOKUP(Eingabeblatt!$G90,'Table males'!$A$3:$E$138,2)+(VLOOKUP(Eingabeblatt!$G90,'Table males'!$A$3:$E$138,3)*Eingabeblatt!I90)+(VLOOKUP(Eingabeblatt!$G90,'Table males'!$A$3:$E$138,4)*Eingabeblatt!H90)+(VLOOKUP(Eingabeblatt!$G90,'Table males'!$A$3:$E$138,5)*(Eingabeblatt!J90+Eingabeblatt!K90)/2)),VLOOKUP(Eingabeblatt!$G90,'Table females'!$A$3:$E$138,2)+(VLOOKUP(Eingabeblatt!$G90,'Table females'!$A$3:$E$138,3)*Eingabeblatt!I90)+(VLOOKUP(Eingabeblatt!$G90,'Table females'!$A$3:$E$138,4)*Eingabeblatt!H90)+(VLOOKUP(Eingabeblatt!$G90,'Table females'!$A$3:$E$138,5)*(Eingabeblatt!J90+Eingabeblatt!K90)/2)))","v":""},{"$f":"CONCATENATE(\" \",IF(OR(J90=\"\",K90=\"\",L90=\"\"),\"\",IF(B90=\"m\",'Table males'!D$141,'Table females'!D$141)))","v":" "},"",""]
[{"$nulls":6},"",{"$nulls":4},{"$f":"IF(OR(C91=\"\",G91=\"\",H91=\"\",I91=\"\",K91=\"\",B91=Dropdownliste!A$9,J91=\"\"),\"\",IF(B91=\"m\",(VLOOKUP(Eingabeblatt!$G91,'Table males'!$A$3:$E$138,2)+(VLOOKUP(Eingabeblatt!$G91,'Table males'!$A$3:$E$138,3)*Eingabeblatt!I91)+(VLOOKUP(Eingabeblatt!$G91,'Table males'!$A$3:$E$138,4)*Eingabeblatt!H91)+(VLOOKUP(Eingabeblatt!$G91,'Table males'!$A$3:$E$138,5)*(Eingabeblatt!J91+Eingabeblatt!K91)/2)),VLOOKUP(Eingabeblatt!$G91,'Table females'!$A$3:$E$138,2)+(VLOOKUP(Eingabeblatt!$G91,'Table females'!$A$3:$E$138,3)*Eingabeblatt!I91)+(VLOOKUP(Eingabeblatt!$G91,'Table females'!$A$3:$E$138,4)*Eingabeblatt!H91)+(VLOOKUP(Eingabeblatt!$G91,'Table females'!$A$3:$E$138,5)*(Eingabeblatt!J91+Eingabeblatt!K91)/2)))","v":""},{"$f":"CONCATENATE(\" \",IF(OR(J91=\"\",K91=\"\",L91=\"\"),\"\",IF(B91=\"m\",'Table males'!D$141,'Table females'!D$141)))","v":" "},"",""]
[{"$nulls":6},"",{"$nulls":4},{"$f":"IF(OR(C92=\"\",G92=\"\",H92=\"\",I92=\"\",K92=\"\",B92=Dropdownliste!A$9,J92=\"\"),\"\",IF(B92=\"m\",(VLOOKUP(Eingabeblatt!$G92,'Table males'!$A$3:$E$138,2)+(VLOOKUP(Eingabeblatt!$G92,'Table males'!$A$3:$E$138,3)*Eingabeblatt!I92)+(VLOOKUP(Eingabeblatt!$G92,'Table males'!$A$3:$E$138,4)*Eingabeblatt!H92)+(VLOOKUP(Eingabeblatt!$G92,'Table males'!$A$3:$E$138,5)*(Eingabeblatt!J92+Eingabeblatt!K92)/2)),VLOOKUP(Eingabeblatt!$G92,'Table females'!$A$3:$E$138,2)+(VLOOKUP(Eingabeblatt!$G92,'Table females'!$A$3:$E$138,3)*Eingabeblatt!I92)+(VLOOKUP(Eingabeblatt!$G92,'Table females'!$A$3:$E$138,4)*Eingabeblatt!H92)+(VLOOKUP(Eingabeblatt!$G92,'Table females'!$A$3:$E$138,5)*(Eingabeblatt!J92+Eingabeblatt!K92)/2)))","v":""},{"$f":"CONCATENATE(\" \",IF(OR(J92=\"\",K92=\"\",L92=\"\"),\"\",IF(B92=\"m\",'Table males'!D$141,'Table females'!D$141)))","v":" "},"",""]
[{"$nulls":6},"",{"$nulls":4},{"$f":"IF(OR(C93=\"\",G93=\"\",H93=\"\",I93=\"\",K93=\"\",B93=Dropdownliste!A$9,J93=\"\"),\"\",IF(B93=\"m\",(VLOOKUP(Eingabeblatt!$G93,'Table males'!$A$3:$E$138,2)+(VLOOKUP(Eingabeblatt!$G93,'Table males'!$A$3:$E$138,3)*Eingabeblatt!I93)+(VLOOKUP(Eingabeblatt!$G93,'Table males'!$A$3:$E$138,4)*Eingabeblatt!H93)+(VLOOKUP(Eingabeblatt!$G93,'Table males'!$A$3:$E$138,5)*(Eingabeblatt!J93+Eingabeblatt!K93)/2)),VLOOKUP(Eingabeblatt!$G93,'Table females'!$A$3:$E$138,2)+(VLOOKUP(Eingabeblatt!$G93,'Table females'!$A$3:$E$138,3)*Eingabeblatt!I93)+(VLOOKUP(Eingabeblatt!$G93,'Table females'!$A$3:$E$138,4)*Eingabeblatt!H93)+(VLOOKUP(Eingabeblatt!$G93,'Table females'!$A$3:$E$138,5)*(Eingabeblatt!J93+Eingabeblatt!K93)/2)))","v":""},{"$f":"CONCATENATE(\" \",IF(OR(J93=\"\",K93=\"\",L93=\"\"),\"\",IF(B93=\"m\",'Table males'!D$141,'Table females'!D$141)))","v":" "},"",""]
[{"$nulls":6},"",{"$nulls":4},{"$f":"IF(OR(C94=\"\",G94=\"\",H94=\"\",I94=\"\",K94=\"\",B94=Dropdownliste!A$9,J94=\"\"),\"\",IF(B94=\"m\",(VLOOKUP(Eingabeblatt!$G94,'Table males'!$A$3:$E$138,2)+(VLOOKUP(Eingabeblatt!$G94,'Table males'!$A$3:$E$138,3)*Eingabeblatt!I94)+(VLOOKUP(Eingabeblatt!$G94,'Table males'!$A$3:$E$138,4)*Eingabeblatt!H94)+(VLOOKUP(Eingabeblatt!$G94,'Table males'!$A$3:$E$138,5)*(Eingabeblatt!J94+Eingabeblatt!K94)/2)),VLOOKUP(Eingabeblatt!$G94,'Table females'!$A$3:$E$138,2)+(VLOOKUP(Eingabeblatt!$G94,'Table females'!$A$3:$E$138,3)*Eingabeblatt!I94)+(VLOOKUP(Eingabeblatt!$G94,'Table females'!$A$3:$E$138,4)*Eingabeblatt!H94)+(VLOOKUP(Eingabeblatt!$G94,'Table females'!$A$3:$E$138,5)*(Eingabeblatt!J94+Eingabeblatt!K94)/2)))","v":""},{"$f":"CONCATENATE(\" \",IF(OR(J94=\"\",K94=\"\",L94=\"\"),\"\",IF(B94=\"m\",'Table males'!D$141,'Table females'!D$141)))","v":" "},"",""]
[{"$nulls":6},"",{"$nulls":4},{"$f":"IF(OR(C95=\"\",G95=\"\",H95=\"\",I95=\"\",K95=\"\",B95=Dropdownliste!A$9,J95=\"\"),\"\",IF(B95=\"m\",(VLOOKUP(Eingabeblatt!$G95,'Table males'!$A$3:$E$138,2)+(VLOOKUP(Eingabeblatt!$G95,'Table males'!$A$3:$E$138,3)*Eingabeblatt!I95)+(VLOOKUP(Eingabeblatt!$G95,'Table males'!$A$3:$E$138,4)*Eingabeblatt!H95)+(VLOOKUP(Eingabeblatt!$G95,'Table males'!$A$3:$E$138,5)*(Eingabeblatt!J95+Eingabeblatt!K95)/2)),VLOOKUP(Eingabeblatt!$G95,'Table females'!$A$3:$E$138,2)+(VLOOKUP(Eingabeblatt!$G95,'Table females'!$A$3:$E$138,3)*Eingabeblatt!I95)+(VLOOKUP(Eingabeblatt!$G95,'Table females'!$A$3:$E$138,4)*Eingabeblatt!H95)+(VLOOKUP(Eingabeblatt!$G95,'Table females'!$A$3:$E$138,5)*(Eingabeblatt!J95+Eingabeblatt!K95)/2)))","v":""},{"$f":"CONCATENATE(\" \",IF(OR(J95=\"\",K95=\"\",L95=\"\"),\"\",IF(B95=\"m\",'Table males'!D$141,'Table females'!D$141)))","v":" "},"",""]
[{"$nulls":6},"",{"$nulls":4},{"$f":"IF(OR(C96=\"\",G96=\"\",H96=\"\",I96=\"\",K96=\"\",B96=Dropdownliste!A$9,J96=\"\"),\"\",IF(B96=\"m\",(VLOOKUP(Eingabeblatt!$G96,'Table males'!$A$3:$E$138,2)+(VLOOKUP(Eingabeblatt!$G96,'Table males'!$A$3:$E$138,3)*Eingabeblatt!I96)+(VLOOKUP(Eingabeblatt!$G96,'Table males'!$A$3:$E$138,4)*Eingabeblatt!H96)+(VLOOKUP(Eingabeblatt!$G96,'Table males'!$A$3:$E$138,5)*(Eingabeblatt!J96+Eingabeblatt!K96)/2)),VLOOKUP(Eingabeblatt!$G96,'Table females'!$A$3:$E$138,2)+(VLOOKUP(Eingabeblatt!$G96,'Table females'!$A$3:$E$138,3)*Eingabeblatt!I96)+(VLOOKUP(Eingabeblatt!$G96,'Table females'!$A$3:$E$138,4)*Eingabeblatt!H96)+(VLOOKUP(Eingabeblatt!$G96,'Table females'!$A$3:$E$138,5)*(Eingabeblatt!J96+Eingabeblatt!K96)/2)))","v":""},{"$f":"CONCATENATE(\" \",IF(OR(J96=\"\",K96=\"\",L96=\"\"),\"\",IF(B96=\"m\",'Table males'!D$141,'Table females'!D$141)))","v":" "},"",""]
[{"$nulls":6},"",{"$nulls":4},{"$f":"IF(OR(C97=\"\",G97=\"\",H97=\"\",I97=\"\",K97=\"\",B97=Dropdownliste!A$9,J97=\"\"),\"\",IF(B97=\"m\",(VLOOKUP(Eingabeblatt!$G97,'Table males'!$A$3:$E$138,2)+(VLOOKUP(Eingabeblatt!$G97,'Table males'!$A$3:$E$138,3)*Eingabeblatt!I97)+(VLOOKUP(Eingabeblatt!$G97,'Table males'!$A$3:$E$138,4)*Eingabeblatt!H97)+(VLOOKUP(Eingabeblatt!$G97,'Table males'!$A$3:$E$138,5)*(Eingabeblatt!J97+Eingabeblatt!K97)/2)),VLOOKUP(Eingabeblatt!$G97,'Table females'!$A$3:$E$138,2)+(VLOOKUP(Eingabeblatt!$G97,'Table females'!$A$3:$E$138,3)*Eingabeblatt!I97)+(VLOOKUP(Eingabeblatt!$G97,'Table females'!$A$3:$E$138,4)*Eingabeblatt!H97)+(VLOOKUP(Eingabeblatt!$G97,'Table females'!$A$3:$E$138,5)*(Eingabeblatt!J97+Eingabeblatt!K97)/2)))","v":""},{"$f":"CONCATENATE(\" \",IF(OR(J97=\"\",K97=\"\",L97=\"\"),\"\",IF(B97=\"m\",'Table males'!D$141,'Table females'!D$141)))","v":" "},"",""]
[{"$nulls":6},"",{"$nulls":4},{"$f":"IF(OR(C98=\"\",G98=\"\",H98=\"\",I98=\"\",K98=\"\",B98=Dropdownliste!A$9,J98=\"\"),\"\",IF(B98=\"m\",(VLOOKUP(Eingabeblatt!$G98,'Table males'!$A$3:$E$138,2)+(VLOOKUP(Eingabeblatt!$G98,'Table males'!$A$3:$E$138,3)*Eingabeblatt!I98)+(VLOOKUP(Eingabeblatt!$G98,'Table males'!$A$3:$E$138,4)*Eingabeblatt!H98)+(VLOOKUP(Eingabeblatt!$G98,'Table males'!$A$3:$E$138,5)*(Eingabeblatt!J98+Eingabeblatt!K98)/2)),VLOOKUP(Eingabeblatt!$G98,'Table females'!$A$3:$E$138,2)+(VLOOKUP(Eingabeblatt!$G98,'Table females'!$A$3:$E$138,3)*Eingabeblatt!I98)+(VLOOKUP(Eingabeblatt!$G98,'Table females'!$A$3:$E$138,4)*Eingabeblatt!H98)+(VLOOKUP(Eingabeblatt!$G98,'Table females'!$A$3:$E$138,5)*(Eingabeblatt!J98+Eingabeblatt!K98)/2)))","v":""},{"$f":"CONCATENATE(\" \",IF(OR(J98=\"\",K98=\"\",L98=\"\"),\"\",IF(B98=\"m\",'Table males'!D$141,'Table females'!D$141)))","v":" "},"",""]
[{"$nulls":6},"",{"$nulls":4},{"$f":"IF(OR(C99=\"\",G99=\"\",H99=\"\",I99=\"\",K99=\"\",B99=Dropdownliste!A$9,J99=\"\"),\"\",IF(B99=\"m\",(VLOOKUP(Eingabeblatt!$G99,'Table males'!$A$3:$E$138,2)+(VLOOKUP(Eingabeblatt!$G99,'Table males'!$A$3:$E$138,3)*Eingabeblatt!I99)+(VLOOKUP(Eingabeblatt!$G99,'Table males'!$A$3:$E$138,4)*Eingabeblatt!H99)+(VLOOKUP(Eingabeblatt!$G99,'Table males'!$A$3:$E$138,5)*(Eingabeblatt!J99+Eingabeblatt!K99)/2)),VLOOKUP(Eingabeblatt!$G99,'Table females'!$A$3:$E$138,2)+(VLOOKUP(Eingabeblatt!$G99,'Table females'!$A$3:$E$138,3)*Eingabeblatt!I99)+(VLOOKUP(Eingabeblatt!$G99,'Table females'!$A$3:$E$138,4)*Eingabeblatt!H99)+(VLOOKUP(Eingabeblatt!$G99,'Table females'!$A$3:$E$138,5)*(Eingabeblatt!J99+Eingabeblatt!K99)/2)))","v":""},{"$f":"CONCATENATE(\" \",IF(OR(J99=\"\",K99=\"\",L99=\"\"),\"\",IF(B99=\"m\",'Table males'!D$141,'Table females'!D$141)))","v":" "},"",""]
[{"$nulls":6},"",{"$nulls":4},{"$f":"IF(OR(C100=\"\",G100=\"\",H100=\"\",I100=\"\",K100=\"\",B100=Dropdownliste!A$9,J100=\"\"),\"\",IF(B100=\"m\",(VLOOKUP(Eingabeblatt!$G100,'Table males'!$A$3:$E$138,2)+(VLOOKUP(Eingabeblatt!$G100,'Table males'!$A$3:$E$138,3)*Eingabeblatt!I100)+(VLOOKUP(Eingabeblatt!$G100,'Table males'!$A$3:$E$138,4)*Eingabeblatt!H100)+(VLOOKUP(Eingabeblatt!$G100,'Table males'!$A$3:$E$138,5)*(Eingabeblatt!J100+Eingabeblatt!K100)/2)),VLOOKUP(Eingabeblatt!$G100,'Table females'!$A$3:$E$138,2)+(VLOOKUP(Eingabeblatt!$G100,'Table females'!$A$3:$E$138,3)*Eingabeblatt!I100)+(VLOOKUP(Eingabeblatt!$G100,'Table females'!$A$3:$E$138,4)*Eingabeblatt!H100)+(VLOOKUP(Eingabeblatt!$G100,'Table females'!$A$3:$E$138,5)*(Eingabeblatt!J100+Eingabeblatt!K100)/2)))","v":""},{"$f":"CONCATENATE(\" \",IF(OR(J100=\"\",K100=\"\",L100=\"\"),\"\",IF(B100=\"m\",'Table males'!D$141,'Table females'!D$141)))","v":" "},"",""]
[{"$nulls":6},"",{"$nulls":4},{"$f":"IF(OR(C101=\"\",G101=\"\",H101=\"\",I101=\"\",K101=\"\",B101=Dropdownliste!A$9,J101=\"\"),\"\",IF(B101=\"m\",(VLOOKUP(Eingabeblatt!$G101,'Table males'!$A$3:$E$138,2)+(VLOOKUP(Eingabeblatt!$G101,'Table males'!$A$3:$E$138,3)*Eingabeblatt!I101)+(VLOOKUP(Eingabeblatt!$G101,'Table males'!$A$3:$E$138,4)*Eingabeblatt!H101)+(VLOOKUP(Eingabeblatt!$G101,'Table males'!$A$3:$E$138,5)*(Eingabeblatt!J101+Eingabeblatt!K101)/2)),VLOOKUP(Eingabeblatt!$G101,'Table females'!$A$3:$E$138,2)+(VLOOKUP(Eingabeblatt!$G101,'Table females'!$A$3:$E$138,3)*Eingabeblatt!I101)+(VLOOKUP(Eingabeblatt!$G101,'Table females'!$A$3:$E$138,4)*Eingabeblatt!H101)+(VLOOKUP(Eingabeblatt!$G101,'Table females'!$A$3:$E$138,5)*(Eingabeblatt!J101+Eingabeblatt!K101)/2)))","v":""},{"$f":"CONCATENATE(\" \",IF(OR(J101=\"\",K101=\"\",L101=\"\"),\"\",IF(B101=\"m\",'Table males'!D$141,'Table females'!D$141)))","v":" "},"",""]
[{"$nulls":6},"",{"$nulls":4},{"$f":"IF(OR(C102=\"\",G102=\"\",H102=\"\",I102=\"\",K102=\"\",B102=Dropdownliste!A$9,J102=\"\"),\"\",IF(B102=\"m\",(VLOOKUP(Eingabeblatt!$G102,'Table males'!$A$3:$E$138,2)+(VLOOKUP(Eingabeblatt!$G102,'Table males'!$A$3:$E$138,3)*Eingabeblatt!I102)+(VLOOKUP(Eingabeblatt!$G102,'Table males'!$A$3:$E$138,4)*Eingabeblatt!H102)+(VLOOKUP(Eingabeblatt!$G102,'Table males'!$A$3:$E$138,5)*(Eingabeblatt!J102+Eingabeblatt!K102)/2)),VLOOKUP(Eingabeblatt!$G102,'Table females'!$A$3:$E$138,2)+(VLOOKUP(Eingabeblatt!$G102,'Table females'!$A$3:$E$138,3)*Eingabeblatt!I102)+(VLOOKUP(Eingabeblatt!$G102,'Table females'!$A$3:$E$138,4)*Eingabeblatt!H102)+(VLOOKUP(Eingabeblatt!$G102,'Table females'!$A$3:$E$138,5)*(Eingabeblatt!J102+Eingabeblatt!K102)/2)))","v":""},{"$f":"CONCATENATE(\" \",IF(OR(J102=\"\",K102=\"\",L102=\"\"),\"\",IF(B102=\"m\",'Table males'!D$141,'Table females'!D$141)))","v":" "},"",""]
[{"$nulls":6},"",{"$nulls":4},{"$f":"IF(OR(C103=\"\",G103=\"\",H103=\"\",I103=\"\",K103=\"\",B103=Dropdownliste!A$9,J103=\"\"),\"\",IF(B103=\"m\",(VLOOKUP(Eingabeblatt!$G103,'Table males'!$A$3:$E$138,2)+(VLOOKUP(Eingabeblatt!$G103,'Table males'!$A$3:$E$138,3)*Eingabeblatt!I103)+(VLOOKUP(Eingabeblatt!$G103,'Table males'!$A$3:$E$138,4)*Eingabeblatt!H103)+(VLOOKUP(Eingabeblatt!$G103,'Table males'!$A$3:$E$138,5)*(Eingabeblatt!J103+Eingabeblatt!K103)/2)),VLOOKUP(Eingabeblatt!$G103,'Table females'!$A$3:$E$138,2)+(VLOOKUP(Eingabeblatt!$G103,'Table females'!$A$3:$E$138,3)*Eingabeblatt!I103)+(VLOOKUP(Eingabeblatt!$G103,'Table females'!$A$3:$E$138,4)*Eingabeblatt!H103)+(VLOOKUP(Eingabeblatt!$G103,'Table females'!$A$3:$E$138,5)*(Eingabeblatt!J103+Eingabeblatt!K103)/2)))","v":""},{"$f":"CONCATENATE(\" \",IF(OR(J103=\"\",K103=\"\",L103=\"\"),\"\",IF(B103=\"m\",'Table males'!D$141,'Table females'!D$141)))","v":" "},"",""]
[{"$nulls":6},"",{"$nulls":4},{"$f":"IF(OR(C104=\"\",G104=\"\",H104=\"\",I104=\"\",K104=\"\",B104=Dropdownliste!A$9,J104=\"\"),\"\",IF(B104=\"m\",(VLOOKUP(Eingabeblatt!$G104,'Table males'!$A$3:$E$138,2)+(VLOOKUP(Eingabeblatt!$G104,'Table males'!$A$3:$E$138,3)*Eingabeblatt!I104)+(VLOOKUP(Eingabeblatt!$G104,'Table males'!$A$3:$E$138,4)*Eingabeblatt!H104)+(VLOOKUP(Eingabeblatt!$G104,'Table males'!$A$3:$E$138,5)*(Eingabeblatt!J104+Eingabeblatt!K104)/2)),VLOOKUP(Eingabeblatt!$G104,'Table females'!$A$3:$E$138,2)+(VLOOKUP(Eingabeblatt!$G104,'Table females'!$A$3:$E$138,3)*Eingabeblatt!I104)+(VLOOKUP(Eingabeblatt!$G104,'Table females'!$A$3:$E$138,4)*Eingabeblatt!H104)+(VLOOKUP(Eingabeblatt!$G104,'Table females'!$A$3:$E$138,5)*(Eingabeblatt!J104+Eingabeblatt!K104)/2)))","v":""},{"$f":"CONCATENATE(\" \",IF(OR(J104=\"\",K104=\"\",L104=\"\"),\"\",IF(B104=\"m\",'Table males'!D$141,'Table females'!D$141)))","v":" "},"",""]
[{"$nulls":6},"",{"$nulls":4},{"$f":"IF(OR(C105=\"\",G105=\"\",H105=\"\",I105=\"\",K105=\"\",B105=Dropdownliste!A$9,J105=\"\"),\"\",IF(B105=\"m\",(VLOOKUP(Eingabeblatt!$G105,'Table males'!$A$3:$E$138,2)+(VLOOKUP(Eingabeblatt!$G105,'Table males'!$A$3:$E$138,3)*Eingabeblatt!I105)+(VLOOKUP(Eingabeblatt!$G105,'Table males'!$A$3:$E$138,4)*Eingabeblatt!H105)+(VLOOKUP(Eingabeblatt!$G105,'Table males'!$A$3:$E$138,5)*(Eingabeblatt!J105+Eingabeblatt!K105)/2)),VLOOKUP(Eingabeblatt!$G105,'Table females'!$A$3:$E$138,2)+(VLOOKUP(Eingabeblatt!$G105,'Table females'!$A$3:$E$138,3)*Eingabeblatt!I105)+(VLOOKUP(Eingabeblatt!$G105,'Table females'!$A$3:$E$138,4)*Eingabeblatt!H105)+(VLOOKUP(Eingabeblatt!$G105,'Table females'!$A$3:$E$138,5)*(Eingabeblatt!J105+Eingabeblatt!K105)/2)))","v":""},{"$f":"CONCATENATE(\" \",IF(OR(J105=\"\",K105=\"\",L105=\"\"),\"\",IF(B105=\"m\",'Table males'!D$141,'Table females'!D$141)))","v":" "},"",""]
[{"$nulls":6},"",{"$nulls":4},{"$f":"IF(OR(C106=\"\",G106=\"\",H106=\"\",I106=\"\",K106=\"\",B106=Dropdownliste!A$9,J106=\"\"),\"\",IF(B106=\"m\",(VLOOKUP(Eingabeblatt!$G106,'Table males'!$A$3:$E$138,2)+(VLOOKUP(Eingabeblatt!$G106,'Table males'!$A$3:$E$138,3)*Eingabeblatt!I106)+(VLOOKUP(Eingabeblatt!$G106,'Table males'!$A$3:$E$138,4)*Eingabeblatt!H106)+(VLOOKUP(Eingabeblatt!$G106,'Table males'!$A$3:$E$138,5)*(Eingabeblatt!J106+Eingabeblatt!K106)/2)),VLOOKUP(Eingabeblatt!$G106,'Table females'!$A$3:$E$138,2)+(VLOOKUP(Eingabeblatt!$G106,'Table females'!$A$3:$E$138,3)*Eingabeblatt!I106)+(VLOOKUP(Eingabeblatt!$G106,'Table females'!$A$3:$E$138,4)*Eingabeblatt!H106)+(VLOOKUP(Eingabeblatt!$G106,'Table females'!$A$3:$E$138,5)*(Eingabeblatt!J106+Eingabeblatt!K106)/2)))","v":""},{"$f":"CONCATENATE(\" \",IF(OR(J106=\"\",K106=\"\",L106=\"\"),\"\",IF(B106=\"m\",'Table males'!D$141,'Table females'!D$141)))","v":" "},"",""]
[{"$nulls":6},"",{"$nulls":4},{"$f":"IF(OR(C107=\"\",G107=\"\",H107=\"\",I107=\"\",K107=\"\",B107=Dropdownliste!A$9,J107=\"\"),\"\",IF(B107=\"m\",(VLOOKUP(Eingabeblatt!$G107,'Table males'!$A$3:$E$138,2)+(VLOOKUP(Eingabeblatt!$G107,'Table males'!$A$3:$E$138,3)*Eingabeblatt!I107)+(VLOOKUP(Eingabeblatt!$G107,'Table males'!$A$3:$E$138,4)*Eingabeblatt!H107)+(VLOOKUP(Eingabeblatt!$G107,'Table males'!$A$3:$E$138,5)*(Eingabeblatt!J107+Eingabeblatt!K107)/2)),VLOOKUP(Eingabeblatt!$G107,'Table females'!$A$3:$E$138,2)+(VLOOKUP(Eingabeblatt!$G107,'Table females'!$A$3:$E$138,3)*Eingabeblatt!I107)+(VLOOKUP(Eingabeblatt!$G107,'Table females'!$A$3:$E$138,4)*Eingabeblatt!H107)+(VLOOKUP(Eingabeblatt!$G107,'Table females'!$A$3:$E$138,5)*(Eingabeblatt!J107+Eingabeblatt!K107)/2)))","v":""},{"$f":"CONCATENATE(\" \",IF(OR(J107=\"\",K107=\"\",L107=\"\"),\"\",IF(B107=\"m\",'Table males'!D$141,'Table females'!D$141)))","v":" "},"",""]
[{"$nulls":6},"",{"$nulls":4},{"$f":"IF(OR(C108=\"\",G108=\"\",H108=\"\",I108=\"\",K108=\"\",B108=Dropdownliste!A$9,J108=\"\"),\"\",IF(B108=\"m\",(VLOOKUP(Eingabeblatt!$G108,'Table males'!$A$3:$E$138,2)+(VLOOKUP(Eingabeblatt!$G108,'Table males'!$A$3:$E$138,3)*Eingabeblatt!I108)+(VLOOKUP(Eingabeblatt!$G108,'Table males'!$A$3:$E$138,4)*Eingabeblatt!H108)+(VLOOKUP(Eingabeblatt!$G108,'Table males'!$A$3:$E$138,5)*(Eingabeblatt!J108+Eingabeblatt!K108)/2)),VLOOKUP(Eingabeblatt!$G108,'Table females'!$A$3:$E$138,2)+(VLOOKUP(Eingabeblatt!$G108,'Table females'!$A$3:$E$138,3)*Eingabeblatt!I108)+(VLOOKUP(Eingabeblatt!$G108,'Table females'!$A$3:$E$138,4)*Eingabeblatt!H108)+(VLOOKUP(Eingabeblatt!$G108,'Table females'!$A$3:$E$138,5)*(Eingabeblatt!J108+Eingabeblatt!K108)/2)))","v":""},{"$f":"CONCATENATE(\" \",IF(OR(J108=\"\",K108=\"\",L108=\"\"),\"\",IF(B108=\"m\",'Table males'!D$141,'Table females'!D$141)))","v":" "},"",""]
[{"$nulls":6},"",{"$nulls":4},{"$f":"IF(OR(C109=\"\",G109=\"\",H109=\"\",I109=\"\",K109=\"\",B109=Dropdownliste!A$9,J109=\"\"),\"\",IF(B109=\"m\",(VLOOKUP(Eingabeblatt!$G109,'Table males'!$A$3:$E$138,2)+(VLOOKUP(Eingabeblatt!$G109,'Table males'!$A$3:$E$138,3)*Eingabeblatt!I109)+(VLOOKUP(Eingabeblatt!$G109,'Table males'!$A$3:$E$138,4)*Eingabeblatt!H109)+(VLOOKUP(Eingabeblatt!$G109,'Table males'!$A$3:$E$138,5)*(Eingabeblatt!J109+Eingabeblatt!K109)/2)),VLOOKUP(Eingabeblatt!$G109,'Table females'!$A$3:$E$138,2)+(VLOOKUP(Eingabeblatt!$G109,'Table females'!$A$3:$E$138,3)*Eingabeblatt!I109)+(VLOOKUP(Eingabeblatt!$G109,'Table females'!$A$3:$E$138,4)*Eingabeblatt!H109)+(VLOOKUP(Eingabeblatt!$G109,'Table females'!$A$3:$E$138,5)*(Eingabeblatt!J109+Eingabeblatt!K109)/2)))","v":""},{"$f":"CONCATENATE(\" \",IF(OR(J109=\"\",K109=\"\",L109=\"\"),\"\",IF(B109=\"m\",'Table males'!D$141,'Table females'!D$141)))","v":" "},"",""]
[{"$nulls":6},"",{"$nulls":4},{"$f":"IF(OR(C110=\"\",G110=\"\",H110=\"\",I110=\"\",K110=\"\",B110=Dropdownliste!A$9,J110=\"\"),\"\",IF(B110=\"m\",(VLOOKUP(Eingabeblatt!$G110,'Table males'!$A$3:$E$138,2)+(VLOOKUP(Eingabeblatt!$G110,'Table males'!$A$3:$E$138,3)*Eingabeblatt!I110)+(VLOOKUP(Eingabeblatt!$G110,'Table males'!$A$3:$E$138,4)*Eingabeblatt!H110)+(VLOOKUP(Eingabeblatt!$G110,'Table males'!$A$3:$E$138,5)*(Eingabeblatt!J110+Eingabeblatt!K110)/2)),VLOOKUP(Eingabeblatt!$G110,'Table females'!$A$3:$E$138,2)+(VLOOKUP(Eingabeblatt!$G110,'Table females'!$A$3:$E$138,3)*Eingabeblatt!I110)+(VLOOKUP(Eingabeblatt!$G110,'Table females'!$A$3:$E$138,4)*Eingabeblatt!H110)+(VLOOKUP(Eingabeblatt!$G110,'Table females'!$A$3:$E$138,5)*(Eingabeblatt!J110+Eingabeblatt!K110)/2)))","v":""},{"$f":"CONCATENATE(\" \",IF(OR(J110=\"\",K110=\"\",L110=\"\"),\"\",IF(B110=\"m\",'Table males'!D$141,'Table females'!D$141)))","v":" "},"",""]
[{"$nulls":6},"",{"$nulls":4},{"$f":"IF(OR(C111=\"\",G111=\"\",H111=\"\",I111=\"\",K111=\"\",B111=Dropdownliste!A$9,J111=\"\"),\"\",IF(B111=\"m\",(VLOOKUP(Eingabeblatt!$G111,'Table males'!$A$3:$E$138,2)+(VLOOKUP(Eingabeblatt!$G111,'Table males'!$A$3:$E$138,3)*Eingabeblatt!I111)+(VLOOKUP(Eingabeblatt!$G111,'Table males'!$A$3:$E$138,4)*Eingabeblatt!H111)+(VLOOKUP(Eingabeblatt!$G111,'Table males'!$A$3:$E$138,5)*(Eingabeblatt!J111+Eingabeblatt!K111)/2)),VLOOKUP(Eingabeblatt!$G111,'Table females'!$A$3:$E$138,2)+(VLOOKUP(Eingabeblatt!$G111,'Table females'!$A$3:$E$138,3)*Eingabeblatt!I111)+(VLOOKUP(Eingabeblatt!$G111,'Table females'!$A$3:$E$138,4)*Eingabeblatt!H111)+(VLOOKUP(Eingabeblatt!$G111,'Table females'!$A$3:$E$138,5)*(Eingabeblatt!J111+Eingabeblatt!K111)/2)))","v":""},{"$f":"CONCATENATE(\" \",IF(OR(J111=\"\",K111=\"\",L111=\"\"),\"\",IF(B111=\"m\",'Table males'!D$141,'Table females'!D$141)))","v":" "},"",""]
[{"$nulls":6},"",{"$nulls":4},{"$f":"IF(OR(C112=\"\",G112=\"\",H112=\"\",I112=\"\",K112=\"\",B112=Dropdownliste!A$9,J112=\"\"),\"\",IF(B112=\"m\",(VLOOKUP(Eingabeblatt!$G112,'Table males'!$A$3:$E$138,2)+(VLOOKUP(Eingabeblatt!$G112,'Table males'!$A$3:$E$138,3)*Eingabeblatt!I112)+(VLOOKUP(Eingabeblatt!$G112,'Table males'!$A$3:$E$138,4)*Eingabeblatt!H112)+(VLOOKUP(Eingabeblatt!$G112,'Table males'!$A$3:$E$138,5)*(Eingabeblatt!J112+Eingabeblatt!K112)/2)),VLOOKUP(Eingabeblatt!$G112,'Table females'!$A$3:$E$138,2)+(VLOOKUP(Eingabeblatt!$G112,'Table females'!$A$3:$E$138,3)*Eingabeblatt!I112)+(VLOOKUP(Eingabeblatt!$G112,'Table females'!$A$3:$E$138,4)*Eingabeblatt!H112)+(VLOOKUP(Eingabeblatt!$G112,'Table females'!$A$3:$E$138,5)*(Eingabeblatt!J112+Eingabeblatt!K112)/2)))","v":""},{"$f":"CONCATENATE(\" \",IF(OR(J112=\"\",K112=\"\",L112=\"\"),\"\",IF(B112=\"m\",'Table males'!D$141,'Table females'!D$141)))","v":" "},"",""]
[{"$nulls":6},"",{"$nulls":4},{"$f":"IF(OR(C113=\"\",G113=\"\",H113=\"\",I113=\"\",K113=\"\",B113=Dropdownliste!A$9,J113=\"\"),\"\",IF(B113=\"m\",(VLOOKUP(Eingabeblatt!$G113,'Table males'!$A$3:$E$138,2)+(VLOOKUP(Eingabeblatt!$G113,'Table males'!$A$3:$E$138,3)*Eingabeblatt!I113)+(VLOOKUP(Eingabeblatt!$G113,'Table males'!$A$3:$E$138,4)*Eingabeblatt!H113)+(VLOOKUP(Eingabeblatt!$G113,'Table males'!$A$3:$E$138,5)*(Eingabeblatt!J113+Eingabeblatt!K113)/2)),VLOOKUP(Eingabeblatt!$G113,'Table females'!$A$3:$E$138,2)+(VLOOKUP(Eingabeblatt!$G113,'Table females'!$A$3:$E$138,3)*Eingabeblatt!I113)+(VLOOKUP(Eingabeblatt!$G113,'Table females'!$A$3:$E$138,4)*Eingabeblatt!H113)+(VLOOKUP(Eingabeblatt!$G113,'Table females'!$A$3:$E$138,5)*(Eingabeblatt!J113+Eingabeblatt!K113)/2)))","v":""},{"$f":"CONCATENATE(\" \",IF(OR(J113=\"\",K113=\"\",L113=\"\"),\"\",IF(B113=\"m\",'Table males'!D$141,'Table females'!D$141)))","v":" "},"",""]
[{"$nulls":6},"",{"$nulls":4},{"$f":"IF(OR(C114=\"\",G114=\"\",H114=\"\",I114=\"\",K114=\"\",B114=Dropdownliste!A$9,J114=\"\"),\"\",IF(B114=\"m\",(VLOOKUP(Eingabeblatt!$G114,'Table males'!$A$3:$E$138,2)+(VLOOKUP(Eingabeblatt!$G114,'Table males'!$A$3:$E$138,3)*Eingabeblatt!I114)+(VLOOKUP(Eingabeblatt!$G114,'Table males'!$A$3:$E$138,4)*Eingabeblatt!H114)+(VLOOKUP(Eingabeblatt!$G114,'Table males'!$A$3:$E$138,5)*(Eingabeblatt!J114+Eingabeblatt!K114)/2)),VLOOKUP(Eingabeblatt!$G114,'Table females'!$A$3:$E$138,2)+(VLOOKUP(Eingabeblatt!$G114,'Table females'!$A$3:$E$138,3)*Eingabeblatt!I114)+(VLOOKUP(Eingabeblatt!$G114,'Table females'!$A$3:$E$138,4)*Eingabeblatt!H114)+(VLOOKUP(Eingabeblatt!$G114,'Table females'!$A$3:$E$138,5)*(Eingabeblatt!J114+Eingabeblatt!K114)/2)))","v":""},{"$f":"CONCATENATE(\" \",IF(OR(J114=\"\",K114=\"\",L114=\"\"),\"\",IF(B114=\"m\",'Table males'!D$141,'Table females'!D$141)))","v":" "},"",""]
[{"$nulls":6},"",{"$nulls":4},{"$f":"IF(OR(C115=\"\",G115=\"\",H115=\"\",I115=\"\",K115=\"\",B115=Dropdownliste!A$9,J115=\"\"),\"\",IF(B115=\"m\",(VLOOKUP(Eingabeblatt!$G115,'Table males'!$A$3:$E$138,2)+(VLOOKUP(Eingabeblatt!$G115,'Table males'!$A$3:$E$138,3)*Eingabeblatt!I115)+(VLOOKUP(Eingabeblatt!$G115,'Table males'!$A$3:$E$138,4)*Eingabeblatt!H115)+(VLOOKUP(Eingabeblatt!$G115,'Table males'!$A$3:$E$138,5)*(Eingabeblatt!J115+Eingabeblatt!K115)/2)),VLOOKUP(Eingabeblatt!$G115,'Table females'!$A$3:$E$138,2)+(VLOOKUP(Eingabeblatt!$G115,'Table females'!$A$3:$E$138,3)*Eingabeblatt!I115)+(VLOOKUP(Eingabeblatt!$G115,'Table females'!$A$3:$E$138,4)*Eingabeblatt!H115)+(VLOOKUP(Eingabeblatt!$G115,'Table females'!$A$3:$E$138,5)*(Eingabeblatt!J115+Eingabeblatt!K115)/2)))","v":""},{"$f":"CONCATENATE(\" \",IF(OR(J115=\"\",K115=\"\",L115=\"\"),\"\",IF(B115=\"m\",'Table males'!D$141,'Table females'!D$141)))","v":" "},"",""]
[{"$nulls":6},"",{"$nulls":4},{"$f":"IF(OR(C116=\"\",G116=\"\",H116=\"\",I116=\"\",K116=\"\",B116=Dropdownliste!A$9,J116=\"\"),\"\",IF(B116=\"m\",(VLOOKUP(Eingabeblatt!$G116,'Table males'!$A$3:$E$138,2)+(VLOOKUP(Eingabeblatt!$G116,'Table males'!$A$3:$E$138,3)*Eingabeblatt!I116)+(VLOOKUP(Eingabeblatt!$G116,'Table males'!$A$3:$E$138,4)*Eingabeblatt!H116)+(VLOOKUP(Eingabeblatt!$G116,'Table males'!$A$3:$E$138,5)*(Eingabeblatt!J116+Eingabeblatt!K116)/2)),VLOOKUP(Eingabeblatt!$G116,'Table females'!$A$3:$E$138,2)+(VLOOKUP(Eingabeblatt!$G116,'Table females'!$A$3:$E$138,3)*Eingabeblatt!I116)+(VLOOKUP(Eingabeblatt!$G116,'Table females'!$A$3:$E$138,4)*Eingabeblatt!H116)+(VLOOKUP(Eingabeblatt!$G116,'Table females'!$A$3:$E$138,5)*(Eingabeblatt!J116+Eingabeblatt!K116)/2)))","v":""},{"$f":"CONCATENATE(\" \",IF(OR(J116=\"\",K116=\"\",L116=\"\"),\"\",IF(B116=\"m\",'Table males'!D$141,'Table females'!D$141)))","v":" "},"",""]
[{"$nulls":6},"",{"$nulls":4},{"$f":"IF(OR(C117=\"\",G117=\"\",H117=\"\",I117=\"\",K117=\"\",B117=Dropdownliste!A$9,J117=\"\"),\"\",IF(B117=\"m\",(VLOOKUP(Eingabeblatt!$G117,'Table males'!$A$3:$E$138,2)+(VLOOKUP(Eingabeblatt!$G117,'Table males'!$A$3:$E$138,3)*Eingabeblatt!I117)+(VLOOKUP(Eingabeblatt!$G117,'Table males'!$A$3:$E$138,4)*Eingabeblatt!H117)+(VLOOKUP(Eingabeblatt!$G117,'Table males'!$A$3:$E$138,5)*(Eingabeblatt!J117+Eingabeblatt!K117)/2)),VLOOKUP(Eingabeblatt!$G117,'Table females'!$A$3:$E$138,2)+(VLOOKUP(Eingabeblatt!$G117,'Table females'!$A$3:$E$138,3)*Eingabeblatt!I117)+(VLOOKUP(Eingabeblatt!$G117,'Table females'!$A$3:$E$138,4)*Eingabeblatt!H117)+(VLOOKUP(Eingabeblatt!$G117,'Table females'!$A$3:$E$138,5)*(Eingabeblatt!J117+Eingabeblatt!K117)/2)))","v":""},{"$f":"CONCATENATE(\" \",IF(OR(J117=\"\",K117=\"\",L117=\"\"),\"\",IF(B117=\"m\",'Table males'!D$141,'Table females'!D$141)))","v":" "},"",""]
[{"$nulls":6},"",{"$nulls":4},{"$f":"IF(OR(C118=\"\",G118=\"\",H118=\"\",I118=\"\",K118=\"\",B118=Dropdownliste!A$9,J118=\"\"),\"\",IF(B118=\"m\",(VLOOKUP(Eingabeblatt!$G118,'Table males'!$A$3:$E$138,2)+(VLOOKUP(Eingabeblatt!$G118,'Table males'!$A$3:$E$138,3)*Eingabeblatt!I118)+(VLOOKUP(Eingabeblatt!$G118,'Table males'!$A$3:$E$138,4)*Eingabeblatt!H118)+(VLOOKUP(Eingabeblatt!$G118,'Table males'!$A$3:$E$138,5)*(Eingabeblatt!J118+Eingabeblatt!K118)/2)),VLOOKUP(Eingabeblatt!$G118,'Table females'!$A$3:$E$138,2)+(VLOOKUP(Eingabeblatt!$G118,'Table females'!$A$3:$E$138,3)*Eingabeblatt!I118)+(VLOOKUP(Eingabeblatt!$G118,'Table females'!$A$3:$E$138,4)*Eingabeblatt!H118)+(VLOOKUP(Eingabeblatt!$G118,'Table females'!$A$3:$E$138,5)*(Eingabeblatt!J118+Eingabeblatt!K118)/2)))","v":""},{"$f":"CONCATENATE(\" \",IF(OR(J118=\"\",K118=\"\",L118=\"\"),\"\",IF(B118=\"m\",'Table males'!D$141,'Table females'!D$141)))","v":" "},"",""]
[{"$nulls":6},"",{"$nulls":4},{"$f":"IF(OR(C119=\"\",G119=\"\",H119=\"\",I119=\"\",K119=\"\",B119=Dropdownliste!A$9,J119=\"\"),\"\",IF(B119=\"m\",(VLOOKUP(Eingabeblatt!$G119,'Table males'!$A$3:$E$138,2)+(VLOOKUP(Eingabeblatt!$G119,'Table males'!$A$3:$E$138,3)*Eingabeblatt!I119)+(VLOOKUP(Eingabeblatt!$G119,'Table males'!$A$3:$E$138,4)*Eingabeblatt!H119)+(VLOOKUP(Eingabeblatt!$G119,'Table males'!$A$3:$E$138,5)*(Eingabeblatt!J119+Eingabeblatt!K119)/2)),VLOOKUP(Eingabeblatt!$G119,'Table females'!$A$3:$E$138,2)+(VLOOKUP(Eingabeblatt!$G119,'Table females'!$A$3:$E$138,3)*Eingabeblatt!I119)+(VLOOKUP(Eingabeblatt!$G119,'Table females'!$A$3:$E$138,4)*Eingabeblatt!H119)+(VLOOKUP(Eingabeblatt!$G119,'Table females'!$A$3:$E$138,5)*(Eingabeblatt!J119+Eingabeblatt!K119)/2)))","v":""},{"$f":"CONCATENATE(\" \",IF(OR(J119=\"\",K119=\"\",L119=\"\"),\"\",IF(B119=\"m\",'Table males'!D$141,'Table females'!D$141)))","v":" "},"",""]
[{"$nulls":6},"",{"$nulls":4},{"$f":"IF(OR(C120=\"\",G120=\"\",H120=\"\",I120=\"\",K120=\"\",B120=Dropdownliste!A$9,J120=\"\"),\"\",IF(B120=\"m\",(VLOOKUP(Eingabeblatt!$G120,'Table males'!$A$3:$E$138,2)+(VLOOKUP(Eingabeblatt!$G120,'Table males'!$A$3:$E$138,3)*Eingabeblatt!I120)+(VLOOKUP(Eingabeblatt!$G120,'Table males'!$A$3:$E$138,4)*Eingabeblatt!H120)+(VLOOKUP(Eingabeblatt!$G120,'Table males'!$A$3:$E$138,5)*(Eingabeblatt!J120+Eingabeblatt!K120)/2)),VLOOKUP(Eingabeblatt!$G120,'Table females'!$A$3:$E$138,2)+(VLOOKUP(Eingabeblatt!$G120,'Table females'!$A$3:$E$138,3)*Eingabeblatt!I120)+(VLOOKUP(Eingabeblatt!$G120,'Table females'!$A$3:$E$138,4)*Eingabeblatt!H120)+(VLOOKUP(Eingabeblatt!$G120,'Table females'!$A$3:$E$138,5)*(Eingabeblatt!J120+Eingabeblatt!K120)/2)))","v":""},{"$f":"CONCATENATE(\" \",IF(OR(J120=\"\",K120=\"\",L120=\"\"),\"\",IF(B120=\"m\",'Table males'!D$141,'Table females'!D$141)))","v":" "},"",""]
[{"$nulls":6},"",{"$nulls":4},{"$f":"IF(OR(C121=\"\",G121=\"\",H121=\"\",I121=\"\",K121=\"\",B121=Dropdownliste!A$9,J121=\"\"),\"\",IF(B121=\"m\",(VLOOKUP(Eingabeblatt!$G121,'Table males'!$A$3:$E$138,2)+(VLOOKUP(Eingabeblatt!$G121,'Table males'!$A$3:$E$138,3)*Eingabeblatt!I121)+(VLOOKUP(Eingabeblatt!$G121,'Table males'!$A$3:$E$138,4)*Eingabeblatt!H121)+(VLOOKUP(Eingabeblatt!$G121,'Table males'!$A$3:$E$138,5)*(Eingabeblatt!J121+Eingabeblatt!K121)/2)),VLOOKUP(Eingabeblatt!$G121,'Table females'!$A$3:$E$138,2)+(VLOOKUP(Eingabeblatt!$G121,'Table females'!$A$3:$E$138,3)*Eingabeblatt!I121)+(VLOOKUP(Eingabeblatt!$G121,'Table females'!$A$3:$E$138,4)*Eingabeblatt!H121)+(VLOOKUP(Eingabeblatt!$G121,'Table females'!$A$3:$E$138,5)*(Eingabeblatt!J121+Eingabeblatt!K121)/2)))","v":""},{"$f":"CONCATENATE(\" \",IF(OR(J121=\"\",K121=\"\",L121=\"\"),\"\",IF(B121=\"m\",'Table males'!D$141,'Table females'!D$141)))","v":" "},"",""]
[{"$nulls":6},"",{"$nulls":4},{"$f":"IF(OR(C122=\"\",G122=\"\",H122=\"\",I122=\"\",K122=\"\",B122=Dropdownliste!A$9,J122=\"\"),\"\",IF(B122=\"m\",(VLOOKUP(Eingabeblatt!$G122,'Table males'!$A$3:$E$138,2)+(VLOOKUP(Eingabeblatt!$G122,'Table males'!$A$3:$E$138,3)*Eingabeblatt!I122)+(VLOOKUP(Eingabeblatt!$G122,'Table males'!$A$3:$E$138,4)*Eingabeblatt!H122)+(VLOOKUP(Eingabeblatt!$G122,'Table males'!$A$3:$E$138,5)*(Eingabeblatt!J122+Eingabeblatt!K122)/2)),VLOOKUP(Eingabeblatt!$G122,'Table females'!$A$3:$E$138,2)+(VLOOKUP(Eingabeblatt!$G122,'Table females'!$A$3:$E$138,3)*Eingabeblatt!I122)+(VLOOKUP(Eingabeblatt!$G122,'Table females'!$A$3:$E$138,4)*Eingabeblatt!H122)+(VLOOKUP(Eingabeblatt!$G122,'Table females'!$A$3:$E$138,5)*(Eingabeblatt!J122+Eingabeblatt!K122)/2)))","v":""},{"$f":"CONCATENATE(\" \",IF(OR(J122=\"\",K122=\"\",L122=\"\"),\"\",IF(B122=\"m\",'Table males'!D$141,'Table females'!D$141)))","v":" "},"",""]
[{"$nulls":6},"",{"$nulls":4},{"$f":"IF(OR(C123=\"\",G123=\"\",H123=\"\",I123=\"\",K123=\"\",B123=Dropdownliste!A$9,J123=\"\"),\"\",IF(B123=\"m\",(VLOOKUP(Eingabeblatt!$G123,'Table males'!$A$3:$E$138,2)+(VLOOKUP(Eingabeblatt!$G123,'Table males'!$A$3:$E$138,3)*Eingabeblatt!I123)+(VLOOKUP(Eingabeblatt!$G123,'Table males'!$A$3:$E$138,4)*Eingabeblatt!H123)+(VLOOKUP(Eingabeblatt!$G123,'Table males'!$A$3:$E$138,5)*(Eingabeblatt!J123+Eingabeblatt!K123)/2)),VLOOKUP(Eingabeblatt!$G123,'Table females'!$A$3:$E$138,2)+(VLOOKUP(Eingabeblatt!$G123,'Table females'!$A$3:$E$138,3)*Eingabeblatt!I123)+(VLOOKUP(Eingabeblatt!$G123,'Table females'!$A$3:$E$138,4)*Eingabeblatt!H123)+(VLOOKUP(Eingabeblatt!$G123,'Table females'!$A$3:$E$138,5)*(Eingabeblatt!J123+Eingabeblatt!K123)/2)))","v":""},{"$f":"CONCATENATE(\" \",IF(OR(J123=\"\",K123=\"\",L123=\"\"),\"\",IF(B123=\"m\",'Table males'!D$141,'Table females'!D$141)))","v":" "},"",""]
[{"$nulls":6},"",{"$nulls":4},{"$f":"IF(OR(C124=\"\",G124=\"\",H124=\"\",I124=\"\",K124=\"\",B124=Dropdownliste!A$9,J124=\"\"),\"\",IF(B124=\"m\",(VLOOKUP(Eingabeblatt!$G124,'Table males'!$A$3:$E$138,2)+(VLOOKUP(Eingabeblatt!$G124,'Table males'!$A$3:$E$138,3)*Eingabeblatt!I124)+(VLOOKUP(Eingabeblatt!$G124,'Table males'!$A$3:$E$138,4)*Eingabeblatt!H124)+(VLOOKUP(Eingabeblatt!$G124,'Table males'!$A$3:$E$138,5)*(Eingabeblatt!J124+Eingabeblatt!K124)/2)),VLOOKUP(Eingabeblatt!$G124,'Table females'!$A$3:$E$138,2)+(VLOOKUP(Eingabeblatt!$G124,'Table females'!$A$3:$E$138,3)*Eingabeblatt!I124)+(VLOOKUP(Eingabeblatt!$G124,'Table females'!$A$3:$E$138,4)*Eingabeblatt!H124)+(VLOOKUP(Eingabeblatt!$G124,'Table females'!$A$3:$E$138,5)*(Eingabeblatt!J124+Eingabeblatt!K124)/2)))","v":""},{"$f":"CONCATENATE(\" \",IF(OR(J124=\"\",K124=\"\",L124=\"\"),\"\",IF(B124=\"m\",'Table males'!D$141,'Table females'!D$141)))","v":" "},"",""]
[{"$nulls":6},"",{"$nulls":4},{"$f":"IF(OR(C125=\"\",G125=\"\",H125=\"\",I125=\"\",K125=\"\",B125=Dropdownliste!A$9,J125=\"\"),\"\",IF(B125=\"m\",(VLOOKUP(Eingabeblatt!$G125,'Table males'!$A$3:$E$138,2)+(VLOOKUP(Eingabeblatt!$G125,'Table males'!$A$3:$E$138,3)*Eingabeblatt!I125)+(VLOOKUP(Eingabeblatt!$G125,'Table males'!$A$3:$E$138,4)*Eingabeblatt!H125)+(VLOOKUP(Eingabeblatt!$G125,'Table males'!$A$3:$E$138,5)*(Eingabeblatt!J125+Eingabeblatt!K125)/2)),VLOOKUP(Eingabeblatt!$G125,'Table females'!$A$3:$E$138,2)+(VLOOKUP(Eingabeblatt!$G125,'Table females'!$A$3:$E$138,3)*Eingabeblatt!I125)+(VLOOKUP(Eingabeblatt!$G125,'Table females'!$A$3:$E$138,4)*Eingabeblatt!H125)+(VLOOKUP(Eingabeblatt!$G125,'Table females'!$A$3:$E$138,5)*(Eingabeblatt!J125+Eingabeblatt!K125)/2)))","v":""},{"$f":"CONCATENATE(\" \",IF(OR(J125=\"\",K125=\"\",L125=\"\"),\"\",IF(B125=\"m\",'Table males'!D$141,'Table females'!D$141)))","v":" "},"",""]
[{"$nulls":6},"",{"$nulls":4},{"$f":"IF(OR(C126=\"\",G126=\"\",H126=\"\",I126=\"\",K126=\"\",B126=Dropdownliste!A$9,J126=\"\"),\"\",IF(B126=\"m\",(VLOOKUP(Eingabeblatt!$G126,'Table males'!$A$3:$E$138,2)+(VLOOKUP(Eingabeblatt!$G126,'Table males'!$A$3:$E$138,3)*Eingabeblatt!I126)+(VLOOKUP(Eingabeblatt!$G126,'Table males'!$A$3:$E$138,4)*Eingabeblatt!H126)+(VLOOKUP(Eingabeblatt!$G126,'Table males'!$A$3:$E$138,5)*(Eingabeblatt!J126+Eingabeblatt!K126)/2)),VLOOKUP(Eingabeblatt!$G126,'Table females'!$A$3:$E$138,2)+(VLOOKUP(Eingabeblatt!$G126,'Table females'!$A$3:$E$138,3)*Eingabeblatt!I126)+(VLOOKUP(Eingabeblatt!$G126,'Table females'!$A$3:$E$138,4)*Eingabeblatt!H126)+(VLOOKUP(Eingabeblatt!$G126,'Table females'!$A$3:$E$138,5)*(Eingabeblatt!J126+Eingabeblatt!K126)/2)))","v":""},{"$f":"CONCATENATE(\" \",IF(OR(J126=\"\",K126=\"\",L126=\"\"),\"\",IF(B126=\"m\",'Table males'!D$141,'Table females'!D$141)))","v":" "},"",""]
[{"$nulls":6},"",{"$nulls":4},{"$f":"IF(OR(C127=\"\",G127=\"\",H127=\"\",I127=\"\",K127=\"\",B127=Dropdownliste!A$9,J127=\"\"),\"\",IF(B127=\"m\",(VLOOKUP(Eingabeblatt!$G127,'Table males'!$A$3:$E$138,2)+(VLOOKUP(Eingabeblatt!$G127,'Table males'!$A$3:$E$138,3)*Eingabeblatt!I127)+(VLOOKUP(Eingabeblatt!$G127,'Table males'!$A$3:$E$138,4)*Eingabeblatt!H127)+(VLOOKUP(Eingabeblatt!$G127,'Table males'!$A$3:$E$138,5)*(Eingabeblatt!J127+Eingabeblatt!K127)/2)),VLOOKUP(Eingabeblatt!$G127,'Table females'!$A$3:$E$138,2)+(VLOOKUP(Eingabeblatt!$G127,'Table females'!$A$3:$E$138,3)*Eingabeblatt!I127)+(VLOOKUP(Eingabeblatt!$G127,'Table females'!$A$3:$E$138,4)*Eingabeblatt!H127)+(VLOOKUP(Eingabeblatt!$G127,'Table females'!$A$3:$E$138,5)*(Eingabeblatt!J127+Eingabeblatt!K127)/2)))","v":""},{"$f":"CONCATENATE(\" \",IF(OR(J127=\"\",K127=\"\",L127=\"\"),\"\",IF(B127=\"m\",'Table males'!D$141,'Table females'!D$141)))","v":" "},"",""]
[{"$nulls":6},"",{"$nulls":4},{"$f":"IF(OR(C128=\"\",G128=\"\",H128=\"\",I128=\"\",K128=\"\",B128=Dropdownliste!A$9,J128=\"\"),\"\",IF(B128=\"m\",(VLOOKUP(Eingabeblatt!$G128,'Table males'!$A$3:$E$138,2)+(VLOOKUP(Eingabeblatt!$G128,'Table males'!$A$3:$E$138,3)*Eingabeblatt!I128)+(VLOOKUP(Eingabeblatt!$G128,'Table males'!$A$3:$E$138,4)*Eingabeblatt!H128)+(VLOOKUP(Eingabeblatt!$G128,'Table males'!$A$3:$E$138,5)*(Eingabeblatt!J128+Eingabeblatt!K128)/2)),VLOOKUP(Eingabeblatt!$G128,'Table females'!$A$3:$E$138,2)+(VLOOKUP(Eingabeblatt!$G128,'Table females'!$A$3:$E$138,3)*Eingabeblatt!I128)+(VLOOKUP(Eingabeblatt!$G128,'Table females'!$A$3:$E$138,4)*Eingabeblatt!H128)+(VLOOKUP(Eingabeblatt!$G128,'Table females'!$A$3:$E$138,5)*(Eingabeblatt!J128+Eingabeblatt!K128)/2)))","v":""},{"$f":"CONCATENATE(\" \",IF(OR(J128=\"\",K128=\"\",L128=\"\"),\"\",IF(B128=\"m\",'Table males'!D$141,'Table females'!D$141)))","v":" "},"",""]
[{"$nulls":6},"",{"$nulls":4},{"$f":"IF(OR(C129=\"\",G129=\"\",H129=\"\",I129=\"\",K129=\"\",B129=Dropdownliste!A$9,J129=\"\"),\"\",IF(B129=\"m\",(VLOOKUP(Eingabeblatt!$G129,'Table males'!$A$3:$E$138,2)+(VLOOKUP(Eingabeblatt!$G129,'Table males'!$A$3:$E$138,3)*Eingabeblatt!I129)+(VLOOKUP(Eingabeblatt!$G129,'Table males'!$A$3:$E$138,4)*Eingabeblatt!H129)+(VLOOKUP(Eingabeblatt!$G129,'Table males'!$A$3:$E$138,5)*(Eingabeblatt!J129+Eingabeblatt!K129)/2)),VLOOKUP(Eingabeblatt!$G129,'Table females'!$A$3:$E$138,2)+(VLOOKUP(Eingabeblatt!$G129,'Table females'!$A$3:$E$138,3)*Eingabeblatt!I129)+(VLOOKUP(Eingabeblatt!$G129,'Table females'!$A$3:$E$138,4)*Eingabeblatt!H129)+(VLOOKUP(Eingabeblatt!$G129,'Table females'!$A$3:$E$138,5)*(Eingabeblatt!J129+Eingabeblatt!K129)/2)))","v":""},{"$f":"CONCATENATE(\" \",IF(OR(J129=\"\",K129=\"\",L129=\"\"),\"\",IF(B129=\"m\",'Table males'!D$141,'Table females'!D$141)))","v":" "},"",""]
[{"$nulls":6},"",{"$nulls":4},{"$f":"IF(OR(C130=\"\",G130=\"\",H130=\"\",I130=\"\",K130=\"\",B130=Dropdownliste!A$9,J130=\"\"),\"\",IF(B130=\"m\",(VLOOKUP(Eingabeblatt!$G130,'Table males'!$A$3:$E$138,2)+(VLOOKUP(Eingabeblatt!$G130,'Table males'!$A$3:$E$138,3)*Eingabeblatt!I130)+(VLOOKUP(Eingabeblatt!$G130,'Table males'!$A$3:$E$138,4)*Eingabeblatt!H130)+(VLOOKUP(Eingabeblatt!$G130,'Table males'!$A$3:$E$138,5)*(Eingabeblatt!J130+Eingabeblatt!K130)/2)),VLOOKUP(Eingabeblatt!$G130,'Table females'!$A$3:$E$138,2)+(VLOOKUP(Eingabeblatt!$G130,'Table females'!$A$3:$E$138,3)*Eingabeblatt!I130)+(VLOOKUP(Eingabeblatt!$G130,'Table females'!$A$3:$E$138,4)*Eingabeblatt!H130)+(VLOOKUP(Eingabeblatt!$G130,'Table females'!$A$3:$E$138,5)*(Eingabeblatt!J130+Eingabeblatt!K130)/2)))","v":""},{"$f":"CONCATENATE(\" \",IF(OR(J130=\"\",K130=\"\",L130=\"\"),\"\",IF(B130=\"m\",'Table males'!D$141,'Table females'!D$141)))","v":" "},"",""]
[{"$nulls":6},"",{"$nulls":4},{"$f":"IF(OR(C131=\"\",G131=\"\",H131=\"\",I131=\"\",K131=\"\",B131=Dropdownliste!A$9,J131=\"\"),\"\",IF(B131=\"m\",(VLOOKUP(Eingabeblatt!$G131,'Table males'!$A$3:$E$138,2)+(VLOOKUP(Eingabeblatt!$G131,'Table males'!$A$3:$E$138,3)*Eingabeblatt!I131)+(VLOOKUP(Eingabeblatt!$G131,'Table males'!$A$3:$E$138,4)*Eingabeblatt!H131)+(VLOOKUP(Eingabeblatt!$G131,'Table males'!$A$3:$E$138,5)*(Eingabeblatt!J131+Eingabeblatt!K131)/2)),VLOOKUP(Eingabeblatt!$G131,'Table females'!$A$3:$E$138,2)+(VLOOKUP(Eingabeblatt!$G131,'Table females'!$A$3:$E$138,3)*Eingabeblatt!I131)+(VLOOKUP(Eingabeblatt!$G131,'Table females'!$A$3:$E$138,4)*Eingabeblatt!H131)+(VLOOKUP(Eingabeblatt!$G131,'Table females'!$A$3:$E$138,5)*(Eingabeblatt!J131+Eingabeblatt!K131)/2)))","v":""},{"$f":"CONCATENATE(\" \",IF(OR(J131=\"\",K131=\"\",L131=\"\"),\"\",IF(B131=\"m\",'Table males'!D$141,'Table females'!D$141)))","v":" "},"",""]
[{"$nulls":6},"",{"$nulls":4},{"$f":"IF(OR(C132=\"\",G132=\"\",H132=\"\",I132=\"\",K132=\"\",B132=Dropdownliste!A$9,J132=\"\"),\"\",IF(B132=\"m\",(VLOOKUP(Eingabeblatt!$G132,'Table males'!$A$3:$E$138,2)+(VLOOKUP(Eingabeblatt!$G132,'Table males'!$A$3:$E$138,3)*Eingabeblatt!I132)+(VLOOKUP(Eingabeblatt!$G132,'Table males'!$A$3:$E$138,4)*Eingabeblatt!H132)+(VLOOKUP(Eingabeblatt!$G132,'Table males'!$A$3:$E$138,5)*(Eingabeblatt!J132+Eingabeblatt!K132)/2)),VLOOKUP(Eingabeblatt!$G132,'Table females'!$A$3:$E$138,2)+(VLOOKUP(Eingabeblatt!$G132,'Table females'!$A$3:$E$138,3)*Eingabeblatt!I132)+(VLOOKUP(Eingabeblatt!$G132,'Table females'!$A$3:$E$138,4)*Eingabeblatt!H132)+(VLOOKUP(Eingabeblatt!$G132,'Table females'!$A$3:$E$138,5)*(Eingabeblatt!J132+Eingabeblatt!K132)/2)))","v":""},{"$f":"CONCATENATE(\" \",IF(OR(J132=\"\",K132=\"\",L132=\"\"),\"\",IF(B132=\"m\",'Table males'!D$141,'Table females'!D$141)))","v":" "},"",""]
[{"$nulls":6},"",{"$nulls":4},{"$f":"IF(OR(C133=\"\",G133=\"\",H133=\"\",I133=\"\",K133=\"\",B133=Dropdownliste!A$9,J133=\"\"),\"\",IF(B133=\"m\",(VLOOKUP(Eingabeblatt!$G133,'Table males'!$A$3:$E$138,2)+(VLOOKUP(Eingabeblatt!$G133,'Table males'!$A$3:$E$138,3)*Eingabeblatt!I133)+(VLOOKUP(Eingabeblatt!$G133,'Table males'!$A$3:$E$138,4)*Eingabeblatt!H133)+(VLOOKUP(Eingabeblatt!$G133,'Table males'!$A$3:$E$138,5)*(Eingabeblatt!J133+Eingabeblatt!K133)/2)),VLOOKUP(Eingabeblatt!$G133,'Table females'!$A$3:$E$138,2)+(VLOOKUP(Eingabeblatt!$G133,'Table females'!$A$3:$E$138,3)*Eingabeblatt!I133)+(VLOOKUP(Eingabeblatt!$G133,'Table females'!$A$3:$E$138,4)*Eingabeblatt!H133)+(VLOOKUP(Eingabeblatt!$G133,'Table females'!$A$3:$E$138,5)*(Eingabeblatt!J133+Eingabeblatt!K133)/2)))","v":""},{"$f":"CONCATENATE(\" \",IF(OR(J133=\"\",K133=\"\",L133=\"\"),\"\",IF(B133=\"m\",'Table males'!D$141,'Table females'!D$141)))","v":" "},"",""]
[{"$nulls":6},"",{"$nulls":4},{"$f":"IF(OR(C134=\"\",G134=\"\",H134=\"\",I134=\"\",K134=\"\",B134=Dropdownliste!A$9,J134=\"\"),\"\",IF(B134=\"m\",(VLOOKUP(Eingabeblatt!$G134,'Table males'!$A$3:$E$138,2)+(VLOOKUP(Eingabeblatt!$G134,'Table males'!$A$3:$E$138,3)*Eingabeblatt!I134)+(VLOOKUP(Eingabeblatt!$G134,'Table males'!$A$3:$E$138,4)*Eingabeblatt!H134)+(VLOOKUP(Eingabeblatt!$G134,'Table males'!$A$3:$E$138,5)*(Eingabeblatt!J134+Eingabeblatt!K134)/2)),VLOOKUP(Eingabeblatt!$G134,'Table females'!$A$3:$E$138,2)+(VLOOKUP(Eingabeblatt!$G134,'Table females'!$A$3:$E$138,3)*Eingabeblatt!I134)+(VLOOKUP(Eingabeblatt!$G134,'Table females'!$A$3:$E$138,4)*Eingabeblatt!H134)+(VLOOKUP(Eingabeblatt!$G134,'Table females'!$A$3:$E$138,5)*(Eingabeblatt!J134+Eingabeblatt!K134)/2)))","v":""},{"$f":"CONCATENATE(\" \",IF(OR(J134=\"\",K134=\"\",L134=\"\"),\"\",IF(B134=\"m\",'Table males'!D$141,'Table females'!D$141)))","v":" "},"",""]
[{"$nulls":6},{"$f":"IF(AND(C135>0,F135>0),(C135-F135)/365.25,\"\")","v":""},{"$nulls":4},{"$f":"IF(OR(C135=\"\",G135=\"\",H135=\"\",I135=\"\",K135=\"\",B135=Dropdownliste!A$9,J135=\"\"),\"\",IF(B135=\"m\",(VLOOKUP(Eingabeblatt!$G135,'Table males'!$A$3:$E$138,2)+(VLOOKUP(Eingabeblatt!$G135,'Table males'!$A$3:$E$138,3)*Eingabeblatt!I135)+(VLOOKUP(Eingabeblatt!$G135,'Table males'!$A$3:$E$138,4)*Eingabeblatt!H135)+(VLOOKUP(Eingabeblatt!$G135,'Table males'!$A$3:$E$138,5)*(Eingabeblatt!J135+Eingabeblatt!K135)/2)),VLOOKUP(Eingabeblatt!$G135,'Table females'!$A$3:$E$138,2)+(VLOOKUP(Eingabeblatt!$G135,'Table females'!$A$3:$E$138,3)*Eingabeblatt!I135)+(VLOOKUP(Eingabeblatt!$G135,'Table females'!$A$3:$E$138,4)*Eingabeblatt!H135)+(VLOOKUP(Eingabeblatt!$G135,'Table females'!$A$3:$E$138,5)*(Eingabeblatt!J135+Eingabeblatt!K135)/2)))","v":""},{"$f":"CONCATENATE(\" \",IF(OR(J135=\"\",K135=\"\",L135=\"\"),\"\",IF(B135=\"m\",'Table males'!D$141,'Table females'!D$141)))","v":" "},"",""]
[{"$nulls":6},"",{"$nulls":4},{"$f":"IF(OR(C136=\"\",G136=\"\",H136=\"\",I136=\"\",K136=\"\",B136=Dropdownliste!A$9,J136=\"\"),\"\",IF(B136=\"m\",(VLOOKUP(Eingabeblatt!$G136,'Table males'!$A$3:$E$138,2)+(VLOOKUP(Eingabeblatt!$G136,'Table males'!$A$3:$E$138,3)*Eingabeblatt!I136)+(VLOOKUP(Eingabeblatt!$G136,'Table males'!$A$3:$E$138,4)*Eingabeblatt!H136)+(VLOOKUP(Eingabeblatt!$G136,'Table males'!$A$3:$E$138,5)*(Eingabeblatt!J136+Eingabeblatt!K136)/2)),VLOOKUP(Eingabeblatt!$G136,'Table females'!$A$3:$E$138,2)+(VLOOKUP(Eingabeblatt!$G136,'Table females'!$A$3:$E$138,3)*Eingabeblatt!I136)+(VLOOKUP(Eingabeblatt!$G136,'Table females'!$A$3:$E$138,4)*Eingabeblatt!H136)+(VLOOKUP(Eingabeblatt!$G136,'Table females'!$A$3:$E$138,5)*(Eingabeblatt!J136+Eingabeblatt!K136)/2)))","v":""},{"$f":"CONCATENATE(\" \",IF(OR(J136=\"\",K136=\"\",L136=\"\"),\"\",IF(B136=\"m\",'Table males'!D$141,'Table females'!D$141)))","v":" "},"",""]
[{"$nulls":6},"",{"$nulls":4},{"$f":"IF(OR(C137=\"\",G137=\"\",H137=\"\",I137=\"\",K137=\"\",B137=Dropdownliste!A$9,J137=\"\"),\"\",IF(B137=\"m\",(VLOOKUP(Eingabeblatt!$G137,'Table males'!$A$3:$E$138,2)+(VLOOKUP(Eingabeblatt!$G137,'Table males'!$A$3:$E$138,3)*Eingabeblatt!I137)+(VLOOKUP(Eingabeblatt!$G137,'Table males'!$A$3:$E$138,4)*Eingabeblatt!H137)+(VLOOKUP(Eingabeblatt!$G137,'Table males'!$A$3:$E$138,5)*(Eingabeblatt!J137+Eingabeblatt!K137)/2)),VLOOKUP(Eingabeblatt!$G137,'Table females'!$A$3:$E$138,2)+(VLOOKUP(Eingabeblatt!$G137,'Table females'!$A$3:$E$138,3)*Eingabeblatt!I137)+(VLOOKUP(Eingabeblatt!$G137,'Table females'!$A$3:$E$138,4)*Eingabeblatt!H137)+(VLOOKUP(Eingabeblatt!$G137,'Table females'!$A$3:$E$138,5)*(Eingabeblatt!J137+Eingabeblatt!K137)/2)))","v":""},{"$f":"CONCATENATE(\" \",IF(OR(J137=\"\",K137=\"\",L137=\"\"),\"\",IF(B137=\"m\",'Table males'!D$141,'Table females'!D$141)))","v":" "},"",""]
[{"$nulls":6},"",{"$nulls":4},{"$f":"IF(OR(C138=\"\",G138=\"\",H138=\"\",I138=\"\",K138=\"\",B138=Dropdownliste!A$9,J138=\"\"),\"\",IF(B138=\"m\",(VLOOKUP(Eingabeblatt!$G138,'Table males'!$A$3:$E$138,2)+(VLOOKUP(Eingabeblatt!$G138,'Table males'!$A$3:$E$138,3)*Eingabeblatt!I138)+(VLOOKUP(Eingabeblatt!$G138,'Table males'!$A$3:$E$138,4)*Eingabeblatt!H138)+(VLOOKUP(Eingabeblatt!$G138,'Table males'!$A$3:$E$138,5)*(Eingabeblatt!J138+Eingabeblatt!K138)/2)),VLOOKUP(Eingabeblatt!$G138,'Table females'!$A$3:$E$138,2)+(VLOOKUP(Eingabeblatt!$G138,'Table females'!$A$3:$E$138,3)*Eingabeblatt!I138)+(VLOOKUP(Eingabeblatt!$G138,'Table females'!$A$3:$E$138,4)*Eingabeblatt!H138)+(VLOOKUP(Eingabeblatt!$G138,'Table females'!$A$3:$E$138,5)*(Eingabeblatt!J138+Eingabeblatt!K138)/2)))","v":""},{"$f":"CONCATENATE(\" \",IF(OR(J138=\"\",K138=\"\",L138=\"\"),\"\",IF(B138=\"m\",'Table males'!D$141,'Table females'!D$141)))","v":" "},{"$f":"IF(OR(J138=\"\",K138=\"\",I138=\"\",L138=\"\"),\"\",I138/L138)","v":""},{"$f":"IF(N138=\"\",\"\",IF(N138<0.8,\"vorpubertär / prépubère\",IF(N138<0.9,\"frühpubertär / début de la puberté\",IF(N138<0.95,\"pubertär / pubertaire\",\"spätpubertär / fin de la puberté\"))))","v":""}]
[{"$nulls":6},"",{"$nulls":4},{"$f":"IF(OR(C139=\"\",G139=\"\",H139=\"\",I139=\"\",K139=\"\",B139=Dropdownliste!A$9,J139=\"\"),\"\",IF(B139=\"m\",(VLOOKUP(Eingabeblatt!$G139,'Table males'!$A$3:$E$138,2)+(VLOOKUP(Eingabeblatt!$G139,'Table males'!$A$3:$E$138,3)*Eingabeblatt!I139)+(VLOOKUP(Eingabeblatt!$G139,'Table males'!$A$3:$E$138,4)*Eingabeblatt!H139)+(VLOOKUP(Eingabeblatt!$G139,'Table males'!$A$3:$E$138,5)*(Eingabeblatt!J139+Eingabeblatt!K139)/2)),VLOOKUP(Eingabeblatt!$G139,'Table females'!$A$3:$E$138,2)+(VLOOKUP(Eingabeblatt!$G139,'Table females'!$A$3:$E$138,3)*Eingabeblatt!I139)+(VLOOKUP(Eingabeblatt!$G139,'Table females'!$A$3:$E$138,4)*Eingabeblatt!H139)+(VLOOKUP(Eingabeblatt!$G139,'Table females'!$A$3:$E$138,5)*(Eingabeblatt!J139+Eingabeblatt!K139)/2)))","v":""},{"$f":"CONCATENATE(\" \",IF(OR(J139=\"\",K139=\"\",L139=\"\"),\"\",IF(B139=\"m\",'Table males'!D$141,'Table females'!D$141)))","v":" "},"",""]
[{"$nulls":6},"",{"$nulls":4},{"$f":"IF(OR(C140=\"\",G140=\"\",H140=\"\",I140=\"\",K140=\"\",B140=Dropdownliste!A$9,J140=\"\"),\"\",IF(B140=\"m\",(VLOOKUP(Eingabeblatt!$G140,'Table males'!$A$3:$E$138,2)+(VLOOKUP(Eingabeblatt!$G140,'Table males'!$A$3:$E$138,3)*Eingabeblatt!I140)+(VLOOKUP(Eingabeblatt!$G140,'Table males'!$A$3:$E$138,4)*Eingabeblatt!H140)+(VLOOKUP(Eingabeblatt!$G140,'Table males'!$A$3:$E$138,5)*(Eingabeblatt!J140+Eingabeblatt!K140)/2)),VLOOKUP(Eingabeblatt!$G140,'Table females'!$A$3:$E$138,2)+(VLOOKUP(Eingabeblatt!$G140,'Table females'!$A$3:$E$138,3)*Eingabeblatt!I140)+(VLOOKUP(Eingabeblatt!$G140,'Table females'!$A$3:$E$138,4)*Eingabeblatt!H140)+(VLOOKUP(Eingabeblatt!$G140,'Table females'!$A$3:$E$138,5)*(Eingabeblatt!J140+Eingabeblatt!K140)/2)))","v":""},{"$f":"CONCATENATE(\" \",IF(OR(J140=\"\",K140=\"\",L140=\"\"),\"\",IF(B140=\"m\",'Table males'!D$141,'Table females'!D$141)))","v":" "},"",""]
[{"$nulls":6},"",{"$nulls":4},{"$f":"IF(OR(C141=\"\",G141=\"\",H141=\"\",I141=\"\",K141=\"\",B141=Dropdownliste!A$9,J141=\"\"),\"\",IF(B141=\"m\",(VLOOKUP(Eingabeblatt!$G141,'Table males'!$A$3:$E$138,2)+(VLOOKUP(Eingabeblatt!$G141,'Table males'!$A$3:$E$138,3)*Eingabeblatt!I141)+(VLOOKUP(Eingabeblatt!$G141,'Table males'!$A$3:$E$138,4)*Eingabeblatt!H141)+(VLOOKUP(Eingabeblatt!$G141,'Table males'!$A$3:$E$138,5)*(Eingabeblatt!J141+Eingabeblatt!K141)/2)),VLOOKUP(Eingabeblatt!$G141,'Table females'!$A$3:$E$138,2)+(VLOOKUP(Eingabeblatt!$G141,'Table females'!$A$3:$E$138,3)*Eingabeblatt!I141)+(VLOOKUP(Eingabeblatt!$G141,'Table females'!$A$3:$E$138,4)*Eingabeblatt!H141)+(VLOOKUP(Eingabeblatt!$G141,'Table females'!$A$3:$E$138,5)*(Eingabeblatt!J141+Eingabeblatt!K141)/2)))","v":""},{"$f":"CONCATENATE(\" \",IF(OR(J141=\"\",K141=\"\",L141=\"\"),\"\",IF(B141=\"m\",'Table males'!D$141,'Table females'!D$141)))","v":" "},"",""]
[{"$nulls":6},"",{"$nulls":4},{"$f":"IF(OR(C142=\"\",G142=\"\",H142=\"\",I142=\"\",K142=\"\",B142=Dropdownliste!A$9,J142=\"\"),\"\",IF(B142=\"m\",(VLOOKUP(Eingabeblatt!$G142,'Table males'!$A$3:$E$138,2)+(VLOOKUP(Eingabeblatt!$G142,'Table males'!$A$3:$E$138,3)*Eingabeblatt!I142)+(VLOOKUP(Eingabeblatt!$G142,'Table males'!$A$3:$E$138,4)*Eingabeblatt!H142)+(VLOOKUP(Eingabeblatt!$G142,'Table males'!$A$3:$E$138,5)*(Eingabeblatt!J142+Eingabeblatt!K142)/2)),VLOOKUP(Eingabeblatt!$G142,'Table females'!$A$3:$E$138,2)+(VLOOKUP(Eingabeblatt!$G142,'Table females'!$A$3:$E$138,3)*Eingabeblatt!I142)+(VLOOKUP(Eingabeblatt!$G142,'Table females'!$A$3:$E$138,4)*Eingabeblatt!H142)+(VLOOKUP(Eingabeblatt!$G142,'Table females'!$A$3:$E$138,5)*(Eingabeblatt!J142+Eingabeblatt!K142)/2)))","v":""},{"$f":"CONCATENATE(\" \",IF(OR(J142=\"\",K142=\"\",L142=\"\"),\"\",IF(B142=\"m\",'Table males'!D$141,'Table females'!D$141)))","v":" "},"",""]
[{"$nulls":6},"",{"$nulls":4},{"$f":"IF(OR(C143=\"\",G143=\"\",H143=\"\",I143=\"\",K143=\"\",B143=Dropdownliste!A$9,J143=\"\"),\"\",IF(B143=\"m\",(VLOOKUP(Eingabeblatt!$G143,'Table males'!$A$3:$E$138,2)+(VLOOKUP(Eingabeblatt!$G143,'Table males'!$A$3:$E$138,3)*Eingabeblatt!I143)+(VLOOKUP(Eingabeblatt!$G143,'Table males'!$A$3:$E$138,4)*Eingabeblatt!H143)+(VLOOKUP(Eingabeblatt!$G143,'Table males'!$A$3:$E$138,5)*(Eingabeblatt!J143+Eingabeblatt!K143)/2)),VLOOKUP(Eingabeblatt!$G143,'Table females'!$A$3:$E$138,2)+(VLOOKUP(Eingabeblatt!$G143,'Table females'!$A$3:$E$138,3)*Eingabeblatt!I143)+(VLOOKUP(Eingabeblatt!$G143,'Table females'!$A$3:$E$138,4)*Eingabeblatt!H143)+(VLOOKUP(Eingabeblatt!$G143,'Table females'!$A$3:$E$138,5)*(Eingabeblatt!J143+Eingabeblatt!K143)/2)))","v":""},{"$f":"CONCATENATE(\" \",IF(OR(J143=\"\",K143=\"\",L143=\"\"),\"\",IF(B143=\"m\",'Table males'!D$141,'Table females'!D$141)))","v":" "},"",""]
[{"$nulls":6},"",{"$nulls":4},{"$f":"IF(OR(C144=\"\",G144=\"\",H144=\"\",I144=\"\",K144=\"\",B144=Dropdownliste!A$9,J144=\"\"),\"\",IF(B144=\"m\",(VLOOKUP(Eingabeblatt!$G144,'Table males'!$A$3:$E$138,2)+(VLOOKUP(Eingabeblatt!$G144,'Table males'!$A$3:$E$138,3)*Eingabeblatt!I144)+(VLOOKUP(Eingabeblatt!$G144,'Table males'!$A$3:$E$138,4)*Eingabeblatt!H144)+(VLOOKUP(Eingabeblatt!$G144,'Table males'!$A$3:$E$138,5)*(Eingabeblatt!J144+Eingabeblatt!K144)/2)),VLOOKUP(Eingabeblatt!$G144,'Table females'!$A$3:$E$138,2)+(VLOOKUP(Eingabeblatt!$G144,'Table females'!$A$3:$E$138,3)*Eingabeblatt!I144)+(VLOOKUP(Eingabeblatt!$G144,'Table females'!$A$3:$E$138,4)*Eingabeblatt!H144)+(VLOOKUP(Eingabeblatt!$G144,'Table females'!$A$3:$E$138,5)*(Eingabeblatt!J144+Eingabeblatt!K144)/2)))","v":""},{"$f":"CONCATENATE(\" \",IF(OR(J144=\"\",K144=\"\",L144=\"\"),\"\",IF(B144=\"m\",'Table males'!D$141,'Table females'!D$141)))","v":" "},"",""]
[{"$nulls":6},"",{"$nulls":4},{"$f":"IF(OR(C145=\"\",G145=\"\",H145=\"\",I145=\"\",K145=\"\",B145=Dropdownliste!A$9,J145=\"\"),\"\",IF(B145=\"m\",(VLOOKUP(Eingabeblatt!$G145,'Table males'!$A$3:$E$138,2)+(VLOOKUP(Eingabeblatt!$G145,'Table males'!$A$3:$E$138,3)*Eingabeblatt!I145)+(VLOOKUP(Eingabeblatt!$G145,'Table males'!$A$3:$E$138,4)*Eingabeblatt!H145)+(VLOOKUP(Eingabeblatt!$G145,'Table males'!$A$3:$E$138,5)*(Eingabeblatt!J145+Eingabeblatt!K145)/2)),VLOOKUP(Eingabeblatt!$G145,'Table females'!$A$3:$E$138,2)+(VLOOKUP(Eingabeblatt!$G145,'Table females'!$A$3:$E$138,3)*Eingabeblatt!I145)+(VLOOKUP(Eingabeblatt!$G145,'Table females'!$A$3:$E$138,4)*Eingabeblatt!H145)+(VLOOKUP(Eingabeblatt!$G145,'Table females'!$A$3:$E$138,5)*(Eingabeblatt!J145+Eingabeblatt!K145)/2)))","v":""},{"$f":"CONCATENATE(\" \",IF(OR(J145=\"\",K145=\"\",L145=\"\"),\"\",IF(B145=\"m\",'Table males'!D$141,'Table females'!D$141)))","v":" "},"",""]
[{"$nulls":6},"",{"$nulls":4},{"$f":"IF(OR(C146=\"\",G146=\"\",H146=\"\",I146=\"\",K146=\"\",B146=Dropdownliste!A$9,J146=\"\"),\"\",IF(B146=\"m\",(VLOOKUP(Eingabeblatt!$G146,'Table males'!$A$3:$E$138,2)+(VLOOKUP(Eingabeblatt!$G146,'Table males'!$A$3:$E$138,3)*Eingabeblatt!I146)+(VLOOKUP(Eingabeblatt!$G146,'Table males'!$A$3:$E$138,4)*Eingabeblatt!H146)+(VLOOKUP(Eingabeblatt!$G146,'Table males'!$A$3:$E$138,5)*(Eingabeblatt!J146+Eingabeblatt!K146)/2)),VLOOKUP(Eingabeblatt!$G146,'Table females'!$A$3:$E$138,2)+(VLOOKUP(Eingabeblatt!$G146,'Table females'!$A$3:$E$138,3)*Eingabeblatt!I146)+(VLOOKUP(Eingabeblatt!$G146,'Table females'!$A$3:$E$138,4)*Eingabeblatt!H146)+(VLOOKUP(Eingabeblatt!$G146,'Table females'!$A$3:$E$138,5)*(Eingabeblatt!J146+Eingabeblatt!K146)/2)))","v":""},{"$f":"CONCATENATE(\" \",IF(OR(J146=\"\",K146=\"\",L146=\"\"),\"\",IF(B146=\"m\",'Table males'!D$141,'Table females'!D$141)))","v":" "},"",""]
[{"$nulls":6},"",{"$nulls":4},{"$f":"IF(OR(C147=\"\",G147=\"\",H147=\"\",I147=\"\",K147=\"\",B147=Dropdownliste!A$9,J147=\"\"),\"\",IF(B147=\"m\",(VLOOKUP(Eingabeblatt!$G147,'Table males'!$A$3:$E$138,2)+(VLOOKUP(Eingabeblatt!$G147,'Table males'!$A$3:$E$138,3)*Eingabeblatt!I147)+(VLOOKUP(Eingabeblatt!$G147,'Table males'!$A$3:$E$138,4)*Eingabeblatt!H147)+(VLOOKUP(Eingabeblatt!$G147,'Table males'!$A$3:$E$138,5)*(Eingabeblatt!J147+Eingabeblatt!K147)/2)),VLOOKUP(Eingabeblatt!$G147,'Table females'!$A$3:$E$138,2)+(VLOOKUP(Eingabeblatt!$G147,'Table females'!$A$3:$E$138,3)*Eingabeblatt!I147)+(VLOOKUP(Eingabeblatt!$G147,'Table females'!$A$3:$E$138,4)*Eingabeblatt!H147)+(VLOOKUP(Eingabeblatt!$G147,'Table females'!$A$3:$E$138,5)*(Eingabeblatt!J147+Eingabeblatt!K147)/2)))","v":""},{"$f":"CONCATENATE(\" \",IF(OR(J147=\"\",K147=\"\",L147=\"\"),\"\",IF(B147=\"m\",'Table males'!D$141,'Table females'!D$141)))","v":" "},"",""]
[{"$nulls":6},"",{"$nulls":4},{"$f":"IF(OR(C148=\"\",G148=\"\",H148=\"\",I148=\"\",K148=\"\",B148=Dropdownliste!A$9,J148=\"\"),\"\",IF(B148=\"m\",(VLOOKUP(Eingabeblatt!$G148,'Table males'!$A$3:$E$138,2)+(VLOOKUP(Eingabeblatt!$G148,'Table males'!$A$3:$E$138,3)*Eingabeblatt!I148)+(VLOOKUP(Eingabeblatt!$G148,'Table males'!$A$3:$E$138,4)*Eingabeblatt!H148)+(VLOOKUP(Eingabeblatt!$G148,'Table males'!$A$3:$E$138,5)*(Eingabeblatt!J148+Eingabeblatt!K148)/2)),VLOOKUP(Eingabeblatt!$G148,'Table females'!$A$3:$E$138,2)+(VLOOKUP(Eingabeblatt!$G148,'Table females'!$A$3:$E$138,3)*Eingabeblatt!I148)+(VLOOKUP(Eingabeblatt!$G148,'Table females'!$A$3:$E$138,4)*Eingabeblatt!H148)+(VLOOKUP(Eingabeblatt!$G148,'Table females'!$A$3:$E$138,5)*(Eingabeblatt!J148+Eingabeblatt!K148)/2)))","v":""},{"$f":"CONCATENATE(\" \",IF(OR(J148=\"\",K148=\"\",L148=\"\"),\"\",IF(B148=\"m\",'Table males'!D$141,'Table females'!D$141)))","v":" "},"",""]
[{"$nulls":6},"",{"$nulls":4},{"$f":"IF(OR(C149=\"\",G149=\"\",H149=\"\",I149=\"\",K149=\"\",B149=Dropdownliste!A$9,J149=\"\"),\"\",IF(B149=\"m\",(VLOOKUP(Eingabeblatt!$G149,'Table males'!$A$3:$E$138,2)+(VLOOKUP(Eingabeblatt!$G149,'Table males'!$A$3:$E$138,3)*Eingabeblatt!I149)+(VLOOKUP(Eingabeblatt!$G149,'Table males'!$A$3:$E$138,4)*Eingabeblatt!H149)+(VLOOKUP(Eingabeblatt!$G149,'Table males'!$A$3:$E$138,5)*(Eingabeblatt!J149+Eingabeblatt!K149)/2)),VLOOKUP(Eingabeblatt!$G149,'Table females'!$A$3:$E$138,2)+(VLOOKUP(Eingabeblatt!$G149,'Table females'!$A$3:$E$138,3)*Eingabeblatt!I149)+(VLOOKUP(Eingabeblatt!$G149,'Table females'!$A$3:$E$138,4)*Eingabeblatt!H149)+(VLOOKUP(Eingabeblatt!$G149,'Table females'!$A$3:$E$138,5)*(Eingabeblatt!J149+Eingabeblatt!K149)/2)))","v":""},{"$f":"CONCATENATE(\" \",IF(OR(J149=\"\",K149=\"\",L149=\"\"),\"\",IF(B149=\"m\",'Table males'!D$141,'Table females'!D$141)))","v":" "},"",""]
[{"$nulls":6},"",{"$nulls":4},{"$f":"IF(OR(C150=\"\",G150=\"\",H150=\"\",I150=\"\",K150=\"\",B150=Dropdownliste!A$9,J150=\"\"),\"\",IF(B150=\"m\",(VLOOKUP(Eingabeblatt!$G150,'Table males'!$A$3:$E$138,2)+(VLOOKUP(Eingabeblatt!$G150,'Table males'!$A$3:$E$138,3)*Eingabeblatt!I150)+(VLOOKUP(Eingabeblatt!$G150,'Table males'!$A$3:$E$138,4)*Eingabeblatt!H150)+(VLOOKUP(Eingabeblatt!$G150,'Table males'!$A$3:$E$138,5)*(Eingabeblatt!J150+Eingabeblatt!K150)/2)),VLOOKUP(Eingabeblatt!$G150,'Table females'!$A$3:$E$138,2)+(VLOOKUP(Eingabeblatt!$G150,'Table females'!$A$3:$E$138,3)*Eingabeblatt!I150)+(VLOOKUP(Eingabeblatt!$G150,'Table females'!$A$3:$E$138,4)*Eingabeblatt!H150)+(VLOOKUP(Eingabeblatt!$G150,'Table females'!$A$3:$E$138,5)*(Eingabeblatt!J150+Eingabeblatt!K150)/2)))","v":""},{"$f":"CONCATENATE(\" \",IF(OR(J150=\"\",K150=\"\",L150=\"\"),\"\",IF(B150=\"m\",'Table males'!D$141,'Table females'!D$141)))","v":" "},"",""]
[{"$nulls":6},"",{"$nulls":4},{"$f":"IF(OR(C151=\"\",G151=\"\",H151=\"\",I151=\"\",K151=\"\",B151=Dropdownliste!A$9,J151=\"\"),\"\",IF(B151=\"m\",(VLOOKUP(Eingabeblatt!$G151,'Table males'!$A$3:$E$138,2)+(VLOOKUP(Eingabeblatt!$G151,'Table males'!$A$3:$E$138,3)*Eingabeblatt!I151)+(VLOOKUP(Eingabeblatt!$G151,'Table males'!$A$3:$E$138,4)*Eingabeblatt!H151)+(VLOOKUP(Eingabeblatt!$G151,'Table males'!$A$3:$E$138,5)*(Eingabeblatt!J151+Eingabeblatt!K151)/2)),VLOOKUP(Eingabeblatt!$G151,'Table females'!$A$3:$E$138,2)+(VLOOKUP(Eingabeblatt!$G151,'Table females'!$A$3:$E$138,3)*Eingabeblatt!I151)+(VLOOKUP(Eingabeblatt!$G151,'Table females'!$A$3:$E$138,4)*Eingabeblatt!H151)+(VLOOKUP(Eingabeblatt!$G151,'Table females'!$A$3:$E$138,5)*(Eingabeblatt!J151+Eingabeblatt!K151)/2)))","v":""},{"$f":"CONCATENATE(\" \",IF(OR(J151=\"\",K151=\"\",L151=\"\"),\"\",IF(B151=\"m\",'Table males'!D$141,'Table females'!D$141)))","v":" "},"",""]
[{"$nulls":6},"",{"$nulls":4},{"$f":"IF(OR(C152=\"\",G152=\"\",H152=\"\",I152=\"\",K152=\"\",B152=Dropdownliste!A$9,J152=\"\"),\"\",IF(B152=\"m\",(VLOOKUP(Eingabeblatt!$G152,'Table males'!$A$3:$E$138,2)+(VLOOKUP(Eingabeblatt!$G152,'Table males'!$A$3:$E$138,3)*Eingabeblatt!I152)+(VLOOKUP(Eingabeblatt!$G152,'Table males'!$A$3:$E$138,4)*Eingabeblatt!H152)+(VLOOKUP(Eingabeblatt!$G152,'Table males'!$A$3:$E$138,5)*(Eingabeblatt!J152+Eingabeblatt!K152)/2)),VLOOKUP(Eingabeblatt!$G152,'Table females'!$A$3:$E$138,2)+(VLOOKUP(Eingabeblatt!$G152,'Table females'!$A$3:$E$138,3)*Eingabeblatt!I152)+(VLOOKUP(Eingabeblatt!$G152,'Table females'!$A$3:$E$138,4)*Eingabeblatt!H152)+(VLOOKUP(Eingabeblatt!$G152,'Table females'!$A$3:$E$138,5)*(Eingabeblatt!J152+Eingabeblatt!K152)/2)))","v":""},{"$f":"CONCATENATE(\" \",IF(OR(J152=\"\",K152=\"\",L152=\"\"),\"\",IF(B152=\"m\",'Table males'!D$141,'Table females'!D$141)))","v":" "},"",""]
[{"$nulls":6},"",{"$nulls":4},{"$f":"IF(OR(C153=\"\",G153=\"\",H153=\"\",I153=\"\",K153=\"\",B153=Dropdownliste!A$9,J153=\"\"),\"\",IF(B153=\"m\",(VLOOKUP(Eingabeblatt!$G153,'Table males'!$A$3:$E$138,2)+(VLOOKUP(Eingabeblatt!$G153,'Table males'!$A$3:$E$138,3)*Eingabeblatt!I153)+(VLOOKUP(Eingabeblatt!$G153,'Table males'!$A$3:$E$138,4)*Eingabeblatt!H153)+(VLOOKUP(Eingabeblatt!$G153,'Table males'!$A$3:$E$138,5)*(Eingabeblatt!J153+Eingabeblatt!K153)/2)),VLOOKUP(Eingabeblatt!$G153,'Table females'!$A$3:$E$138,2)+(VLOOKUP(Eingabeblatt!$G153,'Table females'!$A$3:$E$138,3)*Eingabeblatt!I153)+(VLOOKUP(Eingabeblatt!$G153,'Table females'!$A$3:$E$138,4)*Eingabeblatt!H153)+(VLOOKUP(Eingabeblatt!$G153,'Table females'!$A$3:$E$138,5)*(Eingabeblatt!J153+Eingabeblatt!K153)/2)))","v":""},{"$f":"CONCATENATE(\" \",IF(OR(J153=\"\",K153=\"\",L153=\"\"),\"\",IF(B153=\"m\",'Table males'!D$141,'Table females'!D$141)))","v":" "},"",""]
[{"$nulls":6},"",{"$nulls":4},{"$f":"IF(OR(C154=\"\",G154=\"\",H154=\"\",I154=\"\",K154=\"\",B154=Dropdownliste!A$9,J154=\"\"),\"\",IF(B154=\"m\",(VLOOKUP(Eingabeblatt!$G154,'Table males'!$A$3:$E$138,2)+(VLOOKUP(Eingabeblatt!$G154,'Table males'!$A$3:$E$138,3)*Eingabeblatt!I154)+(VLOOKUP(Eingabeblatt!$G154,'Table males'!$A$3:$E$138,4)*Eingabeblatt!H154)+(VLOOKUP(Eingabeblatt!$G154,'Table males'!$A$3:$E$138,5)*(Eingabeblatt!J154+Eingabeblatt!K154)/2)),VLOOKUP(Eingabeblatt!$G154,'Table females'!$A$3:$E$138,2)+(VLOOKUP(Eingabeblatt!$G154,'Table females'!$A$3:$E$138,3)*Eingabeblatt!I154)+(VLOOKUP(Eingabeblatt!$G154,'Table females'!$A$3:$E$138,4)*Eingabeblatt!H154)+(VLOOKUP(Eingabeblatt!$G154,'Table females'!$A$3:$E$138,5)*(Eingabeblatt!J154+Eingabeblatt!K154)/2)))","v":""},{"$f":"CONCATENATE(\" \",IF(OR(J154=\"\",K154=\"\",L154=\"\"),\"\",IF(B154=\"m\",'Table males'!D$141,'Table females'!D$141)))","v":" "},"",""]
[{"$nulls":6},"",{"$nulls":4},{"$f":"IF(OR(C155=\"\",G155=\"\",H155=\"\",I155=\"\",K155=\"\",B155=Dropdownliste!A$9,J155=\"\"),\"\",IF(B155=\"m\",(VLOOKUP(Eingabeblatt!$G155,'Table males'!$A$3:$E$138,2)+(VLOOKUP(Eingabeblatt!$G155,'Table males'!$A$3:$E$138,3)*Eingabeblatt!I155)+(VLOOKUP(Eingabeblatt!$G155,'Table males'!$A$3:$E$138,4)*Eingabeblatt!H155)+(VLOOKUP(Eingabeblatt!$G155,'Table males'!$A$3:$E$138,5)*(Eingabeblatt!J155+Eingabeblatt!K155)/2)),VLOOKUP(Eingabeblatt!$G155,'Table females'!$A$3:$E$138,2)+(VLOOKUP(Eingabeblatt!$G155,'Table females'!$A$3:$E$138,3)*Eingabeblatt!I155)+(VLOOKUP(Eingabeblatt!$G155,'Table females'!$A$3:$E$138,4)*Eingabeblatt!H155)+(VLOOKUP(Eingabeblatt!$G155,'Table females'!$A$3:$E$138,5)*(Eingabeblatt!J155+Eingabeblatt!K155)/2)))","v":""},{"$f":"CONCATENATE(\" \",IF(OR(J155=\"\",K155=\"\",L155=\"\"),\"\",IF(B155=\"m\",'Table males'!D$141,'Table females'!D$141)))","v":" "},"",""]
[{"$nulls":6},"",{"$nulls":4},{"$f":"IF(OR(C156=\"\",G156=\"\",H156=\"\",I156=\"\",K156=\"\",B156=Dropdownliste!A$9,J156=\"\"),\"\",IF(B156=\"m\",(VLOOKUP(Eingabeblatt!$G156,'Table males'!$A$3:$E$138,2)+(VLOOKUP(Eingabeblatt!$G156,'Table males'!$A$3:$E$138,3)*Eingabeblatt!I156)+(VLOOKUP(Eingabeblatt!$G156,'Table males'!$A$3:$E$138,4)*Eingabeblatt!H156)+(VLOOKUP(Eingabeblatt!$G156,'Table males'!$A$3:$E$138,5)*(Eingabeblatt!J156+Eingabeblatt!K156)/2)),VLOOKUP(Eingabeblatt!$G156,'Table females'!$A$3:$E$138,2)+(VLOOKUP(Eingabeblatt!$G156,'Table females'!$A$3:$E$138,3)*Eingabeblatt!I156)+(VLOOKUP(Eingabeblatt!$G156,'Table females'!$A$3:$E$138,4)*Eingabeblatt!H156)+(VLOOKUP(Eingabeblatt!$G156,'Table females'!$A$3:$E$138,5)*(Eingabeblatt!J156+Eingabeblatt!K156)/2)))","v":""},{"$f":"CONCATENATE(\" \",IF(OR(J156=\"\",K156=\"\",L156=\"\"),\"\",IF(B156=\"m\",'Table males'!D$141,'Table females'!D$141)))","v":" "},"",""]
[{"$nulls":6},"",{"$nulls":4},{"$f":"IF(OR(C157=\"\",G157=\"\",H157=\"\",I157=\"\",K157=\"\",B157=Dropdownliste!A$9,J157=\"\"),\"\",IF(B157=\"m\",(VLOOKUP(Eingabeblatt!$G157,'Table males'!$A$3:$E$138,2)+(VLOOKUP(Eingabeblatt!$G157,'Table males'!$A$3:$E$138,3)*Eingabeblatt!I157)+(VLOOKUP(Eingabeblatt!$G157,'Table males'!$A$3:$E$138,4)*Eingabeblatt!H157)+(VLOOKUP(Eingabeblatt!$G157,'Table males'!$A$3:$E$138,5)*(Eingabeblatt!J157+Eingabeblatt!K157)/2)),VLOOKUP(Eingabeblatt!$G157,'Table females'!$A$3:$E$138,2)+(VLOOKUP(Eingabeblatt!$G157,'Table females'!$A$3:$E$138,3)*Eingabeblatt!I157)+(VLOOKUP(Eingabeblatt!$G157,'Table females'!$A$3:$E$138,4)*Eingabeblatt!H157)+(VLOOKUP(Eingabeblatt!$G157,'Table females'!$A$3:$E$138,5)*(Eingabeblatt!J157+Eingabeblatt!K157)/2)))","v":""},{"$f":"CONCATENATE(\" \",IF(OR(J157=\"\",K157=\"\",L157=\"\"),\"\",IF(B157=\"m\",'Table males'!D$141,'Table females'!D$141)))","v":" "},"",""]
[{"$nulls":6},"",{"$nulls":4},{"$f":"IF(OR(C158=\"\",G158=\"\",H158=\"\",I158=\"\",K158=\"\",B158=Dropdownliste!A$9,J158=\"\"),\"\",IF(B158=\"m\",(VLOOKUP(Eingabeblatt!$G158,'Table males'!$A$3:$E$138,2)+(VLOOKUP(Eingabeblatt!$G158,'Table males'!$A$3:$E$138,3)*Eingabeblatt!I158)+(VLOOKUP(Eingabeblatt!$G158,'Table males'!$A$3:$E$138,4)*Eingabeblatt!H158)+(VLOOKUP(Eingabeblatt!$G158,'Table males'!$A$3:$E$138,5)*(Eingabeblatt!J158+Eingabeblatt!K158)/2)),VLOOKUP(Eingabeblatt!$G158,'Table females'!$A$3:$E$138,2)+(VLOOKUP(Eingabeblatt!$G158,'Table females'!$A$3:$E$138,3)*Eingabeblatt!I158)+(VLOOKUP(Eingabeblatt!$G158,'Table females'!$A$3:$E$138,4)*Eingabeblatt!H158)+(VLOOKUP(Eingabeblatt!$G158,'Table females'!$A$3:$E$138,5)*(Eingabeblatt!J158+Eingabeblatt!K158)/2)))","v":""},{"$f":"CONCATENATE(\" \",IF(OR(J158=\"\",K158=\"\",L158=\"\"),\"\",IF(B158=\"m\",'Table males'!D$141,'Table females'!D$141)))","v":" "},"",""]
[{"$nulls":6},"",{"$nulls":4},{"$f":"IF(OR(C159=\"\",G159=\"\",H159=\"\",I159=\"\",K159=\"\",B159=Dropdownliste!A$9,J159=\"\"),\"\",IF(B159=\"m\",(VLOOKUP(Eingabeblatt!$G159,'Table males'!$A$3:$E$138,2)+(VLOOKUP(Eingabeblatt!$G159,'Table males'!$A$3:$E$138,3)*Eingabeblatt!I159)+(VLOOKUP(Eingabeblatt!$G159,'Table males'!$A$3:$E$138,4)*Eingabeblatt!H159)+(VLOOKUP(Eingabeblatt!$G159,'Table males'!$A$3:$E$138,5)*(Eingabeblatt!J159+Eingabeblatt!K159)/2)),VLOOKUP(Eingabeblatt!$G159,'Table females'!$A$3:$E$138,2)+(VLOOKUP(Eingabeblatt!$G159,'Table females'!$A$3:$E$138,3)*Eingabeblatt!I159)+(VLOOKUP(Eingabeblatt!$G159,'Table females'!$A$3:$E$138,4)*Eingabeblatt!H159)+(VLOOKUP(Eingabeblatt!$G159,'Table females'!$A$3:$E$138,5)*(Eingabeblatt!J159+Eingabeblatt!K159)/2)))","v":""},{"$f":"CONCATENATE(\" \",IF(OR(J159=\"\",K159=\"\",L159=\"\"),\"\",IF(B159=\"m\",'Table males'!D$141,'Table females'!D$141)))","v":" "},"",""]
[{"$nulls":6},"",{"$nulls":4},{"$f":"IF(OR(C160=\"\",G160=\"\",H160=\"\",I160=\"\",K160=\"\",B160=Dropdownliste!A$9,J160=\"\"),\"\",IF(B160=\"m\",(VLOOKUP(Eingabeblatt!$G160,'Table males'!$A$3:$E$138,2)+(VLOOKUP(Eingabeblatt!$G160,'Table males'!$A$3:$E$138,3)*Eingabeblatt!I160)+(VLOOKUP(Eingabeblatt!$G160,'Table males'!$A$3:$E$138,4)*Eingabeblatt!H160)+(VLOOKUP(Eingabeblatt!$G160,'Table males'!$A$3:$E$138,5)*(Eingabeblatt!J160+Eingabeblatt!K160)/2)),VLOOKUP(Eingabeblatt!$G160,'Table females'!$A$3:$E$138,2)+(VLOOKUP(Eingabeblatt!$G160,'Table females'!$A$3:$E$138,3)*Eingabeblatt!I160)+(VLOOKUP(Eingabeblatt!$G160,'Table females'!$A$3:$E$138,4)*Eingabeblatt!H160)+(VLOOKUP(Eingabeblatt!$G160,'Table females'!$A$3:$E$138,5)*(Eingabeblatt!J160+Eingabeblatt!K160)/2)))","v":""},{"$f":"CONCATENATE(\" \",IF(OR(J160=\"\",K160=\"\",L160=\"\"),\"\",IF(B160=\"m\",'Table males'!D$141,'Table females'!D$141)))","v":" "},"",""]
[{"$nulls":6},"",{"$nulls":4},{"$f":"IF(OR(C161=\"\",G161=\"\",H161=\"\",I161=\"\",K161=\"\",B161=Dropdownliste!A$9,J161=\"\"),\"\",IF(B161=\"m\",(VLOOKUP(Eingabeblatt!$G161,'Table males'!$A$3:$E$138,2)+(VLOOKUP(Eingabeblatt!$G161,'Table males'!$A$3:$E$138,3)*Eingabeblatt!I161)+(VLOOKUP(Eingabeblatt!$G161,'Table males'!$A$3:$E$138,4)*Eingabeblatt!H161)+(VLOOKUP(Eingabeblatt!$G161,'Table males'!$A$3:$E$138,5)*(Eingabeblatt!J161+Eingabeblatt!K161)/2)),VLOOKUP(Eingabeblatt!$G161,'Table females'!$A$3:$E$138,2)+(VLOOKUP(Eingabeblatt!$G161,'Table females'!$A$3:$E$138,3)*Eingabeblatt!I161)+(VLOOKUP(Eingabeblatt!$G161,'Table females'!$A$3:$E$138,4)*Eingabeblatt!H161)+(VLOOKUP(Eingabeblatt!$G161,'Table females'!$A$3:$E$138,5)*(Eingabeblatt!J161+Eingabeblatt!K161)/2)))","v":""},{"$f":"CONCATENATE(\" \",IF(OR(J161=\"\",K161=\"\",L161=\"\"),\"\",IF(B161=\"m\",'Table males'!D$141,'Table females'!D$141)))","v":" "},"",""]
[{"$nulls":6},"",{"$nulls":4},{"$f":"IF(OR(C162=\"\",G162=\"\",H162=\"\",I162=\"\",K162=\"\",B162=Dropdownliste!A$9,J162=\"\"),\"\",IF(B162=\"m\",(VLOOKUP(Eingabeblatt!$G162,'Table males'!$A$3:$E$138,2)+(VLOOKUP(Eingabeblatt!$G162,'Table males'!$A$3:$E$138,3)*Eingabeblatt!I162)+(VLOOKUP(Eingabeblatt!$G162,'Table males'!$A$3:$E$138,4)*Eingabeblatt!H162)+(VLOOKUP(Eingabeblatt!$G162,'Table males'!$A$3:$E$138,5)*(Eingabeblatt!J162+Eingabeblatt!K162)/2)),VLOOKUP(Eingabeblatt!$G162,'Table females'!$A$3:$E$138,2)+(VLOOKUP(Eingabeblatt!$G162,'Table females'!$A$3:$E$138,3)*Eingabeblatt!I162)+(VLOOKUP(Eingabeblatt!$G162,'Table females'!$A$3:$E$138,4)*Eingabeblatt!H162)+(VLOOKUP(Eingabeblatt!$G162,'Table females'!$A$3:$E$138,5)*(Eingabeblatt!J162+Eingabeblatt!K162)/2)))","v":""},{"$f":"CONCATENATE(\" \",IF(OR(J162=\"\",K162=\"\",L162=\"\"),\"\",IF(B162=\"m\",'Table males'!D$141,'Table females'!D$141)))","v":" "},"",""]
[{"$nulls":6},"",{"$nulls":4},{"$f":"IF(OR(C163=\"\",G163=\"\",H163=\"\",I163=\"\",K163=\"\",B163=Dropdownliste!A$9,J163=\"\"),\"\",IF(B163=\"m\",(VLOOKUP(Eingabeblatt!$G163,'Table males'!$A$3:$E$138,2)+(VLOOKUP(Eingabeblatt!$G163,'Table males'!$A$3:$E$138,3)*Eingabeblatt!I163)+(VLOOKUP(Eingabeblatt!$G163,'Table males'!$A$3:$E$138,4)*Eingabeblatt!H163)+(VLOOKUP(Eingabeblatt!$G163,'Table males'!$A$3:$E$138,5)*(Eingabeblatt!J163+Eingabeblatt!K163)/2)),VLOOKUP(Eingabeblatt!$G163,'Table females'!$A$3:$E$138,2)+(VLOOKUP(Eingabeblatt!$G163,'Table females'!$A$3:$E$138,3)*Eingabeblatt!I163)+(VLOOKUP(Eingabeblatt!$G163,'Table females'!$A$3:$E$138,4)*Eingabeblatt!H163)+(VLOOKUP(Eingabeblatt!$G163,'Table females'!$A$3:$E$138,5)*(Eingabeblatt!J163+Eingabeblatt!K163)/2)))","v":""},{"$f":"CONCATENATE(\" \",IF(OR(J163=\"\",K163=\"\",L163=\"\"),\"\",IF(B163=\"m\",'Table males'!D$141,'Table females'!D$141)))","v":" "},"",""]
[{"$nulls":6},"",{"$nulls":4},{"$f":"IF(OR(C164=\"\",G164=\"\",H164=\"\",I164=\"\",K164=\"\",B164=Dropdownliste!A$9,J164=\"\"),\"\",IF(B164=\"m\",(VLOOKUP(Eingabeblatt!$G164,'Table males'!$A$3:$E$138,2)+(VLOOKUP(Eingabeblatt!$G164,'Table males'!$A$3:$E$138,3)*Eingabeblatt!I164)+(VLOOKUP(Eingabeblatt!$G164,'Table males'!$A$3:$E$138,4)*Eingabeblatt!H164)+(VLOOKUP(Eingabeblatt!$G164,'Table males'!$A$3:$E$138,5)*(Eingabeblatt!J164+Eingabeblatt!K164)/2)),VLOOKUP(Eingabeblatt!$G164,'Table females'!$A$3:$E$138,2)+(VLOOKUP(Eingabeblatt!$G164,'Table females'!$A$3:$E$138,3)*Eingabeblatt!I164)+(VLOOKUP(Eingabeblatt!$G164,'Table females'!$A$3:$E$138,4)*Eingabeblatt!H164)+(VLOOKUP(Eingabeblatt!$G164,'Table females'!$A$3:$E$138,5)*(Eingabeblatt!J164+Eingabeblatt!K164)/2)))","v":""},{"$f":"CONCATENATE(\" \",IF(OR(J164=\"\",K164=\"\",L164=\"\"),\"\",IF(B164=\"m\",'Table males'!D$141,'Table females'!D$141)))","v":" "},"",""]
[{"$nulls":6},"",{"$nulls":4},{"$f":"IF(OR(C165=\"\",G165=\"\",H165=\"\",I165=\"\",K165=\"\",B165=Dropdownliste!A$9,J165=\"\"),\"\",IF(B165=\"m\",(VLOOKUP(Eingabeblatt!$G165,'Table males'!$A$3:$E$138,2)+(VLOOKUP(Eingabeblatt!$G165,'Table males'!$A$3:$E$138,3)*Eingabeblatt!I165)+(VLOOKUP(Eingabeblatt!$G165,'Table males'!$A$3:$E$138,4)*Eingabeblatt!H165)+(VLOOKUP(Eingabeblatt!$G165,'Table males'!$A$3:$E$138,5)*(Eingabeblatt!J165+Eingabeblatt!K165)/2)),VLOOKUP(Eingabeblatt!$G165,'Table females'!$A$3:$E$138,2)+(VLOOKUP(Eingabeblatt!$G165,'Table females'!$A$3:$E$138,3)*Eingabeblatt!I165)+(VLOOKUP(Eingabeblatt!$G165,'Table females'!$A$3:$E$138,4)*Eingabeblatt!H165)+(VLOOKUP(Eingabeblatt!$G165,'Table females'!$A$3:$E$138,5)*(Eingabeblatt!J165+Eingabeblatt!K165)/2)))","v":""},{"$f":"CONCATENATE(\" \",IF(OR(J165=\"\",K165=\"\",L165=\"\"),\"\",IF(B165=\"m\",'Table males'!D$141,'Table females'!D$141)))","v":" "},"",""]
[{"$nulls":6},"",{"$nulls":4},{"$f":"IF(OR(C166=\"\",G166=\"\",H166=\"\",I166=\"\",K166=\"\",B166=Dropdownliste!A$9,J166=\"\"),\"\",IF(B166=\"m\",(VLOOKUP(Eingabeblatt!$G166,'Table males'!$A$3:$E$138,2)+(VLOOKUP(Eingabeblatt!$G166,'Table males'!$A$3:$E$138,3)*Eingabeblatt!I166)+(VLOOKUP(Eingabeblatt!$G166,'Table males'!$A$3:$E$138,4)*Eingabeblatt!H166)+(VLOOKUP(Eingabeblatt!$G166,'Table males'!$A$3:$E$138,5)*(Eingabeblatt!J166+Eingabeblatt!K166)/2)),VLOOKUP(Eingabeblatt!$G166,'Table females'!$A$3:$E$138,2)+(VLOOKUP(Eingabeblatt!$G166,'Table females'!$A$3:$E$138,3)*Eingabeblatt!I166)+(VLOOKUP(Eingabeblatt!$G166,'Table females'!$A$3:$E$138,4)*Eingabeblatt!H166)+(VLOOKUP(Eingabeblatt!$G166,'Table females'!$A$3:$E$138,5)*(Eingabeblatt!J166+Eingabeblatt!K166)/2)))","v":""},{"$f":"CONCATENATE(\" \",IF(OR(J166=\"\",K166=\"\",L166=\"\"),\"\",IF(B166=\"m\",'Table males'!D$141,'Table females'!D$141)))","v":" "},"",""]
[{"$nulls":6},"",{"$nulls":4},{"$f":"IF(OR(C167=\"\",G167=\"\",H167=\"\",I167=\"\",K167=\"\",B167=Dropdownliste!A$9,J167=\"\"),\"\",IF(B167=\"m\",(VLOOKUP(Eingabeblatt!$G167,'Table males'!$A$3:$E$138,2)+(VLOOKUP(Eingabeblatt!$G167,'Table males'!$A$3:$E$138,3)*Eingabeblatt!I167)+(VLOOKUP(Eingabeblatt!$G167,'Table males'!$A$3:$E$138,4)*Eingabeblatt!H167)+(VLOOKUP(Eingabeblatt!$G167,'Table males'!$A$3:$E$138,5)*(Eingabeblatt!J167+Eingabeblatt!K167)/2)),VLOOKUP(Eingabeblatt!$G167,'Table females'!$A$3:$E$138,2)+(VLOOKUP(Eingabeblatt!$G167,'Table females'!$A$3:$E$138,3)*Eingabeblatt!I167)+(VLOOKUP(Eingabeblatt!$G167,'Table females'!$A$3:$E$138,4)*Eingabeblatt!H167)+(VLOOKUP(Eingabeblatt!$G167,'Table females'!$A$3:$E$138,5)*(Eingabeblatt!J167+Eingabeblatt!K167)/2)))","v":""},{"$f":"CONCATENATE(\" \",IF(OR(J167=\"\",K167=\"\",L167=\"\"),\"\",IF(B167=\"m\",'Table males'!D$141,'Table females'!D$141)))","v":" "},"",""]
[{"$nulls":6},"",{"$nulls":4},{"$f":"IF(OR(C168=\"\",G168=\"\",H168=\"\",I168=\"\",K168=\"\",B168=Dropdownliste!A$9,J168=\"\"),\"\",IF(B168=\"m\",(VLOOKUP(Eingabeblatt!$G168,'Table males'!$A$3:$E$138,2)+(VLOOKUP(Eingabeblatt!$G168,'Table males'!$A$3:$E$138,3)*Eingabeblatt!I168)+(VLOOKUP(Eingabeblatt!$G168,'Table males'!$A$3:$E$138,4)*Eingabeblatt!H168)+(VLOOKUP(Eingabeblatt!$G168,'Table males'!$A$3:$E$138,5)*(Eingabeblatt!J168+Eingabeblatt!K168)/2)),VLOOKUP(Eingabeblatt!$G168,'Table females'!$A$3:$E$138,2)+(VLOOKUP(Eingabeblatt!$G168,'Table females'!$A$3:$E$138,3)*Eingabeblatt!I168)+(VLOOKUP(Eingabeblatt!$G168,'Table females'!$A$3:$E$138,4)*Eingabeblatt!H168)+(VLOOKUP(Eingabeblatt!$G168,'Table females'!$A$3:$E$138,5)*(Eingabeblatt!J168+Eingabeblatt!K168)/2)))","v":""},{"$f":"CONCATENATE(\" \",IF(OR(J168=\"\",K168=\"\",L168=\"\"),\"\",IF(B168=\"m\",'Table males'!D$141,'Table females'!D$141)))","v":" "},"",""]
[{"$nulls":6},"",{"$nulls":4},{"$f":"IF(OR(C169=\"\",G169=\"\",H169=\"\",I169=\"\",K169=\"\",B169=Dropdownliste!A$9,J169=\"\"),\"\",IF(B169=\"m\",(VLOOKUP(Eingabeblatt!$G169,'Table males'!$A$3:$E$138,2)+(VLOOKUP(Eingabeblatt!$G169,'Table males'!$A$3:$E$138,3)*Eingabeblatt!I169)+(VLOOKUP(Eingabeblatt!$G169,'Table males'!$A$3:$E$138,4)*Eingabeblatt!H169)+(VLOOKUP(Eingabeblatt!$G169,'Table males'!$A$3:$E$138,5)*(Eingabeblatt!J169+Eingabeblatt!K169)/2)),VLOOKUP(Eingabeblatt!$G169,'Table females'!$A$3:$E$138,2)+(VLOOKUP(Eingabeblatt!$G169,'Table females'!$A$3:$E$138,3)*Eingabeblatt!I169)+(VLOOKUP(Eingabeblatt!$G169,'Table females'!$A$3:$E$138,4)*Eingabeblatt!H169)+(VLOOKUP(Eingabeblatt!$G169,'Table females'!$A$3:$E$138,5)*(Eingabeblatt!J169+Eingabeblatt!K169)/2)))","v":""},{"$f":"CONCATENATE(\" \",IF(OR(J169=\"\",K169=\"\",L169=\"\"),\"\",IF(B169=\"m\",'Table males'!D$141,'Table females'!D$141)))","v":" "},"",""]
[{"$nulls":6},"",{"$nulls":4},{"$f":"IF(OR(C170=\"\",G170=\"\",H170=\"\",I170=\"\",K170=\"\",B170=Dropdownliste!A$9,J170=\"\"),\"\",IF(B170=\"m\",(VLOOKUP(Eingabeblatt!$G170,'Table males'!$A$3:$E$138,2)+(VLOOKUP(Eingabeblatt!$G170,'Table males'!$A$3:$E$138,3)*Eingabeblatt!I170)+(VLOOKUP(Eingabeblatt!$G170,'Table males'!$A$3:$E$138,4)*Eingabeblatt!H170)+(VLOOKUP(Eingabeblatt!$G170,'Table males'!$A$3:$E$138,5)*(Eingabeblatt!J170+Eingabeblatt!K170)/2)),VLOOKUP(Eingabeblatt!$G170,'Table females'!$A$3:$E$138,2)+(VLOOKUP(Eingabeblatt!$G170,'Table females'!$A$3:$E$138,3)*Eingabeblatt!I170)+(VLOOKUP(Eingabeblatt!$G170,'Table females'!$A$3:$E$138,4)*Eingabeblatt!H170)+(VLOOKUP(Eingabeblatt!$G170,'Table females'!$A$3:$E$138,5)*(Eingabeblatt!J170+Eingabeblatt!K170)/2)))","v":""},{"$f":"CONCATENATE(\" \",IF(OR(J170=\"\",K170=\"\",L170=\"\"),\"\",IF(B170=\"m\",'Table males'!D$141,'Table females'!D$141)))","v":" "},"",""]
[{"$nulls":6},"",{"$nulls":4},{"$f":"IF(OR(C171=\"\",G171=\"\",H171=\"\",I171=\"\",K171=\"\",B171=Dropdownliste!A$9,J171=\"\"),\"\",IF(B171=\"m\",(VLOOKUP(Eingabeblatt!$G171,'Table males'!$A$3:$E$138,2)+(VLOOKUP(Eingabeblatt!$G171,'Table males'!$A$3:$E$138,3)*Eingabeblatt!I171)+(VLOOKUP(Eingabeblatt!$G171,'Table males'!$A$3:$E$138,4)*Eingabeblatt!H171)+(VLOOKUP(Eingabeblatt!$G171,'Table males'!$A$3:$E$138,5)*(Eingabeblatt!J171+Eingabeblatt!K171)/2)),VLOOKUP(Eingabeblatt!$G171,'Table females'!$A$3:$E$138,2)+(VLOOKUP(Eingabeblatt!$G171,'Table females'!$A$3:$E$138,3)*Eingabeblatt!I171)+(VLOOKUP(Eingabeblatt!$G171,'Table females'!$A$3:$E$138,4)*Eingabeblatt!H171)+(VLOOKUP(Eingabeblatt!$G171,'Table females'!$A$3:$E$138,5)*(Eingabeblatt!J171+Eingabeblatt!K171)/2)))","v":""},{"$f":"CONCATENATE(\" \",IF(OR(J171=\"\",K171=\"\",L171=\"\"),\"\",IF(B171=\"m\",'Table males'!D$141,'Table females'!D$141)))","v":" "},"",""]
[{"$nulls":6},"",{"$nulls":4},{"$f":"IF(OR(C172=\"\",G172=\"\",H172=\"\",I172=\"\",K172=\"\",B172=Dropdownliste!A$9,J172=\"\"),\"\",IF(B172=\"m\",(VLOOKUP(Eingabeblatt!$G172,'Table males'!$A$3:$E$138,2)+(VLOOKUP(Eingabeblatt!$G172,'Table males'!$A$3:$E$138,3)*Eingabeblatt!I172)+(VLOOKUP(Eingabeblatt!$G172,'Table males'!$A$3:$E$138,4)*Eingabeblatt!H172)+(VLOOKUP(Eingabeblatt!$G172,'Table males'!$A$3:$E$138,5)*(Eingabeblatt!J172+Eingabeblatt!K172)/2)),VLOOKUP(Eingabeblatt!$G172,'Table females'!$A$3:$E$138,2)+(VLOOKUP(Eingabeblatt!$G172,'Table females'!$A$3:$E$138,3)*Eingabeblatt!I172)+(VLOOKUP(Eingabeblatt!$G172,'Table females'!$A$3:$E$138,4)*Eingabeblatt!H172)+(VLOOKUP(Eingabeblatt!$G172,'Table females'!$A$3:$E$138,5)*(Eingabeblatt!J172+Eingabeblatt!K172)/2)))","v":""},{"$f":"CONCATENATE(\" \",IF(OR(J172=\"\",K172=\"\",L172=\"\"),\"\",IF(B172=\"m\",'Table males'!D$141,'Table females'!D$141)))","v":" "},"",""]
[{"$nulls":6},"",{"$nulls":4},{"$f":"IF(OR(C173=\"\",G173=\"\",H173=\"\",I173=\"\",K173=\"\",B173=Dropdownliste!A$9,J173=\"\"),\"\",IF(B173=\"m\",(VLOOKUP(Eingabeblatt!$G173,'Table males'!$A$3:$E$138,2)+(VLOOKUP(Eingabeblatt!$G173,'Table males'!$A$3:$E$138,3)*Eingabeblatt!I173)+(VLOOKUP(Eingabeblatt!$G173,'Table males'!$A$3:$E$138,4)*Eingabeblatt!H173)+(VLOOKUP(Eingabeblatt!$G173,'Table males'!$A$3:$E$138,5)*(Eingabeblatt!J173+Eingabeblatt!K173)/2)),VLOOKUP(Eingabeblatt!$G173,'Table females'!$A$3:$E$138,2)+(VLOOKUP(Eingabeblatt!$G173,'Table females'!$A$3:$E$138,3)*Eingabeblatt!I173)+(VLOOKUP(Eingabeblatt!$G173,'Table females'!$A$3:$E$138,4)*Eingabeblatt!H173)+(VLOOKUP(Eingabeblatt!$G173,'Table females'!$A$3:$E$138,5)*(Eingabeblatt!J173+Eingabeblatt!K173)/2)))","v":""},{"$f":"CONCATENATE(\" \",IF(OR(J173=\"\",K173=\"\",L173=\"\"),\"\",IF(B173=\"m\",'Table males'!D$141,'Table females'!D$141)))","v":" "},"",""]
[{"$nulls":6},"",{"$nulls":4},{"$f":"IF(OR(C174=\"\",G174=\"\",H174=\"\",I174=\"\",K174=\"\",B174=Dropdownliste!A$9,J174=\"\"),\"\",IF(B174=\"m\",(VLOOKUP(Eingabeblatt!$G174,'Table males'!$A$3:$E$138,2)+(VLOOKUP(Eingabeblatt!$G174,'Table males'!$A$3:$E$138,3)*Eingabeblatt!I174)+(VLOOKUP(Eingabeblatt!$G174,'Table males'!$A$3:$E$138,4)*Eingabeblatt!H174)+(VLOOKUP(Eingabeblatt!$G174,'Table males'!$A$3:$E$138,5)*(Eingabeblatt!J174+Eingabeblatt!K174)/2)),VLOOKUP(Eingabeblatt!$G174,'Table females'!$A$3:$E$138,2)+(VLOOKUP(Eingabeblatt!$G174,'Table females'!$A$3:$E$138,3)*Eingabeblatt!I174)+(VLOOKUP(Eingabeblatt!$G174,'Table females'!$A$3:$E$138,4)*Eingabeblatt!H174)+(VLOOKUP(Eingabeblatt!$G174,'Table females'!$A$3:$E$138,5)*(Eingabeblatt!J174+Eingabeblatt!K174)/2)))","v":""},{"$f":"CONCATENATE(\" \",IF(OR(J174=\"\",K174=\"\",L174=\"\"),\"\",IF(B174=\"m\",'Table males'!D$141,'Table females'!D$141)))","v":" "},"",""]
[{"$nulls":6},"",{"$nulls":4},{"$f":"IF(OR(C175=\"\",G175=\"\",H175=\"\",I175=\"\",K175=\"\",B175=Dropdownliste!A$9,J175=\"\"),\"\",IF(B175=\"m\",(VLOOKUP(Eingabeblatt!$G175,'Table males'!$A$3:$E$138,2)+(VLOOKUP(Eingabeblatt!$G175,'Table males'!$A$3:$E$138,3)*Eingabeblatt!I175)+(VLOOKUP(Eingabeblatt!$G175,'Table males'!$A$3:$E$138,4)*Eingabeblatt!H175)+(VLOOKUP(Eingabeblatt!$G175,'Table males'!$A$3:$E$138,5)*(Eingabeblatt!J175+Eingabeblatt!K175)/2)),VLOOKUP(Eingabeblatt!$G175,'Table females'!$A$3:$E$138,2)+(VLOOKUP(Eingabeblatt!$G175,'Table females'!$A$3:$E$138,3)*Eingabeblatt!I175)+(VLOOKUP(Eingabeblatt!$G175,'Table females'!$A$3:$E$138,4)*Eingabeblatt!H175)+(VLOOKUP(Eingabeblatt!$G175,'Table females'!$A$3:$E$138,5)*(Eingabeblatt!J175+Eingabeblatt!K175)/2)))","v":""},{"$f":"CONCATENATE(\" \",IF(OR(J175=\"\",K175=\"\",L175=\"\"),\"\",IF(B175=\"m\",'Table males'!D$141,'Table females'!D$141)))","v":" "},"",""]
[{"$nulls":6},"",{"$nulls":4},{"$f":"IF(OR(C176=\"\",G176=\"\",H176=\"\",I176=\"\",K176=\"\",B176=Dropdownliste!A$9,J176=\"\"),\"\",IF(B176=\"m\",(VLOOKUP(Eingabeblatt!$G176,'Table males'!$A$3:$E$138,2)+(VLOOKUP(Eingabeblatt!$G176,'Table males'!$A$3:$E$138,3)*Eingabeblatt!I176)+(VLOOKUP(Eingabeblatt!$G176,'Table males'!$A$3:$E$138,4)*Eingabeblatt!H176)+(VLOOKUP(Eingabeblatt!$G176,'Table males'!$A$3:$E$138,5)*(Eingabeblatt!J176+Eingabeblatt!K176)/2)),VLOOKUP(Eingabeblatt!$G176,'Table females'!$A$3:$E$138,2)+(VLOOKUP(Eingabeblatt!$G176,'Table females'!$A$3:$E$138,3)*Eingabeblatt!I176)+(VLOOKUP(Eingabeblatt!$G176,'Table females'!$A$3:$E$138,4)*Eingabeblatt!H176)+(VLOOKUP(Eingabeblatt!$G176,'Table females'!$A$3:$E$138,5)*(Eingabeblatt!J176+Eingabeblatt!K176)/2)))","v":""},{"$f":"CONCATENATE(\" \",IF(OR(J176=\"\",K176=\"\",L176=\"\"),\"\",IF(B176=\"m\",'Table males'!D$141,'Table females'!D$141)))","v":" "},"",""]
[{"$nulls":6},"",{"$nulls":4},{"$f":"IF(OR(C177=\"\",G177=\"\",H177=\"\",I177=\"\",K177=\"\",B177=Dropdownliste!A$9,J177=\"\"),\"\",IF(B177=\"m\",(VLOOKUP(Eingabeblatt!$G177,'Table males'!$A$3:$E$138,2)+(VLOOKUP(Eingabeblatt!$G177,'Table males'!$A$3:$E$138,3)*Eingabeblatt!I177)+(VLOOKUP(Eingabeblatt!$G177,'Table males'!$A$3:$E$138,4)*Eingabeblatt!H177)+(VLOOKUP(Eingabeblatt!$G177,'Table males'!$A$3:$E$138,5)*(Eingabeblatt!J177+Eingabeblatt!K177)/2)),VLOOKUP(Eingabeblatt!$G177,'Table females'!$A$3:$E$138,2)+(VLOOKUP(Eingabeblatt!$G177,'Table females'!$A$3:$E$138,3)*Eingabeblatt!I177)+(VLOOKUP(Eingabeblatt!$G177,'Table females'!$A$3:$E$138,4)*Eingabeblatt!H177)+(VLOOKUP(Eingabeblatt!$G177,'Table females'!$A$3:$E$138,5)*(Eingabeblatt!J177+Eingabeblatt!K177)/2)))","v":""},{"$f":"CONCATENATE(\" \",IF(OR(J177=\"\",K177=\"\",L177=\"\"),\"\",IF(B177=\"m\",'Table males'!D$141,'Table females'!D$141)))","v":" "},"",""]
[{"$nulls":6},"",{"$nulls":4},{"$f":"IF(OR(C178=\"\",G178=\"\",H178=\"\",I178=\"\",K178=\"\",B178=Dropdownliste!A$9,J178=\"\"),\"\",IF(B178=\"m\",(VLOOKUP(Eingabeblatt!$G178,'Table males'!$A$3:$E$138,2)+(VLOOKUP(Eingabeblatt!$G178,'Table males'!$A$3:$E$138,3)*Eingabeblatt!I178)+(VLOOKUP(Eingabeblatt!$G178,'Table males'!$A$3:$E$138,4)*Eingabeblatt!H178)+(VLOOKUP(Eingabeblatt!$G178,'Table males'!$A$3:$E$138,5)*(Eingabeblatt!J178+Eingabeblatt!K178)/2)),VLOOKUP(Eingabeblatt!$G178,'Table females'!$A$3:$E$138,2)+(VLOOKUP(Eingabeblatt!$G178,'Table females'!$A$3:$E$138,3)*Eingabeblatt!I178)+(VLOOKUP(Eingabeblatt!$G178,'Table females'!$A$3:$E$138,4)*Eingabeblatt!H178)+(VLOOKUP(Eingabeblatt!$G178,'Table females'!$A$3:$E$138,5)*(Eingabeblatt!J178+Eingabeblatt!K178)/2)))","v":""},{"$f":"CONCATENATE(\" \",IF(OR(J178=\"\",K178=\"\",L178=\"\"),\"\",IF(B178=\"m\",'Table males'!D$141,'Table females'!D$141)))","v":" "},"",""]
[{"$nulls":6},"",{"$nulls":4},{"$f":"IF(OR(C179=\"\",G179=\"\",H179=\"\",I179=\"\",K179=\"\",B179=Dropdownliste!A$9,J179=\"\"),\"\",IF(B179=\"m\",(VLOOKUP(Eingabeblatt!$G179,'Table males'!$A$3:$E$138,2)+(VLOOKUP(Eingabeblatt!$G179,'Table males'!$A$3:$E$138,3)*Eingabeblatt!I179)+(VLOOKUP(Eingabeblatt!$G179,'Table males'!$A$3:$E$138,4)*Eingabeblatt!H179)+(VLOOKUP(Eingabeblatt!$G179,'Table males'!$A$3:$E$138,5)*(Eingabeblatt!J179+Eingabeblatt!K179)/2)),VLOOKUP(Eingabeblatt!$G179,'Table females'!$A$3:$E$138,2)+(VLOOKUP(Eingabeblatt!$G179,'Table females'!$A$3:$E$138,3)*Eingabeblatt!I179)+(VLOOKUP(Eingabeblatt!$G179,'Table females'!$A$3:$E$138,4)*Eingabeblatt!H179)+(VLOOKUP(Eingabeblatt!$G179,'Table females'!$A$3:$E$138,5)*(Eingabeblatt!J179+Eingabeblatt!K179)/2)))","v":""},{"$f":"CONCATENATE(\" \",IF(OR(J179=\"\",K179=\"\",L179=\"\"),\"\",IF(B179=\"m\",'Table males'!D$141,'Table females'!D$141)))","v":" "},"",""]
[{"$nulls":6},"",{"$nulls":4},{"$f":"IF(OR(C180=\"\",G180=\"\",H180=\"\",I180=\"\",K180=\"\",B180=Dropdownliste!A$9,J180=\"\"),\"\",IF(B180=\"m\",(VLOOKUP(Eingabeblatt!$G180,'Table males'!$A$3:$E$138,2)+(VLOOKUP(Eingabeblatt!$G180,'Table males'!$A$3:$E$138,3)*Eingabeblatt!I180)+(VLOOKUP(Eingabeblatt!$G180,'Table males'!$A$3:$E$138,4)*Eingabeblatt!H180)+(VLOOKUP(Eingabeblatt!$G180,'Table males'!$A$3:$E$138,5)*(Eingabeblatt!J180+Eingabeblatt!K180)/2)),VLOOKUP(Eingabeblatt!$G180,'Table females'!$A$3:$E$138,2)+(VLOOKUP(Eingabeblatt!$G180,'Table females'!$A$3:$E$138,3)*Eingabeblatt!I180)+(VLOOKUP(Eingabeblatt!$G180,'Table females'!$A$3:$E$138,4)*Eingabeblatt!H180)+(VLOOKUP(Eingabeblatt!$G180,'Table females'!$A$3:$E$138,5)*(Eingabeblatt!J180+Eingabeblatt!K180)/2)))","v":""},{"$f":"CONCATENATE(\" \",IF(OR(J180=\"\",K180=\"\",L180=\"\"),\"\",IF(B180=\"m\",'Table males'!D$141,'Table females'!D$141)))","v":" "},"",""]
[{"$nulls":6},"",{"$nulls":4},{"$f":"IF(OR(C181=\"\",G181=\"\",H181=\"\",I181=\"\",K181=\"\",B181=Dropdownliste!A$9,J181=\"\"),\"\",IF(B181=\"m\",(VLOOKUP(Eingabeblatt!$G181,'Table males'!$A$3:$E$138,2)+(VLOOKUP(Eingabeblatt!$G181,'Table males'!$A$3:$E$138,3)*Eingabeblatt!I181)+(VLOOKUP(Eingabeblatt!$G181,'Table males'!$A$3:$E$138,4)*Eingabeblatt!H181)+(VLOOKUP(Eingabeblatt!$G181,'Table males'!$A$3:$E$138,5)*(Eingabeblatt!J181+Eingabeblatt!K181)/2)),VLOOKUP(Eingabeblatt!$G181,'Table females'!$A$3:$E$138,2)+(VLOOKUP(Eingabeblatt!$G181,'Table females'!$A$3:$E$138,3)*Eingabeblatt!I181)+(VLOOKUP(Eingabeblatt!$G181,'Table females'!$A$3:$E$138,4)*Eingabeblatt!H181)+(VLOOKUP(Eingabeblatt!$G181,'Table females'!$A$3:$E$138,5)*(Eingabeblatt!J181+Eingabeblatt!K181)/2)))","v":""},{"$f":"CONCATENATE(\" \",IF(OR(J181=\"\",K181=\"\",L181=\"\"),\"\",IF(B181=\"m\",'Table males'!D$141,'Table females'!D$141)))","v":" "},"",""]
[{"$nulls":6},"",{"$nulls":4},{"$f":"IF(OR(C182=\"\",G182=\"\",H182=\"\",I182=\"\",K182=\"\",B182=Dropdownliste!A$9,J182=\"\"),\"\",IF(B182=\"m\",(VLOOKUP(Eingabeblatt!$G182,'Table males'!$A$3:$E$138,2)+(VLOOKUP(Eingabeblatt!$G182,'Table males'!$A$3:$E$138,3)*Eingabeblatt!I182)+(VLOOKUP(Eingabeblatt!$G182,'Table males'!$A$3:$E$138,4)*Eingabeblatt!H182)+(VLOOKUP(Eingabeblatt!$G182,'Table males'!$A$3:$E$138,5)*(Eingabeblatt!J182+Eingabeblatt!K182)/2)),VLOOKUP(Eingabeblatt!$G182,'Table females'!$A$3:$E$138,2)+(VLOOKUP(Eingabeblatt!$G182,'Table females'!$A$3:$E$138,3)*Eingabeblatt!I182)+(VLOOKUP(Eingabeblatt!$G182,'Table females'!$A$3:$E$138,4)*Eingabeblatt!H182)+(VLOOKUP(Eingabeblatt!$G182,'Table females'!$A$3:$E$138,5)*(Eingabeblatt!J182+Eingabeblatt!K182)/2)))","v":""},{"$f":"CONCATENATE(\" \",IF(OR(J182=\"\",K182=\"\",L182=\"\"),\"\",IF(B182=\"m\",'Table males'!D$141,'Table females'!D$141)))","v":" "},"",""]
[{"$nulls":6},"",{"$nulls":4},{"$f":"IF(OR(C183=\"\",G183=\"\",H183=\"\",I183=\"\",K183=\"\",B183=Dropdownliste!A$9,J183=\"\"),\"\",IF(B183=\"m\",(VLOOKUP(Eingabeblatt!$G183,'Table males'!$A$3:$E$138,2)+(VLOOKUP(Eingabeblatt!$G183,'Table males'!$A$3:$E$138,3)*Eingabeblatt!I183)+(VLOOKUP(Eingabeblatt!$G183,'Table males'!$A$3:$E$138,4)*Eingabeblatt!H183)+(VLOOKUP(Eingabeblatt!$G183,'Table males'!$A$3:$E$138,5)*(Eingabeblatt!J183+Eingabeblatt!K183)/2)),VLOOKUP(Eingabeblatt!$G183,'Table females'!$A$3:$E$138,2)+(VLOOKUP(Eingabeblatt!$G183,'Table females'!$A$3:$E$138,3)*Eingabeblatt!I183)+(VLOOKUP(Eingabeblatt!$G183,'Table females'!$A$3:$E$138,4)*Eingabeblatt!H183)+(VLOOKUP(Eingabeblatt!$G183,'Table females'!$A$3:$E$138,5)*(Eingabeblatt!J183+Eingabeblatt!K183)/2)))","v":""},{"$f":"CONCATENATE(\" \",IF(OR(J183=\"\",K183=\"\",L183=\"\"),\"\",IF(B183=\"m\",'Table males'!D$141,'Table females'!D$141)))","v":" "},"",""]
[{"$nulls":6},"",{"$nulls":4},{"$f":"IF(OR(C184=\"\",G184=\"\",H184=\"\",I184=\"\",K184=\"\",B184=Dropdownliste!A$9,J184=\"\"),\"\",IF(B184=\"m\",(VLOOKUP(Eingabeblatt!$G184,'Table males'!$A$3:$E$138,2)+(VLOOKUP(Eingabeblatt!$G184,'Table males'!$A$3:$E$138,3)*Eingabeblatt!I184)+(VLOOKUP(Eingabeblatt!$G184,'Table males'!$A$3:$E$138,4)*Eingabeblatt!H184)+(VLOOKUP(Eingabeblatt!$G184,'Table males'!$A$3:$E$138,5)*(Eingabeblatt!J184+Eingabeblatt!K184)/2)),VLOOKUP(Eingabeblatt!$G184,'Table females'!$A$3:$E$138,2)+(VLOOKUP(Eingabeblatt!$G184,'Table females'!$A$3:$E$138,3)*Eingabeblatt!I184)+(VLOOKUP(Eingabeblatt!$G184,'Table females'!$A$3:$E$138,4)*Eingabeblatt!H184)+(VLOOKUP(Eingabeblatt!$G184,'Table females'!$A$3:$E$138,5)*(Eingabeblatt!J184+Eingabeblatt!K184)/2)))","v":""},{"$f":"CONCATENATE(\" \",IF(OR(J184=\"\",K184=\"\",L184=\"\"),\"\",IF(B184=\"m\",'Table males'!D$141,'Table females'!D$141)))","v":" "},"",""]
[{"$nulls":6},"",{"$nulls":4},{"$f":"IF(OR(C185=\"\",G185=\"\",H185=\"\",I185=\"\",K185=\"\",B185=Dropdownliste!A$9,J185=\"\"),\"\",IF(B185=\"m\",(VLOOKUP(Eingabeblatt!$G185,'Table males'!$A$3:$E$138,2)+(VLOOKUP(Eingabeblatt!$G185,'Table males'!$A$3:$E$138,3)*Eingabeblatt!I185)+(VLOOKUP(Eingabeblatt!$G185,'Table males'!$A$3:$E$138,4)*Eingabeblatt!H185)+(VLOOKUP(Eingabeblatt!$G185,'Table males'!$A$3:$E$138,5)*(Eingabeblatt!J185+Eingabeblatt!K185)/2)),VLOOKUP(Eingabeblatt!$G185,'Table females'!$A$3:$E$138,2)+(VLOOKUP(Eingabeblatt!$G185,'Table females'!$A$3:$E$138,3)*Eingabeblatt!I185)+(VLOOKUP(Eingabeblatt!$G185,'Table females'!$A$3:$E$138,4)*Eingabeblatt!H185)+(VLOOKUP(Eingabeblatt!$G185,'Table females'!$A$3:$E$138,5)*(Eingabeblatt!J185+Eingabeblatt!K185)/2)))","v":""},{"$f":"CONCATENATE(\" \",IF(OR(J185=\"\",K185=\"\",L185=\"\"),\"\",IF(B185=\"m\",'Table males'!D$141,'Table females'!D$141)))","v":" "},"",""]
[{"$nulls":6},"",{"$nulls":4},{"$f":"IF(OR(C186=\"\",G186=\"\",H186=\"\",I186=\"\",K186=\"\",B186=Dropdownliste!A$9,J186=\"\"),\"\",IF(B186=\"m\",(VLOOKUP(Eingabeblatt!$G186,'Table males'!$A$3:$E$138,2)+(VLOOKUP(Eingabeblatt!$G186,'Table males'!$A$3:$E$138,3)*Eingabeblatt!I186)+(VLOOKUP(Eingabeblatt!$G186,'Table males'!$A$3:$E$138,4)*Eingabeblatt!H186)+(VLOOKUP(Eingabeblatt!$G186,'Table males'!$A$3:$E$138,5)*(Eingabeblatt!J186+Eingabeblatt!K186)/2)),VLOOKUP(Eingabeblatt!$G186,'Table females'!$A$3:$E$138,2)+(VLOOKUP(Eingabeblatt!$G186,'Table females'!$A$3:$E$138,3)*Eingabeblatt!I186)+(VLOOKUP(Eingabeblatt!$G186,'Table females'!$A$3:$E$138,4)*Eingabeblatt!H186)+(VLOOKUP(Eingabeblatt!$G186,'Table females'!$A$3:$E$138,5)*(Eingabeblatt!J186+Eingabeblatt!K186)/2)))","v":""},{"$f":"CONCATENATE(\" \",IF(OR(J186=\"\",K186=\"\",L186=\"\"),\"\",IF(B186=\"m\",'Table males'!D$141,'Table females'!D$141)))","v":" "},"",""]
[{"$nulls":6},"",{"$nulls":4},{"$f":"IF(OR(C187=\"\",G187=\"\",H187=\"\",I187=\"\",K187=\"\",B187=Dropdownliste!A$9,J187=\"\"),\"\",IF(B187=\"m\",(VLOOKUP(Eingabeblatt!$G187,'Table males'!$A$3:$E$138,2)+(VLOOKUP(Eingabeblatt!$G187,'Table males'!$A$3:$E$138,3)*Eingabeblatt!I187)+(VLOOKUP(Eingabeblatt!$G187,'Table males'!$A$3:$E$138,4)*Eingabeblatt!H187)+(VLOOKUP(Eingabeblatt!$G187,'Table males'!$A$3:$E$138,5)*(Eingabeblatt!J187+Eingabeblatt!K187)/2)),VLOOKUP(Eingabeblatt!$G187,'Table females'!$A$3:$E$138,2)+(VLOOKUP(Eingabeblatt!$G187,'Table females'!$A$3:$E$138,3)*Eingabeblatt!I187)+(VLOOKUP(Eingabeblatt!$G187,'Table females'!$A$3:$E$138,4)*Eingabeblatt!H187)+(VLOOKUP(Eingabeblatt!$G187,'Table females'!$A$3:$E$138,5)*(Eingabeblatt!J187+Eingabeblatt!K187)/2)))","v":""},{"$f":"CONCATENATE(\" \",IF(OR(J187=\"\",K187=\"\",L187=\"\"),\"\",IF(B187=\"m\",'Table males'!D$141,'Table females'!D$141)))","v":" "},"",""]
[{"$nulls":6},"",{"$nulls":4},{"$f":"IF(OR(C188=\"\",G188=\"\",H188=\"\",I188=\"\",K188=\"\",B188=Dropdownliste!A$9,J188=\"\"),\"\",IF(B188=\"m\",(VLOOKUP(Eingabeblatt!$G188,'Table males'!$A$3:$E$138,2)+(VLOOKUP(Eingabeblatt!$G188,'Table males'!$A$3:$E$138,3)*Eingabeblatt!I188)+(VLOOKUP(Eingabeblatt!$G188,'Table males'!$A$3:$E$138,4)*Eingabeblatt!H188)+(VLOOKUP(Eingabeblatt!$G188,'Table males'!$A$3:$E$138,5)*(Eingabeblatt!J188+Eingabeblatt!K188)/2)),VLOOKUP(Eingabeblatt!$G188,'Table females'!$A$3:$E$138,2)+(VLOOKUP(Eingabeblatt!$G188,'Table females'!$A$3:$E$138,3)*Eingabeblatt!I188)+(VLOOKUP(Eingabeblatt!$G188,'Table females'!$A$3:$E$138,4)*Eingabeblatt!H188)+(VLOOKUP(Eingabeblatt!$G188,'Table females'!$A$3:$E$138,5)*(Eingabeblatt!J188+Eingabeblatt!K188)/2)))","v":""},{"$f":"CONCATENATE(\" \",IF(OR(J188=\"\",K188=\"\",L188=\"\"),\"\",IF(B188=\"m\",'Table males'!D$141,'Table females'!D$141)))","v":" "},"",""]
[{"$nulls":6},"",{"$nulls":4},{"$f":"IF(OR(C189=\"\",G189=\"\",H189=\"\",I189=\"\",K189=\"\",B189=Dropdownliste!A$9,J189=\"\"),\"\",IF(B189=\"m\",(VLOOKUP(Eingabeblatt!$G189,'Table males'!$A$3:$E$138,2)+(VLOOKUP(Eingabeblatt!$G189,'Table males'!$A$3:$E$138,3)*Eingabeblatt!I189)+(VLOOKUP(Eingabeblatt!$G189,'Table males'!$A$3:$E$138,4)*Eingabeblatt!H189)+(VLOOKUP(Eingabeblatt!$G189,'Table males'!$A$3:$E$138,5)*(Eingabeblatt!J189+Eingabeblatt!K189)/2)),VLOOKUP(Eingabeblatt!$G189,'Table females'!$A$3:$E$138,2)+(VLOOKUP(Eingabeblatt!$G189,'Table females'!$A$3:$E$138,3)*Eingabeblatt!I189)+(VLOOKUP(Eingabeblatt!$G189,'Table females'!$A$3:$E$138,4)*Eingabeblatt!H189)+(VLOOKUP(Eingabeblatt!$G189,'Table females'!$A$3:$E$138,5)*(Eingabeblatt!J189+Eingabeblatt!K189)/2)))","v":""},{"$f":"CONCATENATE(\" \",IF(OR(J189=\"\",K189=\"\",L189=\"\"),\"\",IF(B189=\"m\",'Table males'!D$141,'Table females'!D$141)))","v":" "},"",""]
[{"$nulls":6},"",{"$nulls":4},{"$f":"IF(OR(C190=\"\",G190=\"\",H190=\"\",I190=\"\",K190=\"\",B190=Dropdownliste!A$9,J190=\"\"),\"\",IF(B190=\"m\",(VLOOKUP(Eingabeblatt!$G190,'Table males'!$A$3:$E$138,2)+(VLOOKUP(Eingabeblatt!$G190,'Table males'!$A$3:$E$138,3)*Eingabeblatt!I190)+(VLOOKUP(Eingabeblatt!$G190,'Table males'!$A$3:$E$138,4)*Eingabeblatt!H190)+(VLOOKUP(Eingabeblatt!$G190,'Table males'!$A$3:$E$138,5)*(Eingabeblatt!J190+Eingabeblatt!K190)/2)),VLOOKUP(Eingabeblatt!$G190,'Table females'!$A$3:$E$138,2)+(VLOOKUP(Eingabeblatt!$G190,'Table females'!$A$3:$E$138,3)*Eingabeblatt!I190)+(VLOOKUP(Eingabeblatt!$G190,'Table females'!$A$3:$E$138,4)*Eingabeblatt!H190)+(VLOOKUP(Eingabeblatt!$G190,'Table females'!$A$3:$E$138,5)*(Eingabeblatt!J190+Eingabeblatt!K190)/2)))","v":""},{"$f":"CONCATENATE(\" \",IF(OR(J190=\"\",K190=\"\",L190=\"\"),\"\",IF(B190=\"m\",'Table males'!D$141,'Table females'!D$141)))","v":" "},"",""]
[{"$nulls":6},"",{"$nulls":4},{"$f":"IF(OR(C191=\"\",G191=\"\",H191=\"\",I191=\"\",K191=\"\",B191=Dropdownliste!A$9,J191=\"\"),\"\",IF(B191=\"m\",(VLOOKUP(Eingabeblatt!$G191,'Table males'!$A$3:$E$138,2)+(VLOOKUP(Eingabeblatt!$G191,'Table males'!$A$3:$E$138,3)*Eingabeblatt!I191)+(VLOOKUP(Eingabeblatt!$G191,'Table males'!$A$3:$E$138,4)*Eingabeblatt!H191)+(VLOOKUP(Eingabeblatt!$G191,'Table males'!$A$3:$E$138,5)*(Eingabeblatt!J191+Eingabeblatt!K191)/2)),VLOOKUP(Eingabeblatt!$G191,'Table females'!$A$3:$E$138,2)+(VLOOKUP(Eingabeblatt!$G191,'Table females'!$A$3:$E$138,3)*Eingabeblatt!I191)+(VLOOKUP(Eingabeblatt!$G191,'Table females'!$A$3:$E$138,4)*Eingabeblatt!H191)+(VLOOKUP(Eingabeblatt!$G191,'Table females'!$A$3:$E$138,5)*(Eingabeblatt!J191+Eingabeblatt!K191)/2)))","v":""},{"$f":"CONCATENATE(\" \",IF(OR(J191=\"\",K191=\"\",L191=\"\"),\"\",IF(B191=\"m\",'Table males'!D$141,'Table females'!D$141)))","v":" "},"",""]
[{"$nulls":6},"",{"$nulls":4},{"$f":"IF(OR(C192=\"\",G192=\"\",H192=\"\",I192=\"\",K192=\"\",B192=Dropdownliste!A$9,J192=\"\"),\"\",IF(B192=\"m\",(VLOOKUP(Eingabeblatt!$G192,'Table males'!$A$3:$E$138,2)+(VLOOKUP(Eingabeblatt!$G192,'Table males'!$A$3:$E$138,3)*Eingabeblatt!I192)+(VLOOKUP(Eingabeblatt!$G192,'Table males'!$A$3:$E$138,4)*Eingabeblatt!H192)+(VLOOKUP(Eingabeblatt!$G192,'Table males'!$A$3:$E$138,5)*(Eingabeblatt!J192+Eingabeblatt!K192)/2)),VLOOKUP(Eingabeblatt!$G192,'Table females'!$A$3:$E$138,2)+(VLOOKUP(Eingabeblatt!$G192,'Table females'!$A$3:$E$138,3)*Eingabeblatt!I192)+(VLOOKUP(Eingabeblatt!$G192,'Table females'!$A$3:$E$138,4)*Eingabeblatt!H192)+(VLOOKUP(Eingabeblatt!$G192,'Table females'!$A$3:$E$138,5)*(Eingabeblatt!J192+Eingabeblatt!K192)/2)))","v":""},{"$f":"CONCATENATE(\" \",IF(OR(J192=\"\",K192=\"\",L192=\"\"),\"\",IF(B192=\"m\",'Table males'!D$141,'Table females'!D$141)))","v":" "},"",""]
[{"$nulls":6},"",{"$nulls":4},{"$f":"IF(OR(C193=\"\",G193=\"\",H193=\"\",I193=\"\",K193=\"\",B193=Dropdownliste!A$9,J193=\"\"),\"\",IF(B193=\"m\",(VLOOKUP(Eingabeblatt!$G193,'Table males'!$A$3:$E$138,2)+(VLOOKUP(Eingabeblatt!$G193,'Table males'!$A$3:$E$138,3)*Eingabeblatt!I193)+(VLOOKUP(Eingabeblatt!$G193,'Table males'!$A$3:$E$138,4)*Eingabeblatt!H193)+(VLOOKUP(Eingabeblatt!$G193,'Table males'!$A$3:$E$138,5)*(Eingabeblatt!J193+Eingabeblatt!K193)/2)),VLOOKUP(Eingabeblatt!$G193,'Table females'!$A$3:$E$138,2)+(VLOOKUP(Eingabeblatt!$G193,'Table females'!$A$3:$E$138,3)*Eingabeblatt!I193)+(VLOOKUP(Eingabeblatt!$G193,'Table females'!$A$3:$E$138,4)*Eingabeblatt!H193)+(VLOOKUP(Eingabeblatt!$G193,'Table females'!$A$3:$E$138,5)*(Eingabeblatt!J193+Eingabeblatt!K193)/2)))","v":""},{"$f":"CONCATENATE(\" \",IF(OR(J193=\"\",K193=\"\",L193=\"\"),\"\",IF(B193=\"m\",'Table males'!D$141,'Table females'!D$141)))","v":" "},"",""]
[{"$nulls":6},"",{"$nulls":4},{"$f":"IF(OR(C194=\"\",G194=\"\",H194=\"\",I194=\"\",K194=\"\",B194=Dropdownliste!A$9,J194=\"\"),\"\",IF(B194=\"m\",(VLOOKUP(Eingabeblatt!$G194,'Table males'!$A$3:$E$138,2)+(VLOOKUP(Eingabeblatt!$G194,'Table males'!$A$3:$E$138,3)*Eingabeblatt!I194)+(VLOOKUP(Eingabeblatt!$G194,'Table males'!$A$3:$E$138,4)*Eingabeblatt!H194)+(VLOOKUP(Eingabeblatt!$G194,'Table males'!$A$3:$E$138,5)*(Eingabeblatt!J194+Eingabeblatt!K194)/2)),VLOOKUP(Eingabeblatt!$G194,'Table females'!$A$3:$E$138,2)+(VLOOKUP(Eingabeblatt!$G194,'Table females'!$A$3:$E$138,3)*Eingabeblatt!I194)+(VLOOKUP(Eingabeblatt!$G194,'Table females'!$A$3:$E$138,4)*Eingabeblatt!H194)+(VLOOKUP(Eingabeblatt!$G194,'Table females'!$A$3:$E$138,5)*(Eingabeblatt!J194+Eingabeblatt!K194)/2)))","v":""},{"$f":"CONCATENATE(\" \",IF(OR(J194=\"\",K194=\"\",L194=\"\"),\"\",IF(B194=\"m\",'Table males'!D$141,'Table females'!D$141)))","v":" "},"",""]
[{"$nulls":6},"",{"$nulls":4},{"$f":"IF(OR(C195=\"\",G195=\"\",H195=\"\",I195=\"\",K195=\"\",B195=Dropdownliste!A$9,J195=\"\"),\"\",IF(B195=\"m\",(VLOOKUP(Eingabeblatt!$G195,'Table males'!$A$3:$E$138,2)+(VLOOKUP(Eingabeblatt!$G195,'Table males'!$A$3:$E$138,3)*Eingabeblatt!I195)+(VLOOKUP(Eingabeblatt!$G195,'Table males'!$A$3:$E$138,4)*Eingabeblatt!H195)+(VLOOKUP(Eingabeblatt!$G195,'Table males'!$A$3:$E$138,5)*(Eingabeblatt!J195+Eingabeblatt!K195)/2)),VLOOKUP(Eingabeblatt!$G195,'Table females'!$A$3:$E$138,2)+(VLOOKUP(Eingabeblatt!$G195,'Table females'!$A$3:$E$138,3)*Eingabeblatt!I195)+(VLOOKUP(Eingabeblatt!$G195,'Table females'!$A$3:$E$138,4)*Eingabeblatt!H195)+(VLOOKUP(Eingabeblatt!$G195,'Table females'!$A$3:$E$138,5)*(Eingabeblatt!J195+Eingabeblatt!K195)/2)))","v":""},{"$f":"CONCATENATE(\" \",IF(OR(J195=\"\",K195=\"\",L195=\"\"),\"\",IF(B195=\"m\",'Table males'!D$141,'Table females'!D$141)))","v":" "},"",""]
[{"$nulls":6},"",{"$nulls":4},{"$f":"IF(OR(C196=\"\",G196=\"\",H196=\"\",I196=\"\",K196=\"\",B196=Dropdownliste!A$9,J196=\"\"),\"\",IF(B196=\"m\",(VLOOKUP(Eingabeblatt!$G196,'Table males'!$A$3:$E$138,2)+(VLOOKUP(Eingabeblatt!$G196,'Table males'!$A$3:$E$138,3)*Eingabeblatt!I196)+(VLOOKUP(Eingabeblatt!$G196,'Table males'!$A$3:$E$138,4)*Eingabeblatt!H196)+(VLOOKUP(Eingabeblatt!$G196,'Table males'!$A$3:$E$138,5)*(Eingabeblatt!J196+Eingabeblatt!K196)/2)),VLOOKUP(Eingabeblatt!$G196,'Table females'!$A$3:$E$138,2)+(VLOOKUP(Eingabeblatt!$G196,'Table females'!$A$3:$E$138,3)*Eingabeblatt!I196)+(VLOOKUP(Eingabeblatt!$G196,'Table females'!$A$3:$E$138,4)*Eingabeblatt!H196)+(VLOOKUP(Eingabeblatt!$G196,'Table females'!$A$3:$E$138,5)*(Eingabeblatt!J196+Eingabeblatt!K196)/2)))","v":""},{"$f":"CONCATENATE(\" \",IF(OR(J196=\"\",K196=\"\",L196=\"\"),\"\",IF(B196=\"m\",'Table males'!D$141,'Table females'!D$141)))","v":" "},"",""]
[{"$nulls":6},"",{"$nulls":4},{"$f":"IF(OR(C197=\"\",G197=\"\",H197=\"\",I197=\"\",K197=\"\",B197=Dropdownliste!A$9,J197=\"\"),\"\",IF(B197=\"m\",(VLOOKUP(Eingabeblatt!$G197,'Table males'!$A$3:$E$138,2)+(VLOOKUP(Eingabeblatt!$G197,'Table males'!$A$3:$E$138,3)*Eingabeblatt!I197)+(VLOOKUP(Eingabeblatt!$G197,'Table males'!$A$3:$E$138,4)*Eingabeblatt!H197)+(VLOOKUP(Eingabeblatt!$G197,'Table males'!$A$3:$E$138,5)*(Eingabeblatt!J197+Eingabeblatt!K197)/2)),VLOOKUP(Eingabeblatt!$G197,'Table females'!$A$3:$E$138,2)+(VLOOKUP(Eingabeblatt!$G197,'Table females'!$A$3:$E$138,3)*Eingabeblatt!I197)+(VLOOKUP(Eingabeblatt!$G197,'Table females'!$A$3:$E$138,4)*Eingabeblatt!H197)+(VLOOKUP(Eingabeblatt!$G197,'Table females'!$A$3:$E$138,5)*(Eingabeblatt!J197+Eingabeblatt!K197)/2)))","v":""},{"$f":"CONCATENATE(\" \",IF(OR(J197=\"\",K197=\"\",L197=\"\"),\"\",IF(B197=\"m\",'Table males'!D$141,'Table females'!D$141)))","v":" "},"",""]
[{"$nulls":6},"",{"$nulls":4},{"$f":"IF(OR(C198=\"\",G198=\"\",H198=\"\",I198=\"\",K198=\"\",B198=Dropdownliste!A$9,J198=\"\"),\"\",IF(B198=\"m\",(VLOOKUP(Eingabeblatt!$G198,'Table males'!$A$3:$E$138,2)+(VLOOKUP(Eingabeblatt!$G198,'Table males'!$A$3:$E$138,3)*Eingabeblatt!I198)+(VLOOKUP(Eingabeblatt!$G198,'Table males'!$A$3:$E$138,4)*Eingabeblatt!H198)+(VLOOKUP(Eingabeblatt!$G198,'Table males'!$A$3:$E$138,5)*(Eingabeblatt!J198+Eingabeblatt!K198)/2)),VLOOKUP(Eingabeblatt!$G198,'Table females'!$A$3:$E$138,2)+(VLOOKUP(Eingabeblatt!$G198,'Table females'!$A$3:$E$138,3)*Eingabeblatt!I198)+(VLOOKUP(Eingabeblatt!$G198,'Table females'!$A$3:$E$138,4)*Eingabeblatt!H198)+(VLOOKUP(Eingabeblatt!$G198,'Table females'!$A$3:$E$138,5)*(Eingabeblatt!J198+Eingabeblatt!K198)/2)))","v":""},{"$f":"CONCATENATE(\" \",IF(OR(J198=\"\",K198=\"\",L198=\"\"),\"\",IF(B198=\"m\",'Table males'!D$141,'Table females'!D$141)))","v":" "},"",""]
[{"$nulls":6},{"$f":"IF(AND(C199>0,F199>0),(C199-F199)/365.25,\"\")","v":""},{"$nulls":4},{"$f":"IF(OR(C199=\"\",G199=\"\",H199=\"\",I199=\"\",K199=\"\",B199=Dropdownliste!A$9,J199=\"\"),\"\",IF(B199=\"m\",(VLOOKUP(Eingabeblatt!$G199,'Table males'!$A$3:$E$138,2)+(VLOOKUP(Eingabeblatt!$G199,'Table males'!$A$3:$E$138,3)*Eingabeblatt!I199)+(VLOOKUP(Eingabeblatt!$G199,'Table males'!$A$3:$E$138,4)*Eingabeblatt!H199)+(VLOOKUP(Eingabeblatt!$G199,'Table males'!$A$3:$E$138,5)*(Eingabeblatt!J199+Eingabeblatt!K199)/2)),VLOOKUP(Eingabeblatt!$G199,'Table females'!$A$3:$E$138,2)+(VLOOKUP(Eingabeblatt!$G199,'Table females'!$A$3:$E$138,3)*Eingabeblatt!I199)+(VLOOKUP(Eingabeblatt!$G199,'Table females'!$A$3:$E$138,4)*Eingabeblatt!H199)+(VLOOKUP(Eingabeblatt!$G199,'Table females'!$A$3:$E$138,5)*(Eingabeblatt!J199+Eingabeblatt!K199)/2)))","v":""},{"$f":"CONCATENATE(\" \",IF(OR(J199=\"\",K199=\"\",L199=\"\"),\"\",IF(B199=\"m\",'Table males'!D$141,'Table females'!D$141)))","v":" "},"",""]
[{"$nulls":6},"",{"$nulls":4},{"$f":"IF(OR(C200=\"\",G200=\"\",H200=\"\",I200=\"\",K200=\"\",B200=Dropdownliste!A$9,J200=\"\"),\"\",IF(B200=\"m\",(VLOOKUP(Eingabeblatt!$G200,'Table males'!$A$3:$E$138,2)+(VLOOKUP(Eingabeblatt!$G200,'Table males'!$A$3:$E$138,3)*Eingabeblatt!I200)+(VLOOKUP(Eingabeblatt!$G200,'Table males'!$A$3:$E$138,4)*Eingabeblatt!H200)+(VLOOKUP(Eingabeblatt!$G200,'Table males'!$A$3:$E$138,5)*(Eingabeblatt!J200+Eingabeblatt!K200)/2)),VLOOKUP(Eingabeblatt!$G200,'Table females'!$A$3:$E$138,2)+(VLOOKUP(Eingabeblatt!$G200,'Table females'!$A$3:$E$138,3)*Eingabeblatt!I200)+(VLOOKUP(Eingabeblatt!$G200,'Table females'!$A$3:$E$138,4)*Eingabeblatt!H200)+(VLOOKUP(Eingabeblatt!$G200,'Table females'!$A$3:$E$138,5)*(Eingabeblatt!J200+Eingabeblatt!K200)/2)))","v":""},{"$f":"CONCATENATE(\" \",IF(OR(J200=\"\",K200=\"\",L200=\"\"),\"\",IF(B200=\"m\",'Table males'!D$141,'Table females'!D$141)))","v":" "},"",""]
[{"$nulls":6},"",{"$nulls":4},{"$f":"IF(OR(C201=\"\",G201=\"\",H201=\"\",I201=\"\",K201=\"\",B201=Dropdownliste!A$9,J201=\"\"),\"\",IF(B201=\"m\",(VLOOKUP(Eingabeblatt!$G201,'Table males'!$A$3:$E$138,2)+(VLOOKUP(Eingabeblatt!$G201,'Table males'!$A$3:$E$138,3)*Eingabeblatt!I201)+(VLOOKUP(Eingabeblatt!$G201,'Table males'!$A$3:$E$138,4)*Eingabeblatt!H201)+(VLOOKUP(Eingabeblatt!$G201,'Table males'!$A$3:$E$138,5)*(Eingabeblatt!J201+Eingabeblatt!K201)/2)),VLOOKUP(Eingabeblatt!$G201,'Table females'!$A$3:$E$138,2)+(VLOOKUP(Eingabeblatt!$G201,'Table females'!$A$3:$E$138,3)*Eingabeblatt!I201)+(VLOOKUP(Eingabeblatt!$G201,'Table females'!$A$3:$E$138,4)*Eingabeblatt!H201)+(VLOOKUP(Eingabeblatt!$G201,'Table females'!$A$3:$E$138,5)*(Eingabeblatt!J201+Eingabeblatt!K201)/2)))","v":""},{"$f":"CONCATENATE(\" \",IF(OR(J201=\"\",K201=\"\",L201=\"\"),\"\",IF(B201=\"m\",'Table males'!D$141,'Table females'!D$141)))","v":" "},"",""]
[{"$nulls":6},"",{"$nulls":4},{"$f":"IF(OR(C202=\"\",G202=\"\",H202=\"\",I202=\"\",K202=\"\",B202=Dropdownliste!A$9,J202=\"\"),\"\",IF(B202=\"m\",(VLOOKUP(Eingabeblatt!$G202,'Table males'!$A$3:$E$138,2)+(VLOOKUP(Eingabeblatt!$G202,'Table males'!$A$3:$E$138,3)*Eingabeblatt!I202)+(VLOOKUP(Eingabeblatt!$G202,'Table males'!$A$3:$E$138,4)*Eingabeblatt!H202)+(VLOOKUP(Eingabeblatt!$G202,'Table males'!$A$3:$E$138,5)*(Eingabeblatt!J202+Eingabeblatt!K202)/2)),VLOOKUP(Eingabeblatt!$G202,'Table females'!$A$3:$E$138,2)+(VLOOKUP(Eingabeblatt!$G202,'Table females'!$A$3:$E$138,3)*Eingabeblatt!I202)+(VLOOKUP(Eingabeblatt!$G202,'Table females'!$A$3:$E$138,4)*Eingabeblatt!H202)+(VLOOKUP(Eingabeblatt!$G202,'Table females'!$A$3:$E$138,5)*(Eingabeblatt!J202+Eingabeblatt!K202)/2)))","v":""},{"$f":"CONCATENATE(\" \",IF(OR(J202=\"\",K202=\"\",L202=\"\"),\"\",IF(B202=\"m\",'Table males'!D$141,'Table females'!D$141)))","v":" "},{"$f":"IF(OR(J202=\"\",K202=\"\",I202=\"\",L202=\"\"),\"\",I202/L202)","v":""},{"$f":"IF(N202=\"\",\"\",IF(N202<0.8,\"vorpubertär / prépubère\",IF(N202<0.9,\"frühpubertär / début de la puberté\",IF(N202<0.95,\"pubertär / pubertaire\",\"spätpubertär / fin de la puberté\"))))","v":""}]
[{"$nulls":6},"",{"$nulls":4},{"$f":"IF(OR(C203=\"\",G203=\"\",H203=\"\",I203=\"\",K203=\"\",B203=Dropdownliste!A$9,J203=\"\"),\"\",IF(B203=\"m\",(VLOOKUP(Eingabeblatt!$G203,'Table males'!$A$3:$E$138,2)+(VLOOKUP(Eingabeblatt!$G203,'Table males'!$A$3:$E$138,3)*Eingabeblatt!I203)+(VLOOKUP(Eingabeblatt!$G203,'Table males'!$A$3:$E$138,4)*Eingabeblatt!H203)+(VLOOKUP(Eingabeblatt!$G203,'Table males'!$A$3:$E$138,5)*(Eingabeblatt!J203+Eingabeblatt!K203)/2)),VLOOKUP(Eingabeblatt!$G203,'Table females'!$A$3:$E$138,2)+(VLOOKUP(Eingabeblatt!$G203,'Table females'!$A$3:$E$138,3)*Eingabeblatt!I203)+(VLOOKUP(Eingabeblatt!$G203,'Table females'!$A$3:$E$138,4)*Eingabeblatt!H203)+(VLOOKUP(Eingabeblatt!$G203,'Table females'!$A$3:$E$138,5)*(Eingabeblatt!J203+Eingabeblatt!K203)/2)))","v":""},{"$f":"CONCATENATE(\" \",IF(OR(J203=\"\",K203=\"\",L203=\"\"),\"\",IF(B203=\"m\",'Table males'!D$141,'Table females'!D$141)))","v":" "},"",""]
[{"$nulls":6},"",{"$nulls":4},{"$f":"IF(OR(C204=\"\",G204=\"\",H204=\"\",I204=\"\",K204=\"\",B204=Dropdownliste!A$9,J204=\"\"),\"\",IF(B204=\"m\",(VLOOKUP(Eingabeblatt!$G204,'Table males'!$A$3:$E$138,2)+(VLOOKUP(Eingabeblatt!$G204,'Table males'!$A$3:$E$138,3)*Eingabeblatt!I204)+(VLOOKUP(Eingabeblatt!$G204,'Table males'!$A$3:$E$138,4)*Eingabeblatt!H204)+(VLOOKUP(Eingabeblatt!$G204,'Table males'!$A$3:$E$138,5)*(Eingabeblatt!J204+Eingabeblatt!K204)/2)),VLOOKUP(Eingabeblatt!$G204,'Table females'!$A$3:$E$138,2)+(VLOOKUP(Eingabeblatt!$G204,'Table females'!$A$3:$E$138,3)*Eingabeblatt!I204)+(VLOOKUP(Eingabeblatt!$G204,'Table females'!$A$3:$E$138,4)*Eingabeblatt!H204)+(VLOOKUP(Eingabeblatt!$G204,'Table females'!$A$3:$E$138,5)*(Eingabeblatt!J204+Eingabeblatt!K204)/2)))","v":""},{"$f":"CONCATENATE(\" \",IF(OR(J204=\"\",K204=\"\",L204=\"\"),\"\",IF(B204=\"m\",'Table males'!D$141,'Table females'!D$141)))","v":" "},"",""]
[{"$nulls":6},"",{"$nulls":4},{"$f":"IF(OR(C205=\"\",G205=\"\",H205=\"\",I205=\"\",K205=\"\",B205=Dropdownliste!A$9,J205=\"\"),\"\",IF(B205=\"m\",(VLOOKUP(Eingabeblatt!$G205,'Table males'!$A$3:$E$138,2)+(VLOOKUP(Eingabeblatt!$G205,'Table males'!$A$3:$E$138,3)*Eingabeblatt!I205)+(VLOOKUP(Eingabeblatt!$G205,'Table males'!$A$3:$E$138,4)*Eingabeblatt!H205)+(VLOOKUP(Eingabeblatt!$G205,'Table males'!$A$3:$E$138,5)*(Eingabeblatt!J205+Eingabeblatt!K205)/2)),VLOOKUP(Eingabeblatt!$G205,'Table females'!$A$3:$E$138,2)+(VLOOKUP(Eingabeblatt!$G205,'Table females'!$A$3:$E$138,3)*Eingabeblatt!I205)+(VLOOKUP(Eingabeblatt!$G205,'Table females'!$A$3:$E$138,4)*Eingabeblatt!H205)+(VLOOKUP(Eingabeblatt!$G205,'Table females'!$A$3:$E$138,5)*(Eingabeblatt!J205+Eingabeblatt!K205)/2)))","v":""},{"$f":"CONCATENATE(\" \",IF(OR(J205=\"\",K205=\"\",L205=\"\"),\"\",IF(B205=\"m\",'Table males'!D$141,'Table females'!D$141)))","v":" "},"",""]
[{"$nulls":6},"",{"$nulls":4},{"$f":"IF(OR(C206=\"\",G206=\"\",H206=\"\",I206=\"\",K206=\"\",B206=Dropdownliste!A$9,J206=\"\"),\"\",IF(B206=\"m\",(VLOOKUP(Eingabeblatt!$G206,'Table males'!$A$3:$E$138,2)+(VLOOKUP(Eingabeblatt!$G206,'Table males'!$A$3:$E$138,3)*Eingabeblatt!I206)+(VLOOKUP(Eingabeblatt!$G206,'Table males'!$A$3:$E$138,4)*Eingabeblatt!H206)+(VLOOKUP(Eingabeblatt!$G206,'Table males'!$A$3:$E$138,5)*(Eingabeblatt!J206+Eingabeblatt!K206)/2)),VLOOKUP(Eingabeblatt!$G206,'Table females'!$A$3:$E$138,2)+(VLOOKUP(Eingabeblatt!$G206,'Table females'!$A$3:$E$138,3)*Eingabeblatt!I206)+(VLOOKUP(Eingabeblatt!$G206,'Table females'!$A$3:$E$138,4)*Eingabeblatt!H206)+(VLOOKUP(Eingabeblatt!$G206,'Table females'!$A$3:$E$138,5)*(Eingabeblatt!J206+Eingabeblatt!K206)/2)))","v":""},{"$f":"CONCATENATE(\" \",IF(OR(J206=\"\",K206=\"\",L206=\"\"),\"\",IF(B206=\"m\",'Table males'!D$141,'Table females'!D$141)))","v":" "},"",""]
[{"$nulls":6},"",{"$nulls":4},{"$f":"IF(OR(C207=\"\",G207=\"\",H207=\"\",I207=\"\",K207=\"\",B207=Dropdownliste!A$9,J207=\"\"),\"\",IF(B207=\"m\",(VLOOKUP(Eingabeblatt!$G207,'Table males'!$A$3:$E$138,2)+(VLOOKUP(Eingabeblatt!$G207,'Table males'!$A$3:$E$138,3)*Eingabeblatt!I207)+(VLOOKUP(Eingabeblatt!$G207,'Table males'!$A$3:$E$138,4)*Eingabeblatt!H207)+(VLOOKUP(Eingabeblatt!$G207,'Table males'!$A$3:$E$138,5)*(Eingabeblatt!J207+Eingabeblatt!K207)/2)),VLOOKUP(Eingabeblatt!$G207,'Table females'!$A$3:$E$138,2)+(VLOOKUP(Eingabeblatt!$G207,'Table females'!$A$3:$E$138,3)*Eingabeblatt!I207)+(VLOOKUP(Eingabeblatt!$G207,'Table females'!$A$3:$E$138,4)*Eingabeblatt!H207)+(VLOOKUP(Eingabeblatt!$G207,'Table females'!$A$3:$E$138,5)*(Eingabeblatt!J207+Eingabeblatt!K207)/2)))","v":""},{"$f":"CONCATENATE(\" \",IF(OR(J207=\"\",K207=\"\",L207=\"\"),\"\",IF(B207=\"m\",'Table males'!D$141,'Table females'!D$141)))","v":" "},"",""]
[{"$nulls":6},"",{"$nulls":4},{"$f":"IF(OR(C208=\"\",G208=\"\",H208=\"\",I208=\"\",K208=\"\",B208=Dropdownliste!A$9,J208=\"\"),\"\",IF(B208=\"m\",(VLOOKUP(Eingabeblatt!$G208,'Table males'!$A$3:$E$138,2)+(VLOOKUP(Eingabeblatt!$G208,'Table males'!$A$3:$E$138,3)*Eingabeblatt!I208)+(VLOOKUP(Eingabeblatt!$G208,'Table males'!$A$3:$E$138,4)*Eingabeblatt!H208)+(VLOOKUP(Eingabeblatt!$G208,'Table males'!$A$3:$E$138,5)*(Eingabeblatt!J208+Eingabeblatt!K208)/2)),VLOOKUP(Eingabeblatt!$G208,'Table females'!$A$3:$E$138,2)+(VLOOKUP(Eingabeblatt!$G208,'Table females'!$A$3:$E$138,3)*Eingabeblatt!I208)+(VLOOKUP(Eingabeblatt!$G208,'Table females'!$A$3:$E$138,4)*Eingabeblatt!H208)+(VLOOKUP(Eingabeblatt!$G208,'Table females'!$A$3:$E$138,5)*(Eingabeblatt!J208+Eingabeblatt!K208)/2)))","v":""},{"$f":"CONCATENATE(\" \",IF(OR(J208=\"\",K208=\"\",L208=\"\"),\"\",IF(B208=\"m\",'Table males'!D$141,'Table females'!D$141)))","v":" "},"",""]
[{"$nulls":6},"",{"$nulls":4},{"$f":"IF(OR(C209=\"\",G209=\"\",H209=\"\",I209=\"\",K209=\"\",B209=Dropdownliste!A$9,J209=\"\"),\"\",IF(B209=\"m\",(VLOOKUP(Eingabeblatt!$G209,'Table males'!$A$3:$E$138,2)+(VLOOKUP(Eingabeblatt!$G209,'Table males'!$A$3:$E$138,3)*Eingabeblatt!I209)+(VLOOKUP(Eingabeblatt!$G209,'Table males'!$A$3:$E$138,4)*Eingabeblatt!H209)+(VLOOKUP(Eingabeblatt!$G209,'Table males'!$A$3:$E$138,5)*(Eingabeblatt!J209+Eingabeblatt!K209)/2)),VLOOKUP(Eingabeblatt!$G209,'Table females'!$A$3:$E$138,2)+(VLOOKUP(Eingabeblatt!$G209,'Table females'!$A$3:$E$138,3)*Eingabeblatt!I209)+(VLOOKUP(Eingabeblatt!$G209,'Table females'!$A$3:$E$138,4)*Eingabeblatt!H209)+(VLOOKUP(Eingabeblatt!$G209,'Table females'!$A$3:$E$138,5)*(Eingabeblatt!J209+Eingabeblatt!K209)/2)))","v":""},{"$f":"CONCATENATE(\" \",IF(OR(J209=\"\",K209=\"\",L209=\"\"),\"\",IF(B209=\"m\",'Table males'!D$141,'Table females'!D$141)))","v":" "},"",""]
[{"$nulls":6},"",{"$nulls":4},{"$f":"IF(OR(C210=\"\",G210=\"\",H210=\"\",I210=\"\",K210=\"\",B210=Dropdownliste!A$9,J210=\"\"),\"\",IF(B210=\"m\",(VLOOKUP(Eingabeblatt!$G210,'Table males'!$A$3:$E$138,2)+(VLOOKUP(Eingabeblatt!$G210,'Table males'!$A$3:$E$138,3)*Eingabeblatt!I210)+(VLOOKUP(Eingabeblatt!$G210,'Table males'!$A$3:$E$138,4)*Eingabeblatt!H210)+(VLOOKUP(Eingabeblatt!$G210,'Table males'!$A$3:$E$138,5)*(Eingabeblatt!J210+Eingabeblatt!K210)/2)),VLOOKUP(Eingabeblatt!$G210,'Table females'!$A$3:$E$138,2)+(VLOOKUP(Eingabeblatt!$G210,'Table females'!$A$3:$E$138,3)*Eingabeblatt!I210)+(VLOOKUP(Eingabeblatt!$G210,'Table females'!$A$3:$E$138,4)*Eingabeblatt!H210)+(VLOOKUP(Eingabeblatt!$G210,'Table females'!$A$3:$E$138,5)*(Eingabeblatt!J210+Eingabeblatt!K210)/2)))","v":""},{"$f":"CONCATENATE(\" \",IF(OR(J210=\"\",K210=\"\",L210=\"\"),\"\",IF(B210=\"m\",'Table males'!D$141,'Table females'!D$141)))","v":" "},"",""]
[{"$nulls":6},"",{"$nulls":4},{"$f":"IF(OR(C211=\"\",G211=\"\",H211=\"\",I211=\"\",K211=\"\",B211=Dropdownliste!A$9,J211=\"\"),\"\",IF(B211=\"m\",(VLOOKUP(Eingabeblatt!$G211,'Table males'!$A$3:$E$138,2)+(VLOOKUP(Eingabeblatt!$G211,'Table males'!$A$3:$E$138,3)*Eingabeblatt!I211)+(VLOOKUP(Eingabeblatt!$G211,'Table males'!$A$3:$E$138,4)*Eingabeblatt!H211)+(VLOOKUP(Eingabeblatt!$G211,'Table males'!$A$3:$E$138,5)*(Eingabeblatt!J211+Eingabeblatt!K211)/2)),VLOOKUP(Eingabeblatt!$G211,'Table females'!$A$3:$E$138,2)+(VLOOKUP(Eingabeblatt!$G211,'Table females'!$A$3:$E$138,3)*Eingabeblatt!I211)+(VLOOKUP(Eingabeblatt!$G211,'Table females'!$A$3:$E$138,4)*Eingabeblatt!H211)+(VLOOKUP(Eingabeblatt!$G211,'Table females'!$A$3:$E$138,5)*(Eingabeblatt!J211+Eingabeblatt!K211)/2)))","v":""},{"$f":"CONCATENATE(\" \",IF(OR(J211=\"\",K211=\"\",L211=\"\"),\"\",IF(B211=\"m\",'Table males'!D$141,'Table females'!D$141)))","v":" "},"",""]
[{"$nulls":6},"",{"$nulls":4},{"$f":"IF(OR(C212=\"\",G212=\"\",H212=\"\",I212=\"\",K212=\"\",B212=Dropdownliste!A$9,J212=\"\"),\"\",IF(B212=\"m\",(VLOOKUP(Eingabeblatt!$G212,'Table males'!$A$3:$E$138,2)+(VLOOKUP(Eingabeblatt!$G212,'Table males'!$A$3:$E$138,3)*Eingabeblatt!I212)+(VLOOKUP(Eingabeblatt!$G212,'Table males'!$A$3:$E$138,4)*Eingabeblatt!H212)+(VLOOKUP(Eingabeblatt!$G212,'Table males'!$A$3:$E$138,5)*(Eingabeblatt!J212+Eingabeblatt!K212)/2)),VLOOKUP(Eingabeblatt!$G212,'Table females'!$A$3:$E$138,2)+(VLOOKUP(Eingabeblatt!$G212,'Table females'!$A$3:$E$138,3)*Eingabeblatt!I212)+(VLOOKUP(Eingabeblatt!$G212,'Table females'!$A$3:$E$138,4)*Eingabeblatt!H212)+(VLOOKUP(Eingabeblatt!$G212,'Table females'!$A$3:$E$138,5)*(Eingabeblatt!J212+Eingabeblatt!K212)/2)))","v":""},{"$f":"CONCATENATE(\" \",IF(OR(J212=\"\",K212=\"\",L212=\"\"),\"\",IF(B212=\"m\",'Table males'!D$141,'Table females'!D$141)))","v":" "},"",""]
[{"$nulls":6},"",{"$nulls":4},{"$f":"IF(OR(C213=\"\",G213=\"\",H213=\"\",I213=\"\",K213=\"\",B213=Dropdownliste!A$9,J213=\"\"),\"\",IF(B213=\"m\",(VLOOKUP(Eingabeblatt!$G213,'Table males'!$A$3:$E$138,2)+(VLOOKUP(Eingabeblatt!$G213,'Table males'!$A$3:$E$138,3)*Eingabeblatt!I213)+(VLOOKUP(Eingabeblatt!$G213,'Table males'!$A$3:$E$138,4)*Eingabeblatt!H213)+(VLOOKUP(Eingabeblatt!$G213,'Table males'!$A$3:$E$138,5)*(Eingabeblatt!J213+Eingabeblatt!K213)/2)),VLOOKUP(Eingabeblatt!$G213,'Table females'!$A$3:$E$138,2)+(VLOOKUP(Eingabeblatt!$G213,'Table females'!$A$3:$E$138,3)*Eingabeblatt!I213)+(VLOOKUP(Eingabeblatt!$G213,'Table females'!$A$3:$E$138,4)*Eingabeblatt!H213)+(VLOOKUP(Eingabeblatt!$G213,'Table females'!$A$3:$E$138,5)*(Eingabeblatt!J213+Eingabeblatt!K213)/2)))","v":""},{"$f":"CONCATENATE(\" \",IF(OR(J213=\"\",K213=\"\",L213=\"\"),\"\",IF(B213=\"m\",'Table males'!D$141,'Table females'!D$141)))","v":" "},"",""]
[{"$nulls":6},"",{"$nulls":4},{"$f":"IF(OR(C214=\"\",G214=\"\",H214=\"\",I214=\"\",K214=\"\",B214=Dropdownliste!A$9,J214=\"\"),\"\",IF(B214=\"m\",(VLOOKUP(Eingabeblatt!$G214,'Table males'!$A$3:$E$138,2)+(VLOOKUP(Eingabeblatt!$G214,'Table males'!$A$3:$E$138,3)*Eingabeblatt!I214)+(VLOOKUP(Eingabeblatt!$G214,'Table males'!$A$3:$E$138,4)*Eingabeblatt!H214)+(VLOOKUP(Eingabeblatt!$G214,'Table males'!$A$3:$E$138,5)*(Eingabeblatt!J214+Eingabeblatt!K214)/2)),VLOOKUP(Eingabeblatt!$G214,'Table females'!$A$3:$E$138,2)+(VLOOKUP(Eingabeblatt!$G214,'Table females'!$A$3:$E$138,3)*Eingabeblatt!I214)+(VLOOKUP(Eingabeblatt!$G214,'Table females'!$A$3:$E$138,4)*Eingabeblatt!H214)+(VLOOKUP(Eingabeblatt!$G214,'Table females'!$A$3:$E$138,5)*(Eingabeblatt!J214+Eingabeblatt!K214)/2)))","v":""},{"$f":"CONCATENATE(\" \",IF(OR(J214=\"\",K214=\"\",L214=\"\"),\"\",IF(B214=\"m\",'Table males'!D$141,'Table females'!D$141)))","v":" "},"",""]
[{"$nulls":6},"",{"$nulls":4},{"$f":"IF(OR(C215=\"\",G215=\"\",H215=\"\",I215=\"\",K215=\"\",B215=Dropdownliste!A$9,J215=\"\"),\"\",IF(B215=\"m\",(VLOOKUP(Eingabeblatt!$G215,'Table males'!$A$3:$E$138,2)+(VLOOKUP(Eingabeblatt!$G215,'Table males'!$A$3:$E$138,3)*Eingabeblatt!I215)+(VLOOKUP(Eingabeblatt!$G215,'Table males'!$A$3:$E$138,4)*Eingabeblatt!H215)+(VLOOKUP(Eingabeblatt!$G215,'Table males'!$A$3:$E$138,5)*(Eingabeblatt!J215+Eingabeblatt!K215)/2)),VLOOKUP(Eingabeblatt!$G215,'Table females'!$A$3:$E$138,2)+(VLOOKUP(Eingabeblatt!$G215,'Table females'!$A$3:$E$138,3)*Eingabeblatt!I215)+(VLOOKUP(Eingabeblatt!$G215,'Table females'!$A$3:$E$138,4)*Eingabeblatt!H215)+(VLOOKUP(Eingabeblatt!$G215,'Table females'!$A$3:$E$138,5)*(Eingabeblatt!J215+Eingabeblatt!K215)/2)))","v":""},{"$f":"CONCATENATE(\" \",IF(OR(J215=\"\",K215=\"\",L215=\"\"),\"\",IF(B215=\"m\",'Table males'!D$141,'Table females'!D$141)))","v":" "},"",""]
[{"$nulls":6},"",{"$nulls":4},{"$f":"IF(OR(C216=\"\",G216=\"\",H216=\"\",I216=\"\",K216=\"\",B216=Dropdownliste!A$9,J216=\"\"),\"\",IF(B216=\"m\",(VLOOKUP(Eingabeblatt!$G216,'Table males'!$A$3:$E$138,2)+(VLOOKUP(Eingabeblatt!$G216,'Table males'!$A$3:$E$138,3)*Eingabeblatt!I216)+(VLOOKUP(Eingabeblatt!$G216,'Table males'!$A$3:$E$138,4)*Eingabeblatt!H216)+(VLOOKUP(Eingabeblatt!$G216,'Table males'!$A$3:$E$138,5)*(Eingabeblatt!J216+Eingabeblatt!K216)/2)),VLOOKUP(Eingabeblatt!$G216,'Table females'!$A$3:$E$138,2)+(VLOOKUP(Eingabeblatt!$G216,'Table females'!$A$3:$E$138,3)*Eingabeblatt!I216)+(VLOOKUP(Eingabeblatt!$G216,'Table females'!$A$3:$E$138,4)*Eingabeblatt!H216)+(VLOOKUP(Eingabeblatt!$G216,'Table females'!$A$3:$E$138,5)*(Eingabeblatt!J216+Eingabeblatt!K216)/2)))","v":""},{"$f":"CONCATENATE(\" \",IF(OR(J216=\"\",K216=\"\",L216=\"\"),\"\",IF(B216=\"m\",'Table males'!D$141,'Table females'!D$141)))","v":" "},"",""]
[{"$nulls":6},"",{"$nulls":4},{"$f":"IF(OR(C217=\"\",G217=\"\",H217=\"\",I217=\"\",K217=\"\",B217=Dropdownliste!A$9,J217=\"\"),\"\",IF(B217=\"m\",(VLOOKUP(Eingabeblatt!$G217,'Table males'!$A$3:$E$138,2)+(VLOOKUP(Eingabeblatt!$G217,'Table males'!$A$3:$E$138,3)*Eingabeblatt!I217)+(VLOOKUP(Eingabeblatt!$G217,'Table males'!$A$3:$E$138,4)*Eingabeblatt!H217)+(VLOOKUP(Eingabeblatt!$G217,'Table males'!$A$3:$E$138,5)*(Eingabeblatt!J217+Eingabeblatt!K217)/2)),VLOOKUP(Eingabeblatt!$G217,'Table females'!$A$3:$E$138,2)+(VLOOKUP(Eingabeblatt!$G217,'Table females'!$A$3:$E$138,3)*Eingabeblatt!I217)+(VLOOKUP(Eingabeblatt!$G217,'Table females'!$A$3:$E$138,4)*Eingabeblatt!H217)+(VLOOKUP(Eingabeblatt!$G217,'Table females'!$A$3:$E$138,5)*(Eingabeblatt!J217+Eingabeblatt!K217)/2)))","v":""},{"$f":"CONCATENATE(\" \",IF(OR(J217=\"\",K217=\"\",L217=\"\"),\"\",IF(B217=\"m\",'Table males'!D$141,'Table females'!D$141)))","v":" "},"",""]
[{"$nulls":6},"",{"$nulls":4},{"$f":"IF(OR(C218=\"\",G218=\"\",H218=\"\",I218=\"\",K218=\"\",B218=Dropdownliste!A$9,J218=\"\"),\"\",IF(B218=\"m\",(VLOOKUP(Eingabeblatt!$G218,'Table males'!$A$3:$E$138,2)+(VLOOKUP(Eingabeblatt!$G218,'Table males'!$A$3:$E$138,3)*Eingabeblatt!I218)+(VLOOKUP(Eingabeblatt!$G218,'Table males'!$A$3:$E$138,4)*Eingabeblatt!H218)+(VLOOKUP(Eingabeblatt!$G218,'Table males'!$A$3:$E$138,5)*(Eingabeblatt!J218+Eingabeblatt!K218)/2)),VLOOKUP(Eingabeblatt!$G218,'Table females'!$A$3:$E$138,2)+(VLOOKUP(Eingabeblatt!$G218,'Table females'!$A$3:$E$138,3)*Eingabeblatt!I218)+(VLOOKUP(Eingabeblatt!$G218,'Table females'!$A$3:$E$138,4)*Eingabeblatt!H218)+(VLOOKUP(Eingabeblatt!$G218,'Table females'!$A$3:$E$138,5)*(Eingabeblatt!J218+Eingabeblatt!K218)/2)))","v":""},{"$f":"CONCATENATE(\" \",IF(OR(J218=\"\",K218=\"\",L218=\"\"),\"\",IF(B218=\"m\",'Table males'!D$141,'Table females'!D$141)))","v":" "},"",""]
[{"$nulls":6},"",{"$nulls":4},{"$f":"IF(OR(C219=\"\",G219=\"\",H219=\"\",I219=\"\",K219=\"\",B219=Dropdownliste!A$9,J219=\"\"),\"\",IF(B219=\"m\",(VLOOKUP(Eingabeblatt!$G219,'Table males'!$A$3:$E$138,2)+(VLOOKUP(Eingabeblatt!$G219,'Table males'!$A$3:$E$138,3)*Eingabeblatt!I219)+(VLOOKUP(Eingabeblatt!$G219,'Table males'!$A$3:$E$138,4)*Eingabeblatt!H219)+(VLOOKUP(Eingabeblatt!$G219,'Table males'!$A$3:$E$138,5)*(Eingabeblatt!J219+Eingabeblatt!K219)/2)),VLOOKUP(Eingabeblatt!$G219,'Table females'!$A$3:$E$138,2)+(VLOOKUP(Eingabeblatt!$G219,'Table females'!$A$3:$E$138,3)*Eingabeblatt!I219)+(VLOOKUP(Eingabeblatt!$G219,'Table females'!$A$3:$E$138,4)*Eingabeblatt!H219)+(VLOOKUP(Eingabeblatt!$G219,'Table females'!$A$3:$E$138,5)*(Eingabeblatt!J219+Eingabeblatt!K219)/2)))","v":""},{"$f":"CONCATENATE(\" \",IF(OR(J219=\"\",K219=\"\",L219=\"\"),\"\",IF(B219=\"m\",'Table males'!D$141,'Table females'!D$141)))","v":" "},"",""]
[{"$nulls":6},"",{"$nulls":4},{"$f":"IF(OR(C220=\"\",G220=\"\",H220=\"\",I220=\"\",K220=\"\",B220=Dropdownliste!A$9,J220=\"\"),\"\",IF(B220=\"m\",(VLOOKUP(Eingabeblatt!$G220,'Table males'!$A$3:$E$138,2)+(VLOOKUP(Eingabeblatt!$G220,'Table males'!$A$3:$E$138,3)*Eingabeblatt!I220)+(VLOOKUP(Eingabeblatt!$G220,'Table males'!$A$3:$E$138,4)*Eingabeblatt!H220)+(VLOOKUP(Eingabeblatt!$G220,'Table males'!$A$3:$E$138,5)*(Eingabeblatt!J220+Eingabeblatt!K220)/2)),VLOOKUP(Eingabeblatt!$G220,'Table females'!$A$3:$E$138,2)+(VLOOKUP(Eingabeblatt!$G220,'Table females'!$A$3:$E$138,3)*Eingabeblatt!I220)+(VLOOKUP(Eingabeblatt!$G220,'Table females'!$A$3:$E$138,4)*Eingabeblatt!H220)+(VLOOKUP(Eingabeblatt!$G220,'Table females'!$A$3:$E$138,5)*(Eingabeblatt!J220+Eingabeblatt!K220)/2)))","v":""},{"$f":"CONCATENATE(\" \",IF(OR(J220=\"\",K220=\"\",L220=\"\"),\"\",IF(B220=\"m\",'Table males'!D$141,'Table females'!D$141)))","v":" "},"",""]
[{"$nulls":6},"",{"$nulls":4},{"$f":"IF(OR(C221=\"\",G221=\"\",H221=\"\",I221=\"\",K221=\"\",B221=Dropdownliste!A$9,J221=\"\"),\"\",IF(B221=\"m\",(VLOOKUP(Eingabeblatt!$G221,'Table males'!$A$3:$E$138,2)+(VLOOKUP(Eingabeblatt!$G221,'Table males'!$A$3:$E$138,3)*Eingabeblatt!I221)+(VLOOKUP(Eingabeblatt!$G221,'Table males'!$A$3:$E$138,4)*Eingabeblatt!H221)+(VLOOKUP(Eingabeblatt!$G221,'Table males'!$A$3:$E$138,5)*(Eingabeblatt!J221+Eingabeblatt!K221)/2)),VLOOKUP(Eingabeblatt!$G221,'Table females'!$A$3:$E$138,2)+(VLOOKUP(Eingabeblatt!$G221,'Table females'!$A$3:$E$138,3)*Eingabeblatt!I221)+(VLOOKUP(Eingabeblatt!$G221,'Table females'!$A$3:$E$138,4)*Eingabeblatt!H221)+(VLOOKUP(Eingabeblatt!$G221,'Table females'!$A$3:$E$138,5)*(Eingabeblatt!J221+Eingabeblatt!K221)/2)))","v":""},{"$f":"CONCATENATE(\" \",IF(OR(J221=\"\",K221=\"\",L221=\"\"),\"\",IF(B221=\"m\",'Table males'!D$141,'Table females'!D$141)))","v":" "},"",""]
[{"$nulls":6},"",{"$nulls":4},{"$f":"IF(OR(C222=\"\",G222=\"\",H222=\"\",I222=\"\",K222=\"\",B222=Dropdownliste!A$9,J222=\"\"),\"\",IF(B222=\"m\",(VLOOKUP(Eingabeblatt!$G222,'Table males'!$A$3:$E$138,2)+(VLOOKUP(Eingabeblatt!$G222,'Table males'!$A$3:$E$138,3)*Eingabeblatt!I222)+(VLOOKUP(Eingabeblatt!$G222,'Table males'!$A$3:$E$138,4)*Eingabeblatt!H222)+(VLOOKUP(Eingabeblatt!$G222,'Table males'!$A$3:$E$138,5)*(Eingabeblatt!J222+Eingabeblatt!K222)/2)),VLOOKUP(Eingabeblatt!$G222,'Table females'!$A$3:$E$138,2)+(VLOOKUP(Eingabeblatt!$G222,'Table females'!$A$3:$E$138,3)*Eingabeblatt!I222)+(VLOOKUP(Eingabeblatt!$G222,'Table females'!$A$3:$E$138,4)*Eingabeblatt!H222)+(VLOOKUP(Eingabeblatt!$G222,'Table females'!$A$3:$E$138,5)*(Eingabeblatt!J222+Eingabeblatt!K222)/2)))","v":""},{"$f":"CONCATENATE(\" \",IF(OR(J222=\"\",K222=\"\",L222=\"\"),\"\",IF(B222=\"m\",'Table males'!D$141,'Table females'!D$141)))","v":" "},"",""]
[{"$nulls":6},"",{"$nulls":4},{"$f":"IF(OR(C223=\"\",G223=\"\",H223=\"\",I223=\"\",K223=\"\",B223=Dropdownliste!A$9,J223=\"\"),\"\",IF(B223=\"m\",(VLOOKUP(Eingabeblatt!$G223,'Table males'!$A$3:$E$138,2)+(VLOOKUP(Eingabeblatt!$G223,'Table males'!$A$3:$E$138,3)*Eingabeblatt!I223)+(VLOOKUP(Eingabeblatt!$G223,'Table males'!$A$3:$E$138,4)*Eingabeblatt!H223)+(VLOOKUP(Eingabeblatt!$G223,'Table males'!$A$3:$E$138,5)*(Eingabeblatt!J223+Eingabeblatt!K223)/2)),VLOOKUP(Eingabeblatt!$G223,'Table females'!$A$3:$E$138,2)+(VLOOKUP(Eingabeblatt!$G223,'Table females'!$A$3:$E$138,3)*Eingabeblatt!I223)+(VLOOKUP(Eingabeblatt!$G223,'Table females'!$A$3:$E$138,4)*Eingabeblatt!H223)+(VLOOKUP(Eingabeblatt!$G223,'Table females'!$A$3:$E$138,5)*(Eingabeblatt!J223+Eingabeblatt!K223)/2)))","v":""},{"$f":"CONCATENATE(\" \",IF(OR(J223=\"\",K223=\"\",L223=\"\"),\"\",IF(B223=\"m\",'Table males'!D$141,'Table females'!D$141)))","v":" "},"",""]
[{"$nulls":6},"",{"$nulls":4},{"$f":"IF(OR(C224=\"\",G224=\"\",H224=\"\",I224=\"\",K224=\"\",B224=Dropdownliste!A$9,J224=\"\"),\"\",IF(B224=\"m\",(VLOOKUP(Eingabeblatt!$G224,'Table males'!$A$3:$E$138,2)+(VLOOKUP(Eingabeblatt!$G224,'Table males'!$A$3:$E$138,3)*Eingabeblatt!I224)+(VLOOKUP(Eingabeblatt!$G224,'Table males'!$A$3:$E$138,4)*Eingabeblatt!H224)+(VLOOKUP(Eingabeblatt!$G224,'Table males'!$A$3:$E$138,5)*(Eingabeblatt!J224+Eingabeblatt!K224)/2)),VLOOKUP(Eingabeblatt!$G224,'Table females'!$A$3:$E$138,2)+(VLOOKUP(Eingabeblatt!$G224,'Table females'!$A$3:$E$138,3)*Eingabeblatt!I224)+(VLOOKUP(Eingabeblatt!$G224,'Table females'!$A$3:$E$138,4)*Eingabeblatt!H224)+(VLOOKUP(Eingabeblatt!$G224,'Table females'!$A$3:$E$138,5)*(Eingabeblatt!J224+Eingabeblatt!K224)/2)))","v":""},{"$f":"CONCATENATE(\" \",IF(OR(J224=\"\",K224=\"\",L224=\"\"),\"\",IF(B224=\"m\",'Table males'!D$141,'Table females'!D$141)))","v":" "},"",""]
[{"$nulls":6},"",{"$nulls":4},{"$f":"IF(OR(C225=\"\",G225=\"\",H225=\"\",I225=\"\",K225=\"\",B225=Dropdownliste!A$9,J225=\"\"),\"\",IF(B225=\"m\",(VLOOKUP(Eingabeblatt!$G225,'Table males'!$A$3:$E$138,2)+(VLOOKUP(Eingabeblatt!$G225,'Table males'!$A$3:$E$138,3)*Eingabeblatt!I225)+(VLOOKUP(Eingabeblatt!$G225,'Table males'!$A$3:$E$138,4)*Eingabeblatt!H225)+(VLOOKUP(Eingabeblatt!$G225,'Table males'!$A$3:$E$138,5)*(Eingabeblatt!J225+Eingabeblatt!K225)/2)),VLOOKUP(Eingabeblatt!$G225,'Table females'!$A$3:$E$138,2)+(VLOOKUP(Eingabeblatt!$G225,'Table females'!$A$3:$E$138,3)*Eingabeblatt!I225)+(VLOOKUP(Eingabeblatt!$G225,'Table females'!$A$3:$E$138,4)*Eingabeblatt!H225)+(VLOOKUP(Eingabeblatt!$G225,'Table females'!$A$3:$E$138,5)*(Eingabeblatt!J225+Eingabeblatt!K225)/2)))","v":""},{"$f":"CONCATENATE(\" \",IF(OR(J225=\"\",K225=\"\",L225=\"\"),\"\",IF(B225=\"m\",'Table males'!D$141,'Table females'!D$141)))","v":" "},"",""]
[{"$nulls":6},"",{"$nulls":4},{"$f":"IF(OR(C226=\"\",G226=\"\",H226=\"\",I226=\"\",K226=\"\",B226=Dropdownliste!A$9,J226=\"\"),\"\",IF(B226=\"m\",(VLOOKUP(Eingabeblatt!$G226,'Table males'!$A$3:$E$138,2)+(VLOOKUP(Eingabeblatt!$G226,'Table males'!$A$3:$E$138,3)*Eingabeblatt!I226)+(VLOOKUP(Eingabeblatt!$G226,'Table males'!$A$3:$E$138,4)*Eingabeblatt!H226)+(VLOOKUP(Eingabeblatt!$G226,'Table males'!$A$3:$E$138,5)*(Eingabeblatt!J226+Eingabeblatt!K226)/2)),VLOOKUP(Eingabeblatt!$G226,'Table females'!$A$3:$E$138,2)+(VLOOKUP(Eingabeblatt!$G226,'Table females'!$A$3:$E$138,3)*Eingabeblatt!I226)+(VLOOKUP(Eingabeblatt!$G226,'Table females'!$A$3:$E$138,4)*Eingabeblatt!H226)+(VLOOKUP(Eingabeblatt!$G226,'Table females'!$A$3:$E$138,5)*(Eingabeblatt!J226+Eingabeblatt!K226)/2)))","v":""},{"$f":"CONCATENATE(\" \",IF(OR(J226=\"\",K226=\"\",L226=\"\"),\"\",IF(B226=\"m\",'Table males'!D$141,'Table females'!D$141)))","v":" "},"",""]
[{"$nulls":6},"",{"$nulls":4},{"$f":"IF(OR(C227=\"\",G227=\"\",H227=\"\",I227=\"\",K227=\"\",B227=Dropdownliste!A$9,J227=\"\"),\"\",IF(B227=\"m\",(VLOOKUP(Eingabeblatt!$G227,'Table males'!$A$3:$E$138,2)+(VLOOKUP(Eingabeblatt!$G227,'Table males'!$A$3:$E$138,3)*Eingabeblatt!I227)+(VLOOKUP(Eingabeblatt!$G227,'Table males'!$A$3:$E$138,4)*Eingabeblatt!H227)+(VLOOKUP(Eingabeblatt!$G227,'Table males'!$A$3:$E$138,5)*(Eingabeblatt!J227+Eingabeblatt!K227)/2)),VLOOKUP(Eingabeblatt!$G227,'Table females'!$A$3:$E$138,2)+(VLOOKUP(Eingabeblatt!$G227,'Table females'!$A$3:$E$138,3)*Eingabeblatt!I227)+(VLOOKUP(Eingabeblatt!$G227,'Table females'!$A$3:$E$138,4)*Eingabeblatt!H227)+(VLOOKUP(Eingabeblatt!$G227,'Table females'!$A$3:$E$138,5)*(Eingabeblatt!J227+Eingabeblatt!K227)/2)))","v":""},{"$f":"CONCATENATE(\" \",IF(OR(J227=\"\",K227=\"\",L227=\"\"),\"\",IF(B227=\"m\",'Table males'!D$141,'Table females'!D$141)))","v":" "},"",""]
[{"$nulls":6},"",{"$nulls":4},{"$f":"IF(OR(C228=\"\",G228=\"\",H228=\"\",I228=\"\",K228=\"\",B228=Dropdownliste!A$9,J228=\"\"),\"\",IF(B228=\"m\",(VLOOKUP(Eingabeblatt!$G228,'Table males'!$A$3:$E$138,2)+(VLOOKUP(Eingabeblatt!$G228,'Table males'!$A$3:$E$138,3)*Eingabeblatt!I228)+(VLOOKUP(Eingabeblatt!$G228,'Table males'!$A$3:$E$138,4)*Eingabeblatt!H228)+(VLOOKUP(Eingabeblatt!$G228,'Table males'!$A$3:$E$138,5)*(Eingabeblatt!J228+Eingabeblatt!K228)/2)),VLOOKUP(Eingabeblatt!$G228,'Table females'!$A$3:$E$138,2)+(VLOOKUP(Eingabeblatt!$G228,'Table females'!$A$3:$E$138,3)*Eingabeblatt!I228)+(VLOOKUP(Eingabeblatt!$G228,'Table females'!$A$3:$E$138,4)*Eingabeblatt!H228)+(VLOOKUP(Eingabeblatt!$G228,'Table females'!$A$3:$E$138,5)*(Eingabeblatt!J228+Eingabeblatt!K228)/2)))","v":""},{"$f":"CONCATENATE(\" \",IF(OR(J228=\"\",K228=\"\",L228=\"\"),\"\",IF(B228=\"m\",'Table males'!D$141,'Table females'!D$141)))","v":" "},"",""]
[{"$nulls":6},"",{"$nulls":4},{"$f":"IF(OR(C229=\"\",G229=\"\",H229=\"\",I229=\"\",K229=\"\",B229=Dropdownliste!A$9,J229=\"\"),\"\",IF(B229=\"m\",(VLOOKUP(Eingabeblatt!$G229,'Table males'!$A$3:$E$138,2)+(VLOOKUP(Eingabeblatt!$G229,'Table males'!$A$3:$E$138,3)*Eingabeblatt!I229)+(VLOOKUP(Eingabeblatt!$G229,'Table males'!$A$3:$E$138,4)*Eingabeblatt!H229)+(VLOOKUP(Eingabeblatt!$G229,'Table males'!$A$3:$E$138,5)*(Eingabeblatt!J229+Eingabeblatt!K229)/2)),VLOOKUP(Eingabeblatt!$G229,'Table females'!$A$3:$E$138,2)+(VLOOKUP(Eingabeblatt!$G229,'Table females'!$A$3:$E$138,3)*Eingabeblatt!I229)+(VLOOKUP(Eingabeblatt!$G229,'Table females'!$A$3:$E$138,4)*Eingabeblatt!H229)+(VLOOKUP(Eingabeblatt!$G229,'Table females'!$A$3:$E$138,5)*(Eingabeblatt!J229+Eingabeblatt!K229)/2)))","v":""},{"$f":"CONCATENATE(\" \",IF(OR(J229=\"\",K229=\"\",L229=\"\"),\"\",IF(B229=\"m\",'Table males'!D$141,'Table females'!D$141)))","v":" "},"",""]
[{"$nulls":6},"",{"$nulls":4},{"$f":"IF(OR(C230=\"\",G230=\"\",H230=\"\",I230=\"\",K230=\"\",B230=Dropdownliste!A$9,J230=\"\"),\"\",IF(B230=\"m\",(VLOOKUP(Eingabeblatt!$G230,'Table males'!$A$3:$E$138,2)+(VLOOKUP(Eingabeblatt!$G230,'Table males'!$A$3:$E$138,3)*Eingabeblatt!I230)+(VLOOKUP(Eingabeblatt!$G230,'Table males'!$A$3:$E$138,4)*Eingabeblatt!H230)+(VLOOKUP(Eingabeblatt!$G230,'Table males'!$A$3:$E$138,5)*(Eingabeblatt!J230+Eingabeblatt!K230)/2)),VLOOKUP(Eingabeblatt!$G230,'Table females'!$A$3:$E$138,2)+(VLOOKUP(Eingabeblatt!$G230,'Table females'!$A$3:$E$138,3)*Eingabeblatt!I230)+(VLOOKUP(Eingabeblatt!$G230,'Table females'!$A$3:$E$138,4)*Eingabeblatt!H230)+(VLOOKUP(Eingabeblatt!$G230,'Table females'!$A$3:$E$138,5)*(Eingabeblatt!J230+Eingabeblatt!K230)/2)))","v":""},{"$f":"CONCATENATE(\" \",IF(OR(J230=\"\",K230=\"\",L230=\"\"),\"\",IF(B230=\"m\",'Table males'!D$141,'Table females'!D$141)))","v":" "},"",""]
[{"$nulls":6},"",{"$nulls":4},{"$f":"IF(OR(C231=\"\",G231=\"\",H231=\"\",I231=\"\",K231=\"\",B231=Dropdownliste!A$9,J231=\"\"),\"\",IF(B231=\"m\",(VLOOKUP(Eingabeblatt!$G231,'Table males'!$A$3:$E$138,2)+(VLOOKUP(Eingabeblatt!$G231,'Table males'!$A$3:$E$138,3)*Eingabeblatt!I231)+(VLOOKUP(Eingabeblatt!$G231,'Table males'!$A$3:$E$138,4)*Eingabeblatt!H231)+(VLOOKUP(Eingabeblatt!$G231,'Table males'!$A$3:$E$138,5)*(Eingabeblatt!J231+Eingabeblatt!K231)/2)),VLOOKUP(Eingabeblatt!$G231,'Table females'!$A$3:$E$138,2)+(VLOOKUP(Eingabeblatt!$G231,'Table females'!$A$3:$E$138,3)*Eingabeblatt!I231)+(VLOOKUP(Eingabeblatt!$G231,'Table females'!$A$3:$E$138,4)*Eingabeblatt!H231)+(VLOOKUP(Eingabeblatt!$G231,'Table females'!$A$3:$E$138,5)*(Eingabeblatt!J231+Eingabeblatt!K231)/2)))","v":""},{"$f":"CONCATENATE(\" \",IF(OR(J231=\"\",K231=\"\",L231=\"\"),\"\",IF(B231=\"m\",'Table males'!D$141,'Table females'!D$141)))","v":" "},"",""]
[{"$nulls":6},"",{"$nulls":4},{"$f":"IF(OR(C232=\"\",G232=\"\",H232=\"\",I232=\"\",K232=\"\",B232=Dropdownliste!A$9,J232=\"\"),\"\",IF(B232=\"m\",(VLOOKUP(Eingabeblatt!$G232,'Table males'!$A$3:$E$138,2)+(VLOOKUP(Eingabeblatt!$G232,'Table males'!$A$3:$E$138,3)*Eingabeblatt!I232)+(VLOOKUP(Eingabeblatt!$G232,'Table males'!$A$3:$E$138,4)*Eingabeblatt!H232)+(VLOOKUP(Eingabeblatt!$G232,'Table males'!$A$3:$E$138,5)*(Eingabeblatt!J232+Eingabeblatt!K232)/2)),VLOOKUP(Eingabeblatt!$G232,'Table females'!$A$3:$E$138,2)+(VLOOKUP(Eingabeblatt!$G232,'Table females'!$A$3:$E$138,3)*Eingabeblatt!I232)+(VLOOKUP(Eingabeblatt!$G232,'Table females'!$A$3:$E$138,4)*Eingabeblatt!H232)+(VLOOKUP(Eingabeblatt!$G232,'Table females'!$A$3:$E$138,5)*(Eingabeblatt!J232+Eingabeblatt!K232)/2)))","v":""},{"$f":"CONCATENATE(\" \",IF(OR(J232=\"\",K232=\"\",L232=\"\"),\"\",IF(B232=\"m\",'Table males'!D$141,'Table females'!D$141)))","v":" "},"",""]
[{"$nulls":6},"",{"$nulls":4},{"$f":"IF(OR(C233=\"\",G233=\"\",H233=\"\",I233=\"\",K233=\"\",B233=Dropdownliste!A$9,J233=\"\"),\"\",IF(B233=\"m\",(VLOOKUP(Eingabeblatt!$G233,'Table males'!$A$3:$E$138,2)+(VLOOKUP(Eingabeblatt!$G233,'Table males'!$A$3:$E$138,3)*Eingabeblatt!I233)+(VLOOKUP(Eingabeblatt!$G233,'Table males'!$A$3:$E$138,4)*Eingabeblatt!H233)+(VLOOKUP(Eingabeblatt!$G233,'Table males'!$A$3:$E$138,5)*(Eingabeblatt!J233+Eingabeblatt!K233)/2)),VLOOKUP(Eingabeblatt!$G233,'Table females'!$A$3:$E$138,2)+(VLOOKUP(Eingabeblatt!$G233,'Table females'!$A$3:$E$138,3)*Eingabeblatt!I233)+(VLOOKUP(Eingabeblatt!$G233,'Table females'!$A$3:$E$138,4)*Eingabeblatt!H233)+(VLOOKUP(Eingabeblatt!$G233,'Table females'!$A$3:$E$138,5)*(Eingabeblatt!J233+Eingabeblatt!K233)/2)))","v":""},{"$f":"CONCATENATE(\" \",IF(OR(J233=\"\",K233=\"\",L233=\"\"),\"\",IF(B233=\"m\",'Table males'!D$141,'Table females'!D$141)))","v":" "},"",""]
[{"$nulls":6},"",{"$nulls":4},{"$f":"IF(OR(C234=\"\",G234=\"\",H234=\"\",I234=\"\",K234=\"\",B234=Dropdownliste!A$9,J234=\"\"),\"\",IF(B234=\"m\",(VLOOKUP(Eingabeblatt!$G234,'Table males'!$A$3:$E$138,2)+(VLOOKUP(Eingabeblatt!$G234,'Table males'!$A$3:$E$138,3)*Eingabeblatt!I234)+(VLOOKUP(Eingabeblatt!$G234,'Table males'!$A$3:$E$138,4)*Eingabeblatt!H234)+(VLOOKUP(Eingabeblatt!$G234,'Table males'!$A$3:$E$138,5)*(Eingabeblatt!J234+Eingabeblatt!K234)/2)),VLOOKUP(Eingabeblatt!$G234,'Table females'!$A$3:$E$138,2)+(VLOOKUP(Eingabeblatt!$G234,'Table females'!$A$3:$E$138,3)*Eingabeblatt!I234)+(VLOOKUP(Eingabeblatt!$G234,'Table females'!$A$3:$E$138,4)*Eingabeblatt!H234)+(VLOOKUP(Eingabeblatt!$G234,'Table females'!$A$3:$E$138,5)*(Eingabeblatt!J234+Eingabeblatt!K234)/2)))","v":""},{"$f":"CONCATENATE(\" \",IF(OR(J234=\"\",K234=\"\",L234=\"\"),\"\",IF(B234=\"m\",'Table males'!D$141,'Table females'!D$141)))","v":" "},"",""]
[{"$nulls":6},"",{"$nulls":4},{"$f":"IF(OR(C235=\"\",G235=\"\",H235=\"\",I235=\"\",K235=\"\",B235=Dropdownliste!A$9,J235=\"\"),\"\",IF(B235=\"m\",(VLOOKUP(Eingabeblatt!$G235,'Table males'!$A$3:$E$138,2)+(VLOOKUP(Eingabeblatt!$G235,'Table males'!$A$3:$E$138,3)*Eingabeblatt!I235)+(VLOOKUP(Eingabeblatt!$G235,'Table males'!$A$3:$E$138,4)*Eingabeblatt!H235)+(VLOOKUP(Eingabeblatt!$G235,'Table males'!$A$3:$E$138,5)*(Eingabeblatt!J235+Eingabeblatt!K235)/2)),VLOOKUP(Eingabeblatt!$G235,'Table females'!$A$3:$E$138,2)+(VLOOKUP(Eingabeblatt!$G235,'Table females'!$A$3:$E$138,3)*Eingabeblatt!I235)+(VLOOKUP(Eingabeblatt!$G235,'Table females'!$A$3:$E$138,4)*Eingabeblatt!H235)+(VLOOKUP(Eingabeblatt!$G235,'Table females'!$A$3:$E$138,5)*(Eingabeblatt!J235+Eingabeblatt!K235)/2)))","v":""},{"$f":"CONCATENATE(\" \",IF(OR(J235=\"\",K235=\"\",L235=\"\"),\"\",IF(B235=\"m\",'Table males'!D$141,'Table females'!D$141)))","v":" "},"",""]
[{"$nulls":6},"",{"$nulls":4},{"$f":"IF(OR(C236=\"\",G236=\"\",H236=\"\",I236=\"\",K236=\"\",B236=Dropdownliste!A$9,J236=\"\"),\"\",IF(B236=\"m\",(VLOOKUP(Eingabeblatt!$G236,'Table males'!$A$3:$E$138,2)+(VLOOKUP(Eingabeblatt!$G236,'Table males'!$A$3:$E$138,3)*Eingabeblatt!I236)+(VLOOKUP(Eingabeblatt!$G236,'Table males'!$A$3:$E$138,4)*Eingabeblatt!H236)+(VLOOKUP(Eingabeblatt!$G236,'Table males'!$A$3:$E$138,5)*(Eingabeblatt!J236+Eingabeblatt!K236)/2)),VLOOKUP(Eingabeblatt!$G236,'Table females'!$A$3:$E$138,2)+(VLOOKUP(Eingabeblatt!$G236,'Table females'!$A$3:$E$138,3)*Eingabeblatt!I236)+(VLOOKUP(Eingabeblatt!$G236,'Table females'!$A$3:$E$138,4)*Eingabeblatt!H236)+(VLOOKUP(Eingabeblatt!$G236,'Table females'!$A$3:$E$138,5)*(Eingabeblatt!J236+Eingabeblatt!K236)/2)))","v":""},{"$f":"CONCATENATE(\" \",IF(OR(J236=\"\",K236=\"\",L236=\"\"),\"\",IF(B236=\"m\",'Table males'!D$141,'Table females'!D$141)))","v":" "},"",""]
[{"$nulls":6},"",{"$nulls":4},{"$f":"IF(OR(C237=\"\",G237=\"\",H237=\"\",I237=\"\",K237=\"\",B237=Dropdownliste!A$9,J237=\"\"),\"\",IF(B237=\"m\",(VLOOKUP(Eingabeblatt!$G237,'Table males'!$A$3:$E$138,2)+(VLOOKUP(Eingabeblatt!$G237,'Table males'!$A$3:$E$138,3)*Eingabeblatt!I237)+(VLOOKUP(Eingabeblatt!$G237,'Table males'!$A$3:$E$138,4)*Eingabeblatt!H237)+(VLOOKUP(Eingabeblatt!$G237,'Table males'!$A$3:$E$138,5)*(Eingabeblatt!J237+Eingabeblatt!K237)/2)),VLOOKUP(Eingabeblatt!$G237,'Table females'!$A$3:$E$138,2)+(VLOOKUP(Eingabeblatt!$G237,'Table females'!$A$3:$E$138,3)*Eingabeblatt!I237)+(VLOOKUP(Eingabeblatt!$G237,'Table females'!$A$3:$E$138,4)*Eingabeblatt!H237)+(VLOOKUP(Eingabeblatt!$G237,'Table females'!$A$3:$E$138,5)*(Eingabeblatt!J237+Eingabeblatt!K237)/2)))","v":""},{"$f":"CONCATENATE(\" \",IF(OR(J237=\"\",K237=\"\",L237=\"\"),\"\",IF(B237=\"m\",'Table males'!D$141,'Table females'!D$141)))","v":" "},"",""]
[{"$nulls":6},"",{"$nulls":4},{"$f":"IF(OR(C238=\"\",G238=\"\",H238=\"\",I238=\"\",K238=\"\",B238=Dropdownliste!A$9,J238=\"\"),\"\",IF(B238=\"m\",(VLOOKUP(Eingabeblatt!$G238,'Table males'!$A$3:$E$138,2)+(VLOOKUP(Eingabeblatt!$G238,'Table males'!$A$3:$E$138,3)*Eingabeblatt!I238)+(VLOOKUP(Eingabeblatt!$G238,'Table males'!$A$3:$E$138,4)*Eingabeblatt!H238)+(VLOOKUP(Eingabeblatt!$G238,'Table males'!$A$3:$E$138,5)*(Eingabeblatt!J238+Eingabeblatt!K238)/2)),VLOOKUP(Eingabeblatt!$G238,'Table females'!$A$3:$E$138,2)+(VLOOKUP(Eingabeblatt!$G238,'Table females'!$A$3:$E$138,3)*Eingabeblatt!I238)+(VLOOKUP(Eingabeblatt!$G238,'Table females'!$A$3:$E$138,4)*Eingabeblatt!H238)+(VLOOKUP(Eingabeblatt!$G238,'Table females'!$A$3:$E$138,5)*(Eingabeblatt!J238+Eingabeblatt!K238)/2)))","v":""},{"$f":"CONCATENATE(\" \",IF(OR(J238=\"\",K238=\"\",L238=\"\"),\"\",IF(B238=\"m\",'Table males'!D$141,'Table females'!D$141)))","v":" "},"",""]
[{"$nulls":6},"",{"$nulls":4},{"$f":"IF(OR(C239=\"\",G239=\"\",H239=\"\",I239=\"\",K239=\"\",B239=Dropdownliste!A$9,J239=\"\"),\"\",IF(B239=\"m\",(VLOOKUP(Eingabeblatt!$G239,'Table males'!$A$3:$E$138,2)+(VLOOKUP(Eingabeblatt!$G239,'Table males'!$A$3:$E$138,3)*Eingabeblatt!I239)+(VLOOKUP(Eingabeblatt!$G239,'Table males'!$A$3:$E$138,4)*Eingabeblatt!H239)+(VLOOKUP(Eingabeblatt!$G239,'Table males'!$A$3:$E$138,5)*(Eingabeblatt!J239+Eingabeblatt!K239)/2)),VLOOKUP(Eingabeblatt!$G239,'Table females'!$A$3:$E$138,2)+(VLOOKUP(Eingabeblatt!$G239,'Table females'!$A$3:$E$138,3)*Eingabeblatt!I239)+(VLOOKUP(Eingabeblatt!$G239,'Table females'!$A$3:$E$138,4)*Eingabeblatt!H239)+(VLOOKUP(Eingabeblatt!$G239,'Table females'!$A$3:$E$138,5)*(Eingabeblatt!J239+Eingabeblatt!K239)/2)))","v":""},{"$f":"CONCATENATE(\" \",IF(OR(J239=\"\",K239=\"\",L239=\"\"),\"\",IF(B239=\"m\",'Table males'!D$141,'Table females'!D$141)))","v":" "},"",""]
[{"$nulls":6},"",{"$nulls":4},{"$f":"IF(OR(C240=\"\",G240=\"\",H240=\"\",I240=\"\",K240=\"\",B240=Dropdownliste!A$9,J240=\"\"),\"\",IF(B240=\"m\",(VLOOKUP(Eingabeblatt!$G240,'Table males'!$A$3:$E$138,2)+(VLOOKUP(Eingabeblatt!$G240,'Table males'!$A$3:$E$138,3)*Eingabeblatt!I240)+(VLOOKUP(Eingabeblatt!$G240,'Table males'!$A$3:$E$138,4)*Eingabeblatt!H240)+(VLOOKUP(Eingabeblatt!$G240,'Table males'!$A$3:$E$138,5)*(Eingabeblatt!J240+Eingabeblatt!K240)/2)),VLOOKUP(Eingabeblatt!$G240,'Table females'!$A$3:$E$138,2)+(VLOOKUP(Eingabeblatt!$G240,'Table females'!$A$3:$E$138,3)*Eingabeblatt!I240)+(VLOOKUP(Eingabeblatt!$G240,'Table females'!$A$3:$E$138,4)*Eingabeblatt!H240)+(VLOOKUP(Eingabeblatt!$G240,'Table females'!$A$3:$E$138,5)*(Eingabeblatt!J240+Eingabeblatt!K240)/2)))","v":""},{"$f":"CONCATENATE(\" \",IF(OR(J240=\"\",K240=\"\",L240=\"\"),\"\",IF(B240=\"m\",'Table males'!D$141,'Table females'!D$141)))","v":" "},"",""]
[{"$nulls":6},"",{"$nulls":4},{"$f":"IF(OR(C241=\"\",G241=\"\",H241=\"\",I241=\"\",K241=\"\",B241=Dropdownliste!A$9,J241=\"\"),\"\",IF(B241=\"m\",(VLOOKUP(Eingabeblatt!$G241,'Table males'!$A$3:$E$138,2)+(VLOOKUP(Eingabeblatt!$G241,'Table males'!$A$3:$E$138,3)*Eingabeblatt!I241)+(VLOOKUP(Eingabeblatt!$G241,'Table males'!$A$3:$E$138,4)*Eingabeblatt!H241)+(VLOOKUP(Eingabeblatt!$G241,'Table males'!$A$3:$E$138,5)*(Eingabeblatt!J241+Eingabeblatt!K241)/2)),VLOOKUP(Eingabeblatt!$G241,'Table females'!$A$3:$E$138,2)+(VLOOKUP(Eingabeblatt!$G241,'Table females'!$A$3:$E$138,3)*Eingabeblatt!I241)+(VLOOKUP(Eingabeblatt!$G241,'Table females'!$A$3:$E$138,4)*Eingabeblatt!H241)+(VLOOKUP(Eingabeblatt!$G241,'Table females'!$A$3:$E$138,5)*(Eingabeblatt!J241+Eingabeblatt!K241)/2)))","v":""},{"$f":"CONCATENATE(\" \",IF(OR(J241=\"\",K241=\"\",L241=\"\"),\"\",IF(B241=\"m\",'Table males'!D$141,'Table females'!D$141)))","v":" "},"",""]
[{"$nulls":6},"",{"$nulls":4},{"$f":"IF(OR(C242=\"\",G242=\"\",H242=\"\",I242=\"\",K242=\"\",B242=Dropdownliste!A$9,J242=\"\"),\"\",IF(B242=\"m\",(VLOOKUP(Eingabeblatt!$G242,'Table males'!$A$3:$E$138,2)+(VLOOKUP(Eingabeblatt!$G242,'Table males'!$A$3:$E$138,3)*Eingabeblatt!I242)+(VLOOKUP(Eingabeblatt!$G242,'Table males'!$A$3:$E$138,4)*Eingabeblatt!H242)+(VLOOKUP(Eingabeblatt!$G242,'Table males'!$A$3:$E$138,5)*(Eingabeblatt!J242+Eingabeblatt!K242)/2)),VLOOKUP(Eingabeblatt!$G242,'Table females'!$A$3:$E$138,2)+(VLOOKUP(Eingabeblatt!$G242,'Table females'!$A$3:$E$138,3)*Eingabeblatt!I242)+(VLOOKUP(Eingabeblatt!$G242,'Table females'!$A$3:$E$138,4)*Eingabeblatt!H242)+(VLOOKUP(Eingabeblatt!$G242,'Table females'!$A$3:$E$138,5)*(Eingabeblatt!J242+Eingabeblatt!K242)/2)))","v":""},{"$f":"CONCATENATE(\" \",IF(OR(J242=\"\",K242=\"\",L242=\"\"),\"\",IF(B242=\"m\",'Table males'!D$141,'Table females'!D$141)))","v":" "},"",""]
[{"$nulls":6},"",{"$nulls":4},{"$f":"IF(OR(C243=\"\",G243=\"\",H243=\"\",I243=\"\",K243=\"\",B243=Dropdownliste!A$9,J243=\"\"),\"\",IF(B243=\"m\",(VLOOKUP(Eingabeblatt!$G243,'Table males'!$A$3:$E$138,2)+(VLOOKUP(Eingabeblatt!$G243,'Table males'!$A$3:$E$138,3)*Eingabeblatt!I243)+(VLOOKUP(Eingabeblatt!$G243,'Table males'!$A$3:$E$138,4)*Eingabeblatt!H243)+(VLOOKUP(Eingabeblatt!$G243,'Table males'!$A$3:$E$138,5)*(Eingabeblatt!J243+Eingabeblatt!K243)/2)),VLOOKUP(Eingabeblatt!$G243,'Table females'!$A$3:$E$138,2)+(VLOOKUP(Eingabeblatt!$G243,'Table females'!$A$3:$E$138,3)*Eingabeblatt!I243)+(VLOOKUP(Eingabeblatt!$G243,'Table females'!$A$3:$E$138,4)*Eingabeblatt!H243)+(VLOOKUP(Eingabeblatt!$G243,'Table females'!$A$3:$E$138,5)*(Eingabeblatt!J243+Eingabeblatt!K243)/2)))","v":""},{"$f":"CONCATENATE(\" \",IF(OR(J243=\"\",K243=\"\",L243=\"\"),\"\",IF(B243=\"m\",'Table males'!D$141,'Table females'!D$141)))","v":" "},"",""]
[{"$nulls":6},"",{"$nulls":4},{"$f":"IF(OR(C244=\"\",G244=\"\",H244=\"\",I244=\"\",K244=\"\",B244=Dropdownliste!A$9,J244=\"\"),\"\",IF(B244=\"m\",(VLOOKUP(Eingabeblatt!$G244,'Table males'!$A$3:$E$138,2)+(VLOOKUP(Eingabeblatt!$G244,'Table males'!$A$3:$E$138,3)*Eingabeblatt!I244)+(VLOOKUP(Eingabeblatt!$G244,'Table males'!$A$3:$E$138,4)*Eingabeblatt!H244)+(VLOOKUP(Eingabeblatt!$G244,'Table males'!$A$3:$E$138,5)*(Eingabeblatt!J244+Eingabeblatt!K244)/2)),VLOOKUP(Eingabeblatt!$G244,'Table females'!$A$3:$E$138,2)+(VLOOKUP(Eingabeblatt!$G244,'Table females'!$A$3:$E$138,3)*Eingabeblatt!I244)+(VLOOKUP(Eingabeblatt!$G244,'Table females'!$A$3:$E$138,4)*Eingabeblatt!H244)+(VLOOKUP(Eingabeblatt!$G244,'Table females'!$A$3:$E$138,5)*(Eingabeblatt!J244+Eingabeblatt!K244)/2)))","v":""},{"$f":"CONCATENATE(\" \",IF(OR(J244=\"\",K244=\"\",L244=\"\"),\"\",IF(B244=\"m\",'Table males'!D$141,'Table females'!D$141)))","v":" "},"",""]
[{"$nulls":6},"",{"$nulls":4},{"$f":"IF(OR(C245=\"\",G245=\"\",H245=\"\",I245=\"\",K245=\"\",B245=Dropdownliste!A$9,J245=\"\"),\"\",IF(B245=\"m\",(VLOOKUP(Eingabeblatt!$G245,'Table males'!$A$3:$E$138,2)+(VLOOKUP(Eingabeblatt!$G245,'Table males'!$A$3:$E$138,3)*Eingabeblatt!I245)+(VLOOKUP(Eingabeblatt!$G245,'Table males'!$A$3:$E$138,4)*Eingabeblatt!H245)+(VLOOKUP(Eingabeblatt!$G245,'Table males'!$A$3:$E$138,5)*(Eingabeblatt!J245+Eingabeblatt!K245)/2)),VLOOKUP(Eingabeblatt!$G245,'Table females'!$A$3:$E$138,2)+(VLOOKUP(Eingabeblatt!$G245,'Table females'!$A$3:$E$138,3)*Eingabeblatt!I245)+(VLOOKUP(Eingabeblatt!$G245,'Table females'!$A$3:$E$138,4)*Eingabeblatt!H245)+(VLOOKUP(Eingabeblatt!$G245,'Table females'!$A$3:$E$138,5)*(Eingabeblatt!J245+Eingabeblatt!K245)/2)))","v":""},{"$f":"CONCATENATE(\" \",IF(OR(J245=\"\",K245=\"\",L245=\"\"),\"\",IF(B245=\"m\",'Table males'!D$141,'Table females'!D$141)))","v":" "},"",""]
[{"$nulls":6},"",{"$nulls":4},{"$f":"IF(OR(C246=\"\",G246=\"\",H246=\"\",I246=\"\",K246=\"\",B246=Dropdownliste!A$9,J246=\"\"),\"\",IF(B246=\"m\",(VLOOKUP(Eingabeblatt!$G246,'Table males'!$A$3:$E$138,2)+(VLOOKUP(Eingabeblatt!$G246,'Table males'!$A$3:$E$138,3)*Eingabeblatt!I246)+(VLOOKUP(Eingabeblatt!$G246,'Table males'!$A$3:$E$138,4)*Eingabeblatt!H246)+(VLOOKUP(Eingabeblatt!$G246,'Table males'!$A$3:$E$138,5)*(Eingabeblatt!J246+Eingabeblatt!K246)/2)),VLOOKUP(Eingabeblatt!$G246,'Table females'!$A$3:$E$138,2)+(VLOOKUP(Eingabeblatt!$G246,'Table females'!$A$3:$E$138,3)*Eingabeblatt!I246)+(VLOOKUP(Eingabeblatt!$G246,'Table females'!$A$3:$E$138,4)*Eingabeblatt!H246)+(VLOOKUP(Eingabeblatt!$G246,'Table females'!$A$3:$E$138,5)*(Eingabeblatt!J246+Eingabeblatt!K246)/2)))","v":""},{"$f":"CONCATENATE(\" \",IF(OR(J246=\"\",K246=\"\",L246=\"\"),\"\",IF(B246=\"m\",'Table males'!D$141,'Table females'!D$141)))","v":" "},"",""]
[{"$nulls":6},"",{"$nulls":4},{"$f":"IF(OR(C247=\"\",G247=\"\",H247=\"\",I247=\"\",K247=\"\",B247=Dropdownliste!A$9,J247=\"\"),\"\",IF(B247=\"m\",(VLOOKUP(Eingabeblatt!$G247,'Table males'!$A$3:$E$138,2)+(VLOOKUP(Eingabeblatt!$G247,'Table males'!$A$3:$E$138,3)*Eingabeblatt!I247)+(VLOOKUP(Eingabeblatt!$G247,'Table males'!$A$3:$E$138,4)*Eingabeblatt!H247)+(VLOOKUP(Eingabeblatt!$G247,'Table males'!$A$3:$E$138,5)*(Eingabeblatt!J247+Eingabeblatt!K247)/2)),VLOOKUP(Eingabeblatt!$G247,'Table females'!$A$3:$E$138,2)+(VLOOKUP(Eingabeblatt!$G247,'Table females'!$A$3:$E$138,3)*Eingabeblatt!I247)+(VLOOKUP(Eingabeblatt!$G247,'Table females'!$A$3:$E$138,4)*Eingabeblatt!H247)+(VLOOKUP(Eingabeblatt!$G247,'Table females'!$A$3:$E$138,5)*(Eingabeblatt!J247+Eingabeblatt!K247)/2)))","v":""},{"$f":"CONCATENATE(\" \",IF(OR(J247=\"\",K247=\"\",L247=\"\"),\"\",IF(B247=\"m\",'Table males'!D$141,'Table females'!D$141)))","v":" "},"",""]
[{"$nulls":6},"",{"$nulls":4},{"$f":"IF(OR(C248=\"\",G248=\"\",H248=\"\",I248=\"\",K248=\"\",B248=Dropdownliste!A$9,J248=\"\"),\"\",IF(B248=\"m\",(VLOOKUP(Eingabeblatt!$G248,'Table males'!$A$3:$E$138,2)+(VLOOKUP(Eingabeblatt!$G248,'Table males'!$A$3:$E$138,3)*Eingabeblatt!I248)+(VLOOKUP(Eingabeblatt!$G248,'Table males'!$A$3:$E$138,4)*Eingabeblatt!H248)+(VLOOKUP(Eingabeblatt!$G248,'Table males'!$A$3:$E$138,5)*(Eingabeblatt!J248+Eingabeblatt!K248)/2)),VLOOKUP(Eingabeblatt!$G248,'Table females'!$A$3:$E$138,2)+(VLOOKUP(Eingabeblatt!$G248,'Table females'!$A$3:$E$138,3)*Eingabeblatt!I248)+(VLOOKUP(Eingabeblatt!$G248,'Table females'!$A$3:$E$138,4)*Eingabeblatt!H248)+(VLOOKUP(Eingabeblatt!$G248,'Table females'!$A$3:$E$138,5)*(Eingabeblatt!J248+Eingabeblatt!K248)/2)))","v":""},{"$f":"CONCATENATE(\" \",IF(OR(J248=\"\",K248=\"\",L248=\"\"),\"\",IF(B248=\"m\",'Table males'!D$141,'Table females'!D$141)))","v":" "},"",""]
[{"$nulls":6},"",{"$nulls":4},{"$f":"IF(OR(C249=\"\",G249=\"\",H249=\"\",I249=\"\",K249=\"\",B249=Dropdownliste!A$9,J249=\"\"),\"\",IF(B249=\"m\",(VLOOKUP(Eingabeblatt!$G249,'Table males'!$A$3:$E$138,2)+(VLOOKUP(Eingabeblatt!$G249,'Table males'!$A$3:$E$138,3)*Eingabeblatt!I249)+(VLOOKUP(Eingabeblatt!$G249,'Table males'!$A$3:$E$138,4)*Eingabeblatt!H249)+(VLOOKUP(Eingabeblatt!$G249,'Table males'!$A$3:$E$138,5)*(Eingabeblatt!J249+Eingabeblatt!K249)/2)),VLOOKUP(Eingabeblatt!$G249,'Table females'!$A$3:$E$138,2)+(VLOOKUP(Eingabeblatt!$G249,'Table females'!$A$3:$E$138,3)*Eingabeblatt!I249)+(VLOOKUP(Eingabeblatt!$G249,'Table females'!$A$3:$E$138,4)*Eingabeblatt!H249)+(VLOOKUP(Eingabeblatt!$G249,'Table females'!$A$3:$E$138,5)*(Eingabeblatt!J249+Eingabeblatt!K249)/2)))","v":""},{"$f":"CONCATENATE(\" \",IF(OR(J249=\"\",K249=\"\",L249=\"\"),\"\",IF(B249=\"m\",'Table males'!D$141,'Table females'!D$141)))","v":" "},"",""]
[{"$nulls":6},"",{"$nulls":4},{"$f":"IF(OR(C250=\"\",G250=\"\",H250=\"\",I250=\"\",K250=\"\",B250=Dropdownliste!A$9,J250=\"\"),\"\",IF(B250=\"m\",(VLOOKUP(Eingabeblatt!$G250,'Table males'!$A$3:$E$138,2)+(VLOOKUP(Eingabeblatt!$G250,'Table males'!$A$3:$E$138,3)*Eingabeblatt!I250)+(VLOOKUP(Eingabeblatt!$G250,'Table males'!$A$3:$E$138,4)*Eingabeblatt!H250)+(VLOOKUP(Eingabeblatt!$G250,'Table males'!$A$3:$E$138,5)*(Eingabeblatt!J250+Eingabeblatt!K250)/2)),VLOOKUP(Eingabeblatt!$G250,'Table females'!$A$3:$E$138,2)+(VLOOKUP(Eingabeblatt!$G250,'Table females'!$A$3:$E$138,3)*Eingabeblatt!I250)+(VLOOKUP(Eingabeblatt!$G250,'Table females'!$A$3:$E$138,4)*Eingabeblatt!H250)+(VLOOKUP(Eingabeblatt!$G250,'Table females'!$A$3:$E$138,5)*(Eingabeblatt!J250+Eingabeblatt!K250)/2)))","v":""},{"$f":"CONCATENATE(\" \",IF(OR(J250=\"\",K250=\"\",L250=\"\"),\"\",IF(B250=\"m\",'Table males'!D$141,'Table females'!D$141)))","v":" "},"",""]
[{"$nulls":6},"",{"$nulls":4},{"$f":"IF(OR(C251=\"\",G251=\"\",H251=\"\",I251=\"\",K251=\"\",B251=Dropdownliste!A$9,J251=\"\"),\"\",IF(B251=\"m\",(VLOOKUP(Eingabeblatt!$G251,'Table males'!$A$3:$E$138,2)+(VLOOKUP(Eingabeblatt!$G251,'Table males'!$A$3:$E$138,3)*Eingabeblatt!I251)+(VLOOKUP(Eingabeblatt!$G251,'Table males'!$A$3:$E$138,4)*Eingabeblatt!H251)+(VLOOKUP(Eingabeblatt!$G251,'Table males'!$A$3:$E$138,5)*(Eingabeblatt!J251+Eingabeblatt!K251)/2)),VLOOKUP(Eingabeblatt!$G251,'Table females'!$A$3:$E$138,2)+(VLOOKUP(Eingabeblatt!$G251,'Table females'!$A$3:$E$138,3)*Eingabeblatt!I251)+(VLOOKUP(Eingabeblatt!$G251,'Table females'!$A$3:$E$138,4)*Eingabeblatt!H251)+(VLOOKUP(Eingabeblatt!$G251,'Table females'!$A$3:$E$138,5)*(Eingabeblatt!J251+Eingabeblatt!K251)/2)))","v":""},{"$f":"CONCATENATE(\" \",IF(OR(J251=\"\",K251=\"\",L251=\"\"),\"\",IF(B251=\"m\",'Table males'!D$141,'Table females'!D$141)))","v":" "},"",""]
[{"$nulls":6},"",{"$nulls":4},{"$f":"IF(OR(C252=\"\",G252=\"\",H252=\"\",I252=\"\",K252=\"\",B252=Dropdownliste!A$9,J252=\"\"),\"\",IF(B252=\"m\",(VLOOKUP(Eingabeblatt!$G252,'Table males'!$A$3:$E$138,2)+(VLOOKUP(Eingabeblatt!$G252,'Table males'!$A$3:$E$138,3)*Eingabeblatt!I252)+(VLOOKUP(Eingabeblatt!$G252,'Table males'!$A$3:$E$138,4)*Eingabeblatt!H252)+(VLOOKUP(Eingabeblatt!$G252,'Table males'!$A$3:$E$138,5)*(Eingabeblatt!J252+Eingabeblatt!K252)/2)),VLOOKUP(Eingabeblatt!$G252,'Table females'!$A$3:$E$138,2)+(VLOOKUP(Eingabeblatt!$G252,'Table females'!$A$3:$E$138,3)*Eingabeblatt!I252)+(VLOOKUP(Eingabeblatt!$G252,'Table females'!$A$3:$E$138,4)*Eingabeblatt!H252)+(VLOOKUP(Eingabeblatt!$G252,'Table females'!$A$3:$E$138,5)*(Eingabeblatt!J252+Eingabeblatt!K252)/2)))","v":""},{"$f":"CONCATENATE(\" \",IF(OR(J252=\"\",K252=\"\",L252=\"\"),\"\",IF(B252=\"m\",'Table males'!D$141,'Table females'!D$141)))","v":" "},"",""]
[{"$nulls":6},"",{"$nulls":4},{"$f":"IF(OR(C253=\"\",G253=\"\",H253=\"\",I253=\"\",K253=\"\",B253=Dropdownliste!A$9,J253=\"\"),\"\",IF(B253=\"m\",(VLOOKUP(Eingabeblatt!$G253,'Table males'!$A$3:$E$138,2)+(VLOOKUP(Eingabeblatt!$G253,'Table males'!$A$3:$E$138,3)*Eingabeblatt!I253)+(VLOOKUP(Eingabeblatt!$G253,'Table males'!$A$3:$E$138,4)*Eingabeblatt!H253)+(VLOOKUP(Eingabeblatt!$G253,'Table males'!$A$3:$E$138,5)*(Eingabeblatt!J253+Eingabeblatt!K253)/2)),VLOOKUP(Eingabeblatt!$G253,'Table females'!$A$3:$E$138,2)+(VLOOKUP(Eingabeblatt!$G253,'Table females'!$A$3:$E$138,3)*Eingabeblatt!I253)+(VLOOKUP(Eingabeblatt!$G253,'Table females'!$A$3:$E$138,4)*Eingabeblatt!H253)+(VLOOKUP(Eingabeblatt!$G253,'Table females'!$A$3:$E$138,5)*(Eingabeblatt!J253+Eingabeblatt!K253)/2)))","v":""},{"$f":"CONCATENATE(\" \",IF(OR(J253=\"\",K253=\"\",L253=\"\"),\"\",IF(B253=\"m\",'Table males'!D$141,'Table females'!D$141)))","v":" "},"",""]
[{"$nulls":6},"",{"$nulls":4},{"$f":"IF(OR(C254=\"\",G254=\"\",H254=\"\",I254=\"\",K254=\"\",B254=Dropdownliste!A$9,J254=\"\"),\"\",IF(B254=\"m\",(VLOOKUP(Eingabeblatt!$G254,'Table males'!$A$3:$E$138,2)+(VLOOKUP(Eingabeblatt!$G254,'Table males'!$A$3:$E$138,3)*Eingabeblatt!I254)+(VLOOKUP(Eingabeblatt!$G254,'Table males'!$A$3:$E$138,4)*Eingabeblatt!H254)+(VLOOKUP(Eingabeblatt!$G254,'Table males'!$A$3:$E$138,5)*(Eingabeblatt!J254+Eingabeblatt!K254)/2)),VLOOKUP(Eingabeblatt!$G254,'Table females'!$A$3:$E$138,2)+(VLOOKUP(Eingabeblatt!$G254,'Table females'!$A$3:$E$138,3)*Eingabeblatt!I254)+(VLOOKUP(Eingabeblatt!$G254,'Table females'!$A$3:$E$138,4)*Eingabeblatt!H254)+(VLOOKUP(Eingabeblatt!$G254,'Table females'!$A$3:$E$138,5)*(Eingabeblatt!J254+Eingabeblatt!K254)/2)))","v":""},{"$f":"CONCATENATE(\" \",IF(OR(J254=\"\",K254=\"\",L254=\"\"),\"\",IF(B254=\"m\",'Table males'!D$141,'Table females'!D$141)))","v":" "},"",""]
[{"$nulls":6},"",{"$nulls":4},{"$f":"IF(OR(C255=\"\",G255=\"\",H255=\"\",I255=\"\",K255=\"\",B255=Dropdownliste!A$9,J255=\"\"),\"\",IF(B255=\"m\",(VLOOKUP(Eingabeblatt!$G255,'Table males'!$A$3:$E$138,2)+(VLOOKUP(Eingabeblatt!$G255,'Table males'!$A$3:$E$138,3)*Eingabeblatt!I255)+(VLOOKUP(Eingabeblatt!$G255,'Table males'!$A$3:$E$138,4)*Eingabeblatt!H255)+(VLOOKUP(Eingabeblatt!$G255,'Table males'!$A$3:$E$138,5)*(Eingabeblatt!J255+Eingabeblatt!K255)/2)),VLOOKUP(Eingabeblatt!$G255,'Table females'!$A$3:$E$138,2)+(VLOOKUP(Eingabeblatt!$G255,'Table females'!$A$3:$E$138,3)*Eingabeblatt!I255)+(VLOOKUP(Eingabeblatt!$G255,'Table females'!$A$3:$E$138,4)*Eingabeblatt!H255)+(VLOOKUP(Eingabeblatt!$G255,'Table females'!$A$3:$E$138,5)*(Eingabeblatt!J255+Eingabeblatt!K255)/2)))","v":""},{"$f":"CONCATENATE(\" \",IF(OR(J255=\"\",K255=\"\",L255=\"\"),\"\",IF(B255=\"m\",'Table males'!D$141,'Table females'!D$141)))","v":" "},"",""]
[{"$nulls":6},"",{"$nulls":4},{"$f":"IF(OR(C256=\"\",G256=\"\",H256=\"\",I256=\"\",K256=\"\",B256=Dropdownliste!A$9,J256=\"\"),\"\",IF(B256=\"m\",(VLOOKUP(Eingabeblatt!$G256,'Table males'!$A$3:$E$138,2)+(VLOOKUP(Eingabeblatt!$G256,'Table males'!$A$3:$E$138,3)*Eingabeblatt!I256)+(VLOOKUP(Eingabeblatt!$G256,'Table males'!$A$3:$E$138,4)*Eingabeblatt!H256)+(VLOOKUP(Eingabeblatt!$G256,'Table males'!$A$3:$E$138,5)*(Eingabeblatt!J256+Eingabeblatt!K256)/2)),VLOOKUP(Eingabeblatt!$G256,'Table females'!$A$3:$E$138,2)+(VLOOKUP(Eingabeblatt!$G256,'Table females'!$A$3:$E$138,3)*Eingabeblatt!I256)+(VLOOKUP(Eingabeblatt!$G256,'Table females'!$A$3:$E$138,4)*Eingabeblatt!H256)+(VLOOKUP(Eingabeblatt!$G256,'Table females'!$A$3:$E$138,5)*(Eingabeblatt!J256+Eingabeblatt!K256)/2)))","v":""},{"$f":"CONCATENATE(\" \",IF(OR(J256=\"\",K256=\"\",L256=\"\"),\"\",IF(B256=\"m\",'Table males'!D$141,'Table females'!D$141)))","v":" "},"",""]
[{"$nulls":6},"",{"$nulls":4},{"$f":"IF(OR(C257=\"\",G257=\"\",H257=\"\",I257=\"\",K257=\"\",B257=Dropdownliste!A$9,J257=\"\"),\"\",IF(B257=\"m\",(VLOOKUP(Eingabeblatt!$G257,'Table males'!$A$3:$E$138,2)+(VLOOKUP(Eingabeblatt!$G257,'Table males'!$A$3:$E$138,3)*Eingabeblatt!I257)+(VLOOKUP(Eingabeblatt!$G257,'Table males'!$A$3:$E$138,4)*Eingabeblatt!H257)+(VLOOKUP(Eingabeblatt!$G257,'Table males'!$A$3:$E$138,5)*(Eingabeblatt!J257+Eingabeblatt!K257)/2)),VLOOKUP(Eingabeblatt!$G257,'Table females'!$A$3:$E$138,2)+(VLOOKUP(Eingabeblatt!$G257,'Table females'!$A$3:$E$138,3)*Eingabeblatt!I257)+(VLOOKUP(Eingabeblatt!$G257,'Table females'!$A$3:$E$138,4)*Eingabeblatt!H257)+(VLOOKUP(Eingabeblatt!$G257,'Table females'!$A$3:$E$138,5)*(Eingabeblatt!J257+Eingabeblatt!K257)/2)))","v":""},{"$f":"CONCATENATE(\" \",IF(OR(J257=\"\",K257=\"\",L257=\"\"),\"\",IF(B257=\"m\",'Table males'!D$141,'Table females'!D$141)))","v":" "},"",""]
[{"$nulls":6},"",{"$nulls":4},{"$f":"IF(OR(C258=\"\",G258=\"\",H258=\"\",I258=\"\",K258=\"\",B258=Dropdownliste!A$9,J258=\"\"),\"\",IF(B258=\"m\",(VLOOKUP(Eingabeblatt!$G258,'Table males'!$A$3:$E$138,2)+(VLOOKUP(Eingabeblatt!$G258,'Table males'!$A$3:$E$138,3)*Eingabeblatt!I258)+(VLOOKUP(Eingabeblatt!$G258,'Table males'!$A$3:$E$138,4)*Eingabeblatt!H258)+(VLOOKUP(Eingabeblatt!$G258,'Table males'!$A$3:$E$138,5)*(Eingabeblatt!J258+Eingabeblatt!K258)/2)),VLOOKUP(Eingabeblatt!$G258,'Table females'!$A$3:$E$138,2)+(VLOOKUP(Eingabeblatt!$G258,'Table females'!$A$3:$E$138,3)*Eingabeblatt!I258)+(VLOOKUP(Eingabeblatt!$G258,'Table females'!$A$3:$E$138,4)*Eingabeblatt!H258)+(VLOOKUP(Eingabeblatt!$G258,'Table females'!$A$3:$E$138,5)*(Eingabeblatt!J258+Eingabeblatt!K258)/2)))","v":""},{"$f":"CONCATENATE(\" \",IF(OR(J258=\"\",K258=\"\",L258=\"\"),\"\",IF(B258=\"m\",'Table males'!D$141,'Table females'!D$141)))","v":" "},"",""]
[{"$nulls":6},"",{"$nulls":4},{"$f":"IF(OR(C259=\"\",G259=\"\",H259=\"\",I259=\"\",K259=\"\",B259=Dropdownliste!A$9,J259=\"\"),\"\",IF(B259=\"m\",(VLOOKUP(Eingabeblatt!$G259,'Table males'!$A$3:$E$138,2)+(VLOOKUP(Eingabeblatt!$G259,'Table males'!$A$3:$E$138,3)*Eingabeblatt!I259)+(VLOOKUP(Eingabeblatt!$G259,'Table males'!$A$3:$E$138,4)*Eingabeblatt!H259)+(VLOOKUP(Eingabeblatt!$G259,'Table males'!$A$3:$E$138,5)*(Eingabeblatt!J259+Eingabeblatt!K259)/2)),VLOOKUP(Eingabeblatt!$G259,'Table females'!$A$3:$E$138,2)+(VLOOKUP(Eingabeblatt!$G259,'Table females'!$A$3:$E$138,3)*Eingabeblatt!I259)+(VLOOKUP(Eingabeblatt!$G259,'Table females'!$A$3:$E$138,4)*Eingabeblatt!H259)+(VLOOKUP(Eingabeblatt!$G259,'Table females'!$A$3:$E$138,5)*(Eingabeblatt!J259+Eingabeblatt!K259)/2)))","v":""},{"$f":"CONCATENATE(\" \",IF(OR(J259=\"\",K259=\"\",L259=\"\"),\"\",IF(B259=\"m\",'Table males'!D$141,'Table females'!D$141)))","v":" "},"",""]
[{"$nulls":6},"",{"$nulls":4},{"$f":"IF(OR(C260=\"\",G260=\"\",H260=\"\",I260=\"\",K260=\"\",B260=Dropdownliste!A$9,J260=\"\"),\"\",IF(B260=\"m\",(VLOOKUP(Eingabeblatt!$G260,'Table males'!$A$3:$E$138,2)+(VLOOKUP(Eingabeblatt!$G260,'Table males'!$A$3:$E$138,3)*Eingabeblatt!I260)+(VLOOKUP(Eingabeblatt!$G260,'Table males'!$A$3:$E$138,4)*Eingabeblatt!H260)+(VLOOKUP(Eingabeblatt!$G260,'Table males'!$A$3:$E$138,5)*(Eingabeblatt!J260+Eingabeblatt!K260)/2)),VLOOKUP(Eingabeblatt!$G260,'Table females'!$A$3:$E$138,2)+(VLOOKUP(Eingabeblatt!$G260,'Table females'!$A$3:$E$138,3)*Eingabeblatt!I260)+(VLOOKUP(Eingabeblatt!$G260,'Table females'!$A$3:$E$138,4)*Eingabeblatt!H260)+(VLOOKUP(Eingabeblatt!$G260,'Table females'!$A$3:$E$138,5)*(Eingabeblatt!J260+Eingabeblatt!K260)/2)))","v":""},{"$f":"CONCATENATE(\" \",IF(OR(J260=\"\",K260=\"\",L260=\"\"),\"\",IF(B260=\"m\",'Table males'!D$141,'Table females'!D$141)))","v":" "},"",""]
[{"$nulls":6},"",{"$nulls":4},{"$f":"IF(OR(C261=\"\",G261=\"\",H261=\"\",I261=\"\",K261=\"\",B261=Dropdownliste!A$9,J261=\"\"),\"\",IF(B261=\"m\",(VLOOKUP(Eingabeblatt!$G261,'Table males'!$A$3:$E$138,2)+(VLOOKUP(Eingabeblatt!$G261,'Table males'!$A$3:$E$138,3)*Eingabeblatt!I261)+(VLOOKUP(Eingabeblatt!$G261,'Table males'!$A$3:$E$138,4)*Eingabeblatt!H261)+(VLOOKUP(Eingabeblatt!$G261,'Table males'!$A$3:$E$138,5)*(Eingabeblatt!J261+Eingabeblatt!K261)/2)),VLOOKUP(Eingabeblatt!$G261,'Table females'!$A$3:$E$138,2)+(VLOOKUP(Eingabeblatt!$G261,'Table females'!$A$3:$E$138,3)*Eingabeblatt!I261)+(VLOOKUP(Eingabeblatt!$G261,'Table females'!$A$3:$E$138,4)*Eingabeblatt!H261)+(VLOOKUP(Eingabeblatt!$G261,'Table females'!$A$3:$E$138,5)*(Eingabeblatt!J261+Eingabeblatt!K261)/2)))","v":""},{"$f":"CONCATENATE(\" \",IF(OR(J261=\"\",K261=\"\",L261=\"\"),\"\",IF(B261=\"m\",'Table males'!D$141,'Table females'!D$141)))","v":" "},"",""]
[{"$nulls":6},"",{"$nulls":4},{"$f":"IF(OR(C262=\"\",G262=\"\",H262=\"\",I262=\"\",K262=\"\",B262=Dropdownliste!A$9,J262=\"\"),\"\",IF(B262=\"m\",(VLOOKUP(Eingabeblatt!$G262,'Table males'!$A$3:$E$138,2)+(VLOOKUP(Eingabeblatt!$G262,'Table males'!$A$3:$E$138,3)*Eingabeblatt!I262)+(VLOOKUP(Eingabeblatt!$G262,'Table males'!$A$3:$E$138,4)*Eingabeblatt!H262)+(VLOOKUP(Eingabeblatt!$G262,'Table males'!$A$3:$E$138,5)*(Eingabeblatt!J262+Eingabeblatt!K262)/2)),VLOOKUP(Eingabeblatt!$G262,'Table females'!$A$3:$E$138,2)+(VLOOKUP(Eingabeblatt!$G262,'Table females'!$A$3:$E$138,3)*Eingabeblatt!I262)+(VLOOKUP(Eingabeblatt!$G262,'Table females'!$A$3:$E$138,4)*Eingabeblatt!H262)+(VLOOKUP(Eingabeblatt!$G262,'Table females'!$A$3:$E$138,5)*(Eingabeblatt!J262+Eingabeblatt!K262)/2)))","v":""},{"$f":"CONCATENATE(\" \",IF(OR(J262=\"\",K262=\"\",L262=\"\"),\"\",IF(B262=\"m\",'Table males'!D$141,'Table females'!D$141)))","v":" "},"",""]
[{"$nulls":6},{"$f":"IF(AND(C263>0,F263>0),(C263-F263)/365.25,\"\")","v":""},{"$nulls":4},{"$f":"IF(OR(C263=\"\",G263=\"\",H263=\"\",I263=\"\",K263=\"\",B263=Dropdownliste!A$9,J263=\"\"),\"\",IF(B263=\"m\",(VLOOKUP(Eingabeblatt!$G263,'Table males'!$A$3:$E$138,2)+(VLOOKUP(Eingabeblatt!$G263,'Table males'!$A$3:$E$138,3)*Eingabeblatt!I263)+(VLOOKUP(Eingabeblatt!$G263,'Table males'!$A$3:$E$138,4)*Eingabeblatt!H263)+(VLOOKUP(Eingabeblatt!$G263,'Table males'!$A$3:$E$138,5)*(Eingabeblatt!J263+Eingabeblatt!K263)/2)),VLOOKUP(Eingabeblatt!$G263,'Table females'!$A$3:$E$138,2)+(VLOOKUP(Eingabeblatt!$G263,'Table females'!$A$3:$E$138,3)*Eingabeblatt!I263)+(VLOOKUP(Eingabeblatt!$G263,'Table females'!$A$3:$E$138,4)*Eingabeblatt!H263)+(VLOOKUP(Eingabeblatt!$G263,'Table females'!$A$3:$E$138,5)*(Eingabeblatt!J263+Eingabeblatt!K263)/2)))","v":""},{"$f":"CONCATENATE(\" \",IF(OR(J263=\"\",K263=\"\",L263=\"\"),\"\",IF(B263=\"m\",'Table males'!D$141,'Table females'!D$141)))","v":" "},"",""]
[{"$nulls":6},"",{"$nulls":4},{"$f":"IF(OR(C264=\"\",G264=\"\",H264=\"\",I264=\"\",K264=\"\",B264=Dropdownliste!A$9,J264=\"\"),\"\",IF(B264=\"m\",(VLOOKUP(Eingabeblatt!$G264,'Table males'!$A$3:$E$138,2)+(VLOOKUP(Eingabeblatt!$G264,'Table males'!$A$3:$E$138,3)*Eingabeblatt!I264)+(VLOOKUP(Eingabeblatt!$G264,'Table males'!$A$3:$E$138,4)*Eingabeblatt!H264)+(VLOOKUP(Eingabeblatt!$G264,'Table males'!$A$3:$E$138,5)*(Eingabeblatt!J264+Eingabeblatt!K264)/2)),VLOOKUP(Eingabeblatt!$G264,'Table females'!$A$3:$E$138,2)+(VLOOKUP(Eingabeblatt!$G264,'Table females'!$A$3:$E$138,3)*Eingabeblatt!I264)+(VLOOKUP(Eingabeblatt!$G264,'Table females'!$A$3:$E$138,4)*Eingabeblatt!H264)+(VLOOKUP(Eingabeblatt!$G264,'Table females'!$A$3:$E$138,5)*(Eingabeblatt!J264+Eingabeblatt!K264)/2)))","v":""},{"$f":"CONCATENATE(\" \",IF(OR(J264=\"\",K264=\"\",L264=\"\"),\"\",IF(B264=\"m\",'Table males'!D$141,'Table females'!D$141)))","v":" "},"",""]
[{"$nulls":6},"",{"$nulls":4},{"$f":"IF(OR(C265=\"\",G265=\"\",H265=\"\",I265=\"\",K265=\"\",B265=Dropdownliste!A$9,J265=\"\"),\"\",IF(B265=\"m\",(VLOOKUP(Eingabeblatt!$G265,'Table males'!$A$3:$E$138,2)+(VLOOKUP(Eingabeblatt!$G265,'Table males'!$A$3:$E$138,3)*Eingabeblatt!I265)+(VLOOKUP(Eingabeblatt!$G265,'Table males'!$A$3:$E$138,4)*Eingabeblatt!H265)+(VLOOKUP(Eingabeblatt!$G265,'Table males'!$A$3:$E$138,5)*(Eingabeblatt!J265+Eingabeblatt!K265)/2)),VLOOKUP(Eingabeblatt!$G265,'Table females'!$A$3:$E$138,2)+(VLOOKUP(Eingabeblatt!$G265,'Table females'!$A$3:$E$138,3)*Eingabeblatt!I265)+(VLOOKUP(Eingabeblatt!$G265,'Table females'!$A$3:$E$138,4)*Eingabeblatt!H265)+(VLOOKUP(Eingabeblatt!$G265,'Table females'!$A$3:$E$138,5)*(Eingabeblatt!J265+Eingabeblatt!K265)/2)))","v":""},{"$f":"CONCATENATE(\" \",IF(OR(J265=\"\",K265=\"\",L265=\"\"),\"\",IF(B265=\"m\",'Table males'!D$141,'Table females'!D$141)))","v":" "},"",""]
[{"$nulls":6},"",{"$nulls":4},{"$f":"IF(OR(C266=\"\",G266=\"\",H266=\"\",I266=\"\",K266=\"\",B266=Dropdownliste!A$9,J266=\"\"),\"\",IF(B266=\"m\",(VLOOKUP(Eingabeblatt!$G266,'Table males'!$A$3:$E$138,2)+(VLOOKUP(Eingabeblatt!$G266,'Table males'!$A$3:$E$138,3)*Eingabeblatt!I266)+(VLOOKUP(Eingabeblatt!$G266,'Table males'!$A$3:$E$138,4)*Eingabeblatt!H266)+(VLOOKUP(Eingabeblatt!$G266,'Table males'!$A$3:$E$138,5)*(Eingabeblatt!J266+Eingabeblatt!K266)/2)),VLOOKUP(Eingabeblatt!$G266,'Table females'!$A$3:$E$138,2)+(VLOOKUP(Eingabeblatt!$G266,'Table females'!$A$3:$E$138,3)*Eingabeblatt!I266)+(VLOOKUP(Eingabeblatt!$G266,'Table females'!$A$3:$E$138,4)*Eingabeblatt!H266)+(VLOOKUP(Eingabeblatt!$G266,'Table females'!$A$3:$E$138,5)*(Eingabeblatt!J266+Eingabeblatt!K266)/2)))","v":""},{"$f":"CONCATENATE(\" \",IF(OR(J266=\"\",K266=\"\",L266=\"\"),\"\",IF(B266=\"m\",'Table males'!D$141,'Table females'!D$141)))","v":" "},{"$f":"IF(OR(J266=\"\",K266=\"\",I266=\"\",L266=\"\"),\"\",I266/L266)","v":""},{"$f":"IF(N266=\"\",\"\",IF(N266<0.8,\"vorpubertär / prépubère\",IF(N266<0.9,\"frühpubertär / début de la puberté\",IF(N266<0.95,\"pubertär / pubertaire\",\"spätpubertär / fin de la puberté\"))))","v":""}]
[{"$nulls":6},"",{"$nulls":4},{"$f":"IF(OR(C267=\"\",G267=\"\",H267=\"\",I267=\"\",K267=\"\",B267=Dropdownliste!A$9,J267=\"\"),\"\",IF(B267=\"m\",(VLOOKUP(Eingabeblatt!$G267,'Table males'!$A$3:$E$138,2)+(VLOOKUP(Eingabeblatt!$G267,'Table males'!$A$3:$E$138,3)*Eingabeblatt!I267)+(VLOOKUP(Eingabeblatt!$G267,'Table males'!$A$3:$E$138,4)*Eingabeblatt!H267)+(VLOOKUP(Eingabeblatt!$G267,'Table males'!$A$3:$E$138,5)*(Eingabeblatt!J267+Eingabeblatt!K267)/2)),VLOOKUP(Eingabeblatt!$G267,'Table females'!$A$3:$E$138,2)+(VLOOKUP(Eingabeblatt!$G267,'Table females'!$A$3:$E$138,3)*Eingabeblatt!I267)+(VLOOKUP(Eingabeblatt!$G267,'Table females'!$A$3:$E$138,4)*Eingabeblatt!H267)+(VLOOKUP(Eingabeblatt!$G267,'Table females'!$A$3:$E$138,5)*(Eingabeblatt!J267+Eingabeblatt!K267)/2)))","v":""},{"$f":"CONCATENATE(\" \",IF(OR(J267=\"\",K267=\"\",L267=\"\"),\"\",IF(B267=\"m\",'Table males'!D$141,'Table females'!D$141)))","v":" "},"",""]
[{"$nulls":6},"",{"$nulls":4},{"$f":"IF(OR(C268=\"\",G268=\"\",H268=\"\",I268=\"\",K268=\"\",B268=Dropdownliste!A$9,J268=\"\"),\"\",IF(B268=\"m\",(VLOOKUP(Eingabeblatt!$G268,'Table males'!$A$3:$E$138,2)+(VLOOKUP(Eingabeblatt!$G268,'Table males'!$A$3:$E$138,3)*Eingabeblatt!I268)+(VLOOKUP(Eingabeblatt!$G268,'Table males'!$A$3:$E$138,4)*Eingabeblatt!H268)+(VLOOKUP(Eingabeblatt!$G268,'Table males'!$A$3:$E$138,5)*(Eingabeblatt!J268+Eingabeblatt!K268)/2)),VLOOKUP(Eingabeblatt!$G268,'Table females'!$A$3:$E$138,2)+(VLOOKUP(Eingabeblatt!$G268,'Table females'!$A$3:$E$138,3)*Eingabeblatt!I268)+(VLOOKUP(Eingabeblatt!$G268,'Table females'!$A$3:$E$138,4)*Eingabeblatt!H268)+(VLOOKUP(Eingabeblatt!$G268,'Table females'!$A$3:$E$138,5)*(Eingabeblatt!J268+Eingabeblatt!K268)/2)))","v":""},{"$f":"CONCATENATE(\" \",IF(OR(J268=\"\",K268=\"\",L268=\"\"),\"\",IF(B268=\"m\",'Table males'!D$141,'Table females'!D$141)))","v":" "},"",""]
[{"$nulls":6},"",{"$nulls":4},{"$f":"IF(OR(C269=\"\",G269=\"\",H269=\"\",I269=\"\",K269=\"\",B269=Dropdownliste!A$9,J269=\"\"),\"\",IF(B269=\"m\",(VLOOKUP(Eingabeblatt!$G269,'Table males'!$A$3:$E$138,2)+(VLOOKUP(Eingabeblatt!$G269,'Table males'!$A$3:$E$138,3)*Eingabeblatt!I269)+(VLOOKUP(Eingabeblatt!$G269,'Table males'!$A$3:$E$138,4)*Eingabeblatt!H269)+(VLOOKUP(Eingabeblatt!$G269,'Table males'!$A$3:$E$138,5)*(Eingabeblatt!J269+Eingabeblatt!K269)/2)),VLOOKUP(Eingabeblatt!$G269,'Table females'!$A$3:$E$138,2)+(VLOOKUP(Eingabeblatt!$G269,'Table females'!$A$3:$E$138,3)*Eingabeblatt!I269)+(VLOOKUP(Eingabeblatt!$G269,'Table females'!$A$3:$E$138,4)*Eingabeblatt!H269)+(VLOOKUP(Eingabeblatt!$G269,'Table females'!$A$3:$E$138,5)*(Eingabeblatt!J269+Eingabeblatt!K269)/2)))","v":""},{"$f":"CONCATENATE(\" \",IF(OR(J269=\"\",K269=\"\",L269=\"\"),\"\",IF(B269=\"m\",'Table males'!D$141,'Table females'!D$141)))","v":" "},"",""]
[{"$nulls":6},"",{"$nulls":4},{"$f":"IF(OR(C270=\"\",G270=\"\",H270=\"\",I270=\"\",K270=\"\",B270=Dropdownliste!A$9,J270=\"\"),\"\",IF(B270=\"m\",(VLOOKUP(Eingabeblatt!$G270,'Table males'!$A$3:$E$138,2)+(VLOOKUP(Eingabeblatt!$G270,'Table males'!$A$3:$E$138,3)*Eingabeblatt!I270)+(VLOOKUP(Eingabeblatt!$G270,'Table males'!$A$3:$E$138,4)*Eingabeblatt!H270)+(VLOOKUP(Eingabeblatt!$G270,'Table males'!$A$3:$E$138,5)*(Eingabeblatt!J270+Eingabeblatt!K270)/2)),VLOOKUP(Eingabeblatt!$G270,'Table females'!$A$3:$E$138,2)+(VLOOKUP(Eingabeblatt!$G270,'Table females'!$A$3:$E$138,3)*Eingabeblatt!I270)+(VLOOKUP(Eingabeblatt!$G270,'Table females'!$A$3:$E$138,4)*Eingabeblatt!H270)+(VLOOKUP(Eingabeblatt!$G270,'Table females'!$A$3:$E$138,5)*(Eingabeblatt!J270+Eingabeblatt!K270)/2)))","v":""},{"$f":"CONCATENATE(\" \",IF(OR(J270=\"\",K270=\"\",L270=\"\"),\"\",IF(B270=\"m\",'Table males'!D$141,'Table females'!D$141)))","v":" "},"",""]
[{"$nulls":6},"",{"$nulls":4},{"$f":"IF(OR(C271=\"\",G271=\"\",H271=\"\",I271=\"\",K271=\"\",B271=Dropdownliste!A$9,J271=\"\"),\"\",IF(B271=\"m\",(VLOOKUP(Eingabeblatt!$G271,'Table males'!$A$3:$E$138,2)+(VLOOKUP(Eingabeblatt!$G271,'Table males'!$A$3:$E$138,3)*Eingabeblatt!I271)+(VLOOKUP(Eingabeblatt!$G271,'Table males'!$A$3:$E$138,4)*Eingabeblatt!H271)+(VLOOKUP(Eingabeblatt!$G271,'Table males'!$A$3:$E$138,5)*(Eingabeblatt!J271+Eingabeblatt!K271)/2)),VLOOKUP(Eingabeblatt!$G271,'Table females'!$A$3:$E$138,2)+(VLOOKUP(Eingabeblatt!$G271,'Table females'!$A$3:$E$138,3)*Eingabeblatt!I271)+(VLOOKUP(Eingabeblatt!$G271,'Table females'!$A$3:$E$138,4)*Eingabeblatt!H271)+(VLOOKUP(Eingabeblatt!$G271,'Table females'!$A$3:$E$138,5)*(Eingabeblatt!J271+Eingabeblatt!K271)/2)))","v":""},{"$f":"CONCATENATE(\" \",IF(OR(J271=\"\",K271=\"\",L271=\"\"),\"\",IF(B271=\"m\",'Table males'!D$141,'Table females'!D$141)))","v":" "},"",""]
[{"$nulls":6},"",{"$nulls":4},{"$f":"IF(OR(C272=\"\",G272=\"\",H272=\"\",I272=\"\",K272=\"\",B272=Dropdownliste!A$9,J272=\"\"),\"\",IF(B272=\"m\",(VLOOKUP(Eingabeblatt!$G272,'Table males'!$A$3:$E$138,2)+(VLOOKUP(Eingabeblatt!$G272,'Table males'!$A$3:$E$138,3)*Eingabeblatt!I272)+(VLOOKUP(Eingabeblatt!$G272,'Table males'!$A$3:$E$138,4)*Eingabeblatt!H272)+(VLOOKUP(Eingabeblatt!$G272,'Table males'!$A$3:$E$138,5)*(Eingabeblatt!J272+Eingabeblatt!K272)/2)),VLOOKUP(Eingabeblatt!$G272,'Table females'!$A$3:$E$138,2)+(VLOOKUP(Eingabeblatt!$G272,'Table females'!$A$3:$E$138,3)*Eingabeblatt!I272)+(VLOOKUP(Eingabeblatt!$G272,'Table females'!$A$3:$E$138,4)*Eingabeblatt!H272)+(VLOOKUP(Eingabeblatt!$G272,'Table females'!$A$3:$E$138,5)*(Eingabeblatt!J272+Eingabeblatt!K272)/2)))","v":""},{"$f":"CONCATENATE(\" \",IF(OR(J272=\"\",K272=\"\",L272=\"\"),\"\",IF(B272=\"m\",'Table males'!D$141,'Table females'!D$141)))","v":" "},"",""]
[{"$nulls":6},"",{"$nulls":4},{"$f":"IF(OR(C273=\"\",G273=\"\",H273=\"\",I273=\"\",K273=\"\",B273=Dropdownliste!A$9,J273=\"\"),\"\",IF(B273=\"m\",(VLOOKUP(Eingabeblatt!$G273,'Table males'!$A$3:$E$138,2)+(VLOOKUP(Eingabeblatt!$G273,'Table males'!$A$3:$E$138,3)*Eingabeblatt!I273)+(VLOOKUP(Eingabeblatt!$G273,'Table males'!$A$3:$E$138,4)*Eingabeblatt!H273)+(VLOOKUP(Eingabeblatt!$G273,'Table males'!$A$3:$E$138,5)*(Eingabeblatt!J273+Eingabeblatt!K273)/2)),VLOOKUP(Eingabeblatt!$G273,'Table females'!$A$3:$E$138,2)+(VLOOKUP(Eingabeblatt!$G273,'Table females'!$A$3:$E$138,3)*Eingabeblatt!I273)+(VLOOKUP(Eingabeblatt!$G273,'Table females'!$A$3:$E$138,4)*Eingabeblatt!H273)+(VLOOKUP(Eingabeblatt!$G273,'Table females'!$A$3:$E$138,5)*(Eingabeblatt!J273+Eingabeblatt!K273)/2)))","v":""},{"$f":"CONCATENATE(\" \",IF(OR(J273=\"\",K273=\"\",L273=\"\"),\"\",IF(B273=\"m\",'Table males'!D$141,'Table females'!D$141)))","v":" "},"",""]
[{"$nulls":6},"",{"$nulls":4},{"$f":"IF(OR(C274=\"\",G274=\"\",H274=\"\",I274=\"\",K274=\"\",B274=Dropdownliste!A$9,J274=\"\"),\"\",IF(B274=\"m\",(VLOOKUP(Eingabeblatt!$G274,'Table males'!$A$3:$E$138,2)+(VLOOKUP(Eingabeblatt!$G274,'Table males'!$A$3:$E$138,3)*Eingabeblatt!I274)+(VLOOKUP(Eingabeblatt!$G274,'Table males'!$A$3:$E$138,4)*Eingabeblatt!H274)+(VLOOKUP(Eingabeblatt!$G274,'Table males'!$A$3:$E$138,5)*(Eingabeblatt!J274+Eingabeblatt!K274)/2)),VLOOKUP(Eingabeblatt!$G274,'Table females'!$A$3:$E$138,2)+(VLOOKUP(Eingabeblatt!$G274,'Table females'!$A$3:$E$138,3)*Eingabeblatt!I274)+(VLOOKUP(Eingabeblatt!$G274,'Table females'!$A$3:$E$138,4)*Eingabeblatt!H274)+(VLOOKUP(Eingabeblatt!$G274,'Table females'!$A$3:$E$138,5)*(Eingabeblatt!J274+Eingabeblatt!K274)/2)))","v":""},{"$f":"CONCATENATE(\" \",IF(OR(J274=\"\",K274=\"\",L274=\"\"),\"\",IF(B274=\"m\",'Table males'!D$141,'Table females'!D$141)))","v":" "},"",""]
[{"$nulls":6},"",{"$nulls":4},{"$f":"IF(OR(C275=\"\",G275=\"\",H275=\"\",I275=\"\",K275=\"\",B275=Dropdownliste!A$9,J275=\"\"),\"\",IF(B275=\"m\",(VLOOKUP(Eingabeblatt!$G275,'Table males'!$A$3:$E$138,2)+(VLOOKUP(Eingabeblatt!$G275,'Table males'!$A$3:$E$138,3)*Eingabeblatt!I275)+(VLOOKUP(Eingabeblatt!$G275,'Table males'!$A$3:$E$138,4)*Eingabeblatt!H275)+(VLOOKUP(Eingabeblatt!$G275,'Table males'!$A$3:$E$138,5)*(Eingabeblatt!J275+Eingabeblatt!K275)/2)),VLOOKUP(Eingabeblatt!$G275,'Table females'!$A$3:$E$138,2)+(VLOOKUP(Eingabeblatt!$G275,'Table females'!$A$3:$E$138,3)*Eingabeblatt!I275)+(VLOOKUP(Eingabeblatt!$G275,'Table females'!$A$3:$E$138,4)*Eingabeblatt!H275)+(VLOOKUP(Eingabeblatt!$G275,'Table females'!$A$3:$E$138,5)*(Eingabeblatt!J275+Eingabeblatt!K275)/2)))","v":""},{"$f":"CONCATENATE(\" \",IF(OR(J275=\"\",K275=\"\",L275=\"\"),\"\",IF(B275=\"m\",'Table males'!D$141,'Table females'!D$141)))","v":" "},"",""]
[{"$nulls":6},"",{"$nulls":4},{"$f":"IF(OR(C276=\"\",G276=\"\",H276=\"\",I276=\"\",K276=\"\",B276=Dropdownliste!A$9,J276=\"\"),\"\",IF(B276=\"m\",(VLOOKUP(Eingabeblatt!$G276,'Table males'!$A$3:$E$138,2)+(VLOOKUP(Eingabeblatt!$G276,'Table males'!$A$3:$E$138,3)*Eingabeblatt!I276)+(VLOOKUP(Eingabeblatt!$G276,'Table males'!$A$3:$E$138,4)*Eingabeblatt!H276)+(VLOOKUP(Eingabeblatt!$G276,'Table males'!$A$3:$E$138,5)*(Eingabeblatt!J276+Eingabeblatt!K276)/2)),VLOOKUP(Eingabeblatt!$G276,'Table females'!$A$3:$E$138,2)+(VLOOKUP(Eingabeblatt!$G276,'Table females'!$A$3:$E$138,3)*Eingabeblatt!I276)+(VLOOKUP(Eingabeblatt!$G276,'Table females'!$A$3:$E$138,4)*Eingabeblatt!H276)+(VLOOKUP(Eingabeblatt!$G276,'Table females'!$A$3:$E$138,5)*(Eingabeblatt!J276+Eingabeblatt!K276)/2)))","v":""},{"$f":"CONCATENATE(\" \",IF(OR(J276=\"\",K276=\"\",L276=\"\"),\"\",IF(B276=\"m\",'Table males'!D$141,'Table females'!D$141)))","v":" "},"",""]
[{"$nulls":6},"",{"$nulls":4},{"$f":"IF(OR(C277=\"\",G277=\"\",H277=\"\",I277=\"\",K277=\"\",B277=Dropdownliste!A$9,J277=\"\"),\"\",IF(B277=\"m\",(VLOOKUP(Eingabeblatt!$G277,'Table males'!$A$3:$E$138,2)+(VLOOKUP(Eingabeblatt!$G277,'Table males'!$A$3:$E$138,3)*Eingabeblatt!I277)+(VLOOKUP(Eingabeblatt!$G277,'Table males'!$A$3:$E$138,4)*Eingabeblatt!H277)+(VLOOKUP(Eingabeblatt!$G277,'Table males'!$A$3:$E$138,5)*(Eingabeblatt!J277+Eingabeblatt!K277)/2)),VLOOKUP(Eingabeblatt!$G277,'Table females'!$A$3:$E$138,2)+(VLOOKUP(Eingabeblatt!$G277,'Table females'!$A$3:$E$138,3)*Eingabeblatt!I277)+(VLOOKUP(Eingabeblatt!$G277,'Table females'!$A$3:$E$138,4)*Eingabeblatt!H277)+(VLOOKUP(Eingabeblatt!$G277,'Table females'!$A$3:$E$138,5)*(Eingabeblatt!J277+Eingabeblatt!K277)/2)))","v":""},{"$f":"CONCATENATE(\" \",IF(OR(J277=\"\",K277=\"\",L277=\"\"),\"\",IF(B277=\"m\",'Table males'!D$141,'Table females'!D$141)))","v":" "},"",""]
[{"$nulls":6},"",{"$nulls":4},{"$f":"IF(OR(C278=\"\",G278=\"\",H278=\"\",I278=\"\",K278=\"\",B278=Dropdownliste!A$9,J278=\"\"),\"\",IF(B278=\"m\",(VLOOKUP(Eingabeblatt!$G278,'Table males'!$A$3:$E$138,2)+(VLOOKUP(Eingabeblatt!$G278,'Table males'!$A$3:$E$138,3)*Eingabeblatt!I278)+(VLOOKUP(Eingabeblatt!$G278,'Table males'!$A$3:$E$138,4)*Eingabeblatt!H278)+(VLOOKUP(Eingabeblatt!$G278,'Table males'!$A$3:$E$138,5)*(Eingabeblatt!J278+Eingabeblatt!K278)/2)),VLOOKUP(Eingabeblatt!$G278,'Table females'!$A$3:$E$138,2)+(VLOOKUP(Eingabeblatt!$G278,'Table females'!$A$3:$E$138,3)*Eingabeblatt!I278)+(VLOOKUP(Eingabeblatt!$G278,'Table females'!$A$3:$E$138,4)*Eingabeblatt!H278)+(VLOOKUP(Eingabeblatt!$G278,'Table females'!$A$3:$E$138,5)*(Eingabeblatt!J278+Eingabeblatt!K278)/2)))","v":""},{"$f":"CONCATENATE(\" \",IF(OR(J278=\"\",K278=\"\",L278=\"\"),\"\",IF(B278=\"m\",'Table males'!D$141,'Table females'!D$141)))","v":" "},"",""]
[{"$nulls":6},"",{"$nulls":4},{"$f":"IF(OR(C279=\"\",G279=\"\",H279=\"\",I279=\"\",K279=\"\",B279=Dropdownliste!A$9,J279=\"\"),\"\",IF(B279=\"m\",(VLOOKUP(Eingabeblatt!$G279,'Table males'!$A$3:$E$138,2)+(VLOOKUP(Eingabeblatt!$G279,'Table males'!$A$3:$E$138,3)*Eingabeblatt!I279)+(VLOOKUP(Eingabeblatt!$G279,'Table males'!$A$3:$E$138,4)*Eingabeblatt!H279)+(VLOOKUP(Eingabeblatt!$G279,'Table males'!$A$3:$E$138,5)*(Eingabeblatt!J279+Eingabeblatt!K279)/2)),VLOOKUP(Eingabeblatt!$G279,'Table females'!$A$3:$E$138,2)+(VLOOKUP(Eingabeblatt!$G279,'Table females'!$A$3:$E$138,3)*Eingabeblatt!I279)+(VLOOKUP(Eingabeblatt!$G279,'Table females'!$A$3:$E$138,4)*Eingabeblatt!H279)+(VLOOKUP(Eingabeblatt!$G279,'Table females'!$A$3:$E$138,5)*(Eingabeblatt!J279+Eingabeblatt!K279)/2)))","v":""},{"$f":"CONCATENATE(\" \",IF(OR(J279=\"\",K279=\"\",L279=\"\"),\"\",IF(B279=\"m\",'Table males'!D$141,'Table females'!D$141)))","v":" "},"",""]
[{"$nulls":6},"",{"$nulls":4},{"$f":"IF(OR(C280=\"\",G280=\"\",H280=\"\",I280=\"\",K280=\"\",B280=Dropdownliste!A$9,J280=\"\"),\"\",IF(B280=\"m\",(VLOOKUP(Eingabeblatt!$G280,'Table males'!$A$3:$E$138,2)+(VLOOKUP(Eingabeblatt!$G280,'Table males'!$A$3:$E$138,3)*Eingabeblatt!I280)+(VLOOKUP(Eingabeblatt!$G280,'Table males'!$A$3:$E$138,4)*Eingabeblatt!H280)+(VLOOKUP(Eingabeblatt!$G280,'Table males'!$A$3:$E$138,5)*(Eingabeblatt!J280+Eingabeblatt!K280)/2)),VLOOKUP(Eingabeblatt!$G280,'Table females'!$A$3:$E$138,2)+(VLOOKUP(Eingabeblatt!$G280,'Table females'!$A$3:$E$138,3)*Eingabeblatt!I280)+(VLOOKUP(Eingabeblatt!$G280,'Table females'!$A$3:$E$138,4)*Eingabeblatt!H280)+(VLOOKUP(Eingabeblatt!$G280,'Table females'!$A$3:$E$138,5)*(Eingabeblatt!J280+Eingabeblatt!K280)/2)))","v":""},{"$f":"CONCATENATE(\" \",IF(OR(J280=\"\",K280=\"\",L280=\"\"),\"\",IF(B280=\"m\",'Table males'!D$141,'Table females'!D$141)))","v":" "},"",""]
[{"$nulls":6},"",{"$nulls":4},{"$f":"IF(OR(C281=\"\",G281=\"\",H281=\"\",I281=\"\",K281=\"\",B281=Dropdownliste!A$9,J281=\"\"),\"\",IF(B281=\"m\",(VLOOKUP(Eingabeblatt!$G281,'Table males'!$A$3:$E$138,2)+(VLOOKUP(Eingabeblatt!$G281,'Table males'!$A$3:$E$138,3)*Eingabeblatt!I281)+(VLOOKUP(Eingabeblatt!$G281,'Table males'!$A$3:$E$138,4)*Eingabeblatt!H281)+(VLOOKUP(Eingabeblatt!$G281,'Table males'!$A$3:$E$138,5)*(Eingabeblatt!J281+Eingabeblatt!K281)/2)),VLOOKUP(Eingabeblatt!$G281,'Table females'!$A$3:$E$138,2)+(VLOOKUP(Eingabeblatt!$G281,'Table females'!$A$3:$E$138,3)*Eingabeblatt!I281)+(VLOOKUP(Eingabeblatt!$G281,'Table females'!$A$3:$E$138,4)*Eingabeblatt!H281)+(VLOOKUP(Eingabeblatt!$G281,'Table females'!$A$3:$E$138,5)*(Eingabeblatt!J281+Eingabeblatt!K281)/2)))","v":""},{"$f":"CONCATENATE(\" \",IF(OR(J281=\"\",K281=\"\",L281=\"\"),\"\",IF(B281=\"m\",'Table males'!D$141,'Table females'!D$141)))","v":" "},"",""]
[{"$nulls":6},"",{"$nulls":4},{"$f":"IF(OR(C282=\"\",G282=\"\",H282=\"\",I282=\"\",K282=\"\",B282=Dropdownliste!A$9,J282=\"\"),\"\",IF(B282=\"m\",(VLOOKUP(Eingabeblatt!$G282,'Table males'!$A$3:$E$138,2)+(VLOOKUP(Eingabeblatt!$G282,'Table males'!$A$3:$E$138,3)*Eingabeblatt!I282)+(VLOOKUP(Eingabeblatt!$G282,'Table males'!$A$3:$E$138,4)*Eingabeblatt!H282)+(VLOOKUP(Eingabeblatt!$G282,'Table males'!$A$3:$E$138,5)*(Eingabeblatt!J282+Eingabeblatt!K282)/2)),VLOOKUP(Eingabeblatt!$G282,'Table females'!$A$3:$E$138,2)+(VLOOKUP(Eingabeblatt!$G282,'Table females'!$A$3:$E$138,3)*Eingabeblatt!I282)+(VLOOKUP(Eingabeblatt!$G282,'Table females'!$A$3:$E$138,4)*Eingabeblatt!H282)+(VLOOKUP(Eingabeblatt!$G282,'Table females'!$A$3:$E$138,5)*(Eingabeblatt!J282+Eingabeblatt!K282)/2)))","v":""},{"$f":"CONCATENATE(\" \",IF(OR(J282=\"\",K282=\"\",L282=\"\"),\"\",IF(B282=\"m\",'Table males'!D$141,'Table females'!D$141)))","v":" "},"",""]
[{"$nulls":6},"",{"$nulls":4},{"$f":"IF(OR(C283=\"\",G283=\"\",H283=\"\",I283=\"\",K283=\"\",B283=Dropdownliste!A$9,J283=\"\"),\"\",IF(B283=\"m\",(VLOOKUP(Eingabeblatt!$G283,'Table males'!$A$3:$E$138,2)+(VLOOKUP(Eingabeblatt!$G283,'Table males'!$A$3:$E$138,3)*Eingabeblatt!I283)+(VLOOKUP(Eingabeblatt!$G283,'Table males'!$A$3:$E$138,4)*Eingabeblatt!H283)+(VLOOKUP(Eingabeblatt!$G283,'Table males'!$A$3:$E$138,5)*(Eingabeblatt!J283+Eingabeblatt!K283)/2)),VLOOKUP(Eingabeblatt!$G283,'Table females'!$A$3:$E$138,2)+(VLOOKUP(Eingabeblatt!$G283,'Table females'!$A$3:$E$138,3)*Eingabeblatt!I283)+(VLOOKUP(Eingabeblatt!$G283,'Table females'!$A$3:$E$138,4)*Eingabeblatt!H283)+(VLOOKUP(Eingabeblatt!$G283,'Table females'!$A$3:$E$138,5)*(Eingabeblatt!J283+Eingabeblatt!K283)/2)))","v":""},{"$f":"CONCATENATE(\" \",IF(OR(J283=\"\",K283=\"\",L283=\"\"),\"\",IF(B283=\"m\",'Table males'!D$141,'Table females'!D$141)))","v":" "},"",""]
[{"$nulls":6},"",{"$nulls":4},{"$f":"IF(OR(C284=\"\",G284=\"\",H284=\"\",I284=\"\",K284=\"\",B284=Dropdownliste!A$9,J284=\"\"),\"\",IF(B284=\"m\",(VLOOKUP(Eingabeblatt!$G284,'Table males'!$A$3:$E$138,2)+(VLOOKUP(Eingabeblatt!$G284,'Table males'!$A$3:$E$138,3)*Eingabeblatt!I284)+(VLOOKUP(Eingabeblatt!$G284,'Table males'!$A$3:$E$138,4)*Eingabeblatt!H284)+(VLOOKUP(Eingabeblatt!$G284,'Table males'!$A$3:$E$138,5)*(Eingabeblatt!J284+Eingabeblatt!K284)/2)),VLOOKUP(Eingabeblatt!$G284,'Table females'!$A$3:$E$138,2)+(VLOOKUP(Eingabeblatt!$G284,'Table females'!$A$3:$E$138,3)*Eingabeblatt!I284)+(VLOOKUP(Eingabeblatt!$G284,'Table females'!$A$3:$E$138,4)*Eingabeblatt!H284)+(VLOOKUP(Eingabeblatt!$G284,'Table females'!$A$3:$E$138,5)*(Eingabeblatt!J284+Eingabeblatt!K284)/2)))","v":""},{"$f":"CONCATENATE(\" \",IF(OR(J284=\"\",K284=\"\",L284=\"\"),\"\",IF(B284=\"m\",'Table males'!D$141,'Table females'!D$141)))","v":" "},"",""]
[{"$nulls":6},"",{"$nulls":4},{"$f":"IF(OR(C285=\"\",G285=\"\",H285=\"\",I285=\"\",K285=\"\",B285=Dropdownliste!A$9,J285=\"\"),\"\",IF(B285=\"m\",(VLOOKUP(Eingabeblatt!$G285,'Table males'!$A$3:$E$138,2)+(VLOOKUP(Eingabeblatt!$G285,'Table males'!$A$3:$E$138,3)*Eingabeblatt!I285)+(VLOOKUP(Eingabeblatt!$G285,'Table males'!$A$3:$E$138,4)*Eingabeblatt!H285)+(VLOOKUP(Eingabeblatt!$G285,'Table males'!$A$3:$E$138,5)*(Eingabeblatt!J285+Eingabeblatt!K285)/2)),VLOOKUP(Eingabeblatt!$G285,'Table females'!$A$3:$E$138,2)+(VLOOKUP(Eingabeblatt!$G285,'Table females'!$A$3:$E$138,3)*Eingabeblatt!I285)+(VLOOKUP(Eingabeblatt!$G285,'Table females'!$A$3:$E$138,4)*Eingabeblatt!H285)+(VLOOKUP(Eingabeblatt!$G285,'Table females'!$A$3:$E$138,5)*(Eingabeblatt!J285+Eingabeblatt!K285)/2)))","v":""},{"$f":"CONCATENATE(\" \",IF(OR(J285=\"\",K285=\"\",L285=\"\"),\"\",IF(B285=\"m\",'Table males'!D$141,'Table females'!D$141)))","v":" "},"",""]
[{"$nulls":6},"",{"$nulls":4},{"$f":"IF(OR(C286=\"\",G286=\"\",H286=\"\",I286=\"\",K286=\"\",B286=Dropdownliste!A$9,J286=\"\"),\"\",IF(B286=\"m\",(VLOOKUP(Eingabeblatt!$G286,'Table males'!$A$3:$E$138,2)+(VLOOKUP(Eingabeblatt!$G286,'Table males'!$A$3:$E$138,3)*Eingabeblatt!I286)+(VLOOKUP(Eingabeblatt!$G286,'Table males'!$A$3:$E$138,4)*Eingabeblatt!H286)+(VLOOKUP(Eingabeblatt!$G286,'Table males'!$A$3:$E$138,5)*(Eingabeblatt!J286+Eingabeblatt!K286)/2)),VLOOKUP(Eingabeblatt!$G286,'Table females'!$A$3:$E$138,2)+(VLOOKUP(Eingabeblatt!$G286,'Table females'!$A$3:$E$138,3)*Eingabeblatt!I286)+(VLOOKUP(Eingabeblatt!$G286,'Table females'!$A$3:$E$138,4)*Eingabeblatt!H286)+(VLOOKUP(Eingabeblatt!$G286,'Table females'!$A$3:$E$138,5)*(Eingabeblatt!J286+Eingabeblatt!K286)/2)))","v":""},{"$f":"CONCATENATE(\" \",IF(OR(J286=\"\",K286=\"\",L286=\"\"),\"\",IF(B286=\"m\",'Table males'!D$141,'Table females'!D$141)))","v":" "},"",""]
[{"$nulls":6},"",{"$nulls":4},{"$f":"IF(OR(C287=\"\",G287=\"\",H287=\"\",I287=\"\",K287=\"\",B287=Dropdownliste!A$9,J287=\"\"),\"\",IF(B287=\"m\",(VLOOKUP(Eingabeblatt!$G287,'Table males'!$A$3:$E$138,2)+(VLOOKUP(Eingabeblatt!$G287,'Table males'!$A$3:$E$138,3)*Eingabeblatt!I287)+(VLOOKUP(Eingabeblatt!$G287,'Table males'!$A$3:$E$138,4)*Eingabeblatt!H287)+(VLOOKUP(Eingabeblatt!$G287,'Table males'!$A$3:$E$138,5)*(Eingabeblatt!J287+Eingabeblatt!K287)/2)),VLOOKUP(Eingabeblatt!$G287,'Table females'!$A$3:$E$138,2)+(VLOOKUP(Eingabeblatt!$G287,'Table females'!$A$3:$E$138,3)*Eingabeblatt!I287)+(VLOOKUP(Eingabeblatt!$G287,'Table females'!$A$3:$E$138,4)*Eingabeblatt!H287)+(VLOOKUP(Eingabeblatt!$G287,'Table females'!$A$3:$E$138,5)*(Eingabeblatt!J287+Eingabeblatt!K287)/2)))","v":""},{"$f":"CONCATENATE(\" \",IF(OR(J287=\"\",K287=\"\",L287=\"\"),\"\",IF(B287=\"m\",'Table males'!D$141,'Table females'!D$141)))","v":" "},"",""]
[{"$nulls":6},"",{"$nulls":4},{"$f":"IF(OR(C288=\"\",G288=\"\",H288=\"\",I288=\"\",K288=\"\",B288=Dropdownliste!A$9,J288=\"\"),\"\",IF(B288=\"m\",(VLOOKUP(Eingabeblatt!$G288,'Table males'!$A$3:$E$138,2)+(VLOOKUP(Eingabeblatt!$G288,'Table males'!$A$3:$E$138,3)*Eingabeblatt!I288)+(VLOOKUP(Eingabeblatt!$G288,'Table males'!$A$3:$E$138,4)*Eingabeblatt!H288)+(VLOOKUP(Eingabeblatt!$G288,'Table males'!$A$3:$E$138,5)*(Eingabeblatt!J288+Eingabeblatt!K288)/2)),VLOOKUP(Eingabeblatt!$G288,'Table females'!$A$3:$E$138,2)+(VLOOKUP(Eingabeblatt!$G288,'Table females'!$A$3:$E$138,3)*Eingabeblatt!I288)+(VLOOKUP(Eingabeblatt!$G288,'Table females'!$A$3:$E$138,4)*Eingabeblatt!H288)+(VLOOKUP(Eingabeblatt!$G288,'Table females'!$A$3:$E$138,5)*(Eingabeblatt!J288+Eingabeblatt!K288)/2)))","v":""},{"$f":"CONCATENATE(\" \",IF(OR(J288=\"\",K288=\"\",L288=\"\"),\"\",IF(B288=\"m\",'Table males'!D$141,'Table females'!D$141)))","v":" "},"",""]
[{"$nulls":6},"",{"$nulls":4},{"$f":"IF(OR(C289=\"\",G289=\"\",H289=\"\",I289=\"\",K289=\"\",B289=Dropdownliste!A$9,J289=\"\"),\"\",IF(B289=\"m\",(VLOOKUP(Eingabeblatt!$G289,'Table males'!$A$3:$E$138,2)+(VLOOKUP(Eingabeblatt!$G289,'Table males'!$A$3:$E$138,3)*Eingabeblatt!I289)+(VLOOKUP(Eingabeblatt!$G289,'Table males'!$A$3:$E$138,4)*Eingabeblatt!H289)+(VLOOKUP(Eingabeblatt!$G289,'Table males'!$A$3:$E$138,5)*(Eingabeblatt!J289+Eingabeblatt!K289)/2)),VLOOKUP(Eingabeblatt!$G289,'Table females'!$A$3:$E$138,2)+(VLOOKUP(Eingabeblatt!$G289,'Table females'!$A$3:$E$138,3)*Eingabeblatt!I289)+(VLOOKUP(Eingabeblatt!$G289,'Table females'!$A$3:$E$138,4)*Eingabeblatt!H289)+(VLOOKUP(Eingabeblatt!$G289,'Table females'!$A$3:$E$138,5)*(Eingabeblatt!J289+Eingabeblatt!K289)/2)))","v":""},{"$f":"CONCATENATE(\" \",IF(OR(J289=\"\",K289=\"\",L289=\"\"),\"\",IF(B289=\"m\",'Table males'!D$141,'Table females'!D$141)))","v":" "},"",""]
[{"$nulls":6},"",{"$nulls":4},{"$f":"IF(OR(C290=\"\",G290=\"\",H290=\"\",I290=\"\",K290=\"\",B290=Dropdownliste!A$9,J290=\"\"),\"\",IF(B290=\"m\",(VLOOKUP(Eingabeblatt!$G290,'Table males'!$A$3:$E$138,2)+(VLOOKUP(Eingabeblatt!$G290,'Table males'!$A$3:$E$138,3)*Eingabeblatt!I290)+(VLOOKUP(Eingabeblatt!$G290,'Table males'!$A$3:$E$138,4)*Eingabeblatt!H290)+(VLOOKUP(Eingabeblatt!$G290,'Table males'!$A$3:$E$138,5)*(Eingabeblatt!J290+Eingabeblatt!K290)/2)),VLOOKUP(Eingabeblatt!$G290,'Table females'!$A$3:$E$138,2)+(VLOOKUP(Eingabeblatt!$G290,'Table females'!$A$3:$E$138,3)*Eingabeblatt!I290)+(VLOOKUP(Eingabeblatt!$G290,'Table females'!$A$3:$E$138,4)*Eingabeblatt!H290)+(VLOOKUP(Eingabeblatt!$G290,'Table females'!$A$3:$E$138,5)*(Eingabeblatt!J290+Eingabeblatt!K290)/2)))","v":""},{"$f":"CONCATENATE(\" \",IF(OR(J290=\"\",K290=\"\",L290=\"\"),\"\",IF(B290=\"m\",'Table males'!D$141,'Table females'!D$141)))","v":" "},"",""]
[{"$nulls":6},"",{"$nulls":4},{"$f":"IF(OR(C291=\"\",G291=\"\",H291=\"\",I291=\"\",K291=\"\",B291=Dropdownliste!A$9,J291=\"\"),\"\",IF(B291=\"m\",(VLOOKUP(Eingabeblatt!$G291,'Table males'!$A$3:$E$138,2)+(VLOOKUP(Eingabeblatt!$G291,'Table males'!$A$3:$E$138,3)*Eingabeblatt!I291)+(VLOOKUP(Eingabeblatt!$G291,'Table males'!$A$3:$E$138,4)*Eingabeblatt!H291)+(VLOOKUP(Eingabeblatt!$G291,'Table males'!$A$3:$E$138,5)*(Eingabeblatt!J291+Eingabeblatt!K291)/2)),VLOOKUP(Eingabeblatt!$G291,'Table females'!$A$3:$E$138,2)+(VLOOKUP(Eingabeblatt!$G291,'Table females'!$A$3:$E$138,3)*Eingabeblatt!I291)+(VLOOKUP(Eingabeblatt!$G291,'Table females'!$A$3:$E$138,4)*Eingabeblatt!H291)+(VLOOKUP(Eingabeblatt!$G291,'Table females'!$A$3:$E$138,5)*(Eingabeblatt!J291+Eingabeblatt!K291)/2)))","v":""},{"$f":"CONCATENATE(\" \",IF(OR(J291=\"\",K291=\"\",L291=\"\"),\"\",IF(B291=\"m\",'Table males'!D$141,'Table females'!D$141)))","v":" "},"",""]
[{"$nulls":6},"",{"$nulls":4},{"$f":"IF(OR(C292=\"\",G292=\"\",H292=\"\",I292=\"\",K292=\"\",B292=Dropdownliste!A$9,J292=\"\"),\"\",IF(B292=\"m\",(VLOOKUP(Eingabeblatt!$G292,'Table males'!$A$3:$E$138,2)+(VLOOKUP(Eingabeblatt!$G292,'Table males'!$A$3:$E$138,3)*Eingabeblatt!I292)+(VLOOKUP(Eingabeblatt!$G292,'Table males'!$A$3:$E$138,4)*Eingabeblatt!H292)+(VLOOKUP(Eingabeblatt!$G292,'Table males'!$A$3:$E$138,5)*(Eingabeblatt!J292+Eingabeblatt!K292)/2)),VLOOKUP(Eingabeblatt!$G292,'Table females'!$A$3:$E$138,2)+(VLOOKUP(Eingabeblatt!$G292,'Table females'!$A$3:$E$138,3)*Eingabeblatt!I292)+(VLOOKUP(Eingabeblatt!$G292,'Table females'!$A$3:$E$138,4)*Eingabeblatt!H292)+(VLOOKUP(Eingabeblatt!$G292,'Table females'!$A$3:$E$138,5)*(Eingabeblatt!J292+Eingabeblatt!K292)/2)))","v":""},{"$f":"CONCATENATE(\" \",IF(OR(J292=\"\",K292=\"\",L292=\"\"),\"\",IF(B292=\"m\",'Table males'!D$141,'Table females'!D$141)))","v":" "},"",""]
[{"$nulls":6},"",{"$nulls":4},{"$f":"IF(OR(C293=\"\",G293=\"\",H293=\"\",I293=\"\",K293=\"\",B293=Dropdownliste!A$9,J293=\"\"),\"\",IF(B293=\"m\",(VLOOKUP(Eingabeblatt!$G293,'Table males'!$A$3:$E$138,2)+(VLOOKUP(Eingabeblatt!$G293,'Table males'!$A$3:$E$138,3)*Eingabeblatt!I293)+(VLOOKUP(Eingabeblatt!$G293,'Table males'!$A$3:$E$138,4)*Eingabeblatt!H293)+(VLOOKUP(Eingabeblatt!$G293,'Table males'!$A$3:$E$138,5)*(Eingabeblatt!J293+Eingabeblatt!K293)/2)),VLOOKUP(Eingabeblatt!$G293,'Table females'!$A$3:$E$138,2)+(VLOOKUP(Eingabeblatt!$G293,'Table females'!$A$3:$E$138,3)*Eingabeblatt!I293)+(VLOOKUP(Eingabeblatt!$G293,'Table females'!$A$3:$E$138,4)*Eingabeblatt!H293)+(VLOOKUP(Eingabeblatt!$G293,'Table females'!$A$3:$E$138,5)*(Eingabeblatt!J293+Eingabeblatt!K293)/2)))","v":""},{"$f":"CONCATENATE(\" \",IF(OR(J293=\"\",K293=\"\",L293=\"\"),\"\",IF(B293=\"m\",'Table males'!D$141,'Table females'!D$141)))","v":" "},"",""]
[{"$nulls":6},"",{"$nulls":4},{"$f":"IF(OR(C294=\"\",G294=\"\",H294=\"\",I294=\"\",K294=\"\",B294=Dropdownliste!A$9,J294=\"\"),\"\",IF(B294=\"m\",(VLOOKUP(Eingabeblatt!$G294,'Table males'!$A$3:$E$138,2)+(VLOOKUP(Eingabeblatt!$G294,'Table males'!$A$3:$E$138,3)*Eingabeblatt!I294)+(VLOOKUP(Eingabeblatt!$G294,'Table males'!$A$3:$E$138,4)*Eingabeblatt!H294)+(VLOOKUP(Eingabeblatt!$G294,'Table males'!$A$3:$E$138,5)*(Eingabeblatt!J294+Eingabeblatt!K294)/2)),VLOOKUP(Eingabeblatt!$G294,'Table females'!$A$3:$E$138,2)+(VLOOKUP(Eingabeblatt!$G294,'Table females'!$A$3:$E$138,3)*Eingabeblatt!I294)+(VLOOKUP(Eingabeblatt!$G294,'Table females'!$A$3:$E$138,4)*Eingabeblatt!H294)+(VLOOKUP(Eingabeblatt!$G294,'Table females'!$A$3:$E$138,5)*(Eingabeblatt!J294+Eingabeblatt!K294)/2)))","v":""},{"$f":"CONCATENATE(\" \",IF(OR(J294=\"\",K294=\"\",L294=\"\"),\"\",IF(B294=\"m\",'Table males'!D$141,'Table females'!D$141)))","v":" "},"",""]
[{"$nulls":6},"",{"$nulls":4},{"$f":"IF(OR(C295=\"\",G295=\"\",H295=\"\",I295=\"\",K295=\"\",B295=Dropdownliste!A$9,J295=\"\"),\"\",IF(B295=\"m\",(VLOOKUP(Eingabeblatt!$G295,'Table males'!$A$3:$E$138,2)+(VLOOKUP(Eingabeblatt!$G295,'Table males'!$A$3:$E$138,3)*Eingabeblatt!I295)+(VLOOKUP(Eingabeblatt!$G295,'Table males'!$A$3:$E$138,4)*Eingabeblatt!H295)+(VLOOKUP(Eingabeblatt!$G295,'Table males'!$A$3:$E$138,5)*(Eingabeblatt!J295+Eingabeblatt!K295)/2)),VLOOKUP(Eingabeblatt!$G295,'Table females'!$A$3:$E$138,2)+(VLOOKUP(Eingabeblatt!$G295,'Table females'!$A$3:$E$138,3)*Eingabeblatt!I295)+(VLOOKUP(Eingabeblatt!$G295,'Table females'!$A$3:$E$138,4)*Eingabeblatt!H295)+(VLOOKUP(Eingabeblatt!$G295,'Table females'!$A$3:$E$138,5)*(Eingabeblatt!J295+Eingabeblatt!K295)/2)))","v":""},{"$f":"CONCATENATE(\" \",IF(OR(J295=\"\",K295=\"\",L295=\"\"),\"\",IF(B295=\"m\",'Table males'!D$141,'Table females'!D$141)))","v":" "},"",""]
[{"$nulls":6},"",{"$nulls":4},{"$f":"IF(OR(C296=\"\",G296=\"\",H296=\"\",I296=\"\",K296=\"\",B296=Dropdownliste!A$9,J296=\"\"),\"\",IF(B296=\"m\",(VLOOKUP(Eingabeblatt!$G296,'Table males'!$A$3:$E$138,2)+(VLOOKUP(Eingabeblatt!$G296,'Table males'!$A$3:$E$138,3)*Eingabeblatt!I296)+(VLOOKUP(Eingabeblatt!$G296,'Table males'!$A$3:$E$138,4)*Eingabeblatt!H296)+(VLOOKUP(Eingabeblatt!$G296,'Table males'!$A$3:$E$138,5)*(Eingabeblatt!J296+Eingabeblatt!K296)/2)),VLOOKUP(Eingabeblatt!$G296,'Table females'!$A$3:$E$138,2)+(VLOOKUP(Eingabeblatt!$G296,'Table females'!$A$3:$E$138,3)*Eingabeblatt!I296)+(VLOOKUP(Eingabeblatt!$G296,'Table females'!$A$3:$E$138,4)*Eingabeblatt!H296)+(VLOOKUP(Eingabeblatt!$G296,'Table females'!$A$3:$E$138,5)*(Eingabeblatt!J296+Eingabeblatt!K296)/2)))","v":""},{"$f":"CONCATENATE(\" \",IF(OR(J296=\"\",K296=\"\",L296=\"\"),\"\",IF(B296=\"m\",'Table males'!D$141,'Table females'!D$141)))","v":" "},"",""]
[{"$nulls":6},"",{"$nulls":4},{"$f":"IF(OR(C297=\"\",G297=\"\",H297=\"\",I297=\"\",K297=\"\",B297=Dropdownliste!A$9,J297=\"\"),\"\",IF(B297=\"m\",(VLOOKUP(Eingabeblatt!$G297,'Table males'!$A$3:$E$138,2)+(VLOOKUP(Eingabeblatt!$G297,'Table males'!$A$3:$E$138,3)*Eingabeblatt!I297)+(VLOOKUP(Eingabeblatt!$G297,'Table males'!$A$3:$E$138,4)*Eingabeblatt!H297)+(VLOOKUP(Eingabeblatt!$G297,'Table males'!$A$3:$E$138,5)*(Eingabeblatt!J297+Eingabeblatt!K297)/2)),VLOOKUP(Eingabeblatt!$G297,'Table females'!$A$3:$E$138,2)+(VLOOKUP(Eingabeblatt!$G297,'Table females'!$A$3:$E$138,3)*Eingabeblatt!I297)+(VLOOKUP(Eingabeblatt!$G297,'Table females'!$A$3:$E$138,4)*Eingabeblatt!H297)+(VLOOKUP(Eingabeblatt!$G297,'Table females'!$A$3:$E$138,5)*(Eingabeblatt!J297+Eingabeblatt!K297)/2)))","v":""},{"$f":"CONCATENATE(\" \",IF(OR(J297=\"\",K297=\"\",L297=\"\"),\"\",IF(B297=\"m\",'Table males'!D$141,'Table females'!D$141)))","v":" "},"",""]
[{"$nulls":6},"",{"$nulls":4},{"$f":"IF(OR(C298=\"\",G298=\"\",H298=\"\",I298=\"\",K298=\"\",B298=Dropdownliste!A$9,J298=\"\"),\"\",IF(B298=\"m\",(VLOOKUP(Eingabeblatt!$G298,'Table males'!$A$3:$E$138,2)+(VLOOKUP(Eingabeblatt!$G298,'Table males'!$A$3:$E$138,3)*Eingabeblatt!I298)+(VLOOKUP(Eingabeblatt!$G298,'Table males'!$A$3:$E$138,4)*Eingabeblatt!H298)+(VLOOKUP(Eingabeblatt!$G298,'Table males'!$A$3:$E$138,5)*(Eingabeblatt!J298+Eingabeblatt!K298)/2)),VLOOKUP(Eingabeblatt!$G298,'Table females'!$A$3:$E$138,2)+(VLOOKUP(Eingabeblatt!$G298,'Table females'!$A$3:$E$138,3)*Eingabeblatt!I298)+(VLOOKUP(Eingabeblatt!$G298,'Table females'!$A$3:$E$138,4)*Eingabeblatt!H298)+(VLOOKUP(Eingabeblatt!$G298,'Table females'!$A$3:$E$138,5)*(Eingabeblatt!J298+Eingabeblatt!K298)/2)))","v":""},{"$f":"CONCATENATE(\" \",IF(OR(J298=\"\",K298=\"\",L298=\"\"),\"\",IF(B298=\"m\",'Table males'!D$141,'Table females'!D$141)))","v":" "},"",""]
[{"$nulls":6},"",{"$nulls":4},{"$f":"IF(OR(C299=\"\",G299=\"\",H299=\"\",I299=\"\",K299=\"\",B299=Dropdownliste!A$9,J299=\"\"),\"\",IF(B299=\"m\",(VLOOKUP(Eingabeblatt!$G299,'Table males'!$A$3:$E$138,2)+(VLOOKUP(Eingabeblatt!$G299,'Table males'!$A$3:$E$138,3)*Eingabeblatt!I299)+(VLOOKUP(Eingabeblatt!$G299,'Table males'!$A$3:$E$138,4)*Eingabeblatt!H299)+(VLOOKUP(Eingabeblatt!$G299,'Table males'!$A$3:$E$138,5)*(Eingabeblatt!J299+Eingabeblatt!K299)/2)),VLOOKUP(Eingabeblatt!$G299,'Table females'!$A$3:$E$138,2)+(VLOOKUP(Eingabeblatt!$G299,'Table females'!$A$3:$E$138,3)*Eingabeblatt!I299)+(VLOOKUP(Eingabeblatt!$G299,'Table females'!$A$3:$E$138,4)*Eingabeblatt!H299)+(VLOOKUP(Eingabeblatt!$G299,'Table females'!$A$3:$E$138,5)*(Eingabeblatt!J299+Eingabeblatt!K299)/2)))","v":""},{"$f":"CONCATENATE(\" \",IF(OR(J299=\"\",K299=\"\",L299=\"\"),\"\",IF(B299=\"m\",'Table males'!D$141,'Table females'!D$141)))","v":" "},"",""]
[{"$nulls":6},"",{"$nulls":4},{"$f":"IF(OR(C300=\"\",G300=\"\",H300=\"\",I300=\"\",K300=\"\",B300=Dropdownliste!A$9,J300=\"\"),\"\",IF(B300=\"m\",(VLOOKUP(Eingabeblatt!$G300,'Table males'!$A$3:$E$138,2)+(VLOOKUP(Eingabeblatt!$G300,'Table males'!$A$3:$E$138,3)*Eingabeblatt!I300)+(VLOOKUP(Eingabeblatt!$G300,'Table males'!$A$3:$E$138,4)*Eingabeblatt!H300)+(VLOOKUP(Eingabeblatt!$G300,'Table males'!$A$3:$E$138,5)*(Eingabeblatt!J300+Eingabeblatt!K300)/2)),VLOOKUP(Eingabeblatt!$G300,'Table females'!$A$3:$E$138,2)+(VLOOKUP(Eingabeblatt!$G300,'Table females'!$A$3:$E$138,3)*Eingabeblatt!I300)+(VLOOKUP(Eingabeblatt!$G300,'Table females'!$A$3:$E$138,4)*Eingabeblatt!H300)+(VLOOKUP(Eingabeblatt!$G300,'Table females'!$A$3:$E$138,5)*(Eingabeblatt!J300+Eingabeblatt!K300)/2)))","v":""},{"$f":"CONCATENATE(\" \",IF(OR(J300=\"\",K300=\"\",L300=\"\"),\"\",IF(B300=\"m\",'Table males'!D$141,'Table females'!D$141)))","v":" "},"",""]
[{"$nulls":6},"",{"$nulls":4},{"$f":"IF(OR(C301=\"\",G301=\"\",H301=\"\",I301=\"\",K301=\"\",B301=Dropdownliste!A$9,J301=\"\"),\"\",IF(B301=\"m\",(VLOOKUP(Eingabeblatt!$G301,'Table males'!$A$3:$E$138,2)+(VLOOKUP(Eingabeblatt!$G301,'Table males'!$A$3:$E$138,3)*Eingabeblatt!I301)+(VLOOKUP(Eingabeblatt!$G301,'Table males'!$A$3:$E$138,4)*Eingabeblatt!H301)+(VLOOKUP(Eingabeblatt!$G301,'Table males'!$A$3:$E$138,5)*(Eingabeblatt!J301+Eingabeblatt!K301)/2)),VLOOKUP(Eingabeblatt!$G301,'Table females'!$A$3:$E$138,2)+(VLOOKUP(Eingabeblatt!$G301,'Table females'!$A$3:$E$138,3)*Eingabeblatt!I301)+(VLOOKUP(Eingabeblatt!$G301,'Table females'!$A$3:$E$138,4)*Eingabeblatt!H301)+(VLOOKUP(Eingabeblatt!$G301,'Table females'!$A$3:$E$138,5)*(Eingabeblatt!J301+Eingabeblatt!K301)/2)))","v":""},{"$f":"CONCATENATE(\" \",IF(OR(J301=\"\",K301=\"\",L301=\"\"),\"\",IF(B301=\"m\",'Table males'!D$141,'Table females'!D$141)))","v":" "},"",""]
[{"$nulls":6},"",{"$nulls":4},{"$f":"IF(OR(C302=\"\",G302=\"\",H302=\"\",I302=\"\",K302=\"\",B302=Dropdownliste!A$9,J302=\"\"),\"\",IF(B302=\"m\",(VLOOKUP(Eingabeblatt!$G302,'Table males'!$A$3:$E$138,2)+(VLOOKUP(Eingabeblatt!$G302,'Table males'!$A$3:$E$138,3)*Eingabeblatt!I302)+(VLOOKUP(Eingabeblatt!$G302,'Table males'!$A$3:$E$138,4)*Eingabeblatt!H302)+(VLOOKUP(Eingabeblatt!$G302,'Table males'!$A$3:$E$138,5)*(Eingabeblatt!J302+Eingabeblatt!K302)/2)),VLOOKUP(Eingabeblatt!$G302,'Table females'!$A$3:$E$138,2)+(VLOOKUP(Eingabeblatt!$G302,'Table females'!$A$3:$E$138,3)*Eingabeblatt!I302)+(VLOOKUP(Eingabeblatt!$G302,'Table females'!$A$3:$E$138,4)*Eingabeblatt!H302)+(VLOOKUP(Eingabeblatt!$G302,'Table females'!$A$3:$E$138,5)*(Eingabeblatt!J302+Eingabeblatt!K302)/2)))","v":""},{"$f":"CONCATENATE(\" \",IF(OR(J302=\"\",K302=\"\",L302=\"\"),\"\",IF(B302=\"m\",'Table males'!D$141,'Table females'!D$141)))","v":" "},"",""]
[{"$nulls":6},"",{"$nulls":4},{"$f":"IF(OR(C303=\"\",G303=\"\",H303=\"\",I303=\"\",K303=\"\",B303=Dropdownliste!A$9,J303=\"\"),\"\",IF(B303=\"m\",(VLOOKUP(Eingabeblatt!$G303,'Table males'!$A$3:$E$138,2)+(VLOOKUP(Eingabeblatt!$G303,'Table males'!$A$3:$E$138,3)*Eingabeblatt!I303)+(VLOOKUP(Eingabeblatt!$G303,'Table males'!$A$3:$E$138,4)*Eingabeblatt!H303)+(VLOOKUP(Eingabeblatt!$G303,'Table males'!$A$3:$E$138,5)*(Eingabeblatt!J303+Eingabeblatt!K303)/2)),VLOOKUP(Eingabeblatt!$G303,'Table females'!$A$3:$E$138,2)+(VLOOKUP(Eingabeblatt!$G303,'Table females'!$A$3:$E$138,3)*Eingabeblatt!I303)+(VLOOKUP(Eingabeblatt!$G303,'Table females'!$A$3:$E$138,4)*Eingabeblatt!H303)+(VLOOKUP(Eingabeblatt!$G303,'Table females'!$A$3:$E$138,5)*(Eingabeblatt!J303+Eingabeblatt!K303)/2)))","v":""},{"$f":"CONCATENATE(\" \",IF(OR(J303=\"\",K303=\"\",L303=\"\"),\"\",IF(B303=\"m\",'Table males'!D$141,'Table females'!D$141)))","v":" "},"",""]
[{"$nulls":6},"",{"$nulls":4},{"$f":"IF(OR(C304=\"\",G304=\"\",H304=\"\",I304=\"\",K304=\"\",B304=Dropdownliste!A$9,J304=\"\"),\"\",IF(B304=\"m\",(VLOOKUP(Eingabeblatt!$G304,'Table males'!$A$3:$E$138,2)+(VLOOKUP(Eingabeblatt!$G304,'Table males'!$A$3:$E$138,3)*Eingabeblatt!I304)+(VLOOKUP(Eingabeblatt!$G304,'Table males'!$A$3:$E$138,4)*Eingabeblatt!H304)+(VLOOKUP(Eingabeblatt!$G304,'Table males'!$A$3:$E$138,5)*(Eingabeblatt!J304+Eingabeblatt!K304)/2)),VLOOKUP(Eingabeblatt!$G304,'Table females'!$A$3:$E$138,2)+(VLOOKUP(Eingabeblatt!$G304,'Table females'!$A$3:$E$138,3)*Eingabeblatt!I304)+(VLOOKUP(Eingabeblatt!$G304,'Table females'!$A$3:$E$138,4)*Eingabeblatt!H304)+(VLOOKUP(Eingabeblatt!$G304,'Table females'!$A$3:$E$138,5)*(Eingabeblatt!J304+Eingabeblatt!K304)/2)))","v":""},{"$f":"CONCATENATE(\" \",IF(OR(J304=\"\",K304=\"\",L304=\"\"),\"\",IF(B304=\"m\",'Table males'!D$141,'Table females'!D$141)))","v":" "},"",""]
[{"$nulls":6},"",{"$nulls":4},{"$f":"IF(OR(C305=\"\",G305=\"\",H305=\"\",I305=\"\",K305=\"\",B305=Dropdownliste!A$9,J305=\"\"),\"\",IF(B305=\"m\",(VLOOKUP(Eingabeblatt!$G305,'Table males'!$A$3:$E$138,2)+(VLOOKUP(Eingabeblatt!$G305,'Table males'!$A$3:$E$138,3)*Eingabeblatt!I305)+(VLOOKUP(Eingabeblatt!$G305,'Table males'!$A$3:$E$138,4)*Eingabeblatt!H305)+(VLOOKUP(Eingabeblatt!$G305,'Table males'!$A$3:$E$138,5)*(Eingabeblatt!J305+Eingabeblatt!K305)/2)),VLOOKUP(Eingabeblatt!$G305,'Table females'!$A$3:$E$138,2)+(VLOOKUP(Eingabeblatt!$G305,'Table females'!$A$3:$E$138,3)*Eingabeblatt!I305)+(VLOOKUP(Eingabeblatt!$G305,'Table females'!$A$3:$E$138,4)*Eingabeblatt!H305)+(VLOOKUP(Eingabeblatt!$G305,'Table females'!$A$3:$E$138,5)*(Eingabeblatt!J305+Eingabeblatt!K305)/2)))","v":""},{"$f":"CONCATENATE(\" \",IF(OR(J305=\"\",K305=\"\",L305=\"\"),\"\",IF(B305=\"m\",'Table males'!D$141,'Table females'!D$141)))","v":" "},"",""]
[{"$nulls":6},"",{"$nulls":4},{"$f":"IF(OR(C306=\"\",G306=\"\",H306=\"\",I306=\"\",K306=\"\",B306=Dropdownliste!A$9,J306=\"\"),\"\",IF(B306=\"m\",(VLOOKUP(Eingabeblatt!$G306,'Table males'!$A$3:$E$138,2)+(VLOOKUP(Eingabeblatt!$G306,'Table males'!$A$3:$E$138,3)*Eingabeblatt!I306)+(VLOOKUP(Eingabeblatt!$G306,'Table males'!$A$3:$E$138,4)*Eingabeblatt!H306)+(VLOOKUP(Eingabeblatt!$G306,'Table males'!$A$3:$E$138,5)*(Eingabeblatt!J306+Eingabeblatt!K306)/2)),VLOOKUP(Eingabeblatt!$G306,'Table females'!$A$3:$E$138,2)+(VLOOKUP(Eingabeblatt!$G306,'Table females'!$A$3:$E$138,3)*Eingabeblatt!I306)+(VLOOKUP(Eingabeblatt!$G306,'Table females'!$A$3:$E$138,4)*Eingabeblatt!H306)+(VLOOKUP(Eingabeblatt!$G306,'Table females'!$A$3:$E$138,5)*(Eingabeblatt!J306+Eingabeblatt!K306)/2)))","v":""},{"$f":"CONCATENATE(\" \",IF(OR(J306=\"\",K306=\"\",L306=\"\"),\"\",IF(B306=\"m\",'Table males'!D$141,'Table females'!D$141)))","v":" "},"",""]
[{"$nulls":6},"",{"$nulls":4},{"$f":"IF(OR(C307=\"\",G307=\"\",H307=\"\",I307=\"\",K307=\"\",B307=Dropdownliste!A$9,J307=\"\"),\"\",IF(B307=\"m\",(VLOOKUP(Eingabeblatt!$G307,'Table males'!$A$3:$E$138,2)+(VLOOKUP(Eingabeblatt!$G307,'Table males'!$A$3:$E$138,3)*Eingabeblatt!I307)+(VLOOKUP(Eingabeblatt!$G307,'Table males'!$A$3:$E$138,4)*Eingabeblatt!H307)+(VLOOKUP(Eingabeblatt!$G307,'Table males'!$A$3:$E$138,5)*(Eingabeblatt!J307+Eingabeblatt!K307)/2)),VLOOKUP(Eingabeblatt!$G307,'Table females'!$A$3:$E$138,2)+(VLOOKUP(Eingabeblatt!$G307,'Table females'!$A$3:$E$138,3)*Eingabeblatt!I307)+(VLOOKUP(Eingabeblatt!$G307,'Table females'!$A$3:$E$138,4)*Eingabeblatt!H307)+(VLOOKUP(Eingabeblatt!$G307,'Table females'!$A$3:$E$138,5)*(Eingabeblatt!J307+Eingabeblatt!K307)/2)))","v":""},{"$f":"CONCATENATE(\" \",IF(OR(J307=\"\",K307=\"\",L307=\"\"),\"\",IF(B307=\"m\",'Table males'!D$141,'Table females'!D$141)))","v":" "},"",""]
[{"$nulls":6},"",{"$nulls":4},{"$f":"IF(OR(C308=\"\",G308=\"\",H308=\"\",I308=\"\",K308=\"\",B308=Dropdownliste!A$9,J308=\"\"),\"\",IF(B308=\"m\",(VLOOKUP(Eingabeblatt!$G308,'Table males'!$A$3:$E$138,2)+(VLOOKUP(Eingabeblatt!$G308,'Table males'!$A$3:$E$138,3)*Eingabeblatt!I308)+(VLOOKUP(Eingabeblatt!$G308,'Table males'!$A$3:$E$138,4)*Eingabeblatt!H308)+(VLOOKUP(Eingabeblatt!$G308,'Table males'!$A$3:$E$138,5)*(Eingabeblatt!J308+Eingabeblatt!K308)/2)),VLOOKUP(Eingabeblatt!$G308,'Table females'!$A$3:$E$138,2)+(VLOOKUP(Eingabeblatt!$G308,'Table females'!$A$3:$E$138,3)*Eingabeblatt!I308)+(VLOOKUP(Eingabeblatt!$G308,'Table females'!$A$3:$E$138,4)*Eingabeblatt!H308)+(VLOOKUP(Eingabeblatt!$G308,'Table females'!$A$3:$E$138,5)*(Eingabeblatt!J308+Eingabeblatt!K308)/2)))","v":""},{"$f":"CONCATENATE(\" \",IF(OR(J308=\"\",K308=\"\",L308=\"\"),\"\",IF(B308=\"m\",'Table males'!D$141,'Table females'!D$141)))","v":" "},"",""]
[{"$nulls":6},"",{"$nulls":4},{"$f":"IF(OR(C309=\"\",G309=\"\",H309=\"\",I309=\"\",K309=\"\",B309=Dropdownliste!A$9,J309=\"\"),\"\",IF(B309=\"m\",(VLOOKUP(Eingabeblatt!$G309,'Table males'!$A$3:$E$138,2)+(VLOOKUP(Eingabeblatt!$G309,'Table males'!$A$3:$E$138,3)*Eingabeblatt!I309)+(VLOOKUP(Eingabeblatt!$G309,'Table males'!$A$3:$E$138,4)*Eingabeblatt!H309)+(VLOOKUP(Eingabeblatt!$G309,'Table males'!$A$3:$E$138,5)*(Eingabeblatt!J309+Eingabeblatt!K309)/2)),VLOOKUP(Eingabeblatt!$G309,'Table females'!$A$3:$E$138,2)+(VLOOKUP(Eingabeblatt!$G309,'Table females'!$A$3:$E$138,3)*Eingabeblatt!I309)+(VLOOKUP(Eingabeblatt!$G309,'Table females'!$A$3:$E$138,4)*Eingabeblatt!H309)+(VLOOKUP(Eingabeblatt!$G309,'Table females'!$A$3:$E$138,5)*(Eingabeblatt!J309+Eingabeblatt!K309)/2)))","v":""},{"$f":"CONCATENATE(\" \",IF(OR(J309=\"\",K309=\"\",L309=\"\"),\"\",IF(B309=\"m\",'Table males'!D$141,'Table females'!D$141)))","v":" "},"",""]
[{"$nulls":6},"",{"$nulls":4},{"$f":"IF(OR(C310=\"\",G310=\"\",H310=\"\",I310=\"\",K310=\"\",B310=Dropdownliste!A$9,J310=\"\"),\"\",IF(B310=\"m\",(VLOOKUP(Eingabeblatt!$G310,'Table males'!$A$3:$E$138,2)+(VLOOKUP(Eingabeblatt!$G310,'Table males'!$A$3:$E$138,3)*Eingabeblatt!I310)+(VLOOKUP(Eingabeblatt!$G310,'Table males'!$A$3:$E$138,4)*Eingabeblatt!H310)+(VLOOKUP(Eingabeblatt!$G310,'Table males'!$A$3:$E$138,5)*(Eingabeblatt!J310+Eingabeblatt!K310)/2)),VLOOKUP(Eingabeblatt!$G310,'Table females'!$A$3:$E$138,2)+(VLOOKUP(Eingabeblatt!$G310,'Table females'!$A$3:$E$138,3)*Eingabeblatt!I310)+(VLOOKUP(Eingabeblatt!$G310,'Table females'!$A$3:$E$138,4)*Eingabeblatt!H310)+(VLOOKUP(Eingabeblatt!$G310,'Table females'!$A$3:$E$138,5)*(Eingabeblatt!J310+Eingabeblatt!K310)/2)))","v":""},{"$f":"CONCATENATE(\" \",IF(OR(J310=\"\",K310=\"\",L310=\"\"),\"\",IF(B310=\"m\",'Table males'!D$141,'Table females'!D$141)))","v":" "},"",""]
[{"$nulls":6},"",{"$nulls":4},{"$f":"IF(OR(C311=\"\",G311=\"\",H311=\"\",I311=\"\",K311=\"\",B311=Dropdownliste!A$9,J311=\"\"),\"\",IF(B311=\"m\",(VLOOKUP(Eingabeblatt!$G311,'Table males'!$A$3:$E$138,2)+(VLOOKUP(Eingabeblatt!$G311,'Table males'!$A$3:$E$138,3)*Eingabeblatt!I311)+(VLOOKUP(Eingabeblatt!$G311,'Table males'!$A$3:$E$138,4)*Eingabeblatt!H311)+(VLOOKUP(Eingabeblatt!$G311,'Table males'!$A$3:$E$138,5)*(Eingabeblatt!J311+Eingabeblatt!K311)/2)),VLOOKUP(Eingabeblatt!$G311,'Table females'!$A$3:$E$138,2)+(VLOOKUP(Eingabeblatt!$G311,'Table females'!$A$3:$E$138,3)*Eingabeblatt!I311)+(VLOOKUP(Eingabeblatt!$G311,'Table females'!$A$3:$E$138,4)*Eingabeblatt!H311)+(VLOOKUP(Eingabeblatt!$G311,'Table females'!$A$3:$E$138,5)*(Eingabeblatt!J311+Eingabeblatt!K311)/2)))","v":""},{"$f":"CONCATENATE(\" \",IF(OR(J311=\"\",K311=\"\",L311=\"\"),\"\",IF(B311=\"m\",'Table males'!D$141,'Table females'!D$141)))","v":" "},"",""]
[{"$nulls":6},"",{"$nulls":4},{"$f":"IF(OR(C312=\"\",G312=\"\",H312=\"\",I312=\"\",K312=\"\",B312=Dropdownliste!A$9,J312=\"\"),\"\",IF(B312=\"m\",(VLOOKUP(Eingabeblatt!$G312,'Table males'!$A$3:$E$138,2)+(VLOOKUP(Eingabeblatt!$G312,'Table males'!$A$3:$E$138,3)*Eingabeblatt!I312)+(VLOOKUP(Eingabeblatt!$G312,'Table males'!$A$3:$E$138,4)*Eingabeblatt!H312)+(VLOOKUP(Eingabeblatt!$G312,'Table males'!$A$3:$E$138,5)*(Eingabeblatt!J312+Eingabeblatt!K312)/2)),VLOOKUP(Eingabeblatt!$G312,'Table females'!$A$3:$E$138,2)+(VLOOKUP(Eingabeblatt!$G312,'Table females'!$A$3:$E$138,3)*Eingabeblatt!I312)+(VLOOKUP(Eingabeblatt!$G312,'Table females'!$A$3:$E$138,4)*Eingabeblatt!H312)+(VLOOKUP(Eingabeblatt!$G312,'Table females'!$A$3:$E$138,5)*(Eingabeblatt!J312+Eingabeblatt!K312)/2)))","v":""},{"$f":"CONCATENATE(\" \",IF(OR(J312=\"\",K312=\"\",L312=\"\"),\"\",IF(B312=\"m\",'Table males'!D$141,'Table females'!D$141)))","v":" "},"",""]
[{"$nulls":6},"",{"$nulls":4},{"$f":"IF(OR(C313=\"\",G313=\"\",H313=\"\",I313=\"\",K313=\"\",B313=Dropdownliste!A$9,J313=\"\"),\"\",IF(B313=\"m\",(VLOOKUP(Eingabeblatt!$G313,'Table males'!$A$3:$E$138,2)+(VLOOKUP(Eingabeblatt!$G313,'Table males'!$A$3:$E$138,3)*Eingabeblatt!I313)+(VLOOKUP(Eingabeblatt!$G313,'Table males'!$A$3:$E$138,4)*Eingabeblatt!H313)+(VLOOKUP(Eingabeblatt!$G313,'Table males'!$A$3:$E$138,5)*(Eingabeblatt!J313+Eingabeblatt!K313)/2)),VLOOKUP(Eingabeblatt!$G313,'Table females'!$A$3:$E$138,2)+(VLOOKUP(Eingabeblatt!$G313,'Table females'!$A$3:$E$138,3)*Eingabeblatt!I313)+(VLOOKUP(Eingabeblatt!$G313,'Table females'!$A$3:$E$138,4)*Eingabeblatt!H313)+(VLOOKUP(Eingabeblatt!$G313,'Table females'!$A$3:$E$138,5)*(Eingabeblatt!J313+Eingabeblatt!K313)/2)))","v":""},{"$f":"CONCATENATE(\" \",IF(OR(J313=\"\",K313=\"\",L313=\"\"),\"\",IF(B313=\"m\",'Table males'!D$141,'Table females'!D$141)))","v":" "},"",""]
[{"$nulls":6},"",{"$nulls":4},{"$f":"IF(OR(C314=\"\",G314=\"\",H314=\"\",I314=\"\",K314=\"\",B314=Dropdownliste!A$9,J314=\"\"),\"\",IF(B314=\"m\",(VLOOKUP(Eingabeblatt!$G314,'Table males'!$A$3:$E$138,2)+(VLOOKUP(Eingabeblatt!$G314,'Table males'!$A$3:$E$138,3)*Eingabeblatt!I314)+(VLOOKUP(Eingabeblatt!$G314,'Table males'!$A$3:$E$138,4)*Eingabeblatt!H314)+(VLOOKUP(Eingabeblatt!$G314,'Table males'!$A$3:$E$138,5)*(Eingabeblatt!J314+Eingabeblatt!K314)/2)),VLOOKUP(Eingabeblatt!$G314,'Table females'!$A$3:$E$138,2)+(VLOOKUP(Eingabeblatt!$G314,'Table females'!$A$3:$E$138,3)*Eingabeblatt!I314)+(VLOOKUP(Eingabeblatt!$G314,'Table females'!$A$3:$E$138,4)*Eingabeblatt!H314)+(VLOOKUP(Eingabeblatt!$G314,'Table females'!$A$3:$E$138,5)*(Eingabeblatt!J314+Eingabeblatt!K314)/2)))","v":""},{"$f":"CONCATENATE(\" \",IF(OR(J314=\"\",K314=\"\",L314=\"\"),\"\",IF(B314=\"m\",'Table males'!D$141,'Table females'!D$141)))","v":" "},"",""]
[{"$nulls":6},"",{"$nulls":4},{"$f":"IF(OR(C315=\"\",G315=\"\",H315=\"\",I315=\"\",K315=\"\",B315=Dropdownliste!A$9,J315=\"\"),\"\",IF(B315=\"m\",(VLOOKUP(Eingabeblatt!$G315,'Table males'!$A$3:$E$138,2)+(VLOOKUP(Eingabeblatt!$G315,'Table males'!$A$3:$E$138,3)*Eingabeblatt!I315)+(VLOOKUP(Eingabeblatt!$G315,'Table males'!$A$3:$E$138,4)*Eingabeblatt!H315)+(VLOOKUP(Eingabeblatt!$G315,'Table males'!$A$3:$E$138,5)*(Eingabeblatt!J315+Eingabeblatt!K315)/2)),VLOOKUP(Eingabeblatt!$G315,'Table females'!$A$3:$E$138,2)+(VLOOKUP(Eingabeblatt!$G315,'Table females'!$A$3:$E$138,3)*Eingabeblatt!I315)+(VLOOKUP(Eingabeblatt!$G315,'Table females'!$A$3:$E$138,4)*Eingabeblatt!H315)+(VLOOKUP(Eingabeblatt!$G315,'Table females'!$A$3:$E$138,5)*(Eingabeblatt!J315+Eingabeblatt!K315)/2)))","v":""},{"$f":"CONCATENATE(\" \",IF(OR(J315=\"\",K315=\"\",L315=\"\"),\"\",IF(B315=\"m\",'Table males'!D$141,'Table females'!D$141)))","v":" "},"",""]
[{"$nulls":6},"",{"$nulls":4},{"$f":"IF(OR(C316=\"\",G316=\"\",H316=\"\",I316=\"\",K316=\"\",B316=Dropdownliste!A$9,J316=\"\"),\"\",IF(B316=\"m\",(VLOOKUP(Eingabeblatt!$G316,'Table males'!$A$3:$E$138,2)+(VLOOKUP(Eingabeblatt!$G316,'Table males'!$A$3:$E$138,3)*Eingabeblatt!I316)+(VLOOKUP(Eingabeblatt!$G316,'Table males'!$A$3:$E$138,4)*Eingabeblatt!H316)+(VLOOKUP(Eingabeblatt!$G316,'Table males'!$A$3:$E$138,5)*(Eingabeblatt!J316+Eingabeblatt!K316)/2)),VLOOKUP(Eingabeblatt!$G316,'Table females'!$A$3:$E$138,2)+(VLOOKUP(Eingabeblatt!$G316,'Table females'!$A$3:$E$138,3)*Eingabeblatt!I316)+(VLOOKUP(Eingabeblatt!$G316,'Table females'!$A$3:$E$138,4)*Eingabeblatt!H316)+(VLOOKUP(Eingabeblatt!$G316,'Table females'!$A$3:$E$138,5)*(Eingabeblatt!J316+Eingabeblatt!K316)/2)))","v":""},{"$f":"CONCATENATE(\" \",IF(OR(J316=\"\",K316=\"\",L316=\"\"),\"\",IF(B316=\"m\",'Table males'!D$141,'Table females'!D$141)))","v":" "},"",""]
[{"$nulls":6},"",{"$nulls":4},{"$f":"IF(OR(C317=\"\",G317=\"\",H317=\"\",I317=\"\",K317=\"\",B317=Dropdownliste!A$9,J317=\"\"),\"\",IF(B317=\"m\",(VLOOKUP(Eingabeblatt!$G317,'Table males'!$A$3:$E$138,2)+(VLOOKUP(Eingabeblatt!$G317,'Table males'!$A$3:$E$138,3)*Eingabeblatt!I317)+(VLOOKUP(Eingabeblatt!$G317,'Table males'!$A$3:$E$138,4)*Eingabeblatt!H317)+(VLOOKUP(Eingabeblatt!$G317,'Table males'!$A$3:$E$138,5)*(Eingabeblatt!J317+Eingabeblatt!K317)/2)),VLOOKUP(Eingabeblatt!$G317,'Table females'!$A$3:$E$138,2)+(VLOOKUP(Eingabeblatt!$G317,'Table females'!$A$3:$E$138,3)*Eingabeblatt!I317)+(VLOOKUP(Eingabeblatt!$G317,'Table females'!$A$3:$E$138,4)*Eingabeblatt!H317)+(VLOOKUP(Eingabeblatt!$G317,'Table females'!$A$3:$E$138,5)*(Eingabeblatt!J317+Eingabeblatt!K317)/2)))","v":""},{"$f":"CONCATENATE(\" \",IF(OR(J317=\"\",K317=\"\",L317=\"\"),\"\",IF(B317=\"m\",'Table males'!D$141,'Table females'!D$141)))","v":" "},"",""]
[{"$nulls":6},"",{"$nulls":4},{"$f":"IF(OR(C318=\"\",G318=\"\",H318=\"\",I318=\"\",K318=\"\",B318=Dropdownliste!A$9,J318=\"\"),\"\",IF(B318=\"m\",(VLOOKUP(Eingabeblatt!$G318,'Table males'!$A$3:$E$138,2)+(VLOOKUP(Eingabeblatt!$G318,'Table males'!$A$3:$E$138,3)*Eingabeblatt!I318)+(VLOOKUP(Eingabeblatt!$G318,'Table males'!$A$3:$E$138,4)*Eingabeblatt!H318)+(VLOOKUP(Eingabeblatt!$G318,'Table males'!$A$3:$E$138,5)*(Eingabeblatt!J318+Eingabeblatt!K318)/2)),VLOOKUP(Eingabeblatt!$G318,'Table females'!$A$3:$E$138,2)+(VLOOKUP(Eingabeblatt!$G318,'Table females'!$A$3:$E$138,3)*Eingabeblatt!I318)+(VLOOKUP(Eingabeblatt!$G318,'Table females'!$A$3:$E$138,4)*Eingabeblatt!H318)+(VLOOKUP(Eingabeblatt!$G318,'Table females'!$A$3:$E$138,5)*(Eingabeblatt!J318+Eingabeblatt!K318)/2)))","v":""},{"$f":"CONCATENATE(\" \",IF(OR(J318=\"\",K318=\"\",L318=\"\"),\"\",IF(B318=\"m\",'Table males'!D$141,'Table females'!D$141)))","v":" "},"",""]
[{"$nulls":6},"",{"$nulls":4},{"$f":"IF(OR(C319=\"\",G319=\"\",H319=\"\",I319=\"\",K319=\"\",B319=Dropdownliste!A$9,J319=\"\"),\"\",IF(B319=\"m\",(VLOOKUP(Eingabeblatt!$G319,'Table males'!$A$3:$E$138,2)+(VLOOKUP(Eingabeblatt!$G319,'Table males'!$A$3:$E$138,3)*Eingabeblatt!I319)+(VLOOKUP(Eingabeblatt!$G319,'Table males'!$A$3:$E$138,4)*Eingabeblatt!H319)+(VLOOKUP(Eingabeblatt!$G319,'Table males'!$A$3:$E$138,5)*(Eingabeblatt!J319+Eingabeblatt!K319)/2)),VLOOKUP(Eingabeblatt!$G319,'Table females'!$A$3:$E$138,2)+(VLOOKUP(Eingabeblatt!$G319,'Table females'!$A$3:$E$138,3)*Eingabeblatt!I319)+(VLOOKUP(Eingabeblatt!$G319,'Table females'!$A$3:$E$138,4)*Eingabeblatt!H319)+(VLOOKUP(Eingabeblatt!$G319,'Table females'!$A$3:$E$138,5)*(Eingabeblatt!J319+Eingabeblatt!K319)/2)))","v":""},{"$f":"CONCATENATE(\" \",IF(OR(J319=\"\",K319=\"\",L319=\"\"),\"\",IF(B319=\"m\",'Table males'!D$141,'Table females'!D$141)))","v":" "},"",""]
[{"$nulls":6},"",{"$nulls":4},{"$f":"IF(OR(C320=\"\",G320=\"\",H320=\"\",I320=\"\",K320=\"\",B320=Dropdownliste!A$9,J320=\"\"),\"\",IF(B320=\"m\",(VLOOKUP(Eingabeblatt!$G320,'Table males'!$A$3:$E$138,2)+(VLOOKUP(Eingabeblatt!$G320,'Table males'!$A$3:$E$138,3)*Eingabeblatt!I320)+(VLOOKUP(Eingabeblatt!$G320,'Table males'!$A$3:$E$138,4)*Eingabeblatt!H320)+(VLOOKUP(Eingabeblatt!$G320,'Table males'!$A$3:$E$138,5)*(Eingabeblatt!J320+Eingabeblatt!K320)/2)),VLOOKUP(Eingabeblatt!$G320,'Table females'!$A$3:$E$138,2)+(VLOOKUP(Eingabeblatt!$G320,'Table females'!$A$3:$E$138,3)*Eingabeblatt!I320)+(VLOOKUP(Eingabeblatt!$G320,'Table females'!$A$3:$E$138,4)*Eingabeblatt!H320)+(VLOOKUP(Eingabeblatt!$G320,'Table females'!$A$3:$E$138,5)*(Eingabeblatt!J320+Eingabeblatt!K320)/2)))","v":""},{"$f":"CONCATENATE(\" \",IF(OR(J320=\"\",K320=\"\",L320=\"\"),\"\",IF(B320=\"m\",'Table males'!D$141,'Table females'!D$141)))","v":" "},"",""]
[{"$nulls":6},"",{"$nulls":4},{"$f":"IF(OR(C321=\"\",G321=\"\",H321=\"\",I321=\"\",K321=\"\",B321=Dropdownliste!A$9,J321=\"\"),\"\",IF(B321=\"m\",(VLOOKUP(Eingabeblatt!$G321,'Table males'!$A$3:$E$138,2)+(VLOOKUP(Eingabeblatt!$G321,'Table males'!$A$3:$E$138,3)*Eingabeblatt!I321)+(VLOOKUP(Eingabeblatt!$G321,'Table males'!$A$3:$E$138,4)*Eingabeblatt!H321)+(VLOOKUP(Eingabeblatt!$G321,'Table males'!$A$3:$E$138,5)*(Eingabeblatt!J321+Eingabeblatt!K321)/2)),VLOOKUP(Eingabeblatt!$G321,'Table females'!$A$3:$E$138,2)+(VLOOKUP(Eingabeblatt!$G321,'Table females'!$A$3:$E$138,3)*Eingabeblatt!I321)+(VLOOKUP(Eingabeblatt!$G321,'Table females'!$A$3:$E$138,4)*Eingabeblatt!H321)+(VLOOKUP(Eingabeblatt!$G321,'Table females'!$A$3:$E$138,5)*(Eingabeblatt!J321+Eingabeblatt!K321)/2)))","v":""},{"$f":"CONCATENATE(\" \",IF(OR(J321=\"\",K321=\"\",L321=\"\"),\"\",IF(B321=\"m\",'Table males'!D$141,'Table females'!D$141)))","v":" "},"",""]
[{"$nulls":6},"",{"$nulls":4},{"$f":"IF(OR(C322=\"\",G322=\"\",H322=\"\",I322=\"\",K322=\"\",B322=Dropdownliste!A$9,J322=\"\"),\"\",IF(B322=\"m\",(VLOOKUP(Eingabeblatt!$G322,'Table males'!$A$3:$E$138,2)+(VLOOKUP(Eingabeblatt!$G322,'Table males'!$A$3:$E$138,3)*Eingabeblatt!I322)+(VLOOKUP(Eingabeblatt!$G322,'Table males'!$A$3:$E$138,4)*Eingabeblatt!H322)+(VLOOKUP(Eingabeblatt!$G322,'Table males'!$A$3:$E$138,5)*(Eingabeblatt!J322+Eingabeblatt!K322)/2)),VLOOKUP(Eingabeblatt!$G322,'Table females'!$A$3:$E$138,2)+(VLOOKUP(Eingabeblatt!$G322,'Table females'!$A$3:$E$138,3)*Eingabeblatt!I322)+(VLOOKUP(Eingabeblatt!$G322,'Table females'!$A$3:$E$138,4)*Eingabeblatt!H322)+(VLOOKUP(Eingabeblatt!$G322,'Table females'!$A$3:$E$138,5)*(Eingabeblatt!J322+Eingabeblatt!K322)/2)))","v":""},{"$f":"CONCATENATE(\" \",IF(OR(J322=\"\",K322=\"\",L322=\"\"),\"\",IF(B322=\"m\",'Table males'!D$141,'Table females'!D$141)))","v":" "},"",""]
[{"$nulls":6},"",{"$nulls":4},{"$f":"IF(OR(C323=\"\",G323=\"\",H323=\"\",I323=\"\",K323=\"\",B323=Dropdownliste!A$9,J323=\"\"),\"\",IF(B323=\"m\",(VLOOKUP(Eingabeblatt!$G323,'Table males'!$A$3:$E$138,2)+(VLOOKUP(Eingabeblatt!$G323,'Table males'!$A$3:$E$138,3)*Eingabeblatt!I323)+(VLOOKUP(Eingabeblatt!$G323,'Table males'!$A$3:$E$138,4)*Eingabeblatt!H323)+(VLOOKUP(Eingabeblatt!$G323,'Table males'!$A$3:$E$138,5)*(Eingabeblatt!J323+Eingabeblatt!K323)/2)),VLOOKUP(Eingabeblatt!$G323,'Table females'!$A$3:$E$138,2)+(VLOOKUP(Eingabeblatt!$G323,'Table females'!$A$3:$E$138,3)*Eingabeblatt!I323)+(VLOOKUP(Eingabeblatt!$G323,'Table females'!$A$3:$E$138,4)*Eingabeblatt!H323)+(VLOOKUP(Eingabeblatt!$G323,'Table females'!$A$3:$E$138,5)*(Eingabeblatt!J323+Eingabeblatt!K323)/2)))","v":""},{"$f":"CONCATENATE(\" \",IF(OR(J323=\"\",K323=\"\",L323=\"\"),\"\",IF(B323=\"m\",'Table males'!D$141,'Table females'!D$141)))","v":" "},"",""]
[{"$nulls":6},"",{"$nulls":4},{"$f":"IF(OR(C324=\"\",G324=\"\",H324=\"\",I324=\"\",K324=\"\",B324=Dropdownliste!A$9,J324=\"\"),\"\",IF(B324=\"m\",(VLOOKUP(Eingabeblatt!$G324,'Table males'!$A$3:$E$138,2)+(VLOOKUP(Eingabeblatt!$G324,'Table males'!$A$3:$E$138,3)*Eingabeblatt!I324)+(VLOOKUP(Eingabeblatt!$G324,'Table males'!$A$3:$E$138,4)*Eingabeblatt!H324)+(VLOOKUP(Eingabeblatt!$G324,'Table males'!$A$3:$E$138,5)*(Eingabeblatt!J324+Eingabeblatt!K324)/2)),VLOOKUP(Eingabeblatt!$G324,'Table females'!$A$3:$E$138,2)+(VLOOKUP(Eingabeblatt!$G324,'Table females'!$A$3:$E$138,3)*Eingabeblatt!I324)+(VLOOKUP(Eingabeblatt!$G324,'Table females'!$A$3:$E$138,4)*Eingabeblatt!H324)+(VLOOKUP(Eingabeblatt!$G324,'Table females'!$A$3:$E$138,5)*(Eingabeblatt!J324+Eingabeblatt!K324)/2)))","v":""},{"$f":"CONCATENATE(\" \",IF(OR(J324=\"\",K324=\"\",L324=\"\"),\"\",IF(B324=\"m\",'Table males'!D$141,'Table females'!D$141)))","v":" "},"",""]
[{"$nulls":6},"",{"$nulls":4},{"$f":"IF(OR(C325=\"\",G325=\"\",H325=\"\",I325=\"\",K325=\"\",B325=Dropdownliste!A$9,J325=\"\"),\"\",IF(B325=\"m\",(VLOOKUP(Eingabeblatt!$G325,'Table males'!$A$3:$E$138,2)+(VLOOKUP(Eingabeblatt!$G325,'Table males'!$A$3:$E$138,3)*Eingabeblatt!I325)+(VLOOKUP(Eingabeblatt!$G325,'Table males'!$A$3:$E$138,4)*Eingabeblatt!H325)+(VLOOKUP(Eingabeblatt!$G325,'Table males'!$A$3:$E$138,5)*(Eingabeblatt!J325+Eingabeblatt!K325)/2)),VLOOKUP(Eingabeblatt!$G325,'Table females'!$A$3:$E$138,2)+(VLOOKUP(Eingabeblatt!$G325,'Table females'!$A$3:$E$138,3)*Eingabeblatt!I325)+(VLOOKUP(Eingabeblatt!$G325,'Table females'!$A$3:$E$138,4)*Eingabeblatt!H325)+(VLOOKUP(Eingabeblatt!$G325,'Table females'!$A$3:$E$138,5)*(Eingabeblatt!J325+Eingabeblatt!K325)/2)))","v":""},{"$f":"CONCATENATE(\" \",IF(OR(J325=\"\",K325=\"\",L325=\"\"),\"\",IF(B325=\"m\",'Table males'!D$141,'Table females'!D$141)))","v":" "},"",""]
[{"$nulls":6},"",{"$nulls":4},{"$f":"IF(OR(C326=\"\",G326=\"\",H326=\"\",I326=\"\",K326=\"\",B326=Dropdownliste!A$9,J326=\"\"),\"\",IF(B326=\"m\",(VLOOKUP(Eingabeblatt!$G326,'Table males'!$A$3:$E$138,2)+(VLOOKUP(Eingabeblatt!$G326,'Table males'!$A$3:$E$138,3)*Eingabeblatt!I326)+(VLOOKUP(Eingabeblatt!$G326,'Table males'!$A$3:$E$138,4)*Eingabeblatt!H326)+(VLOOKUP(Eingabeblatt!$G326,'Table males'!$A$3:$E$138,5)*(Eingabeblatt!J326+Eingabeblatt!K326)/2)),VLOOKUP(Eingabeblatt!$G326,'Table females'!$A$3:$E$138,2)+(VLOOKUP(Eingabeblatt!$G326,'Table females'!$A$3:$E$138,3)*Eingabeblatt!I326)+(VLOOKUP(Eingabeblatt!$G326,'Table females'!$A$3:$E$138,4)*Eingabeblatt!H326)+(VLOOKUP(Eingabeblatt!$G326,'Table females'!$A$3:$E$138,5)*(Eingabeblatt!J326+Eingabeblatt!K326)/2)))","v":""},{"$f":"CONCATENATE(\" \",IF(OR(J326=\"\",K326=\"\",L326=\"\"),\"\",IF(B326=\"m\",'Table males'!D$141,'Table females'!D$141)))","v":" "},"",""]
[{"$nulls":6},{"$f":"IF(AND(C327>0,F327>0),(C327-F327)/365.25,\"\")","v":""},{"$nulls":4},{"$f":"IF(OR(C327=\"\",G327=\"\",H327=\"\",I327=\"\",K327=\"\",B327=Dropdownliste!A$9,J327=\"\"),\"\",IF(B327=\"m\",(VLOOKUP(Eingabeblatt!$G327,'Table males'!$A$3:$E$138,2)+(VLOOKUP(Eingabeblatt!$G327,'Table males'!$A$3:$E$138,3)*Eingabeblatt!I327)+(VLOOKUP(Eingabeblatt!$G327,'Table males'!$A$3:$E$138,4)*Eingabeblatt!H327)+(VLOOKUP(Eingabeblatt!$G327,'Table males'!$A$3:$E$138,5)*(Eingabeblatt!J327+Eingabeblatt!K327)/2)),VLOOKUP(Eingabeblatt!$G327,'Table females'!$A$3:$E$138,2)+(VLOOKUP(Eingabeblatt!$G327,'Table females'!$A$3:$E$138,3)*Eingabeblatt!I327)+(VLOOKUP(Eingabeblatt!$G327,'Table females'!$A$3:$E$138,4)*Eingabeblatt!H327)+(VLOOKUP(Eingabeblatt!$G327,'Table females'!$A$3:$E$138,5)*(Eingabeblatt!J327+Eingabeblatt!K327)/2)))","v":""},{"$f":"CONCATENATE(\" \",IF(OR(J327=\"\",K327=\"\",L327=\"\"),\"\",IF(B327=\"m\",'Table males'!D$141,'Table females'!D$141)))","v":" "},"",""]
[{"$nulls":6},"",{"$nulls":4},{"$f":"IF(OR(C328=\"\",G328=\"\",H328=\"\",I328=\"\",K328=\"\",B328=Dropdownliste!A$9,J328=\"\"),\"\",IF(B328=\"m\",(VLOOKUP(Eingabeblatt!$G328,'Table males'!$A$3:$E$138,2)+(VLOOKUP(Eingabeblatt!$G328,'Table males'!$A$3:$E$138,3)*Eingabeblatt!I328)+(VLOOKUP(Eingabeblatt!$G328,'Table males'!$A$3:$E$138,4)*Eingabeblatt!H328)+(VLOOKUP(Eingabeblatt!$G328,'Table males'!$A$3:$E$138,5)*(Eingabeblatt!J328+Eingabeblatt!K328)/2)),VLOOKUP(Eingabeblatt!$G328,'Table females'!$A$3:$E$138,2)+(VLOOKUP(Eingabeblatt!$G328,'Table females'!$A$3:$E$138,3)*Eingabeblatt!I328)+(VLOOKUP(Eingabeblatt!$G328,'Table females'!$A$3:$E$138,4)*Eingabeblatt!H328)+(VLOOKUP(Eingabeblatt!$G328,'Table females'!$A$3:$E$138,5)*(Eingabeblatt!J328+Eingabeblatt!K328)/2)))","v":""},{"$f":"CONCATENATE(\" \",IF(OR(J328=\"\",K328=\"\",L328=\"\"),\"\",IF(B328=\"m\",'Table males'!D$141,'Table females'!D$141)))","v":" "},"",""]
[{"$nulls":6},"",{"$nulls":4},{"$f":"IF(OR(C329=\"\",G329=\"\",H329=\"\",I329=\"\",K329=\"\",B329=Dropdownliste!A$9,J329=\"\"),\"\",IF(B329=\"m\",(VLOOKUP(Eingabeblatt!$G329,'Table males'!$A$3:$E$138,2)+(VLOOKUP(Eingabeblatt!$G329,'Table males'!$A$3:$E$138,3)*Eingabeblatt!I329)+(VLOOKUP(Eingabeblatt!$G329,'Table males'!$A$3:$E$138,4)*Eingabeblatt!H329)+(VLOOKUP(Eingabeblatt!$G329,'Table males'!$A$3:$E$138,5)*(Eingabeblatt!J329+Eingabeblatt!K329)/2)),VLOOKUP(Eingabeblatt!$G329,'Table females'!$A$3:$E$138,2)+(VLOOKUP(Eingabeblatt!$G329,'Table females'!$A$3:$E$138,3)*Eingabeblatt!I329)+(VLOOKUP(Eingabeblatt!$G329,'Table females'!$A$3:$E$138,4)*Eingabeblatt!H329)+(VLOOKUP(Eingabeblatt!$G329,'Table females'!$A$3:$E$138,5)*(Eingabeblatt!J329+Eingabeblatt!K329)/2)))","v":""},{"$f":"CONCATENATE(\" \",IF(OR(J329=\"\",K329=\"\",L329=\"\"),\"\",IF(B329=\"m\",'Table males'!D$141,'Table females'!D$141)))","v":" "},"",""]
[{"$nulls":6},"",{"$nulls":4},{"$f":"IF(OR(C330=\"\",G330=\"\",H330=\"\",I330=\"\",K330=\"\",B330=Dropdownliste!A$9,J330=\"\"),\"\",IF(B330=\"m\",(VLOOKUP(Eingabeblatt!$G330,'Table males'!$A$3:$E$138,2)+(VLOOKUP(Eingabeblatt!$G330,'Table males'!$A$3:$E$138,3)*Eingabeblatt!I330)+(VLOOKUP(Eingabeblatt!$G330,'Table males'!$A$3:$E$138,4)*Eingabeblatt!H330)+(VLOOKUP(Eingabeblatt!$G330,'Table males'!$A$3:$E$138,5)*(Eingabeblatt!J330+Eingabeblatt!K330)/2)),VLOOKUP(Eingabeblatt!$G330,'Table females'!$A$3:$E$138,2)+(VLOOKUP(Eingabeblatt!$G330,'Table females'!$A$3:$E$138,3)*Eingabeblatt!I330)+(VLOOKUP(Eingabeblatt!$G330,'Table females'!$A$3:$E$138,4)*Eingabeblatt!H330)+(VLOOKUP(Eingabeblatt!$G330,'Table females'!$A$3:$E$138,5)*(Eingabeblatt!J330+Eingabeblatt!K330)/2)))","v":""},{"$f":"CONCATENATE(\" \",IF(OR(J330=\"\",K330=\"\",L330=\"\"),\"\",IF(B330=\"m\",'Table males'!D$141,'Table females'!D$141)))","v":" "},{"$f":"IF(OR(J330=\"\",K330=\"\",I330=\"\",L330=\"\"),\"\",I330/L330)","v":""},{"$f":"IF(N330=\"\",\"\",IF(N330<0.8,\"vorpubertär / prépubère\",IF(N330<0.9,\"frühpubertär / début de la puberté\",IF(N330<0.95,\"pubertär / pubertaire\",\"spätpubertär / fin de la puberté\"))))","v":""}]
[{"$nulls":6},"",{"$nulls":4},{"$f":"IF(OR(C331=\"\",G331=\"\",H331=\"\",I331=\"\",K331=\"\",B331=Dropdownliste!A$9,J331=\"\"),\"\",IF(B331=\"m\",(VLOOKUP(Eingabeblatt!$G331,'Table males'!$A$3:$E$138,2)+(VLOOKUP(Eingabeblatt!$G331,'Table males'!$A$3:$E$138,3)*Eingabeblatt!I331)+(VLOOKUP(Eingabeblatt!$G331,'Table males'!$A$3:$E$138,4)*Eingabeblatt!H331)+(VLOOKUP(Eingabeblatt!$G331,'Table males'!$A$3:$E$138,5)*(Eingabeblatt!J331+Eingabeblatt!K331)/2)),VLOOKUP(Eingabeblatt!$G331,'Table females'!$A$3:$E$138,2)+(VLOOKUP(Eingabeblatt!$G331,'Table females'!$A$3:$E$138,3)*Eingabeblatt!I331)+(VLOOKUP(Eingabeblatt!$G331,'Table females'!$A$3:$E$138,4)*Eingabeblatt!H331)+(VLOOKUP(Eingabeblatt!$G331,'Table females'!$A$3:$E$138,5)*(Eingabeblatt!J331+Eingabeblatt!K331)/2)))","v":""},{"$f":"CONCATENATE(\" \",IF(OR(J331=\"\",K331=\"\",L331=\"\"),\"\",IF(B331=\"m\",'Table males'!D$141,'Table females'!D$141)))","v":" "},"",""]
[{"$nulls":6},"",{"$nulls":4},{"$f":"IF(OR(C332=\"\",G332=\"\",H332=\"\",I332=\"\",K332=\"\",B332=Dropdownliste!A$9,J332=\"\"),\"\",IF(B332=\"m\",(VLOOKUP(Eingabeblatt!$G332,'Table males'!$A$3:$E$138,2)+(VLOOKUP(Eingabeblatt!$G332,'Table males'!$A$3:$E$138,3)*Eingabeblatt!I332)+(VLOOKUP(Eingabeblatt!$G332,'Table males'!$A$3:$E$138,4)*Eingabeblatt!H332)+(VLOOKUP(Eingabeblatt!$G332,'Table males'!$A$3:$E$138,5)*(Eingabeblatt!J332+Eingabeblatt!K332)/2)),VLOOKUP(Eingabeblatt!$G332,'Table females'!$A$3:$E$138,2)+(VLOOKUP(Eingabeblatt!$G332,'Table females'!$A$3:$E$138,3)*Eingabeblatt!I332)+(VLOOKUP(Eingabeblatt!$G332,'Table females'!$A$3:$E$138,4)*Eingabeblatt!H332)+(VLOOKUP(Eingabeblatt!$G332,'Table females'!$A$3:$E$138,5)*(Eingabeblatt!J332+Eingabeblatt!K332)/2)))","v":""},{"$f":"CONCATENATE(\" \",IF(OR(J332=\"\",K332=\"\",L332=\"\"),\"\",IF(B332=\"m\",'Table males'!D$141,'Table females'!D$141)))","v":" "},"",""]
[{"$nulls":6},"",{"$nulls":4},{"$f":"IF(OR(C333=\"\",G333=\"\",H333=\"\",I333=\"\",K333=\"\",B333=Dropdownliste!A$9,J333=\"\"),\"\",IF(B333=\"m\",(VLOOKUP(Eingabeblatt!$G333,'Table males'!$A$3:$E$138,2)+(VLOOKUP(Eingabeblatt!$G333,'Table males'!$A$3:$E$138,3)*Eingabeblatt!I333)+(VLOOKUP(Eingabeblatt!$G333,'Table males'!$A$3:$E$138,4)*Eingabeblatt!H333)+(VLOOKUP(Eingabeblatt!$G333,'Table males'!$A$3:$E$138,5)*(Eingabeblatt!J333+Eingabeblatt!K333)/2)),VLOOKUP(Eingabeblatt!$G333,'Table females'!$A$3:$E$138,2)+(VLOOKUP(Eingabeblatt!$G333,'Table females'!$A$3:$E$138,3)*Eingabeblatt!I333)+(VLOOKUP(Eingabeblatt!$G333,'Table females'!$A$3:$E$138,4)*Eingabeblatt!H333)+(VLOOKUP(Eingabeblatt!$G333,'Table females'!$A$3:$E$138,5)*(Eingabeblatt!J333+Eingabeblatt!K333)/2)))","v":""},{"$f":"CONCATENATE(\" \",IF(OR(J333=\"\",K333=\"\",L333=\"\"),\"\",IF(B333=\"m\",'Table males'!D$141,'Table females'!D$141)))","v":" "},"",""]
[{"$nulls":6},"",{"$nulls":4},{"$f":"IF(OR(C334=\"\",G334=\"\",H334=\"\",I334=\"\",K334=\"\",B334=Dropdownliste!A$9,J334=\"\"),\"\",IF(B334=\"m\",(VLOOKUP(Eingabeblatt!$G334,'Table males'!$A$3:$E$138,2)+(VLOOKUP(Eingabeblatt!$G334,'Table males'!$A$3:$E$138,3)*Eingabeblatt!I334)+(VLOOKUP(Eingabeblatt!$G334,'Table males'!$A$3:$E$138,4)*Eingabeblatt!H334)+(VLOOKUP(Eingabeblatt!$G334,'Table males'!$A$3:$E$138,5)*(Eingabeblatt!J334+Eingabeblatt!K334)/2)),VLOOKUP(Eingabeblatt!$G334,'Table females'!$A$3:$E$138,2)+(VLOOKUP(Eingabeblatt!$G334,'Table females'!$A$3:$E$138,3)*Eingabeblatt!I334)+(VLOOKUP(Eingabeblatt!$G334,'Table females'!$A$3:$E$138,4)*Eingabeblatt!H334)+(VLOOKUP(Eingabeblatt!$G334,'Table females'!$A$3:$E$138,5)*(Eingabeblatt!J334+Eingabeblatt!K334)/2)))","v":""},{"$f":"CONCATENATE(\" \",IF(OR(J334=\"\",K334=\"\",L334=\"\"),\"\",IF(B334=\"m\",'Table males'!D$141,'Table females'!D$141)))","v":" "},"",""]
[{"$nulls":6},"",{"$nulls":4},{"$f":"IF(OR(C335=\"\",G335=\"\",H335=\"\",I335=\"\",K335=\"\",B335=Dropdownliste!A$9,J335=\"\"),\"\",IF(B335=\"m\",(VLOOKUP(Eingabeblatt!$G335,'Table males'!$A$3:$E$138,2)+(VLOOKUP(Eingabeblatt!$G335,'Table males'!$A$3:$E$138,3)*Eingabeblatt!I335)+(VLOOKUP(Eingabeblatt!$G335,'Table males'!$A$3:$E$138,4)*Eingabeblatt!H335)+(VLOOKUP(Eingabeblatt!$G335,'Table males'!$A$3:$E$138,5)*(Eingabeblatt!J335+Eingabeblatt!K335)/2)),VLOOKUP(Eingabeblatt!$G335,'Table females'!$A$3:$E$138,2)+(VLOOKUP(Eingabeblatt!$G335,'Table females'!$A$3:$E$138,3)*Eingabeblatt!I335)+(VLOOKUP(Eingabeblatt!$G335,'Table females'!$A$3:$E$138,4)*Eingabeblatt!H335)+(VLOOKUP(Eingabeblatt!$G335,'Table females'!$A$3:$E$138,5)*(Eingabeblatt!J335+Eingabeblatt!K335)/2)))","v":""},{"$f":"CONCATENATE(\" \",IF(OR(J335=\"\",K335=\"\",L335=\"\"),\"\",IF(B335=\"m\",'Table males'!D$141,'Table females'!D$141)))","v":" "},"",""]
[{"$nulls":6},"",{"$nulls":4},{"$f":"IF(OR(C336=\"\",G336=\"\",H336=\"\",I336=\"\",K336=\"\",B336=Dropdownliste!A$9,J336=\"\"),\"\",IF(B336=\"m\",(VLOOKUP(Eingabeblatt!$G336,'Table males'!$A$3:$E$138,2)+(VLOOKUP(Eingabeblatt!$G336,'Table males'!$A$3:$E$138,3)*Eingabeblatt!I336)+(VLOOKUP(Eingabeblatt!$G336,'Table males'!$A$3:$E$138,4)*Eingabeblatt!H336)+(VLOOKUP(Eingabeblatt!$G336,'Table males'!$A$3:$E$138,5)*(Eingabeblatt!J336+Eingabeblatt!K336)/2)),VLOOKUP(Eingabeblatt!$G336,'Table females'!$A$3:$E$138,2)+(VLOOKUP(Eingabeblatt!$G336,'Table females'!$A$3:$E$138,3)*Eingabeblatt!I336)+(VLOOKUP(Eingabeblatt!$G336,'Table females'!$A$3:$E$138,4)*Eingabeblatt!H336)+(VLOOKUP(Eingabeblatt!$G336,'Table females'!$A$3:$E$138,5)*(Eingabeblatt!J336+Eingabeblatt!K336)/2)))","v":""},{"$f":"CONCATENATE(\" \",IF(OR(J336=\"\",K336=\"\",L336=\"\"),\"\",IF(B336=\"m\",'Table males'!D$141,'Table females'!D$141)))","v":" "},"",""]
[{"$nulls":6},"",{"$nulls":4},{"$f":"IF(OR(C337=\"\",G337=\"\",H337=\"\",I337=\"\",K337=\"\",B337=Dropdownliste!A$9,J337=\"\"),\"\",IF(B337=\"m\",(VLOOKUP(Eingabeblatt!$G337,'Table males'!$A$3:$E$138,2)+(VLOOKUP(Eingabeblatt!$G337,'Table males'!$A$3:$E$138,3)*Eingabeblatt!I337)+(VLOOKUP(Eingabeblatt!$G337,'Table males'!$A$3:$E$138,4)*Eingabeblatt!H337)+(VLOOKUP(Eingabeblatt!$G337,'Table males'!$A$3:$E$138,5)*(Eingabeblatt!J337+Eingabeblatt!K337)/2)),VLOOKUP(Eingabeblatt!$G337,'Table females'!$A$3:$E$138,2)+(VLOOKUP(Eingabeblatt!$G337,'Table females'!$A$3:$E$138,3)*Eingabeblatt!I337)+(VLOOKUP(Eingabeblatt!$G337,'Table females'!$A$3:$E$138,4)*Eingabeblatt!H337)+(VLOOKUP(Eingabeblatt!$G337,'Table females'!$A$3:$E$138,5)*(Eingabeblatt!J337+Eingabeblatt!K337)/2)))","v":""},{"$f":"CONCATENATE(\" \",IF(OR(J337=\"\",K337=\"\",L337=\"\"),\"\",IF(B337=\"m\",'Table males'!D$141,'Table females'!D$141)))","v":" "},"",""]
[{"$nulls":6},"",{"$nulls":4},{"$f":"IF(OR(C338=\"\",G338=\"\",H338=\"\",I338=\"\",K338=\"\",B338=Dropdownliste!A$9,J338=\"\"),\"\",IF(B338=\"m\",(VLOOKUP(Eingabeblatt!$G338,'Table males'!$A$3:$E$138,2)+(VLOOKUP(Eingabeblatt!$G338,'Table males'!$A$3:$E$138,3)*Eingabeblatt!I338)+(VLOOKUP(Eingabeblatt!$G338,'Table males'!$A$3:$E$138,4)*Eingabeblatt!H338)+(VLOOKUP(Eingabeblatt!$G338,'Table males'!$A$3:$E$138,5)*(Eingabeblatt!J338+Eingabeblatt!K338)/2)),VLOOKUP(Eingabeblatt!$G338,'Table females'!$A$3:$E$138,2)+(VLOOKUP(Eingabeblatt!$G338,'Table females'!$A$3:$E$138,3)*Eingabeblatt!I338)+(VLOOKUP(Eingabeblatt!$G338,'Table females'!$A$3:$E$138,4)*Eingabeblatt!H338)+(VLOOKUP(Eingabeblatt!$G338,'Table females'!$A$3:$E$138,5)*(Eingabeblatt!J338+Eingabeblatt!K338)/2)))","v":""},{"$f":"CONCATENATE(\" \",IF(OR(J338=\"\",K338=\"\",L338=\"\"),\"\",IF(B338=\"m\",'Table males'!D$141,'Table females'!D$141)))","v":" "},"",""]
[{"$nulls":6},"",{"$nulls":4},{"$f":"IF(OR(C339=\"\",G339=\"\",H339=\"\",I339=\"\",K339=\"\",B339=Dropdownliste!A$9,J339=\"\"),\"\",IF(B339=\"m\",(VLOOKUP(Eingabeblatt!$G339,'Table males'!$A$3:$E$138,2)+(VLOOKUP(Eingabeblatt!$G339,'Table males'!$A$3:$E$138,3)*Eingabeblatt!I339)+(VLOOKUP(Eingabeblatt!$G339,'Table males'!$A$3:$E$138,4)*Eingabeblatt!H339)+(VLOOKUP(Eingabeblatt!$G339,'Table males'!$A$3:$E$138,5)*(Eingabeblatt!J339+Eingabeblatt!K339)/2)),VLOOKUP(Eingabeblatt!$G339,'Table females'!$A$3:$E$138,2)+(VLOOKUP(Eingabeblatt!$G339,'Table females'!$A$3:$E$138,3)*Eingabeblatt!I339)+(VLOOKUP(Eingabeblatt!$G339,'Table females'!$A$3:$E$138,4)*Eingabeblatt!H339)+(VLOOKUP(Eingabeblatt!$G339,'Table females'!$A$3:$E$138,5)*(Eingabeblatt!J339+Eingabeblatt!K339)/2)))","v":""},{"$f":"CONCATENATE(\" \",IF(OR(J339=\"\",K339=\"\",L339=\"\"),\"\",IF(B339=\"m\",'Table males'!D$141,'Table females'!D$141)))","v":" "},"",""]
[{"$nulls":6},"",{"$nulls":4},{"$f":"IF(OR(C340=\"\",G340=\"\",H340=\"\",I340=\"\",K340=\"\",B340=Dropdownliste!A$9,J340=\"\"),\"\",IF(B340=\"m\",(VLOOKUP(Eingabeblatt!$G340,'Table males'!$A$3:$E$138,2)+(VLOOKUP(Eingabeblatt!$G340,'Table males'!$A$3:$E$138,3)*Eingabeblatt!I340)+(VLOOKUP(Eingabeblatt!$G340,'Table males'!$A$3:$E$138,4)*Eingabeblatt!H340)+(VLOOKUP(Eingabeblatt!$G340,'Table males'!$A$3:$E$138,5)*(Eingabeblatt!J340+Eingabeblatt!K340)/2)),VLOOKUP(Eingabeblatt!$G340,'Table females'!$A$3:$E$138,2)+(VLOOKUP(Eingabeblatt!$G340,'Table females'!$A$3:$E$138,3)*Eingabeblatt!I340)+(VLOOKUP(Eingabeblatt!$G340,'Table females'!$A$3:$E$138,4)*Eingabeblatt!H340)+(VLOOKUP(Eingabeblatt!$G340,'Table females'!$A$3:$E$138,5)*(Eingabeblatt!J340+Eingabeblatt!K340)/2)))","v":""},{"$f":"CONCATENATE(\" \",IF(OR(J340=\"\",K340=\"\",L340=\"\"),\"\",IF(B340=\"m\",'Table males'!D$141,'Table females'!D$141)))","v":" "},"",""]
[{"$nulls":6},"",{"$nulls":4},{"$f":"IF(OR(C341=\"\",G341=\"\",H341=\"\",I341=\"\",K341=\"\",B341=Dropdownliste!A$9,J341=\"\"),\"\",IF(B341=\"m\",(VLOOKUP(Eingabeblatt!$G341,'Table males'!$A$3:$E$138,2)+(VLOOKUP(Eingabeblatt!$G341,'Table males'!$A$3:$E$138,3)*Eingabeblatt!I341)+(VLOOKUP(Eingabeblatt!$G341,'Table males'!$A$3:$E$138,4)*Eingabeblatt!H341)+(VLOOKUP(Eingabeblatt!$G341,'Table males'!$A$3:$E$138,5)*(Eingabeblatt!J341+Eingabeblatt!K341)/2)),VLOOKUP(Eingabeblatt!$G341,'Table females'!$A$3:$E$138,2)+(VLOOKUP(Eingabeblatt!$G341,'Table females'!$A$3:$E$138,3)*Eingabeblatt!I341)+(VLOOKUP(Eingabeblatt!$G341,'Table females'!$A$3:$E$138,4)*Eingabeblatt!H341)+(VLOOKUP(Eingabeblatt!$G341,'Table females'!$A$3:$E$138,5)*(Eingabeblatt!J341+Eingabeblatt!K341)/2)))","v":""},{"$f":"CONCATENATE(\" \",IF(OR(J341=\"\",K341=\"\",L341=\"\"),\"\",IF(B341=\"m\",'Table males'!D$141,'Table females'!D$141)))","v":" "},"",""]
[{"$nulls":6},"",{"$nulls":4},{"$f":"IF(OR(C342=\"\",G342=\"\",H342=\"\",I342=\"\",K342=\"\",B342=Dropdownliste!A$9,J342=\"\"),\"\",IF(B342=\"m\",(VLOOKUP(Eingabeblatt!$G342,'Table males'!$A$3:$E$138,2)+(VLOOKUP(Eingabeblatt!$G342,'Table males'!$A$3:$E$138,3)*Eingabeblatt!I342)+(VLOOKUP(Eingabeblatt!$G342,'Table males'!$A$3:$E$138,4)*Eingabeblatt!H342)+(VLOOKUP(Eingabeblatt!$G342,'Table males'!$A$3:$E$138,5)*(Eingabeblatt!J342+Eingabeblatt!K342)/2)),VLOOKUP(Eingabeblatt!$G342,'Table females'!$A$3:$E$138,2)+(VLOOKUP(Eingabeblatt!$G342,'Table females'!$A$3:$E$138,3)*Eingabeblatt!I342)+(VLOOKUP(Eingabeblatt!$G342,'Table females'!$A$3:$E$138,4)*Eingabeblatt!H342)+(VLOOKUP(Eingabeblatt!$G342,'Table females'!$A$3:$E$138,5)*(Eingabeblatt!J342+Eingabeblatt!K342)/2)))","v":""},{"$f":"CONCATENATE(\" \",IF(OR(J342=\"\",K342=\"\",L342=\"\"),\"\",IF(B342=\"m\",'Table males'!D$141,'Table females'!D$141)))","v":" "},"",""]
[{"$nulls":6},"",{"$nulls":4},{"$f":"IF(OR(C343=\"\",G343=\"\",H343=\"\",I343=\"\",K343=\"\",B343=Dropdownliste!A$9,J343=\"\"),\"\",IF(B343=\"m\",(VLOOKUP(Eingabeblatt!$G343,'Table males'!$A$3:$E$138,2)+(VLOOKUP(Eingabeblatt!$G343,'Table males'!$A$3:$E$138,3)*Eingabeblatt!I343)+(VLOOKUP(Eingabeblatt!$G343,'Table males'!$A$3:$E$138,4)*Eingabeblatt!H343)+(VLOOKUP(Eingabeblatt!$G343,'Table males'!$A$3:$E$138,5)*(Eingabeblatt!J343+Eingabeblatt!K343)/2)),VLOOKUP(Eingabeblatt!$G343,'Table females'!$A$3:$E$138,2)+(VLOOKUP(Eingabeblatt!$G343,'Table females'!$A$3:$E$138,3)*Eingabeblatt!I343)+(VLOOKUP(Eingabeblatt!$G343,'Table females'!$A$3:$E$138,4)*Eingabeblatt!H343)+(VLOOKUP(Eingabeblatt!$G343,'Table females'!$A$3:$E$138,5)*(Eingabeblatt!J343+Eingabeblatt!K343)/2)))","v":""},{"$f":"CONCATENATE(\" \",IF(OR(J343=\"\",K343=\"\",L343=\"\"),\"\",IF(B343=\"m\",'Table males'!D$141,'Table females'!D$141)))","v":" "},"",""]
[{"$nulls":6},"",{"$nulls":4},{"$f":"IF(OR(C344=\"\",G344=\"\",H344=\"\",I344=\"\",K344=\"\",B344=Dropdownliste!A$9,J344=\"\"),\"\",IF(B344=\"m\",(VLOOKUP(Eingabeblatt!$G344,'Table males'!$A$3:$E$138,2)+(VLOOKUP(Eingabeblatt!$G344,'Table males'!$A$3:$E$138,3)*Eingabeblatt!I344)+(VLOOKUP(Eingabeblatt!$G344,'Table males'!$A$3:$E$138,4)*Eingabeblatt!H344)+(VLOOKUP(Eingabeblatt!$G344,'Table males'!$A$3:$E$138,5)*(Eingabeblatt!J344+Eingabeblatt!K344)/2)),VLOOKUP(Eingabeblatt!$G344,'Table females'!$A$3:$E$138,2)+(VLOOKUP(Eingabeblatt!$G344,'Table females'!$A$3:$E$138,3)*Eingabeblatt!I344)+(VLOOKUP(Eingabeblatt!$G344,'Table females'!$A$3:$E$138,4)*Eingabeblatt!H344)+(VLOOKUP(Eingabeblatt!$G344,'Table females'!$A$3:$E$138,5)*(Eingabeblatt!J344+Eingabeblatt!K344)/2)))","v":""},{"$f":"CONCATENATE(\" \",IF(OR(J344=\"\",K344=\"\",L344=\"\"),\"\",IF(B344=\"m\",'Table males'!D$141,'Table females'!D$141)))","v":" "},"",""]
[{"$nulls":6},"",{"$nulls":4},{"$f":"IF(OR(C345=\"\",G345=\"\",H345=\"\",I345=\"\",K345=\"\",B345=Dropdownliste!A$9,J345=\"\"),\"\",IF(B345=\"m\",(VLOOKUP(Eingabeblatt!$G345,'Table males'!$A$3:$E$138,2)+(VLOOKUP(Eingabeblatt!$G345,'Table males'!$A$3:$E$138,3)*Eingabeblatt!I345)+(VLOOKUP(Eingabeblatt!$G345,'Table males'!$A$3:$E$138,4)*Eingabeblatt!H345)+(VLOOKUP(Eingabeblatt!$G345,'Table males'!$A$3:$E$138,5)*(Eingabeblatt!J345+Eingabeblatt!K345)/2)),VLOOKUP(Eingabeblatt!$G345,'Table females'!$A$3:$E$138,2)+(VLOOKUP(Eingabeblatt!$G345,'Table females'!$A$3:$E$138,3)*Eingabeblatt!I345)+(VLOOKUP(Eingabeblatt!$G345,'Table females'!$A$3:$E$138,4)*Eingabeblatt!H345)+(VLOOKUP(Eingabeblatt!$G345,'Table females'!$A$3:$E$138,5)*(Eingabeblatt!J345+Eingabeblatt!K345)/2)))","v":""},{"$f":"CONCATENATE(\" \",IF(OR(J345=\"\",K345=\"\",L345=\"\"),\"\",IF(B345=\"m\",'Table males'!D$141,'Table females'!D$141)))","v":" "},"",""]
[{"$nulls":6},"",{"$nulls":4},{"$f":"IF(OR(C346=\"\",G346=\"\",H346=\"\",I346=\"\",K346=\"\",B346=Dropdownliste!A$9,J346=\"\"),\"\",IF(B346=\"m\",(VLOOKUP(Eingabeblatt!$G346,'Table males'!$A$3:$E$138,2)+(VLOOKUP(Eingabeblatt!$G346,'Table males'!$A$3:$E$138,3)*Eingabeblatt!I346)+(VLOOKUP(Eingabeblatt!$G346,'Table males'!$A$3:$E$138,4)*Eingabeblatt!H346)+(VLOOKUP(Eingabeblatt!$G346,'Table males'!$A$3:$E$138,5)*(Eingabeblatt!J346+Eingabeblatt!K346)/2)),VLOOKUP(Eingabeblatt!$G346,'Table females'!$A$3:$E$138,2)+(VLOOKUP(Eingabeblatt!$G346,'Table females'!$A$3:$E$138,3)*Eingabeblatt!I346)+(VLOOKUP(Eingabeblatt!$G346,'Table females'!$A$3:$E$138,4)*Eingabeblatt!H346)+(VLOOKUP(Eingabeblatt!$G346,'Table females'!$A$3:$E$138,5)*(Eingabeblatt!J346+Eingabeblatt!K346)/2)))","v":""},{"$f":"CONCATENATE(\" \",IF(OR(J346=\"\",K346=\"\",L346=\"\"),\"\",IF(B346=\"m\",'Table males'!D$141,'Table females'!D$141)))","v":" "},"",""]
[{"$nulls":6},"",{"$nulls":4},{"$f":"IF(OR(C347=\"\",G347=\"\",H347=\"\",I347=\"\",K347=\"\",B347=Dropdownliste!A$9,J347=\"\"),\"\",IF(B347=\"m\",(VLOOKUP(Eingabeblatt!$G347,'Table males'!$A$3:$E$138,2)+(VLOOKUP(Eingabeblatt!$G347,'Table males'!$A$3:$E$138,3)*Eingabeblatt!I347)+(VLOOKUP(Eingabeblatt!$G347,'Table males'!$A$3:$E$138,4)*Eingabeblatt!H347)+(VLOOKUP(Eingabeblatt!$G347,'Table males'!$A$3:$E$138,5)*(Eingabeblatt!J347+Eingabeblatt!K347)/2)),VLOOKUP(Eingabeblatt!$G347,'Table females'!$A$3:$E$138,2)+(VLOOKUP(Eingabeblatt!$G347,'Table females'!$A$3:$E$138,3)*Eingabeblatt!I347)+(VLOOKUP(Eingabeblatt!$G347,'Table females'!$A$3:$E$138,4)*Eingabeblatt!H347)+(VLOOKUP(Eingabeblatt!$G347,'Table females'!$A$3:$E$138,5)*(Eingabeblatt!J347+Eingabeblatt!K347)/2)))","v":""},{"$f":"CONCATENATE(\" \",IF(OR(J347=\"\",K347=\"\",L347=\"\"),\"\",IF(B347=\"m\",'Table males'!D$141,'Table females'!D$141)))","v":" "},"",""]
[{"$nulls":6},"",{"$nulls":4},{"$f":"IF(OR(C348=\"\",G348=\"\",H348=\"\",I348=\"\",K348=\"\",B348=Dropdownliste!A$9,J348=\"\"),\"\",IF(B348=\"m\",(VLOOKUP(Eingabeblatt!$G348,'Table males'!$A$3:$E$138,2)+(VLOOKUP(Eingabeblatt!$G348,'Table males'!$A$3:$E$138,3)*Eingabeblatt!I348)+(VLOOKUP(Eingabeblatt!$G348,'Table males'!$A$3:$E$138,4)*Eingabeblatt!H348)+(VLOOKUP(Eingabeblatt!$G348,'Table males'!$A$3:$E$138,5)*(Eingabeblatt!J348+Eingabeblatt!K348)/2)),VLOOKUP(Eingabeblatt!$G348,'Table females'!$A$3:$E$138,2)+(VLOOKUP(Eingabeblatt!$G348,'Table females'!$A$3:$E$138,3)*Eingabeblatt!I348)+(VLOOKUP(Eingabeblatt!$G348,'Table females'!$A$3:$E$138,4)*Eingabeblatt!H348)+(VLOOKUP(Eingabeblatt!$G348,'Table females'!$A$3:$E$138,5)*(Eingabeblatt!J348+Eingabeblatt!K348)/2)))","v":""},{"$f":"CONCATENATE(\" \",IF(OR(J348=\"\",K348=\"\",L348=\"\"),\"\",IF(B348=\"m\",'Table males'!D$141,'Table females'!D$141)))","v":" "},"",""]
[{"$nulls":6},"",{"$nulls":4},{"$f":"IF(OR(C349=\"\",G349=\"\",H349=\"\",I349=\"\",K349=\"\",B349=Dropdownliste!A$9,J349=\"\"),\"\",IF(B349=\"m\",(VLOOKUP(Eingabeblatt!$G349,'Table males'!$A$3:$E$138,2)+(VLOOKUP(Eingabeblatt!$G349,'Table males'!$A$3:$E$138,3)*Eingabeblatt!I349)+(VLOOKUP(Eingabeblatt!$G349,'Table males'!$A$3:$E$138,4)*Eingabeblatt!H349)+(VLOOKUP(Eingabeblatt!$G349,'Table males'!$A$3:$E$138,5)*(Eingabeblatt!J349+Eingabeblatt!K349)/2)),VLOOKUP(Eingabeblatt!$G349,'Table females'!$A$3:$E$138,2)+(VLOOKUP(Eingabeblatt!$G349,'Table females'!$A$3:$E$138,3)*Eingabeblatt!I349)+(VLOOKUP(Eingabeblatt!$G349,'Table females'!$A$3:$E$138,4)*Eingabeblatt!H349)+(VLOOKUP(Eingabeblatt!$G349,'Table females'!$A$3:$E$138,5)*(Eingabeblatt!J349+Eingabeblatt!K349)/2)))","v":""},{"$f":"CONCATENATE(\" \",IF(OR(J349=\"\",K349=\"\",L349=\"\"),\"\",IF(B349=\"m\",'Table males'!D$141,'Table females'!D$141)))","v":" "},"",""]
[{"$nulls":6},"",{"$nulls":4},{"$f":"IF(OR(C350=\"\",G350=\"\",H350=\"\",I350=\"\",K350=\"\",B350=Dropdownliste!A$9,J350=\"\"),\"\",IF(B350=\"m\",(VLOOKUP(Eingabeblatt!$G350,'Table males'!$A$3:$E$138,2)+(VLOOKUP(Eingabeblatt!$G350,'Table males'!$A$3:$E$138,3)*Eingabeblatt!I350)+(VLOOKUP(Eingabeblatt!$G350,'Table males'!$A$3:$E$138,4)*Eingabeblatt!H350)+(VLOOKUP(Eingabeblatt!$G350,'Table males'!$A$3:$E$138,5)*(Eingabeblatt!J350+Eingabeblatt!K350)/2)),VLOOKUP(Eingabeblatt!$G350,'Table females'!$A$3:$E$138,2)+(VLOOKUP(Eingabeblatt!$G350,'Table females'!$A$3:$E$138,3)*Eingabeblatt!I350)+(VLOOKUP(Eingabeblatt!$G350,'Table females'!$A$3:$E$138,4)*Eingabeblatt!H350)+(VLOOKUP(Eingabeblatt!$G350,'Table females'!$A$3:$E$138,5)*(Eingabeblatt!J350+Eingabeblatt!K350)/2)))","v":""},{"$f":"CONCATENATE(\" \",IF(OR(J350=\"\",K350=\"\",L350=\"\"),\"\",IF(B350=\"m\",'Table males'!D$141,'Table females'!D$141)))","v":" "},"",""]
[{"$nulls":6},"",{"$nulls":4},{"$f":"IF(OR(C351=\"\",G351=\"\",H351=\"\",I351=\"\",K351=\"\",B351=Dropdownliste!A$9,J351=\"\"),\"\",IF(B351=\"m\",(VLOOKUP(Eingabeblatt!$G351,'Table males'!$A$3:$E$138,2)+(VLOOKUP(Eingabeblatt!$G351,'Table males'!$A$3:$E$138,3)*Eingabeblatt!I351)+(VLOOKUP(Eingabeblatt!$G351,'Table males'!$A$3:$E$138,4)*Eingabeblatt!H351)+(VLOOKUP(Eingabeblatt!$G351,'Table males'!$A$3:$E$138,5)*(Eingabeblatt!J351+Eingabeblatt!K351)/2)),VLOOKUP(Eingabeblatt!$G351,'Table females'!$A$3:$E$138,2)+(VLOOKUP(Eingabeblatt!$G351,'Table females'!$A$3:$E$138,3)*Eingabeblatt!I351)+(VLOOKUP(Eingabeblatt!$G351,'Table females'!$A$3:$E$138,4)*Eingabeblatt!H351)+(VLOOKUP(Eingabeblatt!$G351,'Table females'!$A$3:$E$138,5)*(Eingabeblatt!J351+Eingabeblatt!K351)/2)))","v":""},{"$f":"CONCATENATE(\" \",IF(OR(J351=\"\",K351=\"\",L351=\"\"),\"\",IF(B351=\"m\",'Table males'!D$141,'Table females'!D$141)))","v":" "},"",""]
[{"$nulls":6},"",{"$nulls":4},{"$f":"IF(OR(C352=\"\",G352=\"\",H352=\"\",I352=\"\",K352=\"\",B352=Dropdownliste!A$9,J352=\"\"),\"\",IF(B352=\"m\",(VLOOKUP(Eingabeblatt!$G352,'Table males'!$A$3:$E$138,2)+(VLOOKUP(Eingabeblatt!$G352,'Table males'!$A$3:$E$138,3)*Eingabeblatt!I352)+(VLOOKUP(Eingabeblatt!$G352,'Table males'!$A$3:$E$138,4)*Eingabeblatt!H352)+(VLOOKUP(Eingabeblatt!$G352,'Table males'!$A$3:$E$138,5)*(Eingabeblatt!J352+Eingabeblatt!K352)/2)),VLOOKUP(Eingabeblatt!$G352,'Table females'!$A$3:$E$138,2)+(VLOOKUP(Eingabeblatt!$G352,'Table females'!$A$3:$E$138,3)*Eingabeblatt!I352)+(VLOOKUP(Eingabeblatt!$G352,'Table females'!$A$3:$E$138,4)*Eingabeblatt!H352)+(VLOOKUP(Eingabeblatt!$G352,'Table females'!$A$3:$E$138,5)*(Eingabeblatt!J352+Eingabeblatt!K352)/2)))","v":""},{"$f":"CONCATENATE(\" \",IF(OR(J352=\"\",K352=\"\",L352=\"\"),\"\",IF(B352=\"m\",'Table males'!D$141,'Table females'!D$141)))","v":" "},"",""]
[{"$nulls":6},"",{"$nulls":4},{"$f":"IF(OR(C353=\"\",G353=\"\",H353=\"\",I353=\"\",K353=\"\",B353=Dropdownliste!A$9,J353=\"\"),\"\",IF(B353=\"m\",(VLOOKUP(Eingabeblatt!$G353,'Table males'!$A$3:$E$138,2)+(VLOOKUP(Eingabeblatt!$G353,'Table males'!$A$3:$E$138,3)*Eingabeblatt!I353)+(VLOOKUP(Eingabeblatt!$G353,'Table males'!$A$3:$E$138,4)*Eingabeblatt!H353)+(VLOOKUP(Eingabeblatt!$G353,'Table males'!$A$3:$E$138,5)*(Eingabeblatt!J353+Eingabeblatt!K353)/2)),VLOOKUP(Eingabeblatt!$G353,'Table females'!$A$3:$E$138,2)+(VLOOKUP(Eingabeblatt!$G353,'Table females'!$A$3:$E$138,3)*Eingabeblatt!I353)+(VLOOKUP(Eingabeblatt!$G353,'Table females'!$A$3:$E$138,4)*Eingabeblatt!H353)+(VLOOKUP(Eingabeblatt!$G353,'Table females'!$A$3:$E$138,5)*(Eingabeblatt!J353+Eingabeblatt!K353)/2)))","v":""},{"$f":"CONCATENATE(\" \",IF(OR(J353=\"\",K353=\"\",L353=\"\"),\"\",IF(B353=\"m\",'Table males'!D$141,'Table females'!D$141)))","v":" "},"",""]
[{"$nulls":6},"",{"$nulls":4},{"$f":"IF(OR(C354=\"\",G354=\"\",H354=\"\",I354=\"\",K354=\"\",B354=Dropdownliste!A$9,J354=\"\"),\"\",IF(B354=\"m\",(VLOOKUP(Eingabeblatt!$G354,'Table males'!$A$3:$E$138,2)+(VLOOKUP(Eingabeblatt!$G354,'Table males'!$A$3:$E$138,3)*Eingabeblatt!I354)+(VLOOKUP(Eingabeblatt!$G354,'Table males'!$A$3:$E$138,4)*Eingabeblatt!H354)+(VLOOKUP(Eingabeblatt!$G354,'Table males'!$A$3:$E$138,5)*(Eingabeblatt!J354+Eingabeblatt!K354)/2)),VLOOKUP(Eingabeblatt!$G354,'Table females'!$A$3:$E$138,2)+(VLOOKUP(Eingabeblatt!$G354,'Table females'!$A$3:$E$138,3)*Eingabeblatt!I354)+(VLOOKUP(Eingabeblatt!$G354,'Table females'!$A$3:$E$138,4)*Eingabeblatt!H354)+(VLOOKUP(Eingabeblatt!$G354,'Table females'!$A$3:$E$138,5)*(Eingabeblatt!J354+Eingabeblatt!K354)/2)))","v":""},{"$f":"CONCATENATE(\" \",IF(OR(J354=\"\",K354=\"\",L354=\"\"),\"\",IF(B354=\"m\",'Table males'!D$141,'Table females'!D$141)))","v":" "},"",""]
[{"$nulls":6},"",{"$nulls":4},{"$f":"IF(OR(C355=\"\",G355=\"\",H355=\"\",I355=\"\",K355=\"\",B355=Dropdownliste!A$9,J355=\"\"),\"\",IF(B355=\"m\",(VLOOKUP(Eingabeblatt!$G355,'Table males'!$A$3:$E$138,2)+(VLOOKUP(Eingabeblatt!$G355,'Table males'!$A$3:$E$138,3)*Eingabeblatt!I355)+(VLOOKUP(Eingabeblatt!$G355,'Table males'!$A$3:$E$138,4)*Eingabeblatt!H355)+(VLOOKUP(Eingabeblatt!$G355,'Table males'!$A$3:$E$138,5)*(Eingabeblatt!J355+Eingabeblatt!K355)/2)),VLOOKUP(Eingabeblatt!$G355,'Table females'!$A$3:$E$138,2)+(VLOOKUP(Eingabeblatt!$G355,'Table females'!$A$3:$E$138,3)*Eingabeblatt!I355)+(VLOOKUP(Eingabeblatt!$G355,'Table females'!$A$3:$E$138,4)*Eingabeblatt!H355)+(VLOOKUP(Eingabeblatt!$G355,'Table females'!$A$3:$E$138,5)*(Eingabeblatt!J355+Eingabeblatt!K355)/2)))","v":""},{"$f":"CONCATENATE(\" \",IF(OR(J355=\"\",K355=\"\",L355=\"\"),\"\",IF(B355=\"m\",'Table males'!D$141,'Table females'!D$141)))","v":" "},"",""]
[{"$nulls":6},"",{"$nulls":4},{"$f":"IF(OR(C356=\"\",G356=\"\",H356=\"\",I356=\"\",K356=\"\",B356=Dropdownliste!A$9,J356=\"\"),\"\",IF(B356=\"m\",(VLOOKUP(Eingabeblatt!$G356,'Table males'!$A$3:$E$138,2)+(VLOOKUP(Eingabeblatt!$G356,'Table males'!$A$3:$E$138,3)*Eingabeblatt!I356)+(VLOOKUP(Eingabeblatt!$G356,'Table males'!$A$3:$E$138,4)*Eingabeblatt!H356)+(VLOOKUP(Eingabeblatt!$G356,'Table males'!$A$3:$E$138,5)*(Eingabeblatt!J356+Eingabeblatt!K356)/2)),VLOOKUP(Eingabeblatt!$G356,'Table females'!$A$3:$E$138,2)+(VLOOKUP(Eingabeblatt!$G356,'Table females'!$A$3:$E$138,3)*Eingabeblatt!I356)+(VLOOKUP(Eingabeblatt!$G356,'Table females'!$A$3:$E$138,4)*Eingabeblatt!H356)+(VLOOKUP(Eingabeblatt!$G356,'Table females'!$A$3:$E$138,5)*(Eingabeblatt!J356+Eingabeblatt!K356)/2)))","v":""},{"$f":"CONCATENATE(\" \",IF(OR(J356=\"\",K356=\"\",L356=\"\"),\"\",IF(B356=\"m\",'Table males'!D$141,'Table females'!D$141)))","v":" "},"",""]
[{"$nulls":6},"",{"$nulls":4},{"$f":"IF(OR(C357=\"\",G357=\"\",H357=\"\",I357=\"\",K357=\"\",B357=Dropdownliste!A$9,J357=\"\"),\"\",IF(B357=\"m\",(VLOOKUP(Eingabeblatt!$G357,'Table males'!$A$3:$E$138,2)+(VLOOKUP(Eingabeblatt!$G357,'Table males'!$A$3:$E$138,3)*Eingabeblatt!I357)+(VLOOKUP(Eingabeblatt!$G357,'Table males'!$A$3:$E$138,4)*Eingabeblatt!H357)+(VLOOKUP(Eingabeblatt!$G357,'Table males'!$A$3:$E$138,5)*(Eingabeblatt!J357+Eingabeblatt!K357)/2)),VLOOKUP(Eingabeblatt!$G357,'Table females'!$A$3:$E$138,2)+(VLOOKUP(Eingabeblatt!$G357,'Table females'!$A$3:$E$138,3)*Eingabeblatt!I357)+(VLOOKUP(Eingabeblatt!$G357,'Table females'!$A$3:$E$138,4)*Eingabeblatt!H357)+(VLOOKUP(Eingabeblatt!$G357,'Table females'!$A$3:$E$138,5)*(Eingabeblatt!J357+Eingabeblatt!K357)/2)))","v":""},{"$f":"CONCATENATE(\" \",IF(OR(J357=\"\",K357=\"\",L357=\"\"),\"\",IF(B357=\"m\",'Table males'!D$141,'Table females'!D$141)))","v":" "},"",""]
[{"$nulls":6},"",{"$nulls":4},{"$f":"IF(OR(C358=\"\",G358=\"\",H358=\"\",I358=\"\",K358=\"\",B358=Dropdownliste!A$9,J358=\"\"),\"\",IF(B358=\"m\",(VLOOKUP(Eingabeblatt!$G358,'Table males'!$A$3:$E$138,2)+(VLOOKUP(Eingabeblatt!$G358,'Table males'!$A$3:$E$138,3)*Eingabeblatt!I358)+(VLOOKUP(Eingabeblatt!$G358,'Table males'!$A$3:$E$138,4)*Eingabeblatt!H358)+(VLOOKUP(Eingabeblatt!$G358,'Table males'!$A$3:$E$138,5)*(Eingabeblatt!J358+Eingabeblatt!K358)/2)),VLOOKUP(Eingabeblatt!$G358,'Table females'!$A$3:$E$138,2)+(VLOOKUP(Eingabeblatt!$G358,'Table females'!$A$3:$E$138,3)*Eingabeblatt!I358)+(VLOOKUP(Eingabeblatt!$G358,'Table females'!$A$3:$E$138,4)*Eingabeblatt!H358)+(VLOOKUP(Eingabeblatt!$G358,'Table females'!$A$3:$E$138,5)*(Eingabeblatt!J358+Eingabeblatt!K358)/2)))","v":""},{"$f":"CONCATENATE(\" \",IF(OR(J358=\"\",K358=\"\",L358=\"\"),\"\",IF(B358=\"m\",'Table males'!D$141,'Table females'!D$141)))","v":" "},"",""]
[{"$nulls":6},"",{"$nulls":4},{"$f":"IF(OR(C359=\"\",G359=\"\",H359=\"\",I359=\"\",K359=\"\",B359=Dropdownliste!A$9,J359=\"\"),\"\",IF(B359=\"m\",(VLOOKUP(Eingabeblatt!$G359,'Table males'!$A$3:$E$138,2)+(VLOOKUP(Eingabeblatt!$G359,'Table males'!$A$3:$E$138,3)*Eingabeblatt!I359)+(VLOOKUP(Eingabeblatt!$G359,'Table males'!$A$3:$E$138,4)*Eingabeblatt!H359)+(VLOOKUP(Eingabeblatt!$G359,'Table males'!$A$3:$E$138,5)*(Eingabeblatt!J359+Eingabeblatt!K359)/2)),VLOOKUP(Eingabeblatt!$G359,'Table females'!$A$3:$E$138,2)+(VLOOKUP(Eingabeblatt!$G359,'Table females'!$A$3:$E$138,3)*Eingabeblatt!I359)+(VLOOKUP(Eingabeblatt!$G359,'Table females'!$A$3:$E$138,4)*Eingabeblatt!H359)+(VLOOKUP(Eingabeblatt!$G359,'Table females'!$A$3:$E$138,5)*(Eingabeblatt!J359+Eingabeblatt!K359)/2)))","v":""},{"$f":"CONCATENATE(\" \",IF(OR(J359=\"\",K359=\"\",L359=\"\"),\"\",IF(B359=\"m\",'Table males'!D$141,'Table females'!D$141)))","v":" "},"",""]
[{"$nulls":6},"",{"$nulls":4},{"$f":"IF(OR(C360=\"\",G360=\"\",H360=\"\",I360=\"\",K360=\"\",B360=Dropdownliste!A$9,J360=\"\"),\"\",IF(B360=\"m\",(VLOOKUP(Eingabeblatt!$G360,'Table males'!$A$3:$E$138,2)+(VLOOKUP(Eingabeblatt!$G360,'Table males'!$A$3:$E$138,3)*Eingabeblatt!I360)+(VLOOKUP(Eingabeblatt!$G360,'Table males'!$A$3:$E$138,4)*Eingabeblatt!H360)+(VLOOKUP(Eingabeblatt!$G360,'Table males'!$A$3:$E$138,5)*(Eingabeblatt!J360+Eingabeblatt!K360)/2)),VLOOKUP(Eingabeblatt!$G360,'Table females'!$A$3:$E$138,2)+(VLOOKUP(Eingabeblatt!$G360,'Table females'!$A$3:$E$138,3)*Eingabeblatt!I360)+(VLOOKUP(Eingabeblatt!$G360,'Table females'!$A$3:$E$138,4)*Eingabeblatt!H360)+(VLOOKUP(Eingabeblatt!$G360,'Table females'!$A$3:$E$138,5)*(Eingabeblatt!J360+Eingabeblatt!K360)/2)))","v":""},{"$f":"CONCATENATE(\" \",IF(OR(J360=\"\",K360=\"\",L360=\"\"),\"\",IF(B360=\"m\",'Table males'!D$141,'Table females'!D$141)))","v":" "},"",""]
[{"$nulls":6},"",{"$nulls":4},{"$f":"IF(OR(C361=\"\",G361=\"\",H361=\"\",I361=\"\",K361=\"\",B361=Dropdownliste!A$9,J361=\"\"),\"\",IF(B361=\"m\",(VLOOKUP(Eingabeblatt!$G361,'Table males'!$A$3:$E$138,2)+(VLOOKUP(Eingabeblatt!$G361,'Table males'!$A$3:$E$138,3)*Eingabeblatt!I361)+(VLOOKUP(Eingabeblatt!$G361,'Table males'!$A$3:$E$138,4)*Eingabeblatt!H361)+(VLOOKUP(Eingabeblatt!$G361,'Table males'!$A$3:$E$138,5)*(Eingabeblatt!J361+Eingabeblatt!K361)/2)),VLOOKUP(Eingabeblatt!$G361,'Table females'!$A$3:$E$138,2)+(VLOOKUP(Eingabeblatt!$G361,'Table females'!$A$3:$E$138,3)*Eingabeblatt!I361)+(VLOOKUP(Eingabeblatt!$G361,'Table females'!$A$3:$E$138,4)*Eingabeblatt!H361)+(VLOOKUP(Eingabeblatt!$G361,'Table females'!$A$3:$E$138,5)*(Eingabeblatt!J361+Eingabeblatt!K361)/2)))","v":""},{"$f":"CONCATENATE(\" \",IF(OR(J361=\"\",K361=\"\",L361=\"\"),\"\",IF(B361=\"m\",'Table males'!D$141,'Table females'!D$141)))","v":" "},"",""]
[{"$nulls":6},"",{"$nulls":4},{"$f":"IF(OR(C362=\"\",G362=\"\",H362=\"\",I362=\"\",K362=\"\",B362=Dropdownliste!A$9,J362=\"\"),\"\",IF(B362=\"m\",(VLOOKUP(Eingabeblatt!$G362,'Table males'!$A$3:$E$138,2)+(VLOOKUP(Eingabeblatt!$G362,'Table males'!$A$3:$E$138,3)*Eingabeblatt!I362)+(VLOOKUP(Eingabeblatt!$G362,'Table males'!$A$3:$E$138,4)*Eingabeblatt!H362)+(VLOOKUP(Eingabeblatt!$G362,'Table males'!$A$3:$E$138,5)*(Eingabeblatt!J362+Eingabeblatt!K362)/2)),VLOOKUP(Eingabeblatt!$G362,'Table females'!$A$3:$E$138,2)+(VLOOKUP(Eingabeblatt!$G362,'Table females'!$A$3:$E$138,3)*Eingabeblatt!I362)+(VLOOKUP(Eingabeblatt!$G362,'Table females'!$A$3:$E$138,4)*Eingabeblatt!H362)+(VLOOKUP(Eingabeblatt!$G362,'Table females'!$A$3:$E$138,5)*(Eingabeblatt!J362+Eingabeblatt!K362)/2)))","v":""},{"$f":"CONCATENATE(\" \",IF(OR(J362=\"\",K362=\"\",L362=\"\"),\"\",IF(B362=\"m\",'Table males'!D$141,'Table females'!D$141)))","v":" "},"",""]
[{"$nulls":6},"",{"$nulls":4},{"$f":"IF(OR(C363=\"\",G363=\"\",H363=\"\",I363=\"\",K363=\"\",B363=Dropdownliste!A$9,J363=\"\"),\"\",IF(B363=\"m\",(VLOOKUP(Eingabeblatt!$G363,'Table males'!$A$3:$E$138,2)+(VLOOKUP(Eingabeblatt!$G363,'Table males'!$A$3:$E$138,3)*Eingabeblatt!I363)+(VLOOKUP(Eingabeblatt!$G363,'Table males'!$A$3:$E$138,4)*Eingabeblatt!H363)+(VLOOKUP(Eingabeblatt!$G363,'Table males'!$A$3:$E$138,5)*(Eingabeblatt!J363+Eingabeblatt!K363)/2)),VLOOKUP(Eingabeblatt!$G363,'Table females'!$A$3:$E$138,2)+(VLOOKUP(Eingabeblatt!$G363,'Table females'!$A$3:$E$138,3)*Eingabeblatt!I363)+(VLOOKUP(Eingabeblatt!$G363,'Table females'!$A$3:$E$138,4)*Eingabeblatt!H363)+(VLOOKUP(Eingabeblatt!$G363,'Table females'!$A$3:$E$138,5)*(Eingabeblatt!J363+Eingabeblatt!K363)/2)))","v":""},{"$f":"CONCATENATE(\" \",IF(OR(J363=\"\",K363=\"\",L363=\"\"),\"\",IF(B363=\"m\",'Table males'!D$141,'Table females'!D$141)))","v":" "},"",""]
[{"$nulls":6},"",{"$nulls":4},{"$f":"IF(OR(C364=\"\",G364=\"\",H364=\"\",I364=\"\",K364=\"\",B364=Dropdownliste!A$9,J364=\"\"),\"\",IF(B364=\"m\",(VLOOKUP(Eingabeblatt!$G364,'Table males'!$A$3:$E$138,2)+(VLOOKUP(Eingabeblatt!$G364,'Table males'!$A$3:$E$138,3)*Eingabeblatt!I364)+(VLOOKUP(Eingabeblatt!$G364,'Table males'!$A$3:$E$138,4)*Eingabeblatt!H364)+(VLOOKUP(Eingabeblatt!$G364,'Table males'!$A$3:$E$138,5)*(Eingabeblatt!J364+Eingabeblatt!K364)/2)),VLOOKUP(Eingabeblatt!$G364,'Table females'!$A$3:$E$138,2)+(VLOOKUP(Eingabeblatt!$G364,'Table females'!$A$3:$E$138,3)*Eingabeblatt!I364)+(VLOOKUP(Eingabeblatt!$G364,'Table females'!$A$3:$E$138,4)*Eingabeblatt!H364)+(VLOOKUP(Eingabeblatt!$G364,'Table females'!$A$3:$E$138,5)*(Eingabeblatt!J364+Eingabeblatt!K364)/2)))","v":""},{"$f":"CONCATENATE(\" \",IF(OR(J364=\"\",K364=\"\",L364=\"\"),\"\",IF(B364=\"m\",'Table males'!D$141,'Table females'!D$141)))","v":" "},"",""]
[{"$nulls":6},"",{"$nulls":4},{"$f":"IF(OR(C365=\"\",G365=\"\",H365=\"\",I365=\"\",K365=\"\",B365=Dropdownliste!A$9,J365=\"\"),\"\",IF(B365=\"m\",(VLOOKUP(Eingabeblatt!$G365,'Table males'!$A$3:$E$138,2)+(VLOOKUP(Eingabeblatt!$G365,'Table males'!$A$3:$E$138,3)*Eingabeblatt!I365)+(VLOOKUP(Eingabeblatt!$G365,'Table males'!$A$3:$E$138,4)*Eingabeblatt!H365)+(VLOOKUP(Eingabeblatt!$G365,'Table males'!$A$3:$E$138,5)*(Eingabeblatt!J365+Eingabeblatt!K365)/2)),VLOOKUP(Eingabeblatt!$G365,'Table females'!$A$3:$E$138,2)+(VLOOKUP(Eingabeblatt!$G365,'Table females'!$A$3:$E$138,3)*Eingabeblatt!I365)+(VLOOKUP(Eingabeblatt!$G365,'Table females'!$A$3:$E$138,4)*Eingabeblatt!H365)+(VLOOKUP(Eingabeblatt!$G365,'Table females'!$A$3:$E$138,5)*(Eingabeblatt!J365+Eingabeblatt!K365)/2)))","v":""},{"$f":"CONCATENATE(\" \",IF(OR(J365=\"\",K365=\"\",L365=\"\"),\"\",IF(B365=\"m\",'Table males'!D$141,'Table females'!D$141)))","v":" "},"",""]
[{"$nulls":6},"",{"$nulls":4},{"$f":"IF(OR(C366=\"\",G366=\"\",H366=\"\",I366=\"\",K366=\"\",B366=Dropdownliste!A$9,J366=\"\"),\"\",IF(B366=\"m\",(VLOOKUP(Eingabeblatt!$G366,'Table males'!$A$3:$E$138,2)+(VLOOKUP(Eingabeblatt!$G366,'Table males'!$A$3:$E$138,3)*Eingabeblatt!I366)+(VLOOKUP(Eingabeblatt!$G366,'Table males'!$A$3:$E$138,4)*Eingabeblatt!H366)+(VLOOKUP(Eingabeblatt!$G366,'Table males'!$A$3:$E$138,5)*(Eingabeblatt!J366+Eingabeblatt!K366)/2)),VLOOKUP(Eingabeblatt!$G366,'Table females'!$A$3:$E$138,2)+(VLOOKUP(Eingabeblatt!$G366,'Table females'!$A$3:$E$138,3)*Eingabeblatt!I366)+(VLOOKUP(Eingabeblatt!$G366,'Table females'!$A$3:$E$138,4)*Eingabeblatt!H366)+(VLOOKUP(Eingabeblatt!$G366,'Table females'!$A$3:$E$138,5)*(Eingabeblatt!J366+Eingabeblatt!K366)/2)))","v":""},{"$f":"CONCATENATE(\" \",IF(OR(J366=\"\",K366=\"\",L366=\"\"),\"\",IF(B366=\"m\",'Table males'!D$141,'Table females'!D$141)))","v":" "},"",""]
[{"$nulls":6},"",{"$nulls":4},{"$f":"IF(OR(C367=\"\",G367=\"\",H367=\"\",I367=\"\",K367=\"\",B367=Dropdownliste!A$9,J367=\"\"),\"\",IF(B367=\"m\",(VLOOKUP(Eingabeblatt!$G367,'Table males'!$A$3:$E$138,2)+(VLOOKUP(Eingabeblatt!$G367,'Table males'!$A$3:$E$138,3)*Eingabeblatt!I367)+(VLOOKUP(Eingabeblatt!$G367,'Table males'!$A$3:$E$138,4)*Eingabeblatt!H367)+(VLOOKUP(Eingabeblatt!$G367,'Table males'!$A$3:$E$138,5)*(Eingabeblatt!J367+Eingabeblatt!K367)/2)),VLOOKUP(Eingabeblatt!$G367,'Table females'!$A$3:$E$138,2)+(VLOOKUP(Eingabeblatt!$G367,'Table females'!$A$3:$E$138,3)*Eingabeblatt!I367)+(VLOOKUP(Eingabeblatt!$G367,'Table females'!$A$3:$E$138,4)*Eingabeblatt!H367)+(VLOOKUP(Eingabeblatt!$G367,'Table females'!$A$3:$E$138,5)*(Eingabeblatt!J367+Eingabeblatt!K367)/2)))","v":""},{"$f":"CONCATENATE(\" \",IF(OR(J367=\"\",K367=\"\",L367=\"\"),\"\",IF(B367=\"m\",'Table males'!D$141,'Table females'!D$141)))","v":" "},"",""]
[{"$nulls":6},"",{"$nulls":4},{"$f":"IF(OR(C368=\"\",G368=\"\",H368=\"\",I368=\"\",K368=\"\",B368=Dropdownliste!A$9,J368=\"\"),\"\",IF(B368=\"m\",(VLOOKUP(Eingabeblatt!$G368,'Table males'!$A$3:$E$138,2)+(VLOOKUP(Eingabeblatt!$G368,'Table males'!$A$3:$E$138,3)*Eingabeblatt!I368)+(VLOOKUP(Eingabeblatt!$G368,'Table males'!$A$3:$E$138,4)*Eingabeblatt!H368)+(VLOOKUP(Eingabeblatt!$G368,'Table males'!$A$3:$E$138,5)*(Eingabeblatt!J368+Eingabeblatt!K368)/2)),VLOOKUP(Eingabeblatt!$G368,'Table females'!$A$3:$E$138,2)+(VLOOKUP(Eingabeblatt!$G368,'Table females'!$A$3:$E$138,3)*Eingabeblatt!I368)+(VLOOKUP(Eingabeblatt!$G368,'Table females'!$A$3:$E$138,4)*Eingabeblatt!H368)+(VLOOKUP(Eingabeblatt!$G368,'Table females'!$A$3:$E$138,5)*(Eingabeblatt!J368+Eingabeblatt!K368)/2)))","v":""},{"$f":"CONCATENATE(\" \",IF(OR(J368=\"\",K368=\"\",L368=\"\"),\"\",IF(B368=\"m\",'Table males'!D$141,'Table females'!D$141)))","v":" "},"",""]
[{"$nulls":6},"",{"$nulls":4},{"$f":"IF(OR(C369=\"\",G369=\"\",H369=\"\",I369=\"\",K369=\"\",B369=Dropdownliste!A$9,J369=\"\"),\"\",IF(B369=\"m\",(VLOOKUP(Eingabeblatt!$G369,'Table males'!$A$3:$E$138,2)+(VLOOKUP(Eingabeblatt!$G369,'Table males'!$A$3:$E$138,3)*Eingabeblatt!I369)+(VLOOKUP(Eingabeblatt!$G369,'Table males'!$A$3:$E$138,4)*Eingabeblatt!H369)+(VLOOKUP(Eingabeblatt!$G369,'Table males'!$A$3:$E$138,5)*(Eingabeblatt!J369+Eingabeblatt!K369)/2)),VLOOKUP(Eingabeblatt!$G369,'Table females'!$A$3:$E$138,2)+(VLOOKUP(Eingabeblatt!$G369,'Table females'!$A$3:$E$138,3)*Eingabeblatt!I369)+(VLOOKUP(Eingabeblatt!$G369,'Table females'!$A$3:$E$138,4)*Eingabeblatt!H369)+(VLOOKUP(Eingabeblatt!$G369,'Table females'!$A$3:$E$138,5)*(Eingabeblatt!J369+Eingabeblatt!K369)/2)))","v":""},{"$f":"CONCATENATE(\" \",IF(OR(J369=\"\",K369=\"\",L369=\"\"),\"\",IF(B369=\"m\",'Table males'!D$141,'Table females'!D$141)))","v":" "},"",""]
[{"$nulls":6},"",{"$nulls":4},{"$f":"IF(OR(C370=\"\",G370=\"\",H370=\"\",I370=\"\",K370=\"\",B370=Dropdownliste!A$9,J370=\"\"),\"\",IF(B370=\"m\",(VLOOKUP(Eingabeblatt!$G370,'Table males'!$A$3:$E$138,2)+(VLOOKUP(Eingabeblatt!$G370,'Table males'!$A$3:$E$138,3)*Eingabeblatt!I370)+(VLOOKUP(Eingabeblatt!$G370,'Table males'!$A$3:$E$138,4)*Eingabeblatt!H370)+(VLOOKUP(Eingabeblatt!$G370,'Table males'!$A$3:$E$138,5)*(Eingabeblatt!J370+Eingabeblatt!K370)/2)),VLOOKUP(Eingabeblatt!$G370,'Table females'!$A$3:$E$138,2)+(VLOOKUP(Eingabeblatt!$G370,'Table females'!$A$3:$E$138,3)*Eingabeblatt!I370)+(VLOOKUP(Eingabeblatt!$G370,'Table females'!$A$3:$E$138,4)*Eingabeblatt!H370)+(VLOOKUP(Eingabeblatt!$G370,'Table females'!$A$3:$E$138,5)*(Eingabeblatt!J370+Eingabeblatt!K370)/2)))","v":""},{"$f":"CONCATENATE(\" \",IF(OR(J370=\"\",K370=\"\",L370=\"\"),\"\",IF(B370=\"m\",'Table males'!D$141,'Table females'!D$141)))","v":" "},"",""]
[{"$nulls":6},"",{"$nulls":4},{"$f":"IF(OR(C371=\"\",G371=\"\",H371=\"\",I371=\"\",K371=\"\",B371=Dropdownliste!A$9,J371=\"\"),\"\",IF(B371=\"m\",(VLOOKUP(Eingabeblatt!$G371,'Table males'!$A$3:$E$138,2)+(VLOOKUP(Eingabeblatt!$G371,'Table males'!$A$3:$E$138,3)*Eingabeblatt!I371)+(VLOOKUP(Eingabeblatt!$G371,'Table males'!$A$3:$E$138,4)*Eingabeblatt!H371)+(VLOOKUP(Eingabeblatt!$G371,'Table males'!$A$3:$E$138,5)*(Eingabeblatt!J371+Eingabeblatt!K371)/2)),VLOOKUP(Eingabeblatt!$G371,'Table females'!$A$3:$E$138,2)+(VLOOKUP(Eingabeblatt!$G371,'Table females'!$A$3:$E$138,3)*Eingabeblatt!I371)+(VLOOKUP(Eingabeblatt!$G371,'Table females'!$A$3:$E$138,4)*Eingabeblatt!H371)+(VLOOKUP(Eingabeblatt!$G371,'Table females'!$A$3:$E$138,5)*(Eingabeblatt!J371+Eingabeblatt!K371)/2)))","v":""},{"$f":"CONCATENATE(\" \",IF(OR(J371=\"\",K371=\"\",L371=\"\"),\"\",IF(B371=\"m\",'Table males'!D$141,'Table females'!D$141)))","v":" "},"",""]
[{"$nulls":6},"",{"$nulls":4},{"$f":"IF(OR(C372=\"\",G372=\"\",H372=\"\",I372=\"\",K372=\"\",B372=Dropdownliste!A$9,J372=\"\"),\"\",IF(B372=\"m\",(VLOOKUP(Eingabeblatt!$G372,'Table males'!$A$3:$E$138,2)+(VLOOKUP(Eingabeblatt!$G372,'Table males'!$A$3:$E$138,3)*Eingabeblatt!I372)+(VLOOKUP(Eingabeblatt!$G372,'Table males'!$A$3:$E$138,4)*Eingabeblatt!H372)+(VLOOKUP(Eingabeblatt!$G372,'Table males'!$A$3:$E$138,5)*(Eingabeblatt!J372+Eingabeblatt!K372)/2)),VLOOKUP(Eingabeblatt!$G372,'Table females'!$A$3:$E$138,2)+(VLOOKUP(Eingabeblatt!$G372,'Table females'!$A$3:$E$138,3)*Eingabeblatt!I372)+(VLOOKUP(Eingabeblatt!$G372,'Table females'!$A$3:$E$138,4)*Eingabeblatt!H372)+(VLOOKUP(Eingabeblatt!$G372,'Table females'!$A$3:$E$138,5)*(Eingabeblatt!J372+Eingabeblatt!K372)/2)))","v":""},{"$f":"CONCATENATE(\" \",IF(OR(J372=\"\",K372=\"\",L372=\"\"),\"\",IF(B372=\"m\",'Table males'!D$141,'Table females'!D$141)))","v":" "},"",""]
[{"$nulls":6},"",{"$nulls":4},{"$f":"IF(OR(C373=\"\",G373=\"\",H373=\"\",I373=\"\",K373=\"\",B373=Dropdownliste!A$9,J373=\"\"),\"\",IF(B373=\"m\",(VLOOKUP(Eingabeblatt!$G373,'Table males'!$A$3:$E$138,2)+(VLOOKUP(Eingabeblatt!$G373,'Table males'!$A$3:$E$138,3)*Eingabeblatt!I373)+(VLOOKUP(Eingabeblatt!$G373,'Table males'!$A$3:$E$138,4)*Eingabeblatt!H373)+(VLOOKUP(Eingabeblatt!$G373,'Table males'!$A$3:$E$138,5)*(Eingabeblatt!J373+Eingabeblatt!K373)/2)),VLOOKUP(Eingabeblatt!$G373,'Table females'!$A$3:$E$138,2)+(VLOOKUP(Eingabeblatt!$G373,'Table females'!$A$3:$E$138,3)*Eingabeblatt!I373)+(VLOOKUP(Eingabeblatt!$G373,'Table females'!$A$3:$E$138,4)*Eingabeblatt!H373)+(VLOOKUP(Eingabeblatt!$G373,'Table females'!$A$3:$E$138,5)*(Eingabeblatt!J373+Eingabeblatt!K373)/2)))","v":""},{"$f":"CONCATENATE(\" \",IF(OR(J373=\"\",K373=\"\",L373=\"\"),\"\",IF(B373=\"m\",'Table males'!D$141,'Table females'!D$141)))","v":" "},"",""]
[{"$nulls":6},"",{"$nulls":4},{"$f":"IF(OR(C374=\"\",G374=\"\",H374=\"\",I374=\"\",K374=\"\",B374=Dropdownliste!A$9,J374=\"\"),\"\",IF(B374=\"m\",(VLOOKUP(Eingabeblatt!$G374,'Table males'!$A$3:$E$138,2)+(VLOOKUP(Eingabeblatt!$G374,'Table males'!$A$3:$E$138,3)*Eingabeblatt!I374)+(VLOOKUP(Eingabeblatt!$G374,'Table males'!$A$3:$E$138,4)*Eingabeblatt!H374)+(VLOOKUP(Eingabeblatt!$G374,'Table males'!$A$3:$E$138,5)*(Eingabeblatt!J374+Eingabeblatt!K374)/2)),VLOOKUP(Eingabeblatt!$G374,'Table females'!$A$3:$E$138,2)+(VLOOKUP(Eingabeblatt!$G374,'Table females'!$A$3:$E$138,3)*Eingabeblatt!I374)+(VLOOKUP(Eingabeblatt!$G374,'Table females'!$A$3:$E$138,4)*Eingabeblatt!H374)+(VLOOKUP(Eingabeblatt!$G374,'Table females'!$A$3:$E$138,5)*(Eingabeblatt!J374+Eingabeblatt!K374)/2)))","v":""},{"$f":"CONCATENATE(\" \",IF(OR(J374=\"\",K374=\"\",L374=\"\"),\"\",IF(B374=\"m\",'Table males'!D$141,'Table females'!D$141)))","v":" "},"",""]
[{"$nulls":6},"",{"$nulls":4},{"$f":"IF(OR(C375=\"\",G375=\"\",H375=\"\",I375=\"\",K375=\"\",B375=Dropdownliste!A$9,J375=\"\"),\"\",IF(B375=\"m\",(VLOOKUP(Eingabeblatt!$G375,'Table males'!$A$3:$E$138,2)+(VLOOKUP(Eingabeblatt!$G375,'Table males'!$A$3:$E$138,3)*Eingabeblatt!I375)+(VLOOKUP(Eingabeblatt!$G375,'Table males'!$A$3:$E$138,4)*Eingabeblatt!H375)+(VLOOKUP(Eingabeblatt!$G375,'Table males'!$A$3:$E$138,5)*(Eingabeblatt!J375+Eingabeblatt!K375)/2)),VLOOKUP(Eingabeblatt!$G375,'Table females'!$A$3:$E$138,2)+(VLOOKUP(Eingabeblatt!$G375,'Table females'!$A$3:$E$138,3)*Eingabeblatt!I375)+(VLOOKUP(Eingabeblatt!$G375,'Table females'!$A$3:$E$138,4)*Eingabeblatt!H375)+(VLOOKUP(Eingabeblatt!$G375,'Table females'!$A$3:$E$138,5)*(Eingabeblatt!J375+Eingabeblatt!K375)/2)))","v":""},{"$f":"CONCATENATE(\" \",IF(OR(J375=\"\",K375=\"\",L375=\"\"),\"\",IF(B375=\"m\",'Table males'!D$141,'Table females'!D$141)))","v":" "},"",""]
[{"$nulls":6},"",{"$nulls":4},{"$f":"IF(OR(C376=\"\",G376=\"\",H376=\"\",I376=\"\",K376=\"\",B376=Dropdownliste!A$9,J376=\"\"),\"\",IF(B376=\"m\",(VLOOKUP(Eingabeblatt!$G376,'Table males'!$A$3:$E$138,2)+(VLOOKUP(Eingabeblatt!$G376,'Table males'!$A$3:$E$138,3)*Eingabeblatt!I376)+(VLOOKUP(Eingabeblatt!$G376,'Table males'!$A$3:$E$138,4)*Eingabeblatt!H376)+(VLOOKUP(Eingabeblatt!$G376,'Table males'!$A$3:$E$138,5)*(Eingabeblatt!J376+Eingabeblatt!K376)/2)),VLOOKUP(Eingabeblatt!$G376,'Table females'!$A$3:$E$138,2)+(VLOOKUP(Eingabeblatt!$G376,'Table females'!$A$3:$E$138,3)*Eingabeblatt!I376)+(VLOOKUP(Eingabeblatt!$G376,'Table females'!$A$3:$E$138,4)*Eingabeblatt!H376)+(VLOOKUP(Eingabeblatt!$G376,'Table females'!$A$3:$E$138,5)*(Eingabeblatt!J376+Eingabeblatt!K376)/2)))","v":""},{"$f":"CONCATENATE(\" \",IF(OR(J376=\"\",K376=\"\",L376=\"\"),\"\",IF(B376=\"m\",'Table males'!D$141,'Table females'!D$141)))","v":" "},"",""]
[{"$nulls":6},"",{"$nulls":4},{"$f":"IF(OR(C377=\"\",G377=\"\",H377=\"\",I377=\"\",K377=\"\",B377=Dropdownliste!A$9,J377=\"\"),\"\",IF(B377=\"m\",(VLOOKUP(Eingabeblatt!$G377,'Table males'!$A$3:$E$138,2)+(VLOOKUP(Eingabeblatt!$G377,'Table males'!$A$3:$E$138,3)*Eingabeblatt!I377)+(VLOOKUP(Eingabeblatt!$G377,'Table males'!$A$3:$E$138,4)*Eingabeblatt!H377)+(VLOOKUP(Eingabeblatt!$G377,'Table males'!$A$3:$E$138,5)*(Eingabeblatt!J377+Eingabeblatt!K377)/2)),VLOOKUP(Eingabeblatt!$G377,'Table females'!$A$3:$E$138,2)+(VLOOKUP(Eingabeblatt!$G377,'Table females'!$A$3:$E$138,3)*Eingabeblatt!I377)+(VLOOKUP(Eingabeblatt!$G377,'Table females'!$A$3:$E$138,4)*Eingabeblatt!H377)+(VLOOKUP(Eingabeblatt!$G377,'Table females'!$A$3:$E$138,5)*(Eingabeblatt!J377+Eingabeblatt!K377)/2)))","v":""},{"$f":"CONCATENATE(\" \",IF(OR(J377=\"\",K377=\"\",L377=\"\"),\"\",IF(B377=\"m\",'Table males'!D$141,'Table females'!D$141)))","v":" "},"",""]
[{"$nulls":6},"",{"$nulls":4},{"$f":"IF(OR(C378=\"\",G378=\"\",H378=\"\",I378=\"\",K378=\"\",B378=Dropdownliste!A$9,J378=\"\"),\"\",IF(B378=\"m\",(VLOOKUP(Eingabeblatt!$G378,'Table males'!$A$3:$E$138,2)+(VLOOKUP(Eingabeblatt!$G378,'Table males'!$A$3:$E$138,3)*Eingabeblatt!I378)+(VLOOKUP(Eingabeblatt!$G378,'Table males'!$A$3:$E$138,4)*Eingabeblatt!H378)+(VLOOKUP(Eingabeblatt!$G378,'Table males'!$A$3:$E$138,5)*(Eingabeblatt!J378+Eingabeblatt!K378)/2)),VLOOKUP(Eingabeblatt!$G378,'Table females'!$A$3:$E$138,2)+(VLOOKUP(Eingabeblatt!$G378,'Table females'!$A$3:$E$138,3)*Eingabeblatt!I378)+(VLOOKUP(Eingabeblatt!$G378,'Table females'!$A$3:$E$138,4)*Eingabeblatt!H378)+(VLOOKUP(Eingabeblatt!$G378,'Table females'!$A$3:$E$138,5)*(Eingabeblatt!J378+Eingabeblatt!K378)/2)))","v":""},{"$f":"CONCATENATE(\" \",IF(OR(J378=\"\",K378=\"\",L378=\"\"),\"\",IF(B378=\"m\",'Table males'!D$141,'Table females'!D$141)))","v":" "},"",""]
[{"$nulls":6},"",{"$nulls":4},{"$f":"IF(OR(C379=\"\",G379=\"\",H379=\"\",I379=\"\",K379=\"\",B379=Dropdownliste!A$9,J379=\"\"),\"\",IF(B379=\"m\",(VLOOKUP(Eingabeblatt!$G379,'Table males'!$A$3:$E$138,2)+(VLOOKUP(Eingabeblatt!$G379,'Table males'!$A$3:$E$138,3)*Eingabeblatt!I379)+(VLOOKUP(Eingabeblatt!$G379,'Table males'!$A$3:$E$138,4)*Eingabeblatt!H379)+(VLOOKUP(Eingabeblatt!$G379,'Table males'!$A$3:$E$138,5)*(Eingabeblatt!J379+Eingabeblatt!K379)/2)),VLOOKUP(Eingabeblatt!$G379,'Table females'!$A$3:$E$138,2)+(VLOOKUP(Eingabeblatt!$G379,'Table females'!$A$3:$E$138,3)*Eingabeblatt!I379)+(VLOOKUP(Eingabeblatt!$G379,'Table females'!$A$3:$E$138,4)*Eingabeblatt!H379)+(VLOOKUP(Eingabeblatt!$G379,'Table females'!$A$3:$E$138,5)*(Eingabeblatt!J379+Eingabeblatt!K379)/2)))","v":""},{"$f":"CONCATENATE(\" \",IF(OR(J379=\"\",K379=\"\",L379=\"\"),\"\",IF(B379=\"m\",'Table males'!D$141,'Table females'!D$141)))","v":" "},"",""]
[{"$nulls":6},"",{"$nulls":4},{"$f":"IF(OR(C380=\"\",G380=\"\",H380=\"\",I380=\"\",K380=\"\",B380=Dropdownliste!A$9,J380=\"\"),\"\",IF(B380=\"m\",(VLOOKUP(Eingabeblatt!$G380,'Table males'!$A$3:$E$138,2)+(VLOOKUP(Eingabeblatt!$G380,'Table males'!$A$3:$E$138,3)*Eingabeblatt!I380)+(VLOOKUP(Eingabeblatt!$G380,'Table males'!$A$3:$E$138,4)*Eingabeblatt!H380)+(VLOOKUP(Eingabeblatt!$G380,'Table males'!$A$3:$E$138,5)*(Eingabeblatt!J380+Eingabeblatt!K380)/2)),VLOOKUP(Eingabeblatt!$G380,'Table females'!$A$3:$E$138,2)+(VLOOKUP(Eingabeblatt!$G380,'Table females'!$A$3:$E$138,3)*Eingabeblatt!I380)+(VLOOKUP(Eingabeblatt!$G380,'Table females'!$A$3:$E$138,4)*Eingabeblatt!H380)+(VLOOKUP(Eingabeblatt!$G380,'Table females'!$A$3:$E$138,5)*(Eingabeblatt!J380+Eingabeblatt!K380)/2)))","v":""},{"$f":"CONCATENATE(\" \",IF(OR(J380=\"\",K380=\"\",L380=\"\"),\"\",IF(B380=\"m\",'Table males'!D$141,'Table females'!D$141)))","v":" "},"",""]
[{"$nulls":6},"",{"$nulls":4},{"$f":"IF(OR(C381=\"\",G381=\"\",H381=\"\",I381=\"\",K381=\"\",B381=Dropdownliste!A$9,J381=\"\"),\"\",IF(B381=\"m\",(VLOOKUP(Eingabeblatt!$G381,'Table males'!$A$3:$E$138,2)+(VLOOKUP(Eingabeblatt!$G381,'Table males'!$A$3:$E$138,3)*Eingabeblatt!I381)+(VLOOKUP(Eingabeblatt!$G381,'Table males'!$A$3:$E$138,4)*Eingabeblatt!H381)+(VLOOKUP(Eingabeblatt!$G381,'Table males'!$A$3:$E$138,5)*(Eingabeblatt!J381+Eingabeblatt!K381)/2)),VLOOKUP(Eingabeblatt!$G381,'Table females'!$A$3:$E$138,2)+(VLOOKUP(Eingabeblatt!$G381,'Table females'!$A$3:$E$138,3)*Eingabeblatt!I381)+(VLOOKUP(Eingabeblatt!$G381,'Table females'!$A$3:$E$138,4)*Eingabeblatt!H381)+(VLOOKUP(Eingabeblatt!$G381,'Table females'!$A$3:$E$138,5)*(Eingabeblatt!J381+Eingabeblatt!K381)/2)))","v":""},{"$f":"CONCATENATE(\" \",IF(OR(J381=\"\",K381=\"\",L381=\"\"),\"\",IF(B381=\"m\",'Table males'!D$141,'Table females'!D$141)))","v":" "},"",""]
[{"$nulls":6},"",{"$nulls":4},{"$f":"IF(OR(C382=\"\",G382=\"\",H382=\"\",I382=\"\",K382=\"\",B382=Dropdownliste!A$9,J382=\"\"),\"\",IF(B382=\"m\",(VLOOKUP(Eingabeblatt!$G382,'Table males'!$A$3:$E$138,2)+(VLOOKUP(Eingabeblatt!$G382,'Table males'!$A$3:$E$138,3)*Eingabeblatt!I382)+(VLOOKUP(Eingabeblatt!$G382,'Table males'!$A$3:$E$138,4)*Eingabeblatt!H382)+(VLOOKUP(Eingabeblatt!$G382,'Table males'!$A$3:$E$138,5)*(Eingabeblatt!J382+Eingabeblatt!K382)/2)),VLOOKUP(Eingabeblatt!$G382,'Table females'!$A$3:$E$138,2)+(VLOOKUP(Eingabeblatt!$G382,'Table females'!$A$3:$E$138,3)*Eingabeblatt!I382)+(VLOOKUP(Eingabeblatt!$G382,'Table females'!$A$3:$E$138,4)*Eingabeblatt!H382)+(VLOOKUP(Eingabeblatt!$G382,'Table females'!$A$3:$E$138,5)*(Eingabeblatt!J382+Eingabeblatt!K382)/2)))","v":""},{"$f":"CONCATENATE(\" \",IF(OR(J382=\"\",K382=\"\",L382=\"\"),\"\",IF(B382=\"m\",'Table males'!D$141,'Table females'!D$141)))","v":" "},"",""]
[{"$nulls":6},"",{"$nulls":4},{"$f":"IF(OR(C383=\"\",G383=\"\",H383=\"\",I383=\"\",K383=\"\",B383=Dropdownliste!A$9,J383=\"\"),\"\",IF(B383=\"m\",(VLOOKUP(Eingabeblatt!$G383,'Table males'!$A$3:$E$138,2)+(VLOOKUP(Eingabeblatt!$G383,'Table males'!$A$3:$E$138,3)*Eingabeblatt!I383)+(VLOOKUP(Eingabeblatt!$G383,'Table males'!$A$3:$E$138,4)*Eingabeblatt!H383)+(VLOOKUP(Eingabeblatt!$G383,'Table males'!$A$3:$E$138,5)*(Eingabeblatt!J383+Eingabeblatt!K383)/2)),VLOOKUP(Eingabeblatt!$G383,'Table females'!$A$3:$E$138,2)+(VLOOKUP(Eingabeblatt!$G383,'Table females'!$A$3:$E$138,3)*Eingabeblatt!I383)+(VLOOKUP(Eingabeblatt!$G383,'Table females'!$A$3:$E$138,4)*Eingabeblatt!H383)+(VLOOKUP(Eingabeblatt!$G383,'Table females'!$A$3:$E$138,5)*(Eingabeblatt!J383+Eingabeblatt!K383)/2)))","v":""},{"$f":"CONCATENATE(\" \",IF(OR(J383=\"\",K383=\"\",L383=\"\"),\"\",IF(B383=\"m\",'Table males'!D$141,'Table females'!D$141)))","v":" "},"",""]
[{"$nulls":6},"",{"$nulls":4},{"$f":"IF(OR(C384=\"\",G384=\"\",H384=\"\",I384=\"\",K384=\"\",B384=Dropdownliste!A$9,J384=\"\"),\"\",IF(B384=\"m\",(VLOOKUP(Eingabeblatt!$G384,'Table males'!$A$3:$E$138,2)+(VLOOKUP(Eingabeblatt!$G384,'Table males'!$A$3:$E$138,3)*Eingabeblatt!I384)+(VLOOKUP(Eingabeblatt!$G384,'Table males'!$A$3:$E$138,4)*Eingabeblatt!H384)+(VLOOKUP(Eingabeblatt!$G384,'Table males'!$A$3:$E$138,5)*(Eingabeblatt!J384+Eingabeblatt!K384)/2)),VLOOKUP(Eingabeblatt!$G384,'Table females'!$A$3:$E$138,2)+(VLOOKUP(Eingabeblatt!$G384,'Table females'!$A$3:$E$138,3)*Eingabeblatt!I384)+(VLOOKUP(Eingabeblatt!$G384,'Table females'!$A$3:$E$138,4)*Eingabeblatt!H384)+(VLOOKUP(Eingabeblatt!$G384,'Table females'!$A$3:$E$138,5)*(Eingabeblatt!J384+Eingabeblatt!K384)/2)))","v":""},{"$f":"CONCATENATE(\" \",IF(OR(J384=\"\",K384=\"\",L384=\"\"),\"\",IF(B384=\"m\",'Table males'!D$141,'Table females'!D$141)))","v":" "},"",""]
[{"$nulls":6},"",{"$nulls":4},{"$f":"IF(OR(C385=\"\",G385=\"\",H385=\"\",I385=\"\",K385=\"\",B385=Dropdownliste!A$9,J385=\"\"),\"\",IF(B385=\"m\",(VLOOKUP(Eingabeblatt!$G385,'Table males'!$A$3:$E$138,2)+(VLOOKUP(Eingabeblatt!$G385,'Table males'!$A$3:$E$138,3)*Eingabeblatt!I385)+(VLOOKUP(Eingabeblatt!$G385,'Table males'!$A$3:$E$138,4)*Eingabeblatt!H385)+(VLOOKUP(Eingabeblatt!$G385,'Table males'!$A$3:$E$138,5)*(Eingabeblatt!J385+Eingabeblatt!K385)/2)),VLOOKUP(Eingabeblatt!$G385,'Table females'!$A$3:$E$138,2)+(VLOOKUP(Eingabeblatt!$G385,'Table females'!$A$3:$E$138,3)*Eingabeblatt!I385)+(VLOOKUP(Eingabeblatt!$G385,'Table females'!$A$3:$E$138,4)*Eingabeblatt!H385)+(VLOOKUP(Eingabeblatt!$G385,'Table females'!$A$3:$E$138,5)*(Eingabeblatt!J385+Eingabeblatt!K385)/2)))","v":""},{"$f":"CONCATENATE(\" \",IF(OR(J385=\"\",K385=\"\",L385=\"\"),\"\",IF(B385=\"m\",'Table males'!D$141,'Table females'!D$141)))","v":" "},"",""]
[{"$nulls":6},"",{"$nulls":4},{"$f":"IF(OR(C386=\"\",G386=\"\",H386=\"\",I386=\"\",K386=\"\",B386=Dropdownliste!A$9,J386=\"\"),\"\",IF(B386=\"m\",(VLOOKUP(Eingabeblatt!$G386,'Table males'!$A$3:$E$138,2)+(VLOOKUP(Eingabeblatt!$G386,'Table males'!$A$3:$E$138,3)*Eingabeblatt!I386)+(VLOOKUP(Eingabeblatt!$G386,'Table males'!$A$3:$E$138,4)*Eingabeblatt!H386)+(VLOOKUP(Eingabeblatt!$G386,'Table males'!$A$3:$E$138,5)*(Eingabeblatt!J386+Eingabeblatt!K386)/2)),VLOOKUP(Eingabeblatt!$G386,'Table females'!$A$3:$E$138,2)+(VLOOKUP(Eingabeblatt!$G386,'Table females'!$A$3:$E$138,3)*Eingabeblatt!I386)+(VLOOKUP(Eingabeblatt!$G386,'Table females'!$A$3:$E$138,4)*Eingabeblatt!H386)+(VLOOKUP(Eingabeblatt!$G386,'Table females'!$A$3:$E$138,5)*(Eingabeblatt!J386+Eingabeblatt!K386)/2)))","v":""},{"$f":"CONCATENATE(\" \",IF(OR(J386=\"\",K386=\"\",L386=\"\"),\"\",IF(B386=\"m\",'Table males'!D$141,'Table females'!D$141)))","v":" "},"",""]
[{"$nulls":6},"",{"$nulls":4},{"$f":"IF(OR(C387=\"\",G387=\"\",H387=\"\",I387=\"\",K387=\"\",B387=Dropdownliste!A$9,J387=\"\"),\"\",IF(B387=\"m\",(VLOOKUP(Eingabeblatt!$G387,'Table males'!$A$3:$E$138,2)+(VLOOKUP(Eingabeblatt!$G387,'Table males'!$A$3:$E$138,3)*Eingabeblatt!I387)+(VLOOKUP(Eingabeblatt!$G387,'Table males'!$A$3:$E$138,4)*Eingabeblatt!H387)+(VLOOKUP(Eingabeblatt!$G387,'Table males'!$A$3:$E$138,5)*(Eingabeblatt!J387+Eingabeblatt!K387)/2)),VLOOKUP(Eingabeblatt!$G387,'Table females'!$A$3:$E$138,2)+(VLOOKUP(Eingabeblatt!$G387,'Table females'!$A$3:$E$138,3)*Eingabeblatt!I387)+(VLOOKUP(Eingabeblatt!$G387,'Table females'!$A$3:$E$138,4)*Eingabeblatt!H387)+(VLOOKUP(Eingabeblatt!$G387,'Table females'!$A$3:$E$138,5)*(Eingabeblatt!J387+Eingabeblatt!K387)/2)))","v":""},{"$f":"CONCATENATE(\" \",IF(OR(J387=\"\",K387=\"\",L387=\"\"),\"\",IF(B387=\"m\",'Table males'!D$141,'Table females'!D$141)))","v":" "},"",""]
[{"$nulls":6},"",{"$nulls":4},{"$f":"IF(OR(C388=\"\",G388=\"\",H388=\"\",I388=\"\",K388=\"\",B388=Dropdownliste!A$9,J388=\"\"),\"\",IF(B388=\"m\",(VLOOKUP(Eingabeblatt!$G388,'Table males'!$A$3:$E$138,2)+(VLOOKUP(Eingabeblatt!$G388,'Table males'!$A$3:$E$138,3)*Eingabeblatt!I388)+(VLOOKUP(Eingabeblatt!$G388,'Table males'!$A$3:$E$138,4)*Eingabeblatt!H388)+(VLOOKUP(Eingabeblatt!$G388,'Table males'!$A$3:$E$138,5)*(Eingabeblatt!J388+Eingabeblatt!K388)/2)),VLOOKUP(Eingabeblatt!$G388,'Table females'!$A$3:$E$138,2)+(VLOOKUP(Eingabeblatt!$G388,'Table females'!$A$3:$E$138,3)*Eingabeblatt!I388)+(VLOOKUP(Eingabeblatt!$G388,'Table females'!$A$3:$E$138,4)*Eingabeblatt!H388)+(VLOOKUP(Eingabeblatt!$G388,'Table females'!$A$3:$E$138,5)*(Eingabeblatt!J388+Eingabeblatt!K388)/2)))","v":""},{"$f":"CONCATENATE(\" \",IF(OR(J388=\"\",K388=\"\",L388=\"\"),\"\",IF(B388=\"m\",'Table males'!D$141,'Table females'!D$141)))","v":" "},"",""]
[{"$nulls":6},"",{"$nulls":4},{"$f":"IF(OR(C389=\"\",G389=\"\",H389=\"\",I389=\"\",K389=\"\",B389=Dropdownliste!A$9,J389=\"\"),\"\",IF(B389=\"m\",(VLOOKUP(Eingabeblatt!$G389,'Table males'!$A$3:$E$138,2)+(VLOOKUP(Eingabeblatt!$G389,'Table males'!$A$3:$E$138,3)*Eingabeblatt!I389)+(VLOOKUP(Eingabeblatt!$G389,'Table males'!$A$3:$E$138,4)*Eingabeblatt!H389)+(VLOOKUP(Eingabeblatt!$G389,'Table males'!$A$3:$E$138,5)*(Eingabeblatt!J389+Eingabeblatt!K389)/2)),VLOOKUP(Eingabeblatt!$G389,'Table females'!$A$3:$E$138,2)+(VLOOKUP(Eingabeblatt!$G389,'Table females'!$A$3:$E$138,3)*Eingabeblatt!I389)+(VLOOKUP(Eingabeblatt!$G389,'Table females'!$A$3:$E$138,4)*Eingabeblatt!H389)+(VLOOKUP(Eingabeblatt!$G389,'Table females'!$A$3:$E$138,5)*(Eingabeblatt!J389+Eingabeblatt!K389)/2)))","v":""},{"$f":"CONCATENATE(\" \",IF(OR(J389=\"\",K389=\"\",L389=\"\"),\"\",IF(B389=\"m\",'Table males'!D$141,'Table females'!D$141)))","v":" "},"",""]
[{"$nulls":6},"",{"$nulls":4},{"$f":"IF(OR(C390=\"\",G390=\"\",H390=\"\",I390=\"\",K390=\"\",B390=Dropdownliste!A$9,J390=\"\"),\"\",IF(B390=\"m\",(VLOOKUP(Eingabeblatt!$G390,'Table males'!$A$3:$E$138,2)+(VLOOKUP(Eingabeblatt!$G390,'Table males'!$A$3:$E$138,3)*Eingabeblatt!I390)+(VLOOKUP(Eingabeblatt!$G390,'Table males'!$A$3:$E$138,4)*Eingabeblatt!H390)+(VLOOKUP(Eingabeblatt!$G390,'Table males'!$A$3:$E$138,5)*(Eingabeblatt!J390+Eingabeblatt!K390)/2)),VLOOKUP(Eingabeblatt!$G390,'Table females'!$A$3:$E$138,2)+(VLOOKUP(Eingabeblatt!$G390,'Table females'!$A$3:$E$138,3)*Eingabeblatt!I390)+(VLOOKUP(Eingabeblatt!$G390,'Table females'!$A$3:$E$138,4)*Eingabeblatt!H390)+(VLOOKUP(Eingabeblatt!$G390,'Table females'!$A$3:$E$138,5)*(Eingabeblatt!J390+Eingabeblatt!K390)/2)))","v":""},{"$f":"CONCATENATE(\" \",IF(OR(J390=\"\",K390=\"\",L390=\"\"),\"\",IF(B390=\"m\",'Table males'!D$141,'Table females'!D$141)))","v":" "},"",""]
[{"$nulls":6},{"$f":"IF(AND(C391>0,F391>0),(C391-F391)/365.25,\"\")","v":""},{"$nulls":4},{"$f":"IF(OR(C391=\"\",G391=\"\",H391=\"\",I391=\"\",K391=\"\",B391=Dropdownliste!A$9,J391=\"\"),\"\",IF(B391=\"m\",(VLOOKUP(Eingabeblatt!$G391,'Table males'!$A$3:$E$138,2)+(VLOOKUP(Eingabeblatt!$G391,'Table males'!$A$3:$E$138,3)*Eingabeblatt!I391)+(VLOOKUP(Eingabeblatt!$G391,'Table males'!$A$3:$E$138,4)*Eingabeblatt!H391)+(VLOOKUP(Eingabeblatt!$G391,'Table males'!$A$3:$E$138,5)*(Eingabeblatt!J391+Eingabeblatt!K391)/2)),VLOOKUP(Eingabeblatt!$G391,'Table females'!$A$3:$E$138,2)+(VLOOKUP(Eingabeblatt!$G391,'Table females'!$A$3:$E$138,3)*Eingabeblatt!I391)+(VLOOKUP(Eingabeblatt!$G391,'Table females'!$A$3:$E$138,4)*Eingabeblatt!H391)+(VLOOKUP(Eingabeblatt!$G391,'Table females'!$A$3:$E$138,5)*(Eingabeblatt!J391+Eingabeblatt!K391)/2)))","v":""},{"$f":"CONCATENATE(\" \",IF(OR(J391=\"\",K391=\"\",L391=\"\"),\"\",IF(B391=\"m\",'Table males'!D$141,'Table females'!D$141)))","v":" "},"",""]
[{"$nulls":6},"",{"$nulls":4},{"$f":"IF(OR(C392=\"\",G392=\"\",H392=\"\",I392=\"\",K392=\"\",B392=Dropdownliste!A$9,J392=\"\"),\"\",IF(B392=\"m\",(VLOOKUP(Eingabeblatt!$G392,'Table males'!$A$3:$E$138,2)+(VLOOKUP(Eingabeblatt!$G392,'Table males'!$A$3:$E$138,3)*Eingabeblatt!I392)+(VLOOKUP(Eingabeblatt!$G392,'Table males'!$A$3:$E$138,4)*Eingabeblatt!H392)+(VLOOKUP(Eingabeblatt!$G392,'Table males'!$A$3:$E$138,5)*(Eingabeblatt!J392+Eingabeblatt!K392)/2)),VLOOKUP(Eingabeblatt!$G392,'Table females'!$A$3:$E$138,2)+(VLOOKUP(Eingabeblatt!$G392,'Table females'!$A$3:$E$138,3)*Eingabeblatt!I392)+(VLOOKUP(Eingabeblatt!$G392,'Table females'!$A$3:$E$138,4)*Eingabeblatt!H392)+(VLOOKUP(Eingabeblatt!$G392,'Table females'!$A$3:$E$138,5)*(Eingabeblatt!J392+Eingabeblatt!K392)/2)))","v":""},{"$f":"CONCATENATE(\" \",IF(OR(J392=\"\",K392=\"\",L392=\"\"),\"\",IF(B392=\"m\",'Table males'!D$141,'Table females'!D$141)))","v":" "},"",""]
[{"$nulls":6},"",{"$nulls":4},{"$f":"IF(OR(C393=\"\",G393=\"\",H393=\"\",I393=\"\",K393=\"\",B393=Dropdownliste!A$9,J393=\"\"),\"\",IF(B393=\"m\",(VLOOKUP(Eingabeblatt!$G393,'Table males'!$A$3:$E$138,2)+(VLOOKUP(Eingabeblatt!$G393,'Table males'!$A$3:$E$138,3)*Eingabeblatt!I393)+(VLOOKUP(Eingabeblatt!$G393,'Table males'!$A$3:$E$138,4)*Eingabeblatt!H393)+(VLOOKUP(Eingabeblatt!$G393,'Table males'!$A$3:$E$138,5)*(Eingabeblatt!J393+Eingabeblatt!K393)/2)),VLOOKUP(Eingabeblatt!$G393,'Table females'!$A$3:$E$138,2)+(VLOOKUP(Eingabeblatt!$G393,'Table females'!$A$3:$E$138,3)*Eingabeblatt!I393)+(VLOOKUP(Eingabeblatt!$G393,'Table females'!$A$3:$E$138,4)*Eingabeblatt!H393)+(VLOOKUP(Eingabeblatt!$G393,'Table females'!$A$3:$E$138,5)*(Eingabeblatt!J393+Eingabeblatt!K393)/2)))","v":""},{"$f":"CONCATENATE(\" \",IF(OR(J393=\"\",K393=\"\",L393=\"\"),\"\",IF(B393=\"m\",'Table males'!D$141,'Table females'!D$141)))","v":" "},"",""]
[{"$nulls":6},"",{"$nulls":4},{"$f":"IF(OR(C394=\"\",G394=\"\",H394=\"\",I394=\"\",K394=\"\",B394=Dropdownliste!A$9,J394=\"\"),\"\",IF(B394=\"m\",(VLOOKUP(Eingabeblatt!$G394,'Table males'!$A$3:$E$138,2)+(VLOOKUP(Eingabeblatt!$G394,'Table males'!$A$3:$E$138,3)*Eingabeblatt!I394)+(VLOOKUP(Eingabeblatt!$G394,'Table males'!$A$3:$E$138,4)*Eingabeblatt!H394)+(VLOOKUP(Eingabeblatt!$G394,'Table males'!$A$3:$E$138,5)*(Eingabeblatt!J394+Eingabeblatt!K394)/2)),VLOOKUP(Eingabeblatt!$G394,'Table females'!$A$3:$E$138,2)+(VLOOKUP(Eingabeblatt!$G394,'Table females'!$A$3:$E$138,3)*Eingabeblatt!I394)+(VLOOKUP(Eingabeblatt!$G394,'Table females'!$A$3:$E$138,4)*Eingabeblatt!H394)+(VLOOKUP(Eingabeblatt!$G394,'Table females'!$A$3:$E$138,5)*(Eingabeblatt!J394+Eingabeblatt!K394)/2)))","v":""},{"$f":"CONCATENATE(\" \",IF(OR(J394=\"\",K394=\"\",L394=\"\"),\"\",IF(B394=\"m\",'Table males'!D$141,'Table females'!D$141)))","v":" "},{"$f":"IF(OR(J394=\"\",K394=\"\",I394=\"\",L394=\"\"),\"\",I394/L394)","v":""},{"$f":"IF(N394=\"\",\"\",IF(N394<0.8,\"vorpubertär / prépubère\",IF(N394<0.9,\"frühpubertär / début de la puberté\",IF(N394<0.95,\"pubertär / pubertaire\",\"spätpubertär / fin de la puberté\"))))","v":""}]
[{"$nulls":6},"",{"$nulls":4},{"$f":"IF(OR(C395=\"\",G395=\"\",H395=\"\",I395=\"\",K395=\"\",B395=Dropdownliste!A$9,J395=\"\"),\"\",IF(B395=\"m\",(VLOOKUP(Eingabeblatt!$G395,'Table males'!$A$3:$E$138,2)+(VLOOKUP(Eingabeblatt!$G395,'Table males'!$A$3:$E$138,3)*Eingabeblatt!I395)+(VLOOKUP(Eingabeblatt!$G395,'Table males'!$A$3:$E$138,4)*Eingabeblatt!H395)+(VLOOKUP(Eingabeblatt!$G395,'Table males'!$A$3:$E$138,5)*(Eingabeblatt!J395+Eingabeblatt!K395)/2)),VLOOKUP(Eingabeblatt!$G395,'Table females'!$A$3:$E$138,2)+(VLOOKUP(Eingabeblatt!$G395,'Table females'!$A$3:$E$138,3)*Eingabeblatt!I395)+(VLOOKUP(Eingabeblatt!$G395,'Table females'!$A$3:$E$138,4)*Eingabeblatt!H395)+(VLOOKUP(Eingabeblatt!$G395,'Table females'!$A$3:$E$138,5)*(Eingabeblatt!J395+Eingabeblatt!K395)/2)))","v":""},{"$f":"CONCATENATE(\" \",IF(OR(J395=\"\",K395=\"\",L395=\"\"),\"\",IF(B395=\"m\",'Table males'!D$141,'Table females'!D$141)))","v":" "},"",""]
[{"$nulls":6},"",{"$nulls":4},{"$f":"IF(OR(C396=\"\",G396=\"\",H396=\"\",I396=\"\",K396=\"\",B396=Dropdownliste!A$9,J396=\"\"),\"\",IF(B396=\"m\",(VLOOKUP(Eingabeblatt!$G396,'Table males'!$A$3:$E$138,2)+(VLOOKUP(Eingabeblatt!$G396,'Table males'!$A$3:$E$138,3)*Eingabeblatt!I396)+(VLOOKUP(Eingabeblatt!$G396,'Table males'!$A$3:$E$138,4)*Eingabeblatt!H396)+(VLOOKUP(Eingabeblatt!$G396,'Table males'!$A$3:$E$138,5)*(Eingabeblatt!J396+Eingabeblatt!K396)/2)),VLOOKUP(Eingabeblatt!$G396,'Table females'!$A$3:$E$138,2)+(VLOOKUP(Eingabeblatt!$G396,'Table females'!$A$3:$E$138,3)*Eingabeblatt!I396)+(VLOOKUP(Eingabeblatt!$G396,'Table females'!$A$3:$E$138,4)*Eingabeblatt!H396)+(VLOOKUP(Eingabeblatt!$G396,'Table females'!$A$3:$E$138,5)*(Eingabeblatt!J396+Eingabeblatt!K396)/2)))","v":""},{"$f":"CONCATENATE(\" \",IF(OR(J396=\"\",K396=\"\",L396=\"\"),\"\",IF(B396=\"m\",'Table males'!D$141,'Table females'!D$141)))","v":" "},"",""]
[{"$nulls":6},"",{"$nulls":4},{"$f":"IF(OR(C397=\"\",G397=\"\",H397=\"\",I397=\"\",K397=\"\",B397=Dropdownliste!A$9,J397=\"\"),\"\",IF(B397=\"m\",(VLOOKUP(Eingabeblatt!$G397,'Table males'!$A$3:$E$138,2)+(VLOOKUP(Eingabeblatt!$G397,'Table males'!$A$3:$E$138,3)*Eingabeblatt!I397)+(VLOOKUP(Eingabeblatt!$G397,'Table males'!$A$3:$E$138,4)*Eingabeblatt!H397)+(VLOOKUP(Eingabeblatt!$G397,'Table males'!$A$3:$E$138,5)*(Eingabeblatt!J397+Eingabeblatt!K397)/2)),VLOOKUP(Eingabeblatt!$G397,'Table females'!$A$3:$E$138,2)+(VLOOKUP(Eingabeblatt!$G397,'Table females'!$A$3:$E$138,3)*Eingabeblatt!I397)+(VLOOKUP(Eingabeblatt!$G397,'Table females'!$A$3:$E$138,4)*Eingabeblatt!H397)+(VLOOKUP(Eingabeblatt!$G397,'Table females'!$A$3:$E$138,5)*(Eingabeblatt!J397+Eingabeblatt!K397)/2)))","v":""},{"$f":"CONCATENATE(\" \",IF(OR(J397=\"\",K397=\"\",L397=\"\"),\"\",IF(B397=\"m\",'Table males'!D$141,'Table females'!D$141)))","v":" "},"",""]
[{"$nulls":6},"",{"$nulls":4},{"$f":"IF(OR(C398=\"\",G398=\"\",H398=\"\",I398=\"\",K398=\"\",B398=Dropdownliste!A$9,J398=\"\"),\"\",IF(B398=\"m\",(VLOOKUP(Eingabeblatt!$G398,'Table males'!$A$3:$E$138,2)+(VLOOKUP(Eingabeblatt!$G398,'Table males'!$A$3:$E$138,3)*Eingabeblatt!I398)+(VLOOKUP(Eingabeblatt!$G398,'Table males'!$A$3:$E$138,4)*Eingabeblatt!H398)+(VLOOKUP(Eingabeblatt!$G398,'Table males'!$A$3:$E$138,5)*(Eingabeblatt!J398+Eingabeblatt!K398)/2)),VLOOKUP(Eingabeblatt!$G398,'Table females'!$A$3:$E$138,2)+(VLOOKUP(Eingabeblatt!$G398,'Table females'!$A$3:$E$138,3)*Eingabeblatt!I398)+(VLOOKUP(Eingabeblatt!$G398,'Table females'!$A$3:$E$138,4)*Eingabeblatt!H398)+(VLOOKUP(Eingabeblatt!$G398,'Table females'!$A$3:$E$138,5)*(Eingabeblatt!J398+Eingabeblatt!K398)/2)))","v":""},{"$f":"CONCATENATE(\" \",IF(OR(J398=\"\",K398=\"\",L398=\"\"),\"\",IF(B398=\"m\",'Table males'!D$141,'Table females'!D$141)))","v":" "},"",""]
[{"$nulls":6},"",{"$nulls":4},{"$f":"IF(OR(C399=\"\",G399=\"\",H399=\"\",I399=\"\",K399=\"\",B399=Dropdownliste!A$9,J399=\"\"),\"\",IF(B399=\"m\",(VLOOKUP(Eingabeblatt!$G399,'Table males'!$A$3:$E$138,2)+(VLOOKUP(Eingabeblatt!$G399,'Table males'!$A$3:$E$138,3)*Eingabeblatt!I399)+(VLOOKUP(Eingabeblatt!$G399,'Table males'!$A$3:$E$138,4)*Eingabeblatt!H399)+(VLOOKUP(Eingabeblatt!$G399,'Table males'!$A$3:$E$138,5)*(Eingabeblatt!J399+Eingabeblatt!K399)/2)),VLOOKUP(Eingabeblatt!$G399,'Table females'!$A$3:$E$138,2)+(VLOOKUP(Eingabeblatt!$G399,'Table females'!$A$3:$E$138,3)*Eingabeblatt!I399)+(VLOOKUP(Eingabeblatt!$G399,'Table females'!$A$3:$E$138,4)*Eingabeblatt!H399)+(VLOOKUP(Eingabeblatt!$G399,'Table females'!$A$3:$E$138,5)*(Eingabeblatt!J399+Eingabeblatt!K399)/2)))","v":""},{"$f":"CONCATENATE(\" \",IF(OR(J399=\"\",K399=\"\",L399=\"\"),\"\",IF(B399=\"m\",'Table males'!D$141,'Table females'!D$141)))","v":" "},"",""]
[{"$nulls":6},"",{"$nulls":4},{"$f":"IF(OR(C400=\"\",G400=\"\",H400=\"\",I400=\"\",K400=\"\",B400=Dropdownliste!A$9,J400=\"\"),\"\",IF(B400=\"m\",(VLOOKUP(Eingabeblatt!$G400,'Table males'!$A$3:$E$138,2)+(VLOOKUP(Eingabeblatt!$G400,'Table males'!$A$3:$E$138,3)*Eingabeblatt!I400)+(VLOOKUP(Eingabeblatt!$G400,'Table males'!$A$3:$E$138,4)*Eingabeblatt!H400)+(VLOOKUP(Eingabeblatt!$G400,'Table males'!$A$3:$E$138,5)*(Eingabeblatt!J400+Eingabeblatt!K400)/2)),VLOOKUP(Eingabeblatt!$G400,'Table females'!$A$3:$E$138,2)+(VLOOKUP(Eingabeblatt!$G400,'Table females'!$A$3:$E$138,3)*Eingabeblatt!I400)+(VLOOKUP(Eingabeblatt!$G400,'Table females'!$A$3:$E$138,4)*Eingabeblatt!H400)+(VLOOKUP(Eingabeblatt!$G400,'Table females'!$A$3:$E$138,5)*(Eingabeblatt!J400+Eingabeblatt!K400)/2)))","v":""},{"$f":"CONCATENATE(\" \",IF(OR(J400=\"\",K400=\"\",L400=\"\"),\"\",IF(B400=\"m\",'Table males'!D$141,'Table females'!D$141)))","v":" "},"",""]
[{"$nulls":6},"",{"$nulls":4},{"$f":"IF(OR(C401=\"\",G401=\"\",H401=\"\",I401=\"\",K401=\"\",B401=Dropdownliste!A$9,J401=\"\"),\"\",IF(B401=\"m\",(VLOOKUP(Eingabeblatt!$G401,'Table males'!$A$3:$E$138,2)+(VLOOKUP(Eingabeblatt!$G401,'Table males'!$A$3:$E$138,3)*Eingabeblatt!I401)+(VLOOKUP(Eingabeblatt!$G401,'Table males'!$A$3:$E$138,4)*Eingabeblatt!H401)+(VLOOKUP(Eingabeblatt!$G401,'Table males'!$A$3:$E$138,5)*(Eingabeblatt!J401+Eingabeblatt!K401)/2)),VLOOKUP(Eingabeblatt!$G401,'Table females'!$A$3:$E$138,2)+(VLOOKUP(Eingabeblatt!$G401,'Table females'!$A$3:$E$138,3)*Eingabeblatt!I401)+(VLOOKUP(Eingabeblatt!$G401,'Table females'!$A$3:$E$138,4)*Eingabeblatt!H401)+(VLOOKUP(Eingabeblatt!$G401,'Table females'!$A$3:$E$138,5)*(Eingabeblatt!J401+Eingabeblatt!K401)/2)))","v":""},{"$f":"CONCATENATE(\" \",IF(OR(J401=\"\",K401=\"\",L401=\"\"),\"\",IF(B401=\"m\",'Table males'!D$141,'Table females'!D$141)))","v":" "},"",""]
[{"$nulls":6},"",{"$nulls":4},{"$f":"IF(OR(C402=\"\",G402=\"\",H402=\"\",I402=\"\",K402=\"\",B402=Dropdownliste!A$9,J402=\"\"),\"\",IF(B402=\"m\",(VLOOKUP(Eingabeblatt!$G402,'Table males'!$A$3:$E$138,2)+(VLOOKUP(Eingabeblatt!$G402,'Table males'!$A$3:$E$138,3)*Eingabeblatt!I402)+(VLOOKUP(Eingabeblatt!$G402,'Table males'!$A$3:$E$138,4)*Eingabeblatt!H402)+(VLOOKUP(Eingabeblatt!$G402,'Table males'!$A$3:$E$138,5)*(Eingabeblatt!J402+Eingabeblatt!K402)/2)),VLOOKUP(Eingabeblatt!$G402,'Table females'!$A$3:$E$138,2)+(VLOOKUP(Eingabeblatt!$G402,'Table females'!$A$3:$E$138,3)*Eingabeblatt!I402)+(VLOOKUP(Eingabeblatt!$G402,'Table females'!$A$3:$E$138,4)*Eingabeblatt!H402)+(VLOOKUP(Eingabeblatt!$G402,'Table females'!$A$3:$E$138,5)*(Eingabeblatt!J402+Eingabeblatt!K402)/2)))","v":""},{"$f":"CONCATENATE(\" \",IF(OR(J402=\"\",K402=\"\",L402=\"\"),\"\",IF(B402=\"m\",'Table males'!D$141,'Table females'!D$141)))","v":" "},"",""]
[{"$nulls":6},"",{"$nulls":4},{"$f":"IF(OR(C403=\"\",G403=\"\",H403=\"\",I403=\"\",K403=\"\",B403=Dropdownliste!A$9,J403=\"\"),\"\",IF(B403=\"m\",(VLOOKUP(Eingabeblatt!$G403,'Table males'!$A$3:$E$138,2)+(VLOOKUP(Eingabeblatt!$G403,'Table males'!$A$3:$E$138,3)*Eingabeblatt!I403)+(VLOOKUP(Eingabeblatt!$G403,'Table males'!$A$3:$E$138,4)*Eingabeblatt!H403)+(VLOOKUP(Eingabeblatt!$G403,'Table males'!$A$3:$E$138,5)*(Eingabeblatt!J403+Eingabeblatt!K403)/2)),VLOOKUP(Eingabeblatt!$G403,'Table females'!$A$3:$E$138,2)+(VLOOKUP(Eingabeblatt!$G403,'Table females'!$A$3:$E$138,3)*Eingabeblatt!I403)+(VLOOKUP(Eingabeblatt!$G403,'Table females'!$A$3:$E$138,4)*Eingabeblatt!H403)+(VLOOKUP(Eingabeblatt!$G403,'Table females'!$A$3:$E$138,5)*(Eingabeblatt!J403+Eingabeblatt!K403)/2)))","v":""},{"$f":"CONCATENATE(\" \",IF(OR(J403=\"\",K403=\"\",L403=\"\"),\"\",IF(B403=\"m\",'Table males'!D$141,'Table females'!D$141)))","v":" "},"",""]
[{"$nulls":6},"",{"$nulls":4},{"$f":"IF(OR(C404=\"\",G404=\"\",H404=\"\",I404=\"\",K404=\"\",B404=Dropdownliste!A$9,J404=\"\"),\"\",IF(B404=\"m\",(VLOOKUP(Eingabeblatt!$G404,'Table males'!$A$3:$E$138,2)+(VLOOKUP(Eingabeblatt!$G404,'Table males'!$A$3:$E$138,3)*Eingabeblatt!I404)+(VLOOKUP(Eingabeblatt!$G404,'Table males'!$A$3:$E$138,4)*Eingabeblatt!H404)+(VLOOKUP(Eingabeblatt!$G404,'Table males'!$A$3:$E$138,5)*(Eingabeblatt!J404+Eingabeblatt!K404)/2)),VLOOKUP(Eingabeblatt!$G404,'Table females'!$A$3:$E$138,2)+(VLOOKUP(Eingabeblatt!$G404,'Table females'!$A$3:$E$138,3)*Eingabeblatt!I404)+(VLOOKUP(Eingabeblatt!$G404,'Table females'!$A$3:$E$138,4)*Eingabeblatt!H404)+(VLOOKUP(Eingabeblatt!$G404,'Table females'!$A$3:$E$138,5)*(Eingabeblatt!J404+Eingabeblatt!K404)/2)))","v":""},{"$f":"CONCATENATE(\" \",IF(OR(J404=\"\",K404=\"\",L404=\"\"),\"\",IF(B404=\"m\",'Table males'!D$141,'Table females'!D$141)))","v":" "},"",""]
[{"$nulls":6},"",{"$nulls":4},{"$f":"IF(OR(C405=\"\",G405=\"\",H405=\"\",I405=\"\",K405=\"\",B405=Dropdownliste!A$9,J405=\"\"),\"\",IF(B405=\"m\",(VLOOKUP(Eingabeblatt!$G405,'Table males'!$A$3:$E$138,2)+(VLOOKUP(Eingabeblatt!$G405,'Table males'!$A$3:$E$138,3)*Eingabeblatt!I405)+(VLOOKUP(Eingabeblatt!$G405,'Table males'!$A$3:$E$138,4)*Eingabeblatt!H405)+(VLOOKUP(Eingabeblatt!$G405,'Table males'!$A$3:$E$138,5)*(Eingabeblatt!J405+Eingabeblatt!K405)/2)),VLOOKUP(Eingabeblatt!$G405,'Table females'!$A$3:$E$138,2)+(VLOOKUP(Eingabeblatt!$G405,'Table females'!$A$3:$E$138,3)*Eingabeblatt!I405)+(VLOOKUP(Eingabeblatt!$G405,'Table females'!$A$3:$E$138,4)*Eingabeblatt!H405)+(VLOOKUP(Eingabeblatt!$G405,'Table females'!$A$3:$E$138,5)*(Eingabeblatt!J405+Eingabeblatt!K405)/2)))","v":""},{"$f":"CONCATENATE(\" \",IF(OR(J405=\"\",K405=\"\",L405=\"\"),\"\",IF(B405=\"m\",'Table males'!D$141,'Table females'!D$141)))","v":" "},"",""]
[{"$nulls":6},"",{"$nulls":4},{"$f":"IF(OR(C406=\"\",G406=\"\",H406=\"\",I406=\"\",K406=\"\",B406=Dropdownliste!A$9,J406=\"\"),\"\",IF(B406=\"m\",(VLOOKUP(Eingabeblatt!$G406,'Table males'!$A$3:$E$138,2)+(VLOOKUP(Eingabeblatt!$G406,'Table males'!$A$3:$E$138,3)*Eingabeblatt!I406)+(VLOOKUP(Eingabeblatt!$G406,'Table males'!$A$3:$E$138,4)*Eingabeblatt!H406)+(VLOOKUP(Eingabeblatt!$G406,'Table males'!$A$3:$E$138,5)*(Eingabeblatt!J406+Eingabeblatt!K406)/2)),VLOOKUP(Eingabeblatt!$G406,'Table females'!$A$3:$E$138,2)+(VLOOKUP(Eingabeblatt!$G406,'Table females'!$A$3:$E$138,3)*Eingabeblatt!I406)+(VLOOKUP(Eingabeblatt!$G406,'Table females'!$A$3:$E$138,4)*Eingabeblatt!H406)+(VLOOKUP(Eingabeblatt!$G406,'Table females'!$A$3:$E$138,5)*(Eingabeblatt!J406+Eingabeblatt!K406)/2)))","v":""},{"$f":"CONCATENATE(\" \",IF(OR(J406=\"\",K406=\"\",L406=\"\"),\"\",IF(B406=\"m\",'Table males'!D$141,'Table females'!D$141)))","v":" "},"",""]
[{"$nulls":6},"",{"$nulls":4},{"$f":"IF(OR(C407=\"\",G407=\"\",H407=\"\",I407=\"\",K407=\"\",B407=Dropdownliste!A$9,J407=\"\"),\"\",IF(B407=\"m\",(VLOOKUP(Eingabeblatt!$G407,'Table males'!$A$3:$E$138,2)+(VLOOKUP(Eingabeblatt!$G407,'Table males'!$A$3:$E$138,3)*Eingabeblatt!I407)+(VLOOKUP(Eingabeblatt!$G407,'Table males'!$A$3:$E$138,4)*Eingabeblatt!H407)+(VLOOKUP(Eingabeblatt!$G407,'Table males'!$A$3:$E$138,5)*(Eingabeblatt!J407+Eingabeblatt!K407)/2)),VLOOKUP(Eingabeblatt!$G407,'Table females'!$A$3:$E$138,2)+(VLOOKUP(Eingabeblatt!$G407,'Table females'!$A$3:$E$138,3)*Eingabeblatt!I407)+(VLOOKUP(Eingabeblatt!$G407,'Table females'!$A$3:$E$138,4)*Eingabeblatt!H407)+(VLOOKUP(Eingabeblatt!$G407,'Table females'!$A$3:$E$138,5)*(Eingabeblatt!J407+Eingabeblatt!K407)/2)))","v":""},{"$f":"CONCATENATE(\" \",IF(OR(J407=\"\",K407=\"\",L407=\"\"),\"\",IF(B407=\"m\",'Table males'!D$141,'Table females'!D$141)))","v":" "},"",""]
[{"$nulls":6},"",{"$nulls":4},{"$f":"IF(OR(C408=\"\",G408=\"\",H408=\"\",I408=\"\",K408=\"\",B408=Dropdownliste!A$9,J408=\"\"),\"\",IF(B408=\"m\",(VLOOKUP(Eingabeblatt!$G408,'Table males'!$A$3:$E$138,2)+(VLOOKUP(Eingabeblatt!$G408,'Table males'!$A$3:$E$138,3)*Eingabeblatt!I408)+(VLOOKUP(Eingabeblatt!$G408,'Table males'!$A$3:$E$138,4)*Eingabeblatt!H408)+(VLOOKUP(Eingabeblatt!$G408,'Table males'!$A$3:$E$138,5)*(Eingabeblatt!J408+Eingabeblatt!K408)/2)),VLOOKUP(Eingabeblatt!$G408,'Table females'!$A$3:$E$138,2)+(VLOOKUP(Eingabeblatt!$G408,'Table females'!$A$3:$E$138,3)*Eingabeblatt!I408)+(VLOOKUP(Eingabeblatt!$G408,'Table females'!$A$3:$E$138,4)*Eingabeblatt!H408)+(VLOOKUP(Eingabeblatt!$G408,'Table females'!$A$3:$E$138,5)*(Eingabeblatt!J408+Eingabeblatt!K408)/2)))","v":""},{"$f":"CONCATENATE(\" \",IF(OR(J408=\"\",K408=\"\",L408=\"\"),\"\",IF(B408=\"m\",'Table males'!D$141,'Table females'!D$141)))","v":" "},"",""]
[{"$nulls":6},"",{"$nulls":4},{"$f":"IF(OR(C409=\"\",G409=\"\",H409=\"\",I409=\"\",K409=\"\",B409=Dropdownliste!A$9,J409=\"\"),\"\",IF(B409=\"m\",(VLOOKUP(Eingabeblatt!$G409,'Table males'!$A$3:$E$138,2)+(VLOOKUP(Eingabeblatt!$G409,'Table males'!$A$3:$E$138,3)*Eingabeblatt!I409)+(VLOOKUP(Eingabeblatt!$G409,'Table males'!$A$3:$E$138,4)*Eingabeblatt!H409)+(VLOOKUP(Eingabeblatt!$G409,'Table males'!$A$3:$E$138,5)*(Eingabeblatt!J409+Eingabeblatt!K409)/2)),VLOOKUP(Eingabeblatt!$G409,'Table females'!$A$3:$E$138,2)+(VLOOKUP(Eingabeblatt!$G409,'Table females'!$A$3:$E$138,3)*Eingabeblatt!I409)+(VLOOKUP(Eingabeblatt!$G409,'Table females'!$A$3:$E$138,4)*Eingabeblatt!H409)+(VLOOKUP(Eingabeblatt!$G409,'Table females'!$A$3:$E$138,5)*(Eingabeblatt!J409+Eingabeblatt!K409)/2)))","v":""},{"$f":"CONCATENATE(\" \",IF(OR(J409=\"\",K409=\"\",L409=\"\"),\"\",IF(B409=\"m\",'Table males'!D$141,'Table females'!D$141)))","v":" "},"",""]
[{"$nulls":6},"",{"$nulls":4},{"$f":"IF(OR(C410=\"\",G410=\"\",H410=\"\",I410=\"\",K410=\"\",B410=Dropdownliste!A$9,J410=\"\"),\"\",IF(B410=\"m\",(VLOOKUP(Eingabeblatt!$G410,'Table males'!$A$3:$E$138,2)+(VLOOKUP(Eingabeblatt!$G410,'Table males'!$A$3:$E$138,3)*Eingabeblatt!I410)+(VLOOKUP(Eingabeblatt!$G410,'Table males'!$A$3:$E$138,4)*Eingabeblatt!H410)+(VLOOKUP(Eingabeblatt!$G410,'Table males'!$A$3:$E$138,5)*(Eingabeblatt!J410+Eingabeblatt!K410)/2)),VLOOKUP(Eingabeblatt!$G410,'Table females'!$A$3:$E$138,2)+(VLOOKUP(Eingabeblatt!$G410,'Table females'!$A$3:$E$138,3)*Eingabeblatt!I410)+(VLOOKUP(Eingabeblatt!$G410,'Table females'!$A$3:$E$138,4)*Eingabeblatt!H410)+(VLOOKUP(Eingabeblatt!$G410,'Table females'!$A$3:$E$138,5)*(Eingabeblatt!J410+Eingabeblatt!K410)/2)))","v":""},{"$f":"CONCATENATE(\" \",IF(OR(J410=\"\",K410=\"\",L410=\"\"),\"\",IF(B410=\"m\",'Table males'!D$141,'Table females'!D$141)))","v":" "},"",""]
[{"$nulls":6},"",{"$nulls":4},{"$f":"IF(OR(C411=\"\",G411=\"\",H411=\"\",I411=\"\",K411=\"\",B411=Dropdownliste!A$9,J411=\"\"),\"\",IF(B411=\"m\",(VLOOKUP(Eingabeblatt!$G411,'Table males'!$A$3:$E$138,2)+(VLOOKUP(Eingabeblatt!$G411,'Table males'!$A$3:$E$138,3)*Eingabeblatt!I411)+(VLOOKUP(Eingabeblatt!$G411,'Table males'!$A$3:$E$138,4)*Eingabeblatt!H411)+(VLOOKUP(Eingabeblatt!$G411,'Table males'!$A$3:$E$138,5)*(Eingabeblatt!J411+Eingabeblatt!K411)/2)),VLOOKUP(Eingabeblatt!$G411,'Table females'!$A$3:$E$138,2)+(VLOOKUP(Eingabeblatt!$G411,'Table females'!$A$3:$E$138,3)*Eingabeblatt!I411)+(VLOOKUP(Eingabeblatt!$G411,'Table females'!$A$3:$E$138,4)*Eingabeblatt!H411)+(VLOOKUP(Eingabeblatt!$G411,'Table females'!$A$3:$E$138,5)*(Eingabeblatt!J411+Eingabeblatt!K411)/2)))","v":""},{"$f":"CONCATENATE(\" \",IF(OR(J411=\"\",K411=\"\",L411=\"\"),\"\",IF(B411=\"m\",'Table males'!D$141,'Table females'!D$141)))","v":" "},"",""]
[{"$nulls":6},"",{"$nulls":4},{"$f":"IF(OR(C412=\"\",G412=\"\",H412=\"\",I412=\"\",K412=\"\",B412=Dropdownliste!A$9,J412=\"\"),\"\",IF(B412=\"m\",(VLOOKUP(Eingabeblatt!$G412,'Table males'!$A$3:$E$138,2)+(VLOOKUP(Eingabeblatt!$G412,'Table males'!$A$3:$E$138,3)*Eingabeblatt!I412)+(VLOOKUP(Eingabeblatt!$G412,'Table males'!$A$3:$E$138,4)*Eingabeblatt!H412)+(VLOOKUP(Eingabeblatt!$G412,'Table males'!$A$3:$E$138,5)*(Eingabeblatt!J412+Eingabeblatt!K412)/2)),VLOOKUP(Eingabeblatt!$G412,'Table females'!$A$3:$E$138,2)+(VLOOKUP(Eingabeblatt!$G412,'Table females'!$A$3:$E$138,3)*Eingabeblatt!I412)+(VLOOKUP(Eingabeblatt!$G412,'Table females'!$A$3:$E$138,4)*Eingabeblatt!H412)+(VLOOKUP(Eingabeblatt!$G412,'Table females'!$A$3:$E$138,5)*(Eingabeblatt!J412+Eingabeblatt!K412)/2)))","v":""},{"$f":"CONCATENATE(\" \",IF(OR(J412=\"\",K412=\"\",L412=\"\"),\"\",IF(B412=\"m\",'Table males'!D$141,'Table females'!D$141)))","v":" "},"",""]
[{"$nulls":6},"",{"$nulls":4},{"$f":"IF(OR(C413=\"\",G413=\"\",H413=\"\",I413=\"\",K413=\"\",B413=Dropdownliste!A$9,J413=\"\"),\"\",IF(B413=\"m\",(VLOOKUP(Eingabeblatt!$G413,'Table males'!$A$3:$E$138,2)+(VLOOKUP(Eingabeblatt!$G413,'Table males'!$A$3:$E$138,3)*Eingabeblatt!I413)+(VLOOKUP(Eingabeblatt!$G413,'Table males'!$A$3:$E$138,4)*Eingabeblatt!H413)+(VLOOKUP(Eingabeblatt!$G413,'Table males'!$A$3:$E$138,5)*(Eingabeblatt!J413+Eingabeblatt!K413)/2)),VLOOKUP(Eingabeblatt!$G413,'Table females'!$A$3:$E$138,2)+(VLOOKUP(Eingabeblatt!$G413,'Table females'!$A$3:$E$138,3)*Eingabeblatt!I413)+(VLOOKUP(Eingabeblatt!$G413,'Table females'!$A$3:$E$138,4)*Eingabeblatt!H413)+(VLOOKUP(Eingabeblatt!$G413,'Table females'!$A$3:$E$138,5)*(Eingabeblatt!J413+Eingabeblatt!K413)/2)))","v":""},{"$f":"CONCATENATE(\" \",IF(OR(J413=\"\",K413=\"\",L413=\"\"),\"\",IF(B413=\"m\",'Table males'!D$141,'Table females'!D$141)))","v":" "},"",""]
[{"$nulls":6},"",{"$nulls":4},{"$f":"IF(OR(C414=\"\",G414=\"\",H414=\"\",I414=\"\",K414=\"\",B414=Dropdownliste!A$9,J414=\"\"),\"\",IF(B414=\"m\",(VLOOKUP(Eingabeblatt!$G414,'Table males'!$A$3:$E$138,2)+(VLOOKUP(Eingabeblatt!$G414,'Table males'!$A$3:$E$138,3)*Eingabeblatt!I414)+(VLOOKUP(Eingabeblatt!$G414,'Table males'!$A$3:$E$138,4)*Eingabeblatt!H414)+(VLOOKUP(Eingabeblatt!$G414,'Table males'!$A$3:$E$138,5)*(Eingabeblatt!J414+Eingabeblatt!K414)/2)),VLOOKUP(Eingabeblatt!$G414,'Table females'!$A$3:$E$138,2)+(VLOOKUP(Eingabeblatt!$G414,'Table females'!$A$3:$E$138,3)*Eingabeblatt!I414)+(VLOOKUP(Eingabeblatt!$G414,'Table females'!$A$3:$E$138,4)*Eingabeblatt!H414)+(VLOOKUP(Eingabeblatt!$G414,'Table females'!$A$3:$E$138,5)*(Eingabeblatt!J414+Eingabeblatt!K414)/2)))","v":""},{"$f":"CONCATENATE(\" \",IF(OR(J414=\"\",K414=\"\",L414=\"\"),\"\",IF(B414=\"m\",'Table males'!D$141,'Table females'!D$141)))","v":" "},"",""]
[{"$nulls":6},"",{"$nulls":4},{"$f":"IF(OR(C415=\"\",G415=\"\",H415=\"\",I415=\"\",K415=\"\",B415=Dropdownliste!A$9,J415=\"\"),\"\",IF(B415=\"m\",(VLOOKUP(Eingabeblatt!$G415,'Table males'!$A$3:$E$138,2)+(VLOOKUP(Eingabeblatt!$G415,'Table males'!$A$3:$E$138,3)*Eingabeblatt!I415)+(VLOOKUP(Eingabeblatt!$G415,'Table males'!$A$3:$E$138,4)*Eingabeblatt!H415)+(VLOOKUP(Eingabeblatt!$G415,'Table males'!$A$3:$E$138,5)*(Eingabeblatt!J415+Eingabeblatt!K415)/2)),VLOOKUP(Eingabeblatt!$G415,'Table females'!$A$3:$E$138,2)+(VLOOKUP(Eingabeblatt!$G415,'Table females'!$A$3:$E$138,3)*Eingabeblatt!I415)+(VLOOKUP(Eingabeblatt!$G415,'Table females'!$A$3:$E$138,4)*Eingabeblatt!H415)+(VLOOKUP(Eingabeblatt!$G415,'Table females'!$A$3:$E$138,5)*(Eingabeblatt!J415+Eingabeblatt!K415)/2)))","v":""},{"$f":"CONCATENATE(\" \",IF(OR(J415=\"\",K415=\"\",L415=\"\"),\"\",IF(B415=\"m\",'Table males'!D$141,'Table females'!D$141)))","v":" "},"",""]
[{"$nulls":6},"",{"$nulls":4},{"$f":"IF(OR(C416=\"\",G416=\"\",H416=\"\",I416=\"\",K416=\"\",B416=Dropdownliste!A$9,J416=\"\"),\"\",IF(B416=\"m\",(VLOOKUP(Eingabeblatt!$G416,'Table males'!$A$3:$E$138,2)+(VLOOKUP(Eingabeblatt!$G416,'Table males'!$A$3:$E$138,3)*Eingabeblatt!I416)+(VLOOKUP(Eingabeblatt!$G416,'Table males'!$A$3:$E$138,4)*Eingabeblatt!H416)+(VLOOKUP(Eingabeblatt!$G416,'Table males'!$A$3:$E$138,5)*(Eingabeblatt!J416+Eingabeblatt!K416)/2)),VLOOKUP(Eingabeblatt!$G416,'Table females'!$A$3:$E$138,2)+(VLOOKUP(Eingabeblatt!$G416,'Table females'!$A$3:$E$138,3)*Eingabeblatt!I416)+(VLOOKUP(Eingabeblatt!$G416,'Table females'!$A$3:$E$138,4)*Eingabeblatt!H416)+(VLOOKUP(Eingabeblatt!$G416,'Table females'!$A$3:$E$138,5)*(Eingabeblatt!J416+Eingabeblatt!K416)/2)))","v":""},{"$f":"CONCATENATE(\" \",IF(OR(J416=\"\",K416=\"\",L416=\"\"),\"\",IF(B416=\"m\",'Table males'!D$141,'Table females'!D$141)))","v":" "},"",""]
[{"$nulls":6},"",{"$nulls":4},{"$f":"IF(OR(C417=\"\",G417=\"\",H417=\"\",I417=\"\",K417=\"\",B417=Dropdownliste!A$9,J417=\"\"),\"\",IF(B417=\"m\",(VLOOKUP(Eingabeblatt!$G417,'Table males'!$A$3:$E$138,2)+(VLOOKUP(Eingabeblatt!$G417,'Table males'!$A$3:$E$138,3)*Eingabeblatt!I417)+(VLOOKUP(Eingabeblatt!$G417,'Table males'!$A$3:$E$138,4)*Eingabeblatt!H417)+(VLOOKUP(Eingabeblatt!$G417,'Table males'!$A$3:$E$138,5)*(Eingabeblatt!J417+Eingabeblatt!K417)/2)),VLOOKUP(Eingabeblatt!$G417,'Table females'!$A$3:$E$138,2)+(VLOOKUP(Eingabeblatt!$G417,'Table females'!$A$3:$E$138,3)*Eingabeblatt!I417)+(VLOOKUP(Eingabeblatt!$G417,'Table females'!$A$3:$E$138,4)*Eingabeblatt!H417)+(VLOOKUP(Eingabeblatt!$G417,'Table females'!$A$3:$E$138,5)*(Eingabeblatt!J417+Eingabeblatt!K417)/2)))","v":""},{"$f":"CONCATENATE(\" \",IF(OR(J417=\"\",K417=\"\",L417=\"\"),\"\",IF(B417=\"m\",'Table males'!D$141,'Table females'!D$141)))","v":" "},"",""]
[{"$nulls":6},"",{"$nulls":4},{"$f":"IF(OR(C418=\"\",G418=\"\",H418=\"\",I418=\"\",K418=\"\",B418=Dropdownliste!A$9,J418=\"\"),\"\",IF(B418=\"m\",(VLOOKUP(Eingabeblatt!$G418,'Table males'!$A$3:$E$138,2)+(VLOOKUP(Eingabeblatt!$G418,'Table males'!$A$3:$E$138,3)*Eingabeblatt!I418)+(VLOOKUP(Eingabeblatt!$G418,'Table males'!$A$3:$E$138,4)*Eingabeblatt!H418)+(VLOOKUP(Eingabeblatt!$G418,'Table males'!$A$3:$E$138,5)*(Eingabeblatt!J418+Eingabeblatt!K418)/2)),VLOOKUP(Eingabeblatt!$G418,'Table females'!$A$3:$E$138,2)+(VLOOKUP(Eingabeblatt!$G418,'Table females'!$A$3:$E$138,3)*Eingabeblatt!I418)+(VLOOKUP(Eingabeblatt!$G418,'Table females'!$A$3:$E$138,4)*Eingabeblatt!H418)+(VLOOKUP(Eingabeblatt!$G418,'Table females'!$A$3:$E$138,5)*(Eingabeblatt!J418+Eingabeblatt!K418)/2)))","v":""},{"$f":"CONCATENATE(\" \",IF(OR(J418=\"\",K418=\"\",L418=\"\"),\"\",IF(B418=\"m\",'Table males'!D$141,'Table females'!D$141)))","v":" "},"",""]
[{"$nulls":6},"",{"$nulls":4},{"$f":"IF(OR(C419=\"\",G419=\"\",H419=\"\",I419=\"\",K419=\"\",B419=Dropdownliste!A$9,J419=\"\"),\"\",IF(B419=\"m\",(VLOOKUP(Eingabeblatt!$G419,'Table males'!$A$3:$E$138,2)+(VLOOKUP(Eingabeblatt!$G419,'Table males'!$A$3:$E$138,3)*Eingabeblatt!I419)+(VLOOKUP(Eingabeblatt!$G419,'Table males'!$A$3:$E$138,4)*Eingabeblatt!H419)+(VLOOKUP(Eingabeblatt!$G419,'Table males'!$A$3:$E$138,5)*(Eingabeblatt!J419+Eingabeblatt!K419)/2)),VLOOKUP(Eingabeblatt!$G419,'Table females'!$A$3:$E$138,2)+(VLOOKUP(Eingabeblatt!$G419,'Table females'!$A$3:$E$138,3)*Eingabeblatt!I419)+(VLOOKUP(Eingabeblatt!$G419,'Table females'!$A$3:$E$138,4)*Eingabeblatt!H419)+(VLOOKUP(Eingabeblatt!$G419,'Table females'!$A$3:$E$138,5)*(Eingabeblatt!J419+Eingabeblatt!K419)/2)))","v":""},{"$f":"CONCATENATE(\" \",IF(OR(J419=\"\",K419=\"\",L419=\"\"),\"\",IF(B419=\"m\",'Table males'!D$141,'Table females'!D$141)))","v":" "},"",""]
[{"$nulls":6},"",{"$nulls":4},{"$f":"IF(OR(C420=\"\",G420=\"\",H420=\"\",I420=\"\",K420=\"\",B420=Dropdownliste!A$9,J420=\"\"),\"\",IF(B420=\"m\",(VLOOKUP(Eingabeblatt!$G420,'Table males'!$A$3:$E$138,2)+(VLOOKUP(Eingabeblatt!$G420,'Table males'!$A$3:$E$138,3)*Eingabeblatt!I420)+(VLOOKUP(Eingabeblatt!$G420,'Table males'!$A$3:$E$138,4)*Eingabeblatt!H420)+(VLOOKUP(Eingabeblatt!$G420,'Table males'!$A$3:$E$138,5)*(Eingabeblatt!J420+Eingabeblatt!K420)/2)),VLOOKUP(Eingabeblatt!$G420,'Table females'!$A$3:$E$138,2)+(VLOOKUP(Eingabeblatt!$G420,'Table females'!$A$3:$E$138,3)*Eingabeblatt!I420)+(VLOOKUP(Eingabeblatt!$G420,'Table females'!$A$3:$E$138,4)*Eingabeblatt!H420)+(VLOOKUP(Eingabeblatt!$G420,'Table females'!$A$3:$E$138,5)*(Eingabeblatt!J420+Eingabeblatt!K420)/2)))","v":""},{"$f":"CONCATENATE(\" \",IF(OR(J420=\"\",K420=\"\",L420=\"\"),\"\",IF(B420=\"m\",'Table males'!D$141,'Table females'!D$141)))","v":" "},"",""]
[{"$nulls":6},"",{"$nulls":4},{"$f":"IF(OR(C421=\"\",G421=\"\",H421=\"\",I421=\"\",K421=\"\",B421=Dropdownliste!A$9,J421=\"\"),\"\",IF(B421=\"m\",(VLOOKUP(Eingabeblatt!$G421,'Table males'!$A$3:$E$138,2)+(VLOOKUP(Eingabeblatt!$G421,'Table males'!$A$3:$E$138,3)*Eingabeblatt!I421)+(VLOOKUP(Eingabeblatt!$G421,'Table males'!$A$3:$E$138,4)*Eingabeblatt!H421)+(VLOOKUP(Eingabeblatt!$G421,'Table males'!$A$3:$E$138,5)*(Eingabeblatt!J421+Eingabeblatt!K421)/2)),VLOOKUP(Eingabeblatt!$G421,'Table females'!$A$3:$E$138,2)+(VLOOKUP(Eingabeblatt!$G421,'Table females'!$A$3:$E$138,3)*Eingabeblatt!I421)+(VLOOKUP(Eingabeblatt!$G421,'Table females'!$A$3:$E$138,4)*Eingabeblatt!H421)+(VLOOKUP(Eingabeblatt!$G421,'Table females'!$A$3:$E$138,5)*(Eingabeblatt!J421+Eingabeblatt!K421)/2)))","v":""},{"$f":"CONCATENATE(\" \",IF(OR(J421=\"\",K421=\"\",L421=\"\"),\"\",IF(B421=\"m\",'Table males'!D$141,'Table females'!D$141)))","v":" "},"",""]
[{"$nulls":6},"",{"$nulls":4},{"$f":"IF(OR(C422=\"\",G422=\"\",H422=\"\",I422=\"\",K422=\"\",B422=Dropdownliste!A$9,J422=\"\"),\"\",IF(B422=\"m\",(VLOOKUP(Eingabeblatt!$G422,'Table males'!$A$3:$E$138,2)+(VLOOKUP(Eingabeblatt!$G422,'Table males'!$A$3:$E$138,3)*Eingabeblatt!I422)+(VLOOKUP(Eingabeblatt!$G422,'Table males'!$A$3:$E$138,4)*Eingabeblatt!H422)+(VLOOKUP(Eingabeblatt!$G422,'Table males'!$A$3:$E$138,5)*(Eingabeblatt!J422+Eingabeblatt!K422)/2)),VLOOKUP(Eingabeblatt!$G422,'Table females'!$A$3:$E$138,2)+(VLOOKUP(Eingabeblatt!$G422,'Table females'!$A$3:$E$138,3)*Eingabeblatt!I422)+(VLOOKUP(Eingabeblatt!$G422,'Table females'!$A$3:$E$138,4)*Eingabeblatt!H422)+(VLOOKUP(Eingabeblatt!$G422,'Table females'!$A$3:$E$138,5)*(Eingabeblatt!J422+Eingabeblatt!K422)/2)))","v":""},{"$f":"CONCATENATE(\" \",IF(OR(J422=\"\",K422=\"\",L422=\"\"),\"\",IF(B422=\"m\",'Table males'!D$141,'Table females'!D$141)))","v":" "},"",""]
[{"$nulls":6},"",{"$nulls":4},{"$f":"IF(OR(C423=\"\",G423=\"\",H423=\"\",I423=\"\",K423=\"\",B423=Dropdownliste!A$9,J423=\"\"),\"\",IF(B423=\"m\",(VLOOKUP(Eingabeblatt!$G423,'Table males'!$A$3:$E$138,2)+(VLOOKUP(Eingabeblatt!$G423,'Table males'!$A$3:$E$138,3)*Eingabeblatt!I423)+(VLOOKUP(Eingabeblatt!$G423,'Table males'!$A$3:$E$138,4)*Eingabeblatt!H423)+(VLOOKUP(Eingabeblatt!$G423,'Table males'!$A$3:$E$138,5)*(Eingabeblatt!J423+Eingabeblatt!K423)/2)),VLOOKUP(Eingabeblatt!$G423,'Table females'!$A$3:$E$138,2)+(VLOOKUP(Eingabeblatt!$G423,'Table females'!$A$3:$E$138,3)*Eingabeblatt!I423)+(VLOOKUP(Eingabeblatt!$G423,'Table females'!$A$3:$E$138,4)*Eingabeblatt!H423)+(VLOOKUP(Eingabeblatt!$G423,'Table females'!$A$3:$E$138,5)*(Eingabeblatt!J423+Eingabeblatt!K423)/2)))","v":""},{"$f":"CONCATENATE(\" \",IF(OR(J423=\"\",K423=\"\",L423=\"\"),\"\",IF(B423=\"m\",'Table males'!D$141,'Table females'!D$141)))","v":" "},"",""]
[{"$nulls":6},"",{"$nulls":4},{"$f":"IF(OR(C424=\"\",G424=\"\",H424=\"\",I424=\"\",K424=\"\",B424=Dropdownliste!A$9,J424=\"\"),\"\",IF(B424=\"m\",(VLOOKUP(Eingabeblatt!$G424,'Table males'!$A$3:$E$138,2)+(VLOOKUP(Eingabeblatt!$G424,'Table males'!$A$3:$E$138,3)*Eingabeblatt!I424)+(VLOOKUP(Eingabeblatt!$G424,'Table males'!$A$3:$E$138,4)*Eingabeblatt!H424)+(VLOOKUP(Eingabeblatt!$G424,'Table males'!$A$3:$E$138,5)*(Eingabeblatt!J424+Eingabeblatt!K424)/2)),VLOOKUP(Eingabeblatt!$G424,'Table females'!$A$3:$E$138,2)+(VLOOKUP(Eingabeblatt!$G424,'Table females'!$A$3:$E$138,3)*Eingabeblatt!I424)+(VLOOKUP(Eingabeblatt!$G424,'Table females'!$A$3:$E$138,4)*Eingabeblatt!H424)+(VLOOKUP(Eingabeblatt!$G424,'Table females'!$A$3:$E$138,5)*(Eingabeblatt!J424+Eingabeblatt!K424)/2)))","v":""},{"$f":"CONCATENATE(\" \",IF(OR(J424=\"\",K424=\"\",L424=\"\"),\"\",IF(B424=\"m\",'Table males'!D$141,'Table females'!D$141)))","v":" "},"",""]
[{"$nulls":6},"",{"$nulls":4},{"$f":"IF(OR(C425=\"\",G425=\"\",H425=\"\",I425=\"\",K425=\"\",B425=Dropdownliste!A$9,J425=\"\"),\"\",IF(B425=\"m\",(VLOOKUP(Eingabeblatt!$G425,'Table males'!$A$3:$E$138,2)+(VLOOKUP(Eingabeblatt!$G425,'Table males'!$A$3:$E$138,3)*Eingabeblatt!I425)+(VLOOKUP(Eingabeblatt!$G425,'Table males'!$A$3:$E$138,4)*Eingabeblatt!H425)+(VLOOKUP(Eingabeblatt!$G425,'Table males'!$A$3:$E$138,5)*(Eingabeblatt!J425+Eingabeblatt!K425)/2)),VLOOKUP(Eingabeblatt!$G425,'Table females'!$A$3:$E$138,2)+(VLOOKUP(Eingabeblatt!$G425,'Table females'!$A$3:$E$138,3)*Eingabeblatt!I425)+(VLOOKUP(Eingabeblatt!$G425,'Table females'!$A$3:$E$138,4)*Eingabeblatt!H425)+(VLOOKUP(Eingabeblatt!$G425,'Table females'!$A$3:$E$138,5)*(Eingabeblatt!J425+Eingabeblatt!K425)/2)))","v":""},{"$f":"CONCATENATE(\" \",IF(OR(J425=\"\",K425=\"\",L425=\"\"),\"\",IF(B425=\"m\",'Table males'!D$141,'Table females'!D$141)))","v":" "},"",""]
[{"$nulls":6},"",{"$nulls":4},{"$f":"IF(OR(C426=\"\",G426=\"\",H426=\"\",I426=\"\",K426=\"\",B426=Dropdownliste!A$9,J426=\"\"),\"\",IF(B426=\"m\",(VLOOKUP(Eingabeblatt!$G426,'Table males'!$A$3:$E$138,2)+(VLOOKUP(Eingabeblatt!$G426,'Table males'!$A$3:$E$138,3)*Eingabeblatt!I426)+(VLOOKUP(Eingabeblatt!$G426,'Table males'!$A$3:$E$138,4)*Eingabeblatt!H426)+(VLOOKUP(Eingabeblatt!$G426,'Table males'!$A$3:$E$138,5)*(Eingabeblatt!J426+Eingabeblatt!K426)/2)),VLOOKUP(Eingabeblatt!$G426,'Table females'!$A$3:$E$138,2)+(VLOOKUP(Eingabeblatt!$G426,'Table females'!$A$3:$E$138,3)*Eingabeblatt!I426)+(VLOOKUP(Eingabeblatt!$G426,'Table females'!$A$3:$E$138,4)*Eingabeblatt!H426)+(VLOOKUP(Eingabeblatt!$G426,'Table females'!$A$3:$E$138,5)*(Eingabeblatt!J426+Eingabeblatt!K426)/2)))","v":""},{"$f":"CONCATENATE(\" \",IF(OR(J426=\"\",K426=\"\",L426=\"\"),\"\",IF(B426=\"m\",'Table males'!D$141,'Table females'!D$141)))","v":" "},"",""]
[{"$nulls":6},"",{"$nulls":4},{"$f":"IF(OR(C427=\"\",G427=\"\",H427=\"\",I427=\"\",K427=\"\",B427=Dropdownliste!A$9,J427=\"\"),\"\",IF(B427=\"m\",(VLOOKUP(Eingabeblatt!$G427,'Table males'!$A$3:$E$138,2)+(VLOOKUP(Eingabeblatt!$G427,'Table males'!$A$3:$E$138,3)*Eingabeblatt!I427)+(VLOOKUP(Eingabeblatt!$G427,'Table males'!$A$3:$E$138,4)*Eingabeblatt!H427)+(VLOOKUP(Eingabeblatt!$G427,'Table males'!$A$3:$E$138,5)*(Eingabeblatt!J427+Eingabeblatt!K427)/2)),VLOOKUP(Eingabeblatt!$G427,'Table females'!$A$3:$E$138,2)+(VLOOKUP(Eingabeblatt!$G427,'Table females'!$A$3:$E$138,3)*Eingabeblatt!I427)+(VLOOKUP(Eingabeblatt!$G427,'Table females'!$A$3:$E$138,4)*Eingabeblatt!H427)+(VLOOKUP(Eingabeblatt!$G427,'Table females'!$A$3:$E$138,5)*(Eingabeblatt!J427+Eingabeblatt!K427)/2)))","v":""},{"$f":"CONCATENATE(\" \",IF(OR(J427=\"\",K427=\"\",L427=\"\"),\"\",IF(B427=\"m\",'Table males'!D$141,'Table females'!D$141)))","v":" "},"",""]
[{"$nulls":6},"",{"$nulls":4},{"$f":"IF(OR(C428=\"\",G428=\"\",H428=\"\",I428=\"\",K428=\"\",B428=Dropdownliste!A$9,J428=\"\"),\"\",IF(B428=\"m\",(VLOOKUP(Eingabeblatt!$G428,'Table males'!$A$3:$E$138,2)+(VLOOKUP(Eingabeblatt!$G428,'Table males'!$A$3:$E$138,3)*Eingabeblatt!I428)+(VLOOKUP(Eingabeblatt!$G428,'Table males'!$A$3:$E$138,4)*Eingabeblatt!H428)+(VLOOKUP(Eingabeblatt!$G428,'Table males'!$A$3:$E$138,5)*(Eingabeblatt!J428+Eingabeblatt!K428)/2)),VLOOKUP(Eingabeblatt!$G428,'Table females'!$A$3:$E$138,2)+(VLOOKUP(Eingabeblatt!$G428,'Table females'!$A$3:$E$138,3)*Eingabeblatt!I428)+(VLOOKUP(Eingabeblatt!$G428,'Table females'!$A$3:$E$138,4)*Eingabeblatt!H428)+(VLOOKUP(Eingabeblatt!$G428,'Table females'!$A$3:$E$138,5)*(Eingabeblatt!J428+Eingabeblatt!K428)/2)))","v":""},{"$f":"CONCATENATE(\" \",IF(OR(J428=\"\",K428=\"\",L428=\"\"),\"\",IF(B428=\"m\",'Table males'!D$141,'Table females'!D$141)))","v":" "},"",""]
[{"$nulls":6},"",{"$nulls":4},{"$f":"IF(OR(C429=\"\",G429=\"\",H429=\"\",I429=\"\",K429=\"\",B429=Dropdownliste!A$9,J429=\"\"),\"\",IF(B429=\"m\",(VLOOKUP(Eingabeblatt!$G429,'Table males'!$A$3:$E$138,2)+(VLOOKUP(Eingabeblatt!$G429,'Table males'!$A$3:$E$138,3)*Eingabeblatt!I429)+(VLOOKUP(Eingabeblatt!$G429,'Table males'!$A$3:$E$138,4)*Eingabeblatt!H429)+(VLOOKUP(Eingabeblatt!$G429,'Table males'!$A$3:$E$138,5)*(Eingabeblatt!J429+Eingabeblatt!K429)/2)),VLOOKUP(Eingabeblatt!$G429,'Table females'!$A$3:$E$138,2)+(VLOOKUP(Eingabeblatt!$G429,'Table females'!$A$3:$E$138,3)*Eingabeblatt!I429)+(VLOOKUP(Eingabeblatt!$G429,'Table females'!$A$3:$E$138,4)*Eingabeblatt!H429)+(VLOOKUP(Eingabeblatt!$G429,'Table females'!$A$3:$E$138,5)*(Eingabeblatt!J429+Eingabeblatt!K429)/2)))","v":""},{"$f":"CONCATENATE(\" \",IF(OR(J429=\"\",K429=\"\",L429=\"\"),\"\",IF(B429=\"m\",'Table males'!D$141,'Table females'!D$141)))","v":" "},"",""]
[{"$nulls":6},"",{"$nulls":4},{"$f":"IF(OR(C430=\"\",G430=\"\",H430=\"\",I430=\"\",K430=\"\",B430=Dropdownliste!A$9,J430=\"\"),\"\",IF(B430=\"m\",(VLOOKUP(Eingabeblatt!$G430,'Table males'!$A$3:$E$138,2)+(VLOOKUP(Eingabeblatt!$G430,'Table males'!$A$3:$E$138,3)*Eingabeblatt!I430)+(VLOOKUP(Eingabeblatt!$G430,'Table males'!$A$3:$E$138,4)*Eingabeblatt!H430)+(VLOOKUP(Eingabeblatt!$G430,'Table males'!$A$3:$E$138,5)*(Eingabeblatt!J430+Eingabeblatt!K430)/2)),VLOOKUP(Eingabeblatt!$G430,'Table females'!$A$3:$E$138,2)+(VLOOKUP(Eingabeblatt!$G430,'Table females'!$A$3:$E$138,3)*Eingabeblatt!I430)+(VLOOKUP(Eingabeblatt!$G430,'Table females'!$A$3:$E$138,4)*Eingabeblatt!H430)+(VLOOKUP(Eingabeblatt!$G430,'Table females'!$A$3:$E$138,5)*(Eingabeblatt!J430+Eingabeblatt!K430)/2)))","v":""},{"$f":"CONCATENATE(\" \",IF(OR(J430=\"\",K430=\"\",L430=\"\"),\"\",IF(B430=\"m\",'Table males'!D$141,'Table females'!D$141)))","v":" "},"",""]
[{"$nulls":6},"",{"$nulls":4},{"$f":"IF(OR(C431=\"\",G431=\"\",H431=\"\",I431=\"\",K431=\"\",B431=Dropdownliste!A$9,J431=\"\"),\"\",IF(B431=\"m\",(VLOOKUP(Eingabeblatt!$G431,'Table males'!$A$3:$E$138,2)+(VLOOKUP(Eingabeblatt!$G431,'Table males'!$A$3:$E$138,3)*Eingabeblatt!I431)+(VLOOKUP(Eingabeblatt!$G431,'Table males'!$A$3:$E$138,4)*Eingabeblatt!H431)+(VLOOKUP(Eingabeblatt!$G431,'Table males'!$A$3:$E$138,5)*(Eingabeblatt!J431+Eingabeblatt!K431)/2)),VLOOKUP(Eingabeblatt!$G431,'Table females'!$A$3:$E$138,2)+(VLOOKUP(Eingabeblatt!$G431,'Table females'!$A$3:$E$138,3)*Eingabeblatt!I431)+(VLOOKUP(Eingabeblatt!$G431,'Table females'!$A$3:$E$138,4)*Eingabeblatt!H431)+(VLOOKUP(Eingabeblatt!$G431,'Table females'!$A$3:$E$138,5)*(Eingabeblatt!J431+Eingabeblatt!K431)/2)))","v":""},{"$f":"CONCATENATE(\" \",IF(OR(J431=\"\",K431=\"\",L431=\"\"),\"\",IF(B431=\"m\",'Table males'!D$141,'Table females'!D$141)))","v":" "},"",""]
[{"$nulls":6},"",{"$nulls":4},{"$f":"IF(OR(C432=\"\",G432=\"\",H432=\"\",I432=\"\",K432=\"\",B432=Dropdownliste!A$9,J432=\"\"),\"\",IF(B432=\"m\",(VLOOKUP(Eingabeblatt!$G432,'Table males'!$A$3:$E$138,2)+(VLOOKUP(Eingabeblatt!$G432,'Table males'!$A$3:$E$138,3)*Eingabeblatt!I432)+(VLOOKUP(Eingabeblatt!$G432,'Table males'!$A$3:$E$138,4)*Eingabeblatt!H432)+(VLOOKUP(Eingabeblatt!$G432,'Table males'!$A$3:$E$138,5)*(Eingabeblatt!J432+Eingabeblatt!K432)/2)),VLOOKUP(Eingabeblatt!$G432,'Table females'!$A$3:$E$138,2)+(VLOOKUP(Eingabeblatt!$G432,'Table females'!$A$3:$E$138,3)*Eingabeblatt!I432)+(VLOOKUP(Eingabeblatt!$G432,'Table females'!$A$3:$E$138,4)*Eingabeblatt!H432)+(VLOOKUP(Eingabeblatt!$G432,'Table females'!$A$3:$E$138,5)*(Eingabeblatt!J432+Eingabeblatt!K432)/2)))","v":""},{"$f":"CONCATENATE(\" \",IF(OR(J432=\"\",K432=\"\",L432=\"\"),\"\",IF(B432=\"m\",'Table males'!D$141,'Table females'!D$141)))","v":" "},"",""]
[{"$nulls":6},"",{"$nulls":4},{"$f":"IF(OR(C433=\"\",G433=\"\",H433=\"\",I433=\"\",K433=\"\",B433=Dropdownliste!A$9,J433=\"\"),\"\",IF(B433=\"m\",(VLOOKUP(Eingabeblatt!$G433,'Table males'!$A$3:$E$138,2)+(VLOOKUP(Eingabeblatt!$G433,'Table males'!$A$3:$E$138,3)*Eingabeblatt!I433)+(VLOOKUP(Eingabeblatt!$G433,'Table males'!$A$3:$E$138,4)*Eingabeblatt!H433)+(VLOOKUP(Eingabeblatt!$G433,'Table males'!$A$3:$E$138,5)*(Eingabeblatt!J433+Eingabeblatt!K433)/2)),VLOOKUP(Eingabeblatt!$G433,'Table females'!$A$3:$E$138,2)+(VLOOKUP(Eingabeblatt!$G433,'Table females'!$A$3:$E$138,3)*Eingabeblatt!I433)+(VLOOKUP(Eingabeblatt!$G433,'Table females'!$A$3:$E$138,4)*Eingabeblatt!H433)+(VLOOKUP(Eingabeblatt!$G433,'Table females'!$A$3:$E$138,5)*(Eingabeblatt!J433+Eingabeblatt!K433)/2)))","v":""},{"$f":"CONCATENATE(\" \",IF(OR(J433=\"\",K433=\"\",L433=\"\"),\"\",IF(B433=\"m\",'Table males'!D$141,'Table females'!D$141)))","v":" "},"",""]
[{"$nulls":6},"",{"$nulls":4},{"$f":"IF(OR(C434=\"\",G434=\"\",H434=\"\",I434=\"\",K434=\"\",B434=Dropdownliste!A$9,J434=\"\"),\"\",IF(B434=\"m\",(VLOOKUP(Eingabeblatt!$G434,'Table males'!$A$3:$E$138,2)+(VLOOKUP(Eingabeblatt!$G434,'Table males'!$A$3:$E$138,3)*Eingabeblatt!I434)+(VLOOKUP(Eingabeblatt!$G434,'Table males'!$A$3:$E$138,4)*Eingabeblatt!H434)+(VLOOKUP(Eingabeblatt!$G434,'Table males'!$A$3:$E$138,5)*(Eingabeblatt!J434+Eingabeblatt!K434)/2)),VLOOKUP(Eingabeblatt!$G434,'Table females'!$A$3:$E$138,2)+(VLOOKUP(Eingabeblatt!$G434,'Table females'!$A$3:$E$138,3)*Eingabeblatt!I434)+(VLOOKUP(Eingabeblatt!$G434,'Table females'!$A$3:$E$138,4)*Eingabeblatt!H434)+(VLOOKUP(Eingabeblatt!$G434,'Table females'!$A$3:$E$138,5)*(Eingabeblatt!J434+Eingabeblatt!K434)/2)))","v":""},{"$f":"CONCATENATE(\" \",IF(OR(J434=\"\",K434=\"\",L434=\"\"),\"\",IF(B434=\"m\",'Table males'!D$141,'Table females'!D$141)))","v":" "},"",""]
[{"$nulls":6},"",{"$nulls":4},{"$f":"IF(OR(C435=\"\",G435=\"\",H435=\"\",I435=\"\",K435=\"\",B435=Dropdownliste!A$9,J435=\"\"),\"\",IF(B435=\"m\",(VLOOKUP(Eingabeblatt!$G435,'Table males'!$A$3:$E$138,2)+(VLOOKUP(Eingabeblatt!$G435,'Table males'!$A$3:$E$138,3)*Eingabeblatt!I435)+(VLOOKUP(Eingabeblatt!$G435,'Table males'!$A$3:$E$138,4)*Eingabeblatt!H435)+(VLOOKUP(Eingabeblatt!$G435,'Table males'!$A$3:$E$138,5)*(Eingabeblatt!J435+Eingabeblatt!K435)/2)),VLOOKUP(Eingabeblatt!$G435,'Table females'!$A$3:$E$138,2)+(VLOOKUP(Eingabeblatt!$G435,'Table females'!$A$3:$E$138,3)*Eingabeblatt!I435)+(VLOOKUP(Eingabeblatt!$G435,'Table females'!$A$3:$E$138,4)*Eingabeblatt!H435)+(VLOOKUP(Eingabeblatt!$G435,'Table females'!$A$3:$E$138,5)*(Eingabeblatt!J435+Eingabeblatt!K435)/2)))","v":""},{"$f":"CONCATENATE(\" \",IF(OR(J435=\"\",K435=\"\",L435=\"\"),\"\",IF(B435=\"m\",'Table males'!D$141,'Table females'!D$141)))","v":" "},"",""]
[{"$nulls":6},"",{"$nulls":4},{"$f":"IF(OR(C436=\"\",G436=\"\",H436=\"\",I436=\"\",K436=\"\",B436=Dropdownliste!A$9,J436=\"\"),\"\",IF(B436=\"m\",(VLOOKUP(Eingabeblatt!$G436,'Table males'!$A$3:$E$138,2)+(VLOOKUP(Eingabeblatt!$G436,'Table males'!$A$3:$E$138,3)*Eingabeblatt!I436)+(VLOOKUP(Eingabeblatt!$G436,'Table males'!$A$3:$E$138,4)*Eingabeblatt!H436)+(VLOOKUP(Eingabeblatt!$G436,'Table males'!$A$3:$E$138,5)*(Eingabeblatt!J436+Eingabeblatt!K436)/2)),VLOOKUP(Eingabeblatt!$G436,'Table females'!$A$3:$E$138,2)+(VLOOKUP(Eingabeblatt!$G436,'Table females'!$A$3:$E$138,3)*Eingabeblatt!I436)+(VLOOKUP(Eingabeblatt!$G436,'Table females'!$A$3:$E$138,4)*Eingabeblatt!H436)+(VLOOKUP(Eingabeblatt!$G436,'Table females'!$A$3:$E$138,5)*(Eingabeblatt!J436+Eingabeblatt!K436)/2)))","v":""},{"$f":"CONCATENATE(\" \",IF(OR(J436=\"\",K436=\"\",L436=\"\"),\"\",IF(B436=\"m\",'Table males'!D$141,'Table females'!D$141)))","v":" "},"",""]
[{"$nulls":6},"",{"$nulls":4},{"$f":"IF(OR(C437=\"\",G437=\"\",H437=\"\",I437=\"\",K437=\"\",B437=Dropdownliste!A$9,J437=\"\"),\"\",IF(B437=\"m\",(VLOOKUP(Eingabeblatt!$G437,'Table males'!$A$3:$E$138,2)+(VLOOKUP(Eingabeblatt!$G437,'Table males'!$A$3:$E$138,3)*Eingabeblatt!I437)+(VLOOKUP(Eingabeblatt!$G437,'Table males'!$A$3:$E$138,4)*Eingabeblatt!H437)+(VLOOKUP(Eingabeblatt!$G437,'Table males'!$A$3:$E$138,5)*(Eingabeblatt!J437+Eingabeblatt!K437)/2)),VLOOKUP(Eingabeblatt!$G437,'Table females'!$A$3:$E$138,2)+(VLOOKUP(Eingabeblatt!$G437,'Table females'!$A$3:$E$138,3)*Eingabeblatt!I437)+(VLOOKUP(Eingabeblatt!$G437,'Table females'!$A$3:$E$138,4)*Eingabeblatt!H437)+(VLOOKUP(Eingabeblatt!$G437,'Table females'!$A$3:$E$138,5)*(Eingabeblatt!J437+Eingabeblatt!K437)/2)))","v":""},{"$f":"CONCATENATE(\" \",IF(OR(J437=\"\",K437=\"\",L437=\"\"),\"\",IF(B437=\"m\",'Table males'!D$141,'Table females'!D$141)))","v":" "},"",""]
[{"$nulls":6},"",{"$nulls":4},{"$f":"IF(OR(C438=\"\",G438=\"\",H438=\"\",I438=\"\",K438=\"\",B438=Dropdownliste!A$9,J438=\"\"),\"\",IF(B438=\"m\",(VLOOKUP(Eingabeblatt!$G438,'Table males'!$A$3:$E$138,2)+(VLOOKUP(Eingabeblatt!$G438,'Table males'!$A$3:$E$138,3)*Eingabeblatt!I438)+(VLOOKUP(Eingabeblatt!$G438,'Table males'!$A$3:$E$138,4)*Eingabeblatt!H438)+(VLOOKUP(Eingabeblatt!$G438,'Table males'!$A$3:$E$138,5)*(Eingabeblatt!J438+Eingabeblatt!K438)/2)),VLOOKUP(Eingabeblatt!$G438,'Table females'!$A$3:$E$138,2)+(VLOOKUP(Eingabeblatt!$G438,'Table females'!$A$3:$E$138,3)*Eingabeblatt!I438)+(VLOOKUP(Eingabeblatt!$G438,'Table females'!$A$3:$E$138,4)*Eingabeblatt!H438)+(VLOOKUP(Eingabeblatt!$G438,'Table females'!$A$3:$E$138,5)*(Eingabeblatt!J438+Eingabeblatt!K438)/2)))","v":""},{"$f":"CONCATENATE(\" \",IF(OR(J438=\"\",K438=\"\",L438=\"\"),\"\",IF(B438=\"m\",'Table males'!D$141,'Table females'!D$141)))","v":" "},"",""]
[{"$nulls":6},"",{"$nulls":4},{"$f":"IF(OR(C439=\"\",G439=\"\",H439=\"\",I439=\"\",K439=\"\",B439=Dropdownliste!A$9,J439=\"\"),\"\",IF(B439=\"m\",(VLOOKUP(Eingabeblatt!$G439,'Table males'!$A$3:$E$138,2)+(VLOOKUP(Eingabeblatt!$G439,'Table males'!$A$3:$E$138,3)*Eingabeblatt!I439)+(VLOOKUP(Eingabeblatt!$G439,'Table males'!$A$3:$E$138,4)*Eingabeblatt!H439)+(VLOOKUP(Eingabeblatt!$G439,'Table males'!$A$3:$E$138,5)*(Eingabeblatt!J439+Eingabeblatt!K439)/2)),VLOOKUP(Eingabeblatt!$G439,'Table females'!$A$3:$E$138,2)+(VLOOKUP(Eingabeblatt!$G439,'Table females'!$A$3:$E$138,3)*Eingabeblatt!I439)+(VLOOKUP(Eingabeblatt!$G439,'Table females'!$A$3:$E$138,4)*Eingabeblatt!H439)+(VLOOKUP(Eingabeblatt!$G439,'Table females'!$A$3:$E$138,5)*(Eingabeblatt!J439+Eingabeblatt!K439)/2)))","v":""},{"$f":"CONCATENATE(\" \",IF(OR(J439=\"\",K439=\"\",L439=\"\"),\"\",IF(B439=\"m\",'Table males'!D$141,'Table females'!D$141)))","v":" "},"",""]
[{"$nulls":6},"",{"$nulls":4},{"$f":"IF(OR(C440=\"\",G440=\"\",H440=\"\",I440=\"\",K440=\"\",B440=Dropdownliste!A$9,J440=\"\"),\"\",IF(B440=\"m\",(VLOOKUP(Eingabeblatt!$G440,'Table males'!$A$3:$E$138,2)+(VLOOKUP(Eingabeblatt!$G440,'Table males'!$A$3:$E$138,3)*Eingabeblatt!I440)+(VLOOKUP(Eingabeblatt!$G440,'Table males'!$A$3:$E$138,4)*Eingabeblatt!H440)+(VLOOKUP(Eingabeblatt!$G440,'Table males'!$A$3:$E$138,5)*(Eingabeblatt!J440+Eingabeblatt!K440)/2)),VLOOKUP(Eingabeblatt!$G440,'Table females'!$A$3:$E$138,2)+(VLOOKUP(Eingabeblatt!$G440,'Table females'!$A$3:$E$138,3)*Eingabeblatt!I440)+(VLOOKUP(Eingabeblatt!$G440,'Table females'!$A$3:$E$138,4)*Eingabeblatt!H440)+(VLOOKUP(Eingabeblatt!$G440,'Table females'!$A$3:$E$138,5)*(Eingabeblatt!J440+Eingabeblatt!K440)/2)))","v":""},{"$f":"CONCATENATE(\" \",IF(OR(J440=\"\",K440=\"\",L440=\"\"),\"\",IF(B440=\"m\",'Table males'!D$141,'Table females'!D$141)))","v":" "},"",""]
[{"$nulls":6},"",{"$nulls":4},{"$f":"IF(OR(C441=\"\",G441=\"\",H441=\"\",I441=\"\",K441=\"\",B441=Dropdownliste!A$9,J441=\"\"),\"\",IF(B441=\"m\",(VLOOKUP(Eingabeblatt!$G441,'Table males'!$A$3:$E$138,2)+(VLOOKUP(Eingabeblatt!$G441,'Table males'!$A$3:$E$138,3)*Eingabeblatt!I441)+(VLOOKUP(Eingabeblatt!$G441,'Table males'!$A$3:$E$138,4)*Eingabeblatt!H441)+(VLOOKUP(Eingabeblatt!$G441,'Table males'!$A$3:$E$138,5)*(Eingabeblatt!J441+Eingabeblatt!K441)/2)),VLOOKUP(Eingabeblatt!$G441,'Table females'!$A$3:$E$138,2)+(VLOOKUP(Eingabeblatt!$G441,'Table females'!$A$3:$E$138,3)*Eingabeblatt!I441)+(VLOOKUP(Eingabeblatt!$G441,'Table females'!$A$3:$E$138,4)*Eingabeblatt!H441)+(VLOOKUP(Eingabeblatt!$G441,'Table females'!$A$3:$E$138,5)*(Eingabeblatt!J441+Eingabeblatt!K441)/2)))","v":""},{"$f":"CONCATENATE(\" \",IF(OR(J441=\"\",K441=\"\",L441=\"\"),\"\",IF(B441=\"m\",'Table males'!D$141,'Table females'!D$141)))","v":" "},"",""]
[{"$nulls":6},"",{"$nulls":4},{"$f":"IF(OR(C442=\"\",G442=\"\",H442=\"\",I442=\"\",K442=\"\",B442=Dropdownliste!A$9,J442=\"\"),\"\",IF(B442=\"m\",(VLOOKUP(Eingabeblatt!$G442,'Table males'!$A$3:$E$138,2)+(VLOOKUP(Eingabeblatt!$G442,'Table males'!$A$3:$E$138,3)*Eingabeblatt!I442)+(VLOOKUP(Eingabeblatt!$G442,'Table males'!$A$3:$E$138,4)*Eingabeblatt!H442)+(VLOOKUP(Eingabeblatt!$G442,'Table males'!$A$3:$E$138,5)*(Eingabeblatt!J442+Eingabeblatt!K442)/2)),VLOOKUP(Eingabeblatt!$G442,'Table females'!$A$3:$E$138,2)+(VLOOKUP(Eingabeblatt!$G442,'Table females'!$A$3:$E$138,3)*Eingabeblatt!I442)+(VLOOKUP(Eingabeblatt!$G442,'Table females'!$A$3:$E$138,4)*Eingabeblatt!H442)+(VLOOKUP(Eingabeblatt!$G442,'Table females'!$A$3:$E$138,5)*(Eingabeblatt!J442+Eingabeblatt!K442)/2)))","v":""},{"$f":"CONCATENATE(\" \",IF(OR(J442=\"\",K442=\"\",L442=\"\"),\"\",IF(B442=\"m\",'Table males'!D$141,'Table females'!D$141)))","v":" "},"",""]
[{"$nulls":6},"",{"$nulls":4},{"$f":"IF(OR(C443=\"\",G443=\"\",H443=\"\",I443=\"\",K443=\"\",B443=Dropdownliste!A$9,J443=\"\"),\"\",IF(B443=\"m\",(VLOOKUP(Eingabeblatt!$G443,'Table males'!$A$3:$E$138,2)+(VLOOKUP(Eingabeblatt!$G443,'Table males'!$A$3:$E$138,3)*Eingabeblatt!I443)+(VLOOKUP(Eingabeblatt!$G443,'Table males'!$A$3:$E$138,4)*Eingabeblatt!H443)+(VLOOKUP(Eingabeblatt!$G443,'Table males'!$A$3:$E$138,5)*(Eingabeblatt!J443+Eingabeblatt!K443)/2)),VLOOKUP(Eingabeblatt!$G443,'Table females'!$A$3:$E$138,2)+(VLOOKUP(Eingabeblatt!$G443,'Table females'!$A$3:$E$138,3)*Eingabeblatt!I443)+(VLOOKUP(Eingabeblatt!$G443,'Table females'!$A$3:$E$138,4)*Eingabeblatt!H443)+(VLOOKUP(Eingabeblatt!$G443,'Table females'!$A$3:$E$138,5)*(Eingabeblatt!J443+Eingabeblatt!K443)/2)))","v":""},{"$f":"CONCATENATE(\" \",IF(OR(J443=\"\",K443=\"\",L443=\"\"),\"\",IF(B443=\"m\",'Table males'!D$141,'Table females'!D$141)))","v":" "},"",""]
[{"$nulls":6},"",{"$nulls":4},{"$f":"IF(OR(C444=\"\",G444=\"\",H444=\"\",I444=\"\",K444=\"\",B444=Dropdownliste!A$9,J444=\"\"),\"\",IF(B444=\"m\",(VLOOKUP(Eingabeblatt!$G444,'Table males'!$A$3:$E$138,2)+(VLOOKUP(Eingabeblatt!$G444,'Table males'!$A$3:$E$138,3)*Eingabeblatt!I444)+(VLOOKUP(Eingabeblatt!$G444,'Table males'!$A$3:$E$138,4)*Eingabeblatt!H444)+(VLOOKUP(Eingabeblatt!$G444,'Table males'!$A$3:$E$138,5)*(Eingabeblatt!J444+Eingabeblatt!K444)/2)),VLOOKUP(Eingabeblatt!$G444,'Table females'!$A$3:$E$138,2)+(VLOOKUP(Eingabeblatt!$G444,'Table females'!$A$3:$E$138,3)*Eingabeblatt!I444)+(VLOOKUP(Eingabeblatt!$G444,'Table females'!$A$3:$E$138,4)*Eingabeblatt!H444)+(VLOOKUP(Eingabeblatt!$G444,'Table females'!$A$3:$E$138,5)*(Eingabeblatt!J444+Eingabeblatt!K444)/2)))","v":""},{"$f":"CONCATENATE(\" \",IF(OR(J444=\"\",K444=\"\",L444=\"\"),\"\",IF(B444=\"m\",'Table males'!D$141,'Table females'!D$141)))","v":" "},"",""]
[{"$nulls":6},"",{"$nulls":4},{"$f":"IF(OR(C445=\"\",G445=\"\",H445=\"\",I445=\"\",K445=\"\",B445=Dropdownliste!A$9,J445=\"\"),\"\",IF(B445=\"m\",(VLOOKUP(Eingabeblatt!$G445,'Table males'!$A$3:$E$138,2)+(VLOOKUP(Eingabeblatt!$G445,'Table males'!$A$3:$E$138,3)*Eingabeblatt!I445)+(VLOOKUP(Eingabeblatt!$G445,'Table males'!$A$3:$E$138,4)*Eingabeblatt!H445)+(VLOOKUP(Eingabeblatt!$G445,'Table males'!$A$3:$E$138,5)*(Eingabeblatt!J445+Eingabeblatt!K445)/2)),VLOOKUP(Eingabeblatt!$G445,'Table females'!$A$3:$E$138,2)+(VLOOKUP(Eingabeblatt!$G445,'Table females'!$A$3:$E$138,3)*Eingabeblatt!I445)+(VLOOKUP(Eingabeblatt!$G445,'Table females'!$A$3:$E$138,4)*Eingabeblatt!H445)+(VLOOKUP(Eingabeblatt!$G445,'Table females'!$A$3:$E$138,5)*(Eingabeblatt!J445+Eingabeblatt!K445)/2)))","v":""},{"$f":"CONCATENATE(\" \",IF(OR(J445=\"\",K445=\"\",L445=\"\"),\"\",IF(B445=\"m\",'Table males'!D$141,'Table females'!D$141)))","v":" "},"",""]
[{"$nulls":6},"",{"$nulls":4},{"$f":"IF(OR(C446=\"\",G446=\"\",H446=\"\",I446=\"\",K446=\"\",B446=Dropdownliste!A$9,J446=\"\"),\"\",IF(B446=\"m\",(VLOOKUP(Eingabeblatt!$G446,'Table males'!$A$3:$E$138,2)+(VLOOKUP(Eingabeblatt!$G446,'Table males'!$A$3:$E$138,3)*Eingabeblatt!I446)+(VLOOKUP(Eingabeblatt!$G446,'Table males'!$A$3:$E$138,4)*Eingabeblatt!H446)+(VLOOKUP(Eingabeblatt!$G446,'Table males'!$A$3:$E$138,5)*(Eingabeblatt!J446+Eingabeblatt!K446)/2)),VLOOKUP(Eingabeblatt!$G446,'Table females'!$A$3:$E$138,2)+(VLOOKUP(Eingabeblatt!$G446,'Table females'!$A$3:$E$138,3)*Eingabeblatt!I446)+(VLOOKUP(Eingabeblatt!$G446,'Table females'!$A$3:$E$138,4)*Eingabeblatt!H446)+(VLOOKUP(Eingabeblatt!$G446,'Table females'!$A$3:$E$138,5)*(Eingabeblatt!J446+Eingabeblatt!K446)/2)))","v":""},{"$f":"CONCATENATE(\" \",IF(OR(J446=\"\",K446=\"\",L446=\"\"),\"\",IF(B446=\"m\",'Table males'!D$141,'Table females'!D$141)))","v":" "},"",""]
[{"$nulls":6},"",{"$nulls":4},{"$f":"IF(OR(C447=\"\",G447=\"\",H447=\"\",I447=\"\",K447=\"\",B447=Dropdownliste!A$9,J447=\"\"),\"\",IF(B447=\"m\",(VLOOKUP(Eingabeblatt!$G447,'Table males'!$A$3:$E$138,2)+(VLOOKUP(Eingabeblatt!$G447,'Table males'!$A$3:$E$138,3)*Eingabeblatt!I447)+(VLOOKUP(Eingabeblatt!$G447,'Table males'!$A$3:$E$138,4)*Eingabeblatt!H447)+(VLOOKUP(Eingabeblatt!$G447,'Table males'!$A$3:$E$138,5)*(Eingabeblatt!J447+Eingabeblatt!K447)/2)),VLOOKUP(Eingabeblatt!$G447,'Table females'!$A$3:$E$138,2)+(VLOOKUP(Eingabeblatt!$G447,'Table females'!$A$3:$E$138,3)*Eingabeblatt!I447)+(VLOOKUP(Eingabeblatt!$G447,'Table females'!$A$3:$E$138,4)*Eingabeblatt!H447)+(VLOOKUP(Eingabeblatt!$G447,'Table females'!$A$3:$E$138,5)*(Eingabeblatt!J447+Eingabeblatt!K447)/2)))","v":""},{"$f":"CONCATENATE(\" \",IF(OR(J447=\"\",K447=\"\",L447=\"\"),\"\",IF(B447=\"m\",'Table males'!D$141,'Table females'!D$141)))","v":" "},"",""]
[{"$nulls":6},"",{"$nulls":4},{"$f":"IF(OR(C448=\"\",G448=\"\",H448=\"\",I448=\"\",K448=\"\",B448=Dropdownliste!A$9,J448=\"\"),\"\",IF(B448=\"m\",(VLOOKUP(Eingabeblatt!$G448,'Table males'!$A$3:$E$138,2)+(VLOOKUP(Eingabeblatt!$G448,'Table males'!$A$3:$E$138,3)*Eingabeblatt!I448)+(VLOOKUP(Eingabeblatt!$G448,'Table males'!$A$3:$E$138,4)*Eingabeblatt!H448)+(VLOOKUP(Eingabeblatt!$G448,'Table males'!$A$3:$E$138,5)*(Eingabeblatt!J448+Eingabeblatt!K448)/2)),VLOOKUP(Eingabeblatt!$G448,'Table females'!$A$3:$E$138,2)+(VLOOKUP(Eingabeblatt!$G448,'Table females'!$A$3:$E$138,3)*Eingabeblatt!I448)+(VLOOKUP(Eingabeblatt!$G448,'Table females'!$A$3:$E$138,4)*Eingabeblatt!H448)+(VLOOKUP(Eingabeblatt!$G448,'Table females'!$A$3:$E$138,5)*(Eingabeblatt!J448+Eingabeblatt!K448)/2)))","v":""},{"$f":"CONCATENATE(\" \",IF(OR(J448=\"\",K448=\"\",L448=\"\"),\"\",IF(B448=\"m\",'Table males'!D$141,'Table females'!D$141)))","v":" "},"",""]
[{"$nulls":6},"",{"$nulls":4},{"$f":"IF(OR(C449=\"\",G449=\"\",H449=\"\",I449=\"\",K449=\"\",B449=Dropdownliste!A$9,J449=\"\"),\"\",IF(B449=\"m\",(VLOOKUP(Eingabeblatt!$G449,'Table males'!$A$3:$E$138,2)+(VLOOKUP(Eingabeblatt!$G449,'Table males'!$A$3:$E$138,3)*Eingabeblatt!I449)+(VLOOKUP(Eingabeblatt!$G449,'Table males'!$A$3:$E$138,4)*Eingabeblatt!H449)+(VLOOKUP(Eingabeblatt!$G449,'Table males'!$A$3:$E$138,5)*(Eingabeblatt!J449+Eingabeblatt!K449)/2)),VLOOKUP(Eingabeblatt!$G449,'Table females'!$A$3:$E$138,2)+(VLOOKUP(Eingabeblatt!$G449,'Table females'!$A$3:$E$138,3)*Eingabeblatt!I449)+(VLOOKUP(Eingabeblatt!$G449,'Table females'!$A$3:$E$138,4)*Eingabeblatt!H449)+(VLOOKUP(Eingabeblatt!$G449,'Table females'!$A$3:$E$138,5)*(Eingabeblatt!J449+Eingabeblatt!K449)/2)))","v":""},{"$f":"CONCATENATE(\" \",IF(OR(J449=\"\",K449=\"\",L449=\"\"),\"\",IF(B449=\"m\",'Table males'!D$141,'Table females'!D$141)))","v":" "},"",""]
[{"$nulls":6},"",{"$nulls":4},{"$f":"IF(OR(C450=\"\",G450=\"\",H450=\"\",I450=\"\",K450=\"\",B450=Dropdownliste!A$9,J450=\"\"),\"\",IF(B450=\"m\",(VLOOKUP(Eingabeblatt!$G450,'Table males'!$A$3:$E$138,2)+(VLOOKUP(Eingabeblatt!$G450,'Table males'!$A$3:$E$138,3)*Eingabeblatt!I450)+(VLOOKUP(Eingabeblatt!$G450,'Table males'!$A$3:$E$138,4)*Eingabeblatt!H450)+(VLOOKUP(Eingabeblatt!$G450,'Table males'!$A$3:$E$138,5)*(Eingabeblatt!J450+Eingabeblatt!K450)/2)),VLOOKUP(Eingabeblatt!$G450,'Table females'!$A$3:$E$138,2)+(VLOOKUP(Eingabeblatt!$G450,'Table females'!$A$3:$E$138,3)*Eingabeblatt!I450)+(VLOOKUP(Eingabeblatt!$G450,'Table females'!$A$3:$E$138,4)*Eingabeblatt!H450)+(VLOOKUP(Eingabeblatt!$G450,'Table females'!$A$3:$E$138,5)*(Eingabeblatt!J450+Eingabeblatt!K450)/2)))","v":""},{"$f":"CONCATENATE(\" \",IF(OR(J450=\"\",K450=\"\",L450=\"\"),\"\",IF(B450=\"m\",'Table males'!D$141,'Table females'!D$141)))","v":" "},"",""]
[{"$nulls":6},"",{"$nulls":4},{"$f":"IF(OR(C451=\"\",G451=\"\",H451=\"\",I451=\"\",K451=\"\",B451=Dropdownliste!A$9,J451=\"\"),\"\",IF(B451=\"m\",(VLOOKUP(Eingabeblatt!$G451,'Table males'!$A$3:$E$138,2)+(VLOOKUP(Eingabeblatt!$G451,'Table males'!$A$3:$E$138,3)*Eingabeblatt!I451)+(VLOOKUP(Eingabeblatt!$G451,'Table males'!$A$3:$E$138,4)*Eingabeblatt!H451)+(VLOOKUP(Eingabeblatt!$G451,'Table males'!$A$3:$E$138,5)*(Eingabeblatt!J451+Eingabeblatt!K451)/2)),VLOOKUP(Eingabeblatt!$G451,'Table females'!$A$3:$E$138,2)+(VLOOKUP(Eingabeblatt!$G451,'Table females'!$A$3:$E$138,3)*Eingabeblatt!I451)+(VLOOKUP(Eingabeblatt!$G451,'Table females'!$A$3:$E$138,4)*Eingabeblatt!H451)+(VLOOKUP(Eingabeblatt!$G451,'Table females'!$A$3:$E$138,5)*(Eingabeblatt!J451+Eingabeblatt!K451)/2)))","v":""},{"$f":"CONCATENATE(\" \",IF(OR(J451=\"\",K451=\"\",L451=\"\"),\"\",IF(B451=\"m\",'Table males'!D$141,'Table females'!D$141)))","v":" "},"",""]
[{"$nulls":6},"",{"$nulls":4},{"$f":"IF(OR(C452=\"\",G452=\"\",H452=\"\",I452=\"\",K452=\"\",B452=Dropdownliste!A$9,J452=\"\"),\"\",IF(B452=\"m\",(VLOOKUP(Eingabeblatt!$G452,'Table males'!$A$3:$E$138,2)+(VLOOKUP(Eingabeblatt!$G452,'Table males'!$A$3:$E$138,3)*Eingabeblatt!I452)+(VLOOKUP(Eingabeblatt!$G452,'Table males'!$A$3:$E$138,4)*Eingabeblatt!H452)+(VLOOKUP(Eingabeblatt!$G452,'Table males'!$A$3:$E$138,5)*(Eingabeblatt!J452+Eingabeblatt!K452)/2)),VLOOKUP(Eingabeblatt!$G452,'Table females'!$A$3:$E$138,2)+(VLOOKUP(Eingabeblatt!$G452,'Table females'!$A$3:$E$138,3)*Eingabeblatt!I452)+(VLOOKUP(Eingabeblatt!$G452,'Table females'!$A$3:$E$138,4)*Eingabeblatt!H452)+(VLOOKUP(Eingabeblatt!$G452,'Table females'!$A$3:$E$138,5)*(Eingabeblatt!J452+Eingabeblatt!K452)/2)))","v":""},{"$f":"CONCATENATE(\" \",IF(OR(J452=\"\",K452=\"\",L452=\"\"),\"\",IF(B452=\"m\",'Table males'!D$141,'Table females'!D$141)))","v":" "},"",""]
[{"$nulls":6},"",{"$nulls":4},{"$f":"IF(OR(C453=\"\",G453=\"\",H453=\"\",I453=\"\",K453=\"\",B453=Dropdownliste!A$9,J453=\"\"),\"\",IF(B453=\"m\",(VLOOKUP(Eingabeblatt!$G453,'Table males'!$A$3:$E$138,2)+(VLOOKUP(Eingabeblatt!$G453,'Table males'!$A$3:$E$138,3)*Eingabeblatt!I453)+(VLOOKUP(Eingabeblatt!$G453,'Table males'!$A$3:$E$138,4)*Eingabeblatt!H453)+(VLOOKUP(Eingabeblatt!$G453,'Table males'!$A$3:$E$138,5)*(Eingabeblatt!J453+Eingabeblatt!K453)/2)),VLOOKUP(Eingabeblatt!$G453,'Table females'!$A$3:$E$138,2)+(VLOOKUP(Eingabeblatt!$G453,'Table females'!$A$3:$E$138,3)*Eingabeblatt!I453)+(VLOOKUP(Eingabeblatt!$G453,'Table females'!$A$3:$E$138,4)*Eingabeblatt!H453)+(VLOOKUP(Eingabeblatt!$G453,'Table females'!$A$3:$E$138,5)*(Eingabeblatt!J453+Eingabeblatt!K453)/2)))","v":""},{"$f":"CONCATENATE(\" \",IF(OR(J453=\"\",K453=\"\",L453=\"\"),\"\",IF(B453=\"m\",'Table males'!D$141,'Table females'!D$141)))","v":" "},"",""]
[{"$nulls":6},"",{"$nulls":4},{"$f":"IF(OR(C454=\"\",G454=\"\",H454=\"\",I454=\"\",K454=\"\",B454=Dropdownliste!A$9,J454=\"\"),\"\",IF(B454=\"m\",(VLOOKUP(Eingabeblatt!$G454,'Table males'!$A$3:$E$138,2)+(VLOOKUP(Eingabeblatt!$G454,'Table males'!$A$3:$E$138,3)*Eingabeblatt!I454)+(VLOOKUP(Eingabeblatt!$G454,'Table males'!$A$3:$E$138,4)*Eingabeblatt!H454)+(VLOOKUP(Eingabeblatt!$G454,'Table males'!$A$3:$E$138,5)*(Eingabeblatt!J454+Eingabeblatt!K454)/2)),VLOOKUP(Eingabeblatt!$G454,'Table females'!$A$3:$E$138,2)+(VLOOKUP(Eingabeblatt!$G454,'Table females'!$A$3:$E$138,3)*Eingabeblatt!I454)+(VLOOKUP(Eingabeblatt!$G454,'Table females'!$A$3:$E$138,4)*Eingabeblatt!H454)+(VLOOKUP(Eingabeblatt!$G454,'Table females'!$A$3:$E$138,5)*(Eingabeblatt!J454+Eingabeblatt!K454)/2)))","v":""},{"$f":"CONCATENATE(\" \",IF(OR(J454=\"\",K454=\"\",L454=\"\"),\"\",IF(B454=\"m\",'Table males'!D$141,'Table females'!D$141)))","v":" "},"",""]
[{"$nulls":6},{"$f":"IF(AND(C455>0,F455>0),(C455-F455)/365.25,\"\")","v":""},{"$nulls":4},{"$f":"IF(OR(C455=\"\",G455=\"\",H455=\"\",I455=\"\",K455=\"\",B455=Dropdownliste!A$9,J455=\"\"),\"\",IF(B455=\"m\",(VLOOKUP(Eingabeblatt!$G455,'Table males'!$A$3:$E$138,2)+(VLOOKUP(Eingabeblatt!$G455,'Table males'!$A$3:$E$138,3)*Eingabeblatt!I455)+(VLOOKUP(Eingabeblatt!$G455,'Table males'!$A$3:$E$138,4)*Eingabeblatt!H455)+(VLOOKUP(Eingabeblatt!$G455,'Table males'!$A$3:$E$138,5)*(Eingabeblatt!J455+Eingabeblatt!K455)/2)),VLOOKUP(Eingabeblatt!$G455,'Table females'!$A$3:$E$138,2)+(VLOOKUP(Eingabeblatt!$G455,'Table females'!$A$3:$E$138,3)*Eingabeblatt!I455)+(VLOOKUP(Eingabeblatt!$G455,'Table females'!$A$3:$E$138,4)*Eingabeblatt!H455)+(VLOOKUP(Eingabeblatt!$G455,'Table females'!$A$3:$E$138,5)*(Eingabeblatt!J455+Eingabeblatt!K455)/2)))","v":""},{"$f":"CONCATENATE(\" \",IF(OR(J455=\"\",K455=\"\",L455=\"\"),\"\",IF(B455=\"m\",'Table males'!D$141,'Table females'!D$141)))","v":" "},"",""]
[{"$nulls":6},"",{"$nulls":4},{"$f":"IF(OR(C456=\"\",G456=\"\",H456=\"\",I456=\"\",K456=\"\",B456=Dropdownliste!A$9,J456=\"\"),\"\",IF(B456=\"m\",(VLOOKUP(Eingabeblatt!$G456,'Table males'!$A$3:$E$138,2)+(VLOOKUP(Eingabeblatt!$G456,'Table males'!$A$3:$E$138,3)*Eingabeblatt!I456)+(VLOOKUP(Eingabeblatt!$G456,'Table males'!$A$3:$E$138,4)*Eingabeblatt!H456)+(VLOOKUP(Eingabeblatt!$G456,'Table males'!$A$3:$E$138,5)*(Eingabeblatt!J456+Eingabeblatt!K456)/2)),VLOOKUP(Eingabeblatt!$G456,'Table females'!$A$3:$E$138,2)+(VLOOKUP(Eingabeblatt!$G456,'Table females'!$A$3:$E$138,3)*Eingabeblatt!I456)+(VLOOKUP(Eingabeblatt!$G456,'Table females'!$A$3:$E$138,4)*Eingabeblatt!H456)+(VLOOKUP(Eingabeblatt!$G456,'Table females'!$A$3:$E$138,5)*(Eingabeblatt!J456+Eingabeblatt!K456)/2)))","v":""},{"$f":"CONCATENATE(\" \",IF(OR(J456=\"\",K456=\"\",L456=\"\"),\"\",IF(B456=\"m\",'Table males'!D$141,'Table females'!D$141)))","v":" "},"",""]
[{"$nulls":6},"",{"$nulls":4},{"$f":"IF(OR(C457=\"\",G457=\"\",H457=\"\",I457=\"\",K457=\"\",B457=Dropdownliste!A$9,J457=\"\"),\"\",IF(B457=\"m\",(VLOOKUP(Eingabeblatt!$G457,'Table males'!$A$3:$E$138,2)+(VLOOKUP(Eingabeblatt!$G457,'Table males'!$A$3:$E$138,3)*Eingabeblatt!I457)+(VLOOKUP(Eingabeblatt!$G457,'Table males'!$A$3:$E$138,4)*Eingabeblatt!H457)+(VLOOKUP(Eingabeblatt!$G457,'Table males'!$A$3:$E$138,5)*(Eingabeblatt!J457+Eingabeblatt!K457)/2)),VLOOKUP(Eingabeblatt!$G457,'Table females'!$A$3:$E$138,2)+(VLOOKUP(Eingabeblatt!$G457,'Table females'!$A$3:$E$138,3)*Eingabeblatt!I457)+(VLOOKUP(Eingabeblatt!$G457,'Table females'!$A$3:$E$138,4)*Eingabeblatt!H457)+(VLOOKUP(Eingabeblatt!$G457,'Table females'!$A$3:$E$138,5)*(Eingabeblatt!J457+Eingabeblatt!K457)/2)))","v":""},{"$f":"CONCATENATE(\" \",IF(OR(J457=\"\",K457=\"\",L457=\"\"),\"\",IF(B457=\"m\",'Table males'!D$141,'Table females'!D$141)))","v":" "},"",""]
[{"$nulls":6},"",{"$nulls":4},{"$f":"IF(OR(C458=\"\",G458=\"\",H458=\"\",I458=\"\",K458=\"\",B458=Dropdownliste!A$9,J458=\"\"),\"\",IF(B458=\"m\",(VLOOKUP(Eingabeblatt!$G458,'Table males'!$A$3:$E$138,2)+(VLOOKUP(Eingabeblatt!$G458,'Table males'!$A$3:$E$138,3)*Eingabeblatt!I458)+(VLOOKUP(Eingabeblatt!$G458,'Table males'!$A$3:$E$138,4)*Eingabeblatt!H458)+(VLOOKUP(Eingabeblatt!$G458,'Table males'!$A$3:$E$138,5)*(Eingabeblatt!J458+Eingabeblatt!K458)/2)),VLOOKUP(Eingabeblatt!$G458,'Table females'!$A$3:$E$138,2)+(VLOOKUP(Eingabeblatt!$G458,'Table females'!$A$3:$E$138,3)*Eingabeblatt!I458)+(VLOOKUP(Eingabeblatt!$G458,'Table females'!$A$3:$E$138,4)*Eingabeblatt!H458)+(VLOOKUP(Eingabeblatt!$G458,'Table females'!$A$3:$E$138,5)*(Eingabeblatt!J458+Eingabeblatt!K458)/2)))","v":""},{"$f":"CONCATENATE(\" \",IF(OR(J458=\"\",K458=\"\",L458=\"\"),\"\",IF(B458=\"m\",'Table males'!D$141,'Table females'!D$141)))","v":" "},{"$f":"IF(OR(J458=\"\",K458=\"\",I458=\"\",L458=\"\"),\"\",I458/L458)","v":""},{"$f":"IF(N458=\"\",\"\",IF(N458<0.8,\"vorpubertär / prépubère\",IF(N458<0.9,\"frühpubertär / début de la puberté\",IF(N458<0.95,\"pubertär / pubertaire\",\"spätpubertär / fin de la puberté\"))))","v":""}]
[{"$nulls":6},"",{"$nulls":4},{"$f":"IF(OR(C459=\"\",G459=\"\",H459=\"\",I459=\"\",K459=\"\",B459=Dropdownliste!A$9,J459=\"\"),\"\",IF(B459=\"m\",(VLOOKUP(Eingabeblatt!$G459,'Table males'!$A$3:$E$138,2)+(VLOOKUP(Eingabeblatt!$G459,'Table males'!$A$3:$E$138,3)*Eingabeblatt!I459)+(VLOOKUP(Eingabeblatt!$G459,'Table males'!$A$3:$E$138,4)*Eingabeblatt!H459)+(VLOOKUP(Eingabeblatt!$G459,'Table males'!$A$3:$E$138,5)*(Eingabeblatt!J459+Eingabeblatt!K459)/2)),VLOOKUP(Eingabeblatt!$G459,'Table females'!$A$3:$E$138,2)+(VLOOKUP(Eingabeblatt!$G459,'Table females'!$A$3:$E$138,3)*Eingabeblatt!I459)+(VLOOKUP(Eingabeblatt!$G459,'Table females'!$A$3:$E$138,4)*Eingabeblatt!H459)+(VLOOKUP(Eingabeblatt!$G459,'Table females'!$A$3:$E$138,5)*(Eingabeblatt!J459+Eingabeblatt!K459)/2)))","v":""},{"$f":"CONCATENATE(\" \",IF(OR(J459=\"\",K459=\"\",L459=\"\"),\"\",IF(B459=\"m\",'Table males'!D$141,'Table females'!D$141)))","v":" "},"",""]
[{"$nulls":6},"",{"$nulls":4},{"$f":"IF(OR(C460=\"\",G460=\"\",H460=\"\",I460=\"\",K460=\"\",B460=Dropdownliste!A$9,J460=\"\"),\"\",IF(B460=\"m\",(VLOOKUP(Eingabeblatt!$G460,'Table males'!$A$3:$E$138,2)+(VLOOKUP(Eingabeblatt!$G460,'Table males'!$A$3:$E$138,3)*Eingabeblatt!I460)+(VLOOKUP(Eingabeblatt!$G460,'Table males'!$A$3:$E$138,4)*Eingabeblatt!H460)+(VLOOKUP(Eingabeblatt!$G460,'Table males'!$A$3:$E$138,5)*(Eingabeblatt!J460+Eingabeblatt!K460)/2)),VLOOKUP(Eingabeblatt!$G460,'Table females'!$A$3:$E$138,2)+(VLOOKUP(Eingabeblatt!$G460,'Table females'!$A$3:$E$138,3)*Eingabeblatt!I460)+(VLOOKUP(Eingabeblatt!$G460,'Table females'!$A$3:$E$138,4)*Eingabeblatt!H460)+(VLOOKUP(Eingabeblatt!$G460,'Table females'!$A$3:$E$138,5)*(Eingabeblatt!J460+Eingabeblatt!K460)/2)))","v":""},{"$f":"CONCATENATE(\" \",IF(OR(J460=\"\",K460=\"\",L460=\"\"),\"\",IF(B460=\"m\",'Table males'!D$141,'Table females'!D$141)))","v":" "},"",""]
[{"$nulls":6},"",{"$nulls":4},{"$f":"IF(OR(C461=\"\",G461=\"\",H461=\"\",I461=\"\",K461=\"\",B461=Dropdownliste!A$9,J461=\"\"),\"\",IF(B461=\"m\",(VLOOKUP(Eingabeblatt!$G461,'Table males'!$A$3:$E$138,2)+(VLOOKUP(Eingabeblatt!$G461,'Table males'!$A$3:$E$138,3)*Eingabeblatt!I461)+(VLOOKUP(Eingabeblatt!$G461,'Table males'!$A$3:$E$138,4)*Eingabeblatt!H461)+(VLOOKUP(Eingabeblatt!$G461,'Table males'!$A$3:$E$138,5)*(Eingabeblatt!J461+Eingabeblatt!K461)/2)),VLOOKUP(Eingabeblatt!$G461,'Table females'!$A$3:$E$138,2)+(VLOOKUP(Eingabeblatt!$G461,'Table females'!$A$3:$E$138,3)*Eingabeblatt!I461)+(VLOOKUP(Eingabeblatt!$G461,'Table females'!$A$3:$E$138,4)*Eingabeblatt!H461)+(VLOOKUP(Eingabeblatt!$G461,'Table females'!$A$3:$E$138,5)*(Eingabeblatt!J461+Eingabeblatt!K461)/2)))","v":""},{"$f":"CONCATENATE(\" \",IF(OR(J461=\"\",K461=\"\",L461=\"\"),\"\",IF(B461=\"m\",'Table males'!D$141,'Table females'!D$141)))","v":" "},"",""]
[{"$nulls":6},"",{"$nulls":4},{"$f":"IF(OR(C462=\"\",G462=\"\",H462=\"\",I462=\"\",K462=\"\",B462=Dropdownliste!A$9,J462=\"\"),\"\",IF(B462=\"m\",(VLOOKUP(Eingabeblatt!$G462,'Table males'!$A$3:$E$138,2)+(VLOOKUP(Eingabeblatt!$G462,'Table males'!$A$3:$E$138,3)*Eingabeblatt!I462)+(VLOOKUP(Eingabeblatt!$G462,'Table males'!$A$3:$E$138,4)*Eingabeblatt!H462)+(VLOOKUP(Eingabeblatt!$G462,'Table males'!$A$3:$E$138,5)*(Eingabeblatt!J462+Eingabeblatt!K462)/2)),VLOOKUP(Eingabeblatt!$G462,'Table females'!$A$3:$E$138,2)+(VLOOKUP(Eingabeblatt!$G462,'Table females'!$A$3:$E$138,3)*Eingabeblatt!I462)+(VLOOKUP(Eingabeblatt!$G462,'Table females'!$A$3:$E$138,4)*Eingabeblatt!H462)+(VLOOKUP(Eingabeblatt!$G462,'Table females'!$A$3:$E$138,5)*(Eingabeblatt!J462+Eingabeblatt!K462)/2)))","v":""},{"$f":"CONCATENATE(\" \",IF(OR(J462=\"\",K462=\"\",L462=\"\"),\"\",IF(B462=\"m\",'Table males'!D$141,'Table females'!D$141)))","v":" "},"",""]
[{"$nulls":6},"",{"$nulls":4},{"$f":"IF(OR(C463=\"\",G463=\"\",H463=\"\",I463=\"\",K463=\"\",B463=Dropdownliste!A$9,J463=\"\"),\"\",IF(B463=\"m\",(VLOOKUP(Eingabeblatt!$G463,'Table males'!$A$3:$E$138,2)+(VLOOKUP(Eingabeblatt!$G463,'Table males'!$A$3:$E$138,3)*Eingabeblatt!I463)+(VLOOKUP(Eingabeblatt!$G463,'Table males'!$A$3:$E$138,4)*Eingabeblatt!H463)+(VLOOKUP(Eingabeblatt!$G463,'Table males'!$A$3:$E$138,5)*(Eingabeblatt!J463+Eingabeblatt!K463)/2)),VLOOKUP(Eingabeblatt!$G463,'Table females'!$A$3:$E$138,2)+(VLOOKUP(Eingabeblatt!$G463,'Table females'!$A$3:$E$138,3)*Eingabeblatt!I463)+(VLOOKUP(Eingabeblatt!$G463,'Table females'!$A$3:$E$138,4)*Eingabeblatt!H463)+(VLOOKUP(Eingabeblatt!$G463,'Table females'!$A$3:$E$138,5)*(Eingabeblatt!J463+Eingabeblatt!K463)/2)))","v":""},{"$f":"CONCATENATE(\" \",IF(OR(J463=\"\",K463=\"\",L463=\"\"),\"\",IF(B463=\"m\",'Table males'!D$141,'Table females'!D$141)))","v":" "},"",""]
[{"$nulls":6},"",{"$nulls":4},{"$f":"IF(OR(C464=\"\",G464=\"\",H464=\"\",I464=\"\",K464=\"\",B464=Dropdownliste!A$9,J464=\"\"),\"\",IF(B464=\"m\",(VLOOKUP(Eingabeblatt!$G464,'Table males'!$A$3:$E$138,2)+(VLOOKUP(Eingabeblatt!$G464,'Table males'!$A$3:$E$138,3)*Eingabeblatt!I464)+(VLOOKUP(Eingabeblatt!$G464,'Table males'!$A$3:$E$138,4)*Eingabeblatt!H464)+(VLOOKUP(Eingabeblatt!$G464,'Table males'!$A$3:$E$138,5)*(Eingabeblatt!J464+Eingabeblatt!K464)/2)),VLOOKUP(Eingabeblatt!$G464,'Table females'!$A$3:$E$138,2)+(VLOOKUP(Eingabeblatt!$G464,'Table females'!$A$3:$E$138,3)*Eingabeblatt!I464)+(VLOOKUP(Eingabeblatt!$G464,'Table females'!$A$3:$E$138,4)*Eingabeblatt!H464)+(VLOOKUP(Eingabeblatt!$G464,'Table females'!$A$3:$E$138,5)*(Eingabeblatt!J464+Eingabeblatt!K464)/2)))","v":""},{"$f":"CONCATENATE(\" \",IF(OR(J464=\"\",K464=\"\",L464=\"\"),\"\",IF(B464=\"m\",'Table males'!D$141,'Table females'!D$141)))","v":" "},"",""]
[{"$nulls":6},"",{"$nulls":4},{"$f":"IF(OR(C465=\"\",G465=\"\",H465=\"\",I465=\"\",K465=\"\",B465=Dropdownliste!A$9,J465=\"\"),\"\",IF(B465=\"m\",(VLOOKUP(Eingabeblatt!$G465,'Table males'!$A$3:$E$138,2)+(VLOOKUP(Eingabeblatt!$G465,'Table males'!$A$3:$E$138,3)*Eingabeblatt!I465)+(VLOOKUP(Eingabeblatt!$G465,'Table males'!$A$3:$E$138,4)*Eingabeblatt!H465)+(VLOOKUP(Eingabeblatt!$G465,'Table males'!$A$3:$E$138,5)*(Eingabeblatt!J465+Eingabeblatt!K465)/2)),VLOOKUP(Eingabeblatt!$G465,'Table females'!$A$3:$E$138,2)+(VLOOKUP(Eingabeblatt!$G465,'Table females'!$A$3:$E$138,3)*Eingabeblatt!I465)+(VLOOKUP(Eingabeblatt!$G465,'Table females'!$A$3:$E$138,4)*Eingabeblatt!H465)+(VLOOKUP(Eingabeblatt!$G465,'Table females'!$A$3:$E$138,5)*(Eingabeblatt!J465+Eingabeblatt!K465)/2)))","v":""},{"$f":"CONCATENATE(\" \",IF(OR(J465=\"\",K465=\"\",L465=\"\"),\"\",IF(B465=\"m\",'Table males'!D$141,'Table females'!D$141)))","v":" "},"",""]
[{"$nulls":6},"",{"$nulls":4},{"$f":"IF(OR(C466=\"\",G466=\"\",H466=\"\",I466=\"\",K466=\"\",B466=Dropdownliste!A$9,J466=\"\"),\"\",IF(B466=\"m\",(VLOOKUP(Eingabeblatt!$G466,'Table males'!$A$3:$E$138,2)+(VLOOKUP(Eingabeblatt!$G466,'Table males'!$A$3:$E$138,3)*Eingabeblatt!I466)+(VLOOKUP(Eingabeblatt!$G466,'Table males'!$A$3:$E$138,4)*Eingabeblatt!H466)+(VLOOKUP(Eingabeblatt!$G466,'Table males'!$A$3:$E$138,5)*(Eingabeblatt!J466+Eingabeblatt!K466)/2)),VLOOKUP(Eingabeblatt!$G466,'Table females'!$A$3:$E$138,2)+(VLOOKUP(Eingabeblatt!$G466,'Table females'!$A$3:$E$138,3)*Eingabeblatt!I466)+(VLOOKUP(Eingabeblatt!$G466,'Table females'!$A$3:$E$138,4)*Eingabeblatt!H466)+(VLOOKUP(Eingabeblatt!$G466,'Table females'!$A$3:$E$138,5)*(Eingabeblatt!J466+Eingabeblatt!K466)/2)))","v":""},{"$f":"CONCATENATE(\" \",IF(OR(J466=\"\",K466=\"\",L466=\"\"),\"\",IF(B466=\"m\",'Table males'!D$141,'Table females'!D$141)))","v":" "},"",""]
[{"$nulls":6},"",{"$nulls":4},{"$f":"IF(OR(C467=\"\",G467=\"\",H467=\"\",I467=\"\",K467=\"\",B467=Dropdownliste!A$9,J467=\"\"),\"\",IF(B467=\"m\",(VLOOKUP(Eingabeblatt!$G467,'Table males'!$A$3:$E$138,2)+(VLOOKUP(Eingabeblatt!$G467,'Table males'!$A$3:$E$138,3)*Eingabeblatt!I467)+(VLOOKUP(Eingabeblatt!$G467,'Table males'!$A$3:$E$138,4)*Eingabeblatt!H467)+(VLOOKUP(Eingabeblatt!$G467,'Table males'!$A$3:$E$138,5)*(Eingabeblatt!J467+Eingabeblatt!K467)/2)),VLOOKUP(Eingabeblatt!$G467,'Table females'!$A$3:$E$138,2)+(VLOOKUP(Eingabeblatt!$G467,'Table females'!$A$3:$E$138,3)*Eingabeblatt!I467)+(VLOOKUP(Eingabeblatt!$G467,'Table females'!$A$3:$E$138,4)*Eingabeblatt!H467)+(VLOOKUP(Eingabeblatt!$G467,'Table females'!$A$3:$E$138,5)*(Eingabeblatt!J467+Eingabeblatt!K467)/2)))","v":""},{"$f":"CONCATENATE(\" \",IF(OR(J467=\"\",K467=\"\",L467=\"\"),\"\",IF(B467=\"m\",'Table males'!D$141,'Table females'!D$141)))","v":" "},"",""]
[{"$nulls":6},"",{"$nulls":4},{"$f":"IF(OR(C468=\"\",G468=\"\",H468=\"\",I468=\"\",K468=\"\",B468=Dropdownliste!A$9,J468=\"\"),\"\",IF(B468=\"m\",(VLOOKUP(Eingabeblatt!$G468,'Table males'!$A$3:$E$138,2)+(VLOOKUP(Eingabeblatt!$G468,'Table males'!$A$3:$E$138,3)*Eingabeblatt!I468)+(VLOOKUP(Eingabeblatt!$G468,'Table males'!$A$3:$E$138,4)*Eingabeblatt!H468)+(VLOOKUP(Eingabeblatt!$G468,'Table males'!$A$3:$E$138,5)*(Eingabeblatt!J468+Eingabeblatt!K468)/2)),VLOOKUP(Eingabeblatt!$G468,'Table females'!$A$3:$E$138,2)+(VLOOKUP(Eingabeblatt!$G468,'Table females'!$A$3:$E$138,3)*Eingabeblatt!I468)+(VLOOKUP(Eingabeblatt!$G468,'Table females'!$A$3:$E$138,4)*Eingabeblatt!H468)+(VLOOKUP(Eingabeblatt!$G468,'Table females'!$A$3:$E$138,5)*(Eingabeblatt!J468+Eingabeblatt!K468)/2)))","v":""},{"$f":"CONCATENATE(\" \",IF(OR(J468=\"\",K468=\"\",L468=\"\"),\"\",IF(B468=\"m\",'Table males'!D$141,'Table females'!D$141)))","v":" "},"",""]
[{"$nulls":6},"",{"$nulls":4},{"$f":"IF(OR(C469=\"\",G469=\"\",H469=\"\",I469=\"\",K469=\"\",B469=Dropdownliste!A$9,J469=\"\"),\"\",IF(B469=\"m\",(VLOOKUP(Eingabeblatt!$G469,'Table males'!$A$3:$E$138,2)+(VLOOKUP(Eingabeblatt!$G469,'Table males'!$A$3:$E$138,3)*Eingabeblatt!I469)+(VLOOKUP(Eingabeblatt!$G469,'Table males'!$A$3:$E$138,4)*Eingabeblatt!H469)+(VLOOKUP(Eingabeblatt!$G469,'Table males'!$A$3:$E$138,5)*(Eingabeblatt!J469+Eingabeblatt!K469)/2)),VLOOKUP(Eingabeblatt!$G469,'Table females'!$A$3:$E$138,2)+(VLOOKUP(Eingabeblatt!$G469,'Table females'!$A$3:$E$138,3)*Eingabeblatt!I469)+(VLOOKUP(Eingabeblatt!$G469,'Table females'!$A$3:$E$138,4)*Eingabeblatt!H469)+(VLOOKUP(Eingabeblatt!$G469,'Table females'!$A$3:$E$138,5)*(Eingabeblatt!J469+Eingabeblatt!K469)/2)))","v":""},{"$f":"CONCATENATE(\" \",IF(OR(J469=\"\",K469=\"\",L469=\"\"),\"\",IF(B469=\"m\",'Table males'!D$141,'Table females'!D$141)))","v":" "},"",""]
[{"$nulls":6},"",{"$nulls":4},{"$f":"IF(OR(C470=\"\",G470=\"\",H470=\"\",I470=\"\",K470=\"\",B470=Dropdownliste!A$9,J470=\"\"),\"\",IF(B470=\"m\",(VLOOKUP(Eingabeblatt!$G470,'Table males'!$A$3:$E$138,2)+(VLOOKUP(Eingabeblatt!$G470,'Table males'!$A$3:$E$138,3)*Eingabeblatt!I470)+(VLOOKUP(Eingabeblatt!$G470,'Table males'!$A$3:$E$138,4)*Eingabeblatt!H470)+(VLOOKUP(Eingabeblatt!$G470,'Table males'!$A$3:$E$138,5)*(Eingabeblatt!J470+Eingabeblatt!K470)/2)),VLOOKUP(Eingabeblatt!$G470,'Table females'!$A$3:$E$138,2)+(VLOOKUP(Eingabeblatt!$G470,'Table females'!$A$3:$E$138,3)*Eingabeblatt!I470)+(VLOOKUP(Eingabeblatt!$G470,'Table females'!$A$3:$E$138,4)*Eingabeblatt!H470)+(VLOOKUP(Eingabeblatt!$G470,'Table females'!$A$3:$E$138,5)*(Eingabeblatt!J470+Eingabeblatt!K470)/2)))","v":""},{"$f":"CONCATENATE(\" \",IF(OR(J470=\"\",K470=\"\",L470=\"\"),\"\",IF(B470=\"m\",'Table males'!D$141,'Table females'!D$141)))","v":" "},"",""]
[{"$nulls":6},"",{"$nulls":4},{"$f":"IF(OR(C471=\"\",G471=\"\",H471=\"\",I471=\"\",K471=\"\",B471=Dropdownliste!A$9,J471=\"\"),\"\",IF(B471=\"m\",(VLOOKUP(Eingabeblatt!$G471,'Table males'!$A$3:$E$138,2)+(VLOOKUP(Eingabeblatt!$G471,'Table males'!$A$3:$E$138,3)*Eingabeblatt!I471)+(VLOOKUP(Eingabeblatt!$G471,'Table males'!$A$3:$E$138,4)*Eingabeblatt!H471)+(VLOOKUP(Eingabeblatt!$G471,'Table males'!$A$3:$E$138,5)*(Eingabeblatt!J471+Eingabeblatt!K471)/2)),VLOOKUP(Eingabeblatt!$G471,'Table females'!$A$3:$E$138,2)+(VLOOKUP(Eingabeblatt!$G471,'Table females'!$A$3:$E$138,3)*Eingabeblatt!I471)+(VLOOKUP(Eingabeblatt!$G471,'Table females'!$A$3:$E$138,4)*Eingabeblatt!H471)+(VLOOKUP(Eingabeblatt!$G471,'Table females'!$A$3:$E$138,5)*(Eingabeblatt!J471+Eingabeblatt!K471)/2)))","v":""},{"$f":"CONCATENATE(\" \",IF(OR(J471=\"\",K471=\"\",L471=\"\"),\"\",IF(B471=\"m\",'Table males'!D$141,'Table females'!D$141)))","v":" "},"",""]
[{"$nulls":6},"",{"$nulls":4},{"$f":"IF(OR(C472=\"\",G472=\"\",H472=\"\",I472=\"\",K472=\"\",B472=Dropdownliste!A$9,J472=\"\"),\"\",IF(B472=\"m\",(VLOOKUP(Eingabeblatt!$G472,'Table males'!$A$3:$E$138,2)+(VLOOKUP(Eingabeblatt!$G472,'Table males'!$A$3:$E$138,3)*Eingabeblatt!I472)+(VLOOKUP(Eingabeblatt!$G472,'Table males'!$A$3:$E$138,4)*Eingabeblatt!H472)+(VLOOKUP(Eingabeblatt!$G472,'Table males'!$A$3:$E$138,5)*(Eingabeblatt!J472+Eingabeblatt!K472)/2)),VLOOKUP(Eingabeblatt!$G472,'Table females'!$A$3:$E$138,2)+(VLOOKUP(Eingabeblatt!$G472,'Table females'!$A$3:$E$138,3)*Eingabeblatt!I472)+(VLOOKUP(Eingabeblatt!$G472,'Table females'!$A$3:$E$138,4)*Eingabeblatt!H472)+(VLOOKUP(Eingabeblatt!$G472,'Table females'!$A$3:$E$138,5)*(Eingabeblatt!J472+Eingabeblatt!K472)/2)))","v":""},{"$f":"CONCATENATE(\" \",IF(OR(J472=\"\",K472=\"\",L472=\"\"),\"\",IF(B472=\"m\",'Table males'!D$141,'Table females'!D$141)))","v":" "},"",""]
[{"$nulls":6},"",{"$nulls":4},{"$f":"IF(OR(C473=\"\",G473=\"\",H473=\"\",I473=\"\",K473=\"\",B473=Dropdownliste!A$9,J473=\"\"),\"\",IF(B473=\"m\",(VLOOKUP(Eingabeblatt!$G473,'Table males'!$A$3:$E$138,2)+(VLOOKUP(Eingabeblatt!$G473,'Table males'!$A$3:$E$138,3)*Eingabeblatt!I473)+(VLOOKUP(Eingabeblatt!$G473,'Table males'!$A$3:$E$138,4)*Eingabeblatt!H473)+(VLOOKUP(Eingabeblatt!$G473,'Table males'!$A$3:$E$138,5)*(Eingabeblatt!J473+Eingabeblatt!K473)/2)),VLOOKUP(Eingabeblatt!$G473,'Table females'!$A$3:$E$138,2)+(VLOOKUP(Eingabeblatt!$G473,'Table females'!$A$3:$E$138,3)*Eingabeblatt!I473)+(VLOOKUP(Eingabeblatt!$G473,'Table females'!$A$3:$E$138,4)*Eingabeblatt!H473)+(VLOOKUP(Eingabeblatt!$G473,'Table females'!$A$3:$E$138,5)*(Eingabeblatt!J473+Eingabeblatt!K473)/2)))","v":""},{"$f":"CONCATENATE(\" \",IF(OR(J473=\"\",K473=\"\",L473=\"\"),\"\",IF(B473=\"m\",'Table males'!D$141,'Table females'!D$141)))","v":" "},"",""]
[{"$nulls":6},"",{"$nulls":4},{"$f":"IF(OR(C474=\"\",G474=\"\",H474=\"\",I474=\"\",K474=\"\",B474=Dropdownliste!A$9,J474=\"\"),\"\",IF(B474=\"m\",(VLOOKUP(Eingabeblatt!$G474,'Table males'!$A$3:$E$138,2)+(VLOOKUP(Eingabeblatt!$G474,'Table males'!$A$3:$E$138,3)*Eingabeblatt!I474)+(VLOOKUP(Eingabeblatt!$G474,'Table males'!$A$3:$E$138,4)*Eingabeblatt!H474)+(VLOOKUP(Eingabeblatt!$G474,'Table males'!$A$3:$E$138,5)*(Eingabeblatt!J474+Eingabeblatt!K474)/2)),VLOOKUP(Eingabeblatt!$G474,'Table females'!$A$3:$E$138,2)+(VLOOKUP(Eingabeblatt!$G474,'Table females'!$A$3:$E$138,3)*Eingabeblatt!I474)+(VLOOKUP(Eingabeblatt!$G474,'Table females'!$A$3:$E$138,4)*Eingabeblatt!H474)+(VLOOKUP(Eingabeblatt!$G474,'Table females'!$A$3:$E$138,5)*(Eingabeblatt!J474+Eingabeblatt!K474)/2)))","v":""},{"$f":"CONCATENATE(\" \",IF(OR(J474=\"\",K474=\"\",L474=\"\"),\"\",IF(B474=\"m\",'Table males'!D$141,'Table females'!D$141)))","v":" "},"",""]
[{"$nulls":6},"",{"$nulls":4},{"$f":"IF(OR(C475=\"\",G475=\"\",H475=\"\",I475=\"\",K475=\"\",B475=Dropdownliste!A$9,J475=\"\"),\"\",IF(B475=\"m\",(VLOOKUP(Eingabeblatt!$G475,'Table males'!$A$3:$E$138,2)+(VLOOKUP(Eingabeblatt!$G475,'Table males'!$A$3:$E$138,3)*Eingabeblatt!I475)+(VLOOKUP(Eingabeblatt!$G475,'Table males'!$A$3:$E$138,4)*Eingabeblatt!H475)+(VLOOKUP(Eingabeblatt!$G475,'Table males'!$A$3:$E$138,5)*(Eingabeblatt!J475+Eingabeblatt!K475)/2)),VLOOKUP(Eingabeblatt!$G475,'Table females'!$A$3:$E$138,2)+(VLOOKUP(Eingabeblatt!$G475,'Table females'!$A$3:$E$138,3)*Eingabeblatt!I475)+(VLOOKUP(Eingabeblatt!$G475,'Table females'!$A$3:$E$138,4)*Eingabeblatt!H475)+(VLOOKUP(Eingabeblatt!$G475,'Table females'!$A$3:$E$138,5)*(Eingabeblatt!J475+Eingabeblatt!K475)/2)))","v":""},{"$f":"CONCATENATE(\" \",IF(OR(J475=\"\",K475=\"\",L475=\"\"),\"\",IF(B475=\"m\",'Table males'!D$141,'Table females'!D$141)))","v":" "},"",""]
[{"$nulls":6},"",{"$nulls":4},{"$f":"IF(OR(C476=\"\",G476=\"\",H476=\"\",I476=\"\",K476=\"\",B476=Dropdownliste!A$9,J476=\"\"),\"\",IF(B476=\"m\",(VLOOKUP(Eingabeblatt!$G476,'Table males'!$A$3:$E$138,2)+(VLOOKUP(Eingabeblatt!$G476,'Table males'!$A$3:$E$138,3)*Eingabeblatt!I476)+(VLOOKUP(Eingabeblatt!$G476,'Table males'!$A$3:$E$138,4)*Eingabeblatt!H476)+(VLOOKUP(Eingabeblatt!$G476,'Table males'!$A$3:$E$138,5)*(Eingabeblatt!J476+Eingabeblatt!K476)/2)),VLOOKUP(Eingabeblatt!$G476,'Table females'!$A$3:$E$138,2)+(VLOOKUP(Eingabeblatt!$G476,'Table females'!$A$3:$E$138,3)*Eingabeblatt!I476)+(VLOOKUP(Eingabeblatt!$G476,'Table females'!$A$3:$E$138,4)*Eingabeblatt!H476)+(VLOOKUP(Eingabeblatt!$G476,'Table females'!$A$3:$E$138,5)*(Eingabeblatt!J476+Eingabeblatt!K476)/2)))","v":""},{"$f":"CONCATENATE(\" \",IF(OR(J476=\"\",K476=\"\",L476=\"\"),\"\",IF(B476=\"m\",'Table males'!D$141,'Table females'!D$141)))","v":" "},"",""]
[{"$nulls":6},"",{"$nulls":4},{"$f":"IF(OR(C477=\"\",G477=\"\",H477=\"\",I477=\"\",K477=\"\",B477=Dropdownliste!A$9,J477=\"\"),\"\",IF(B477=\"m\",(VLOOKUP(Eingabeblatt!$G477,'Table males'!$A$3:$E$138,2)+(VLOOKUP(Eingabeblatt!$G477,'Table males'!$A$3:$E$138,3)*Eingabeblatt!I477)+(VLOOKUP(Eingabeblatt!$G477,'Table males'!$A$3:$E$138,4)*Eingabeblatt!H477)+(VLOOKUP(Eingabeblatt!$G477,'Table males'!$A$3:$E$138,5)*(Eingabeblatt!J477+Eingabeblatt!K477)/2)),VLOOKUP(Eingabeblatt!$G477,'Table females'!$A$3:$E$138,2)+(VLOOKUP(Eingabeblatt!$G477,'Table females'!$A$3:$E$138,3)*Eingabeblatt!I477)+(VLOOKUP(Eingabeblatt!$G477,'Table females'!$A$3:$E$138,4)*Eingabeblatt!H477)+(VLOOKUP(Eingabeblatt!$G477,'Table females'!$A$3:$E$138,5)*(Eingabeblatt!J477+Eingabeblatt!K477)/2)))","v":""},{"$f":"CONCATENATE(\" \",IF(OR(J477=\"\",K477=\"\",L477=\"\"),\"\",IF(B477=\"m\",'Table males'!D$141,'Table females'!D$141)))","v":" "},"",""]
[{"$nulls":6},"",{"$nulls":4},{"$f":"IF(OR(C478=\"\",G478=\"\",H478=\"\",I478=\"\",K478=\"\",B478=Dropdownliste!A$9,J478=\"\"),\"\",IF(B478=\"m\",(VLOOKUP(Eingabeblatt!$G478,'Table males'!$A$3:$E$138,2)+(VLOOKUP(Eingabeblatt!$G478,'Table males'!$A$3:$E$138,3)*Eingabeblatt!I478)+(VLOOKUP(Eingabeblatt!$G478,'Table males'!$A$3:$E$138,4)*Eingabeblatt!H478)+(VLOOKUP(Eingabeblatt!$G478,'Table males'!$A$3:$E$138,5)*(Eingabeblatt!J478+Eingabeblatt!K478)/2)),VLOOKUP(Eingabeblatt!$G478,'Table females'!$A$3:$E$138,2)+(VLOOKUP(Eingabeblatt!$G478,'Table females'!$A$3:$E$138,3)*Eingabeblatt!I478)+(VLOOKUP(Eingabeblatt!$G478,'Table females'!$A$3:$E$138,4)*Eingabeblatt!H478)+(VLOOKUP(Eingabeblatt!$G478,'Table females'!$A$3:$E$138,5)*(Eingabeblatt!J478+Eingabeblatt!K478)/2)))","v":""},{"$f":"CONCATENATE(\" \",IF(OR(J478=\"\",K478=\"\",L478=\"\"),\"\",IF(B478=\"m\",'Table males'!D$141,'Table females'!D$141)))","v":" "},"",""]
[{"$nulls":6},"",{"$nulls":4},{"$f":"IF(OR(C479=\"\",G479=\"\",H479=\"\",I479=\"\",K479=\"\",B479=Dropdownliste!A$9,J479=\"\"),\"\",IF(B479=\"m\",(VLOOKUP(Eingabeblatt!$G479,'Table males'!$A$3:$E$138,2)+(VLOOKUP(Eingabeblatt!$G479,'Table males'!$A$3:$E$138,3)*Eingabeblatt!I479)+(VLOOKUP(Eingabeblatt!$G479,'Table males'!$A$3:$E$138,4)*Eingabeblatt!H479)+(VLOOKUP(Eingabeblatt!$G479,'Table males'!$A$3:$E$138,5)*(Eingabeblatt!J479+Eingabeblatt!K479)/2)),VLOOKUP(Eingabeblatt!$G479,'Table females'!$A$3:$E$138,2)+(VLOOKUP(Eingabeblatt!$G479,'Table females'!$A$3:$E$138,3)*Eingabeblatt!I479)+(VLOOKUP(Eingabeblatt!$G479,'Table females'!$A$3:$E$138,4)*Eingabeblatt!H479)+(VLOOKUP(Eingabeblatt!$G479,'Table females'!$A$3:$E$138,5)*(Eingabeblatt!J479+Eingabeblatt!K479)/2)))","v":""},{"$f":"CONCATENATE(\" \",IF(OR(J479=\"\",K479=\"\",L479=\"\"),\"\",IF(B479=\"m\",'Table males'!D$141,'Table females'!D$141)))","v":" "},"",""]
[{"$nulls":6},"",{"$nulls":4},{"$f":"IF(OR(C480=\"\",G480=\"\",H480=\"\",I480=\"\",K480=\"\",B480=Dropdownliste!A$9,J480=\"\"),\"\",IF(B480=\"m\",(VLOOKUP(Eingabeblatt!$G480,'Table males'!$A$3:$E$138,2)+(VLOOKUP(Eingabeblatt!$G480,'Table males'!$A$3:$E$138,3)*Eingabeblatt!I480)+(VLOOKUP(Eingabeblatt!$G480,'Table males'!$A$3:$E$138,4)*Eingabeblatt!H480)+(VLOOKUP(Eingabeblatt!$G480,'Table males'!$A$3:$E$138,5)*(Eingabeblatt!J480+Eingabeblatt!K480)/2)),VLOOKUP(Eingabeblatt!$G480,'Table females'!$A$3:$E$138,2)+(VLOOKUP(Eingabeblatt!$G480,'Table females'!$A$3:$E$138,3)*Eingabeblatt!I480)+(VLOOKUP(Eingabeblatt!$G480,'Table females'!$A$3:$E$138,4)*Eingabeblatt!H480)+(VLOOKUP(Eingabeblatt!$G480,'Table females'!$A$3:$E$138,5)*(Eingabeblatt!J480+Eingabeblatt!K480)/2)))","v":""},{"$f":"CONCATENATE(\" \",IF(OR(J480=\"\",K480=\"\",L480=\"\"),\"\",IF(B480=\"m\",'Table males'!D$141,'Table females'!D$141)))","v":" "},"",""]
[{"$nulls":6},"",{"$nulls":4},{"$f":"IF(OR(C481=\"\",G481=\"\",H481=\"\",I481=\"\",K481=\"\",B481=Dropdownliste!A$9,J481=\"\"),\"\",IF(B481=\"m\",(VLOOKUP(Eingabeblatt!$G481,'Table males'!$A$3:$E$138,2)+(VLOOKUP(Eingabeblatt!$G481,'Table males'!$A$3:$E$138,3)*Eingabeblatt!I481)+(VLOOKUP(Eingabeblatt!$G481,'Table males'!$A$3:$E$138,4)*Eingabeblatt!H481)+(VLOOKUP(Eingabeblatt!$G481,'Table males'!$A$3:$E$138,5)*(Eingabeblatt!J481+Eingabeblatt!K481)/2)),VLOOKUP(Eingabeblatt!$G481,'Table females'!$A$3:$E$138,2)+(VLOOKUP(Eingabeblatt!$G481,'Table females'!$A$3:$E$138,3)*Eingabeblatt!I481)+(VLOOKUP(Eingabeblatt!$G481,'Table females'!$A$3:$E$138,4)*Eingabeblatt!H481)+(VLOOKUP(Eingabeblatt!$G481,'Table females'!$A$3:$E$138,5)*(Eingabeblatt!J481+Eingabeblatt!K481)/2)))","v":""},{"$f":"CONCATENATE(\" \",IF(OR(J481=\"\",K481=\"\",L481=\"\"),\"\",IF(B481=\"m\",'Table males'!D$141,'Table females'!D$141)))","v":" "},"",""]
[{"$nulls":6},"",{"$nulls":4},{"$f":"IF(OR(C482=\"\",G482=\"\",H482=\"\",I482=\"\",K482=\"\",B482=Dropdownliste!A$9,J482=\"\"),\"\",IF(B482=\"m\",(VLOOKUP(Eingabeblatt!$G482,'Table males'!$A$3:$E$138,2)+(VLOOKUP(Eingabeblatt!$G482,'Table males'!$A$3:$E$138,3)*Eingabeblatt!I482)+(VLOOKUP(Eingabeblatt!$G482,'Table males'!$A$3:$E$138,4)*Eingabeblatt!H482)+(VLOOKUP(Eingabeblatt!$G482,'Table males'!$A$3:$E$138,5)*(Eingabeblatt!J482+Eingabeblatt!K482)/2)),VLOOKUP(Eingabeblatt!$G482,'Table females'!$A$3:$E$138,2)+(VLOOKUP(Eingabeblatt!$G482,'Table females'!$A$3:$E$138,3)*Eingabeblatt!I482)+(VLOOKUP(Eingabeblatt!$G482,'Table females'!$A$3:$E$138,4)*Eingabeblatt!H482)+(VLOOKUP(Eingabeblatt!$G482,'Table females'!$A$3:$E$138,5)*(Eingabeblatt!J482+Eingabeblatt!K482)/2)))","v":""},{"$f":"CONCATENATE(\" \",IF(OR(J482=\"\",K482=\"\",L482=\"\"),\"\",IF(B482=\"m\",'Table males'!D$141,'Table females'!D$141)))","v":" "},"",""]
[{"$nulls":6},"",{"$nulls":4},{"$f":"IF(OR(C483=\"\",G483=\"\",H483=\"\",I483=\"\",K483=\"\",B483=Dropdownliste!A$9,J483=\"\"),\"\",IF(B483=\"m\",(VLOOKUP(Eingabeblatt!$G483,'Table males'!$A$3:$E$138,2)+(VLOOKUP(Eingabeblatt!$G483,'Table males'!$A$3:$E$138,3)*Eingabeblatt!I483)+(VLOOKUP(Eingabeblatt!$G483,'Table males'!$A$3:$E$138,4)*Eingabeblatt!H483)+(VLOOKUP(Eingabeblatt!$G483,'Table males'!$A$3:$E$138,5)*(Eingabeblatt!J483+Eingabeblatt!K483)/2)),VLOOKUP(Eingabeblatt!$G483,'Table females'!$A$3:$E$138,2)+(VLOOKUP(Eingabeblatt!$G483,'Table females'!$A$3:$E$138,3)*Eingabeblatt!I483)+(VLOOKUP(Eingabeblatt!$G483,'Table females'!$A$3:$E$138,4)*Eingabeblatt!H483)+(VLOOKUP(Eingabeblatt!$G483,'Table females'!$A$3:$E$138,5)*(Eingabeblatt!J483+Eingabeblatt!K483)/2)))","v":""},{"$f":"CONCATENATE(\" \",IF(OR(J483=\"\",K483=\"\",L483=\"\"),\"\",IF(B483=\"m\",'Table males'!D$141,'Table females'!D$141)))","v":" "},"",""]
[{"$nulls":6},"",{"$nulls":4},{"$f":"IF(OR(C484=\"\",G484=\"\",H484=\"\",I484=\"\",K484=\"\",B484=Dropdownliste!A$9,J484=\"\"),\"\",IF(B484=\"m\",(VLOOKUP(Eingabeblatt!$G484,'Table males'!$A$3:$E$138,2)+(VLOOKUP(Eingabeblatt!$G484,'Table males'!$A$3:$E$138,3)*Eingabeblatt!I484)+(VLOOKUP(Eingabeblatt!$G484,'Table males'!$A$3:$E$138,4)*Eingabeblatt!H484)+(VLOOKUP(Eingabeblatt!$G484,'Table males'!$A$3:$E$138,5)*(Eingabeblatt!J484+Eingabeblatt!K484)/2)),VLOOKUP(Eingabeblatt!$G484,'Table females'!$A$3:$E$138,2)+(VLOOKUP(Eingabeblatt!$G484,'Table females'!$A$3:$E$138,3)*Eingabeblatt!I484)+(VLOOKUP(Eingabeblatt!$G484,'Table females'!$A$3:$E$138,4)*Eingabeblatt!H484)+(VLOOKUP(Eingabeblatt!$G484,'Table females'!$A$3:$E$138,5)*(Eingabeblatt!J484+Eingabeblatt!K484)/2)))","v":""},{"$f":"CONCATENATE(\" \",IF(OR(J484=\"\",K484=\"\",L484=\"\"),\"\",IF(B484=\"m\",'Table males'!D$141,'Table females'!D$141)))","v":" "},"",""]
[{"$nulls":6},"",{"$nulls":4},{"$f":"IF(OR(C485=\"\",G485=\"\",H485=\"\",I485=\"\",K485=\"\",B485=Dropdownliste!A$9,J485=\"\"),\"\",IF(B485=\"m\",(VLOOKUP(Eingabeblatt!$G485,'Table males'!$A$3:$E$138,2)+(VLOOKUP(Eingabeblatt!$G485,'Table males'!$A$3:$E$138,3)*Eingabeblatt!I485)+(VLOOKUP(Eingabeblatt!$G485,'Table males'!$A$3:$E$138,4)*Eingabeblatt!H485)+(VLOOKUP(Eingabeblatt!$G485,'Table males'!$A$3:$E$138,5)*(Eingabeblatt!J485+Eingabeblatt!K485)/2)),VLOOKUP(Eingabeblatt!$G485,'Table females'!$A$3:$E$138,2)+(VLOOKUP(Eingabeblatt!$G485,'Table females'!$A$3:$E$138,3)*Eingabeblatt!I485)+(VLOOKUP(Eingabeblatt!$G485,'Table females'!$A$3:$E$138,4)*Eingabeblatt!H485)+(VLOOKUP(Eingabeblatt!$G485,'Table females'!$A$3:$E$138,5)*(Eingabeblatt!J485+Eingabeblatt!K485)/2)))","v":""},{"$f":"CONCATENATE(\" \",IF(OR(J485=\"\",K485=\"\",L485=\"\"),\"\",IF(B485=\"m\",'Table males'!D$141,'Table females'!D$141)))","v":" "},"",""]
[{"$nulls":6},"",{"$nulls":4},{"$f":"IF(OR(C486=\"\",G486=\"\",H486=\"\",I486=\"\",K486=\"\",B486=Dropdownliste!A$9,J486=\"\"),\"\",IF(B486=\"m\",(VLOOKUP(Eingabeblatt!$G486,'Table males'!$A$3:$E$138,2)+(VLOOKUP(Eingabeblatt!$G486,'Table males'!$A$3:$E$138,3)*Eingabeblatt!I486)+(VLOOKUP(Eingabeblatt!$G486,'Table males'!$A$3:$E$138,4)*Eingabeblatt!H486)+(VLOOKUP(Eingabeblatt!$G486,'Table males'!$A$3:$E$138,5)*(Eingabeblatt!J486+Eingabeblatt!K486)/2)),VLOOKUP(Eingabeblatt!$G486,'Table females'!$A$3:$E$138,2)+(VLOOKUP(Eingabeblatt!$G486,'Table females'!$A$3:$E$138,3)*Eingabeblatt!I486)+(VLOOKUP(Eingabeblatt!$G486,'Table females'!$A$3:$E$138,4)*Eingabeblatt!H486)+(VLOOKUP(Eingabeblatt!$G486,'Table females'!$A$3:$E$138,5)*(Eingabeblatt!J486+Eingabeblatt!K486)/2)))","v":""},{"$f":"CONCATENATE(\" \",IF(OR(J486=\"\",K486=\"\",L486=\"\"),\"\",IF(B486=\"m\",'Table males'!D$141,'Table females'!D$141)))","v":" "},"",""]
[{"$nulls":6},"",{"$nulls":4},{"$f":"IF(OR(C487=\"\",G487=\"\",H487=\"\",I487=\"\",K487=\"\",B487=Dropdownliste!A$9,J487=\"\"),\"\",IF(B487=\"m\",(VLOOKUP(Eingabeblatt!$G487,'Table males'!$A$3:$E$138,2)+(VLOOKUP(Eingabeblatt!$G487,'Table males'!$A$3:$E$138,3)*Eingabeblatt!I487)+(VLOOKUP(Eingabeblatt!$G487,'Table males'!$A$3:$E$138,4)*Eingabeblatt!H487)+(VLOOKUP(Eingabeblatt!$G487,'Table males'!$A$3:$E$138,5)*(Eingabeblatt!J487+Eingabeblatt!K487)/2)),VLOOKUP(Eingabeblatt!$G487,'Table females'!$A$3:$E$138,2)+(VLOOKUP(Eingabeblatt!$G487,'Table females'!$A$3:$E$138,3)*Eingabeblatt!I487)+(VLOOKUP(Eingabeblatt!$G487,'Table females'!$A$3:$E$138,4)*Eingabeblatt!H487)+(VLOOKUP(Eingabeblatt!$G487,'Table females'!$A$3:$E$138,5)*(Eingabeblatt!J487+Eingabeblatt!K487)/2)))","v":""},{"$f":"CONCATENATE(\" \",IF(OR(J487=\"\",K487=\"\",L487=\"\"),\"\",IF(B487=\"m\",'Table males'!D$141,'Table females'!D$141)))","v":" "},"",""]
[{"$nulls":6},"",{"$nulls":4},{"$f":"IF(OR(C488=\"\",G488=\"\",H488=\"\",I488=\"\",K488=\"\",B488=Dropdownliste!A$9,J488=\"\"),\"\",IF(B488=\"m\",(VLOOKUP(Eingabeblatt!$G488,'Table males'!$A$3:$E$138,2)+(VLOOKUP(Eingabeblatt!$G488,'Table males'!$A$3:$E$138,3)*Eingabeblatt!I488)+(VLOOKUP(Eingabeblatt!$G488,'Table males'!$A$3:$E$138,4)*Eingabeblatt!H488)+(VLOOKUP(Eingabeblatt!$G488,'Table males'!$A$3:$E$138,5)*(Eingabeblatt!J488+Eingabeblatt!K488)/2)),VLOOKUP(Eingabeblatt!$G488,'Table females'!$A$3:$E$138,2)+(VLOOKUP(Eingabeblatt!$G488,'Table females'!$A$3:$E$138,3)*Eingabeblatt!I488)+(VLOOKUP(Eingabeblatt!$G488,'Table females'!$A$3:$E$138,4)*Eingabeblatt!H488)+(VLOOKUP(Eingabeblatt!$G488,'Table females'!$A$3:$E$138,5)*(Eingabeblatt!J488+Eingabeblatt!K488)/2)))","v":""},{"$f":"CONCATENATE(\" \",IF(OR(J488=\"\",K488=\"\",L488=\"\"),\"\",IF(B488=\"m\",'Table males'!D$141,'Table females'!D$141)))","v":" "},"",""]
[{"$nulls":6},"",{"$nulls":4},{"$f":"IF(OR(C489=\"\",G489=\"\",H489=\"\",I489=\"\",K489=\"\",B489=Dropdownliste!A$9,J489=\"\"),\"\",IF(B489=\"m\",(VLOOKUP(Eingabeblatt!$G489,'Table males'!$A$3:$E$138,2)+(VLOOKUP(Eingabeblatt!$G489,'Table males'!$A$3:$E$138,3)*Eingabeblatt!I489)+(VLOOKUP(Eingabeblatt!$G489,'Table males'!$A$3:$E$138,4)*Eingabeblatt!H489)+(VLOOKUP(Eingabeblatt!$G489,'Table males'!$A$3:$E$138,5)*(Eingabeblatt!J489+Eingabeblatt!K489)/2)),VLOOKUP(Eingabeblatt!$G489,'Table females'!$A$3:$E$138,2)+(VLOOKUP(Eingabeblatt!$G489,'Table females'!$A$3:$E$138,3)*Eingabeblatt!I489)+(VLOOKUP(Eingabeblatt!$G489,'Table females'!$A$3:$E$138,4)*Eingabeblatt!H489)+(VLOOKUP(Eingabeblatt!$G489,'Table females'!$A$3:$E$138,5)*(Eingabeblatt!J489+Eingabeblatt!K489)/2)))","v":""},{"$f":"CONCATENATE(\" \",IF(OR(J489=\"\",K489=\"\",L489=\"\"),\"\",IF(B489=\"m\",'Table males'!D$141,'Table females'!D$141)))","v":" "},"",""]
[{"$nulls":6},"",{"$nulls":4},{"$f":"IF(OR(C490=\"\",G490=\"\",H490=\"\",I490=\"\",K490=\"\",B490=Dropdownliste!A$9,J490=\"\"),\"\",IF(B490=\"m\",(VLOOKUP(Eingabeblatt!$G490,'Table males'!$A$3:$E$138,2)+(VLOOKUP(Eingabeblatt!$G490,'Table males'!$A$3:$E$138,3)*Eingabeblatt!I490)+(VLOOKUP(Eingabeblatt!$G490,'Table males'!$A$3:$E$138,4)*Eingabeblatt!H490)+(VLOOKUP(Eingabeblatt!$G490,'Table males'!$A$3:$E$138,5)*(Eingabeblatt!J490+Eingabeblatt!K490)/2)),VLOOKUP(Eingabeblatt!$G490,'Table females'!$A$3:$E$138,2)+(VLOOKUP(Eingabeblatt!$G490,'Table females'!$A$3:$E$138,3)*Eingabeblatt!I490)+(VLOOKUP(Eingabeblatt!$G490,'Table females'!$A$3:$E$138,4)*Eingabeblatt!H490)+(VLOOKUP(Eingabeblatt!$G490,'Table females'!$A$3:$E$138,5)*(Eingabeblatt!J490+Eingabeblatt!K490)/2)))","v":""},{"$f":"CONCATENATE(\" \",IF(OR(J490=\"\",K490=\"\",L490=\"\"),\"\",IF(B490=\"m\",'Table males'!D$141,'Table females'!D$141)))","v":" "},"",""]
[{"$nulls":6},"",{"$nulls":4},{"$f":"IF(OR(C491=\"\",G491=\"\",H491=\"\",I491=\"\",K491=\"\",B491=Dropdownliste!A$9,J491=\"\"),\"\",IF(B491=\"m\",(VLOOKUP(Eingabeblatt!$G491,'Table males'!$A$3:$E$138,2)+(VLOOKUP(Eingabeblatt!$G491,'Table males'!$A$3:$E$138,3)*Eingabeblatt!I491)+(VLOOKUP(Eingabeblatt!$G491,'Table males'!$A$3:$E$138,4)*Eingabeblatt!H491)+(VLOOKUP(Eingabeblatt!$G491,'Table males'!$A$3:$E$138,5)*(Eingabeblatt!J491+Eingabeblatt!K491)/2)),VLOOKUP(Eingabeblatt!$G491,'Table females'!$A$3:$E$138,2)+(VLOOKUP(Eingabeblatt!$G491,'Table females'!$A$3:$E$138,3)*Eingabeblatt!I491)+(VLOOKUP(Eingabeblatt!$G491,'Table females'!$A$3:$E$138,4)*Eingabeblatt!H491)+(VLOOKUP(Eingabeblatt!$G491,'Table females'!$A$3:$E$138,5)*(Eingabeblatt!J491+Eingabeblatt!K491)/2)))","v":""},{"$f":"CONCATENATE(\" \",IF(OR(J491=\"\",K491=\"\",L491=\"\"),\"\",IF(B491=\"m\",'Table males'!D$141,'Table females'!D$141)))","v":" "},"",""]
[{"$nulls":6},"",{"$nulls":4},{"$f":"IF(OR(C492=\"\",G492=\"\",H492=\"\",I492=\"\",K492=\"\",B492=Dropdownliste!A$9,J492=\"\"),\"\",IF(B492=\"m\",(VLOOKUP(Eingabeblatt!$G492,'Table males'!$A$3:$E$138,2)+(VLOOKUP(Eingabeblatt!$G492,'Table males'!$A$3:$E$138,3)*Eingabeblatt!I492)+(VLOOKUP(Eingabeblatt!$G492,'Table males'!$A$3:$E$138,4)*Eingabeblatt!H492)+(VLOOKUP(Eingabeblatt!$G492,'Table males'!$A$3:$E$138,5)*(Eingabeblatt!J492+Eingabeblatt!K492)/2)),VLOOKUP(Eingabeblatt!$G492,'Table females'!$A$3:$E$138,2)+(VLOOKUP(Eingabeblatt!$G492,'Table females'!$A$3:$E$138,3)*Eingabeblatt!I492)+(VLOOKUP(Eingabeblatt!$G492,'Table females'!$A$3:$E$138,4)*Eingabeblatt!H492)+(VLOOKUP(Eingabeblatt!$G492,'Table females'!$A$3:$E$138,5)*(Eingabeblatt!J492+Eingabeblatt!K492)/2)))","v":""},{"$f":"CONCATENATE(\" \",IF(OR(J492=\"\",K492=\"\",L492=\"\"),\"\",IF(B492=\"m\",'Table males'!D$141,'Table females'!D$141)))","v":" "},"",""]
[{"$nulls":6},"",{"$nulls":4},{"$f":"IF(OR(C493=\"\",G493=\"\",H493=\"\",I493=\"\",K493=\"\",B493=Dropdownliste!A$9,J493=\"\"),\"\",IF(B493=\"m\",(VLOOKUP(Eingabeblatt!$G493,'Table males'!$A$3:$E$138,2)+(VLOOKUP(Eingabeblatt!$G493,'Table males'!$A$3:$E$138,3)*Eingabeblatt!I493)+(VLOOKUP(Eingabeblatt!$G493,'Table males'!$A$3:$E$138,4)*Eingabeblatt!H493)+(VLOOKUP(Eingabeblatt!$G493,'Table males'!$A$3:$E$138,5)*(Eingabeblatt!J493+Eingabeblatt!K493)/2)),VLOOKUP(Eingabeblatt!$G493,'Table females'!$A$3:$E$138,2)+(VLOOKUP(Eingabeblatt!$G493,'Table females'!$A$3:$E$138,3)*Eingabeblatt!I493)+(VLOOKUP(Eingabeblatt!$G493,'Table females'!$A$3:$E$138,4)*Eingabeblatt!H493)+(VLOOKUP(Eingabeblatt!$G493,'Table females'!$A$3:$E$138,5)*(Eingabeblatt!J493+Eingabeblatt!K493)/2)))","v":""},{"$f":"CONCATENATE(\" \",IF(OR(J493=\"\",K493=\"\",L493=\"\"),\"\",IF(B493=\"m\",'Table males'!D$141,'Table females'!D$141)))","v":" "},"",""]
[{"$nulls":6},"",{"$nulls":4},{"$f":"IF(OR(C494=\"\",G494=\"\",H494=\"\",I494=\"\",K494=\"\",B494=Dropdownliste!A$9,J494=\"\"),\"\",IF(B494=\"m\",(VLOOKUP(Eingabeblatt!$G494,'Table males'!$A$3:$E$138,2)+(VLOOKUP(Eingabeblatt!$G494,'Table males'!$A$3:$E$138,3)*Eingabeblatt!I494)+(VLOOKUP(Eingabeblatt!$G494,'Table males'!$A$3:$E$138,4)*Eingabeblatt!H494)+(VLOOKUP(Eingabeblatt!$G494,'Table males'!$A$3:$E$138,5)*(Eingabeblatt!J494+Eingabeblatt!K494)/2)),VLOOKUP(Eingabeblatt!$G494,'Table females'!$A$3:$E$138,2)+(VLOOKUP(Eingabeblatt!$G494,'Table females'!$A$3:$E$138,3)*Eingabeblatt!I494)+(VLOOKUP(Eingabeblatt!$G494,'Table females'!$A$3:$E$138,4)*Eingabeblatt!H494)+(VLOOKUP(Eingabeblatt!$G494,'Table females'!$A$3:$E$138,5)*(Eingabeblatt!J494+Eingabeblatt!K494)/2)))","v":""},{"$f":"CONCATENATE(\" \",IF(OR(J494=\"\",K494=\"\",L494=\"\"),\"\",IF(B494=\"m\",'Table males'!D$141,'Table females'!D$141)))","v":" "},"",""]
[{"$nulls":6},"",{"$nulls":4},{"$f":"IF(OR(C495=\"\",G495=\"\",H495=\"\",I495=\"\",K495=\"\",B495=Dropdownliste!A$9,J495=\"\"),\"\",IF(B495=\"m\",(VLOOKUP(Eingabeblatt!$G495,'Table males'!$A$3:$E$138,2)+(VLOOKUP(Eingabeblatt!$G495,'Table males'!$A$3:$E$138,3)*Eingabeblatt!I495)+(VLOOKUP(Eingabeblatt!$G495,'Table males'!$A$3:$E$138,4)*Eingabeblatt!H495)+(VLOOKUP(Eingabeblatt!$G495,'Table males'!$A$3:$E$138,5)*(Eingabeblatt!J495+Eingabeblatt!K495)/2)),VLOOKUP(Eingabeblatt!$G495,'Table females'!$A$3:$E$138,2)+(VLOOKUP(Eingabeblatt!$G495,'Table females'!$A$3:$E$138,3)*Eingabeblatt!I495)+(VLOOKUP(Eingabeblatt!$G495,'Table females'!$A$3:$E$138,4)*Eingabeblatt!H495)+(VLOOKUP(Eingabeblatt!$G495,'Table females'!$A$3:$E$138,5)*(Eingabeblatt!J495+Eingabeblatt!K495)/2)))","v":""},{"$f":"CONCATENATE(\" \",IF(OR(J495=\"\",K495=\"\",L495=\"\"),\"\",IF(B495=\"m\",'Table males'!D$141,'Table females'!D$141)))","v":" "},"",""]
[{"$nulls":6},"",{"$nulls":4},{"$f":"IF(OR(C496=\"\",G496=\"\",H496=\"\",I496=\"\",K496=\"\",B496=Dropdownliste!A$9,J496=\"\"),\"\",IF(B496=\"m\",(VLOOKUP(Eingabeblatt!$G496,'Table males'!$A$3:$E$138,2)+(VLOOKUP(Eingabeblatt!$G496,'Table males'!$A$3:$E$138,3)*Eingabeblatt!I496)+(VLOOKUP(Eingabeblatt!$G496,'Table males'!$A$3:$E$138,4)*Eingabeblatt!H496)+(VLOOKUP(Eingabeblatt!$G496,'Table males'!$A$3:$E$138,5)*(Eingabeblatt!J496+Eingabeblatt!K496)/2)),VLOOKUP(Eingabeblatt!$G496,'Table females'!$A$3:$E$138,2)+(VLOOKUP(Eingabeblatt!$G496,'Table females'!$A$3:$E$138,3)*Eingabeblatt!I496)+(VLOOKUP(Eingabeblatt!$G496,'Table females'!$A$3:$E$138,4)*Eingabeblatt!H496)+(VLOOKUP(Eingabeblatt!$G496,'Table females'!$A$3:$E$138,5)*(Eingabeblatt!J496+Eingabeblatt!K496)/2)))","v":""},{"$f":"CONCATENATE(\" \",IF(OR(J496=\"\",K496=\"\",L496=\"\"),\"\",IF(B496=\"m\",'Table males'!D$141,'Table females'!D$141)))","v":" "},"",""]
[{"$nulls":6},"",{"$nulls":4},{"$f":"IF(OR(C497=\"\",G497=\"\",H497=\"\",I497=\"\",K497=\"\",B497=Dropdownliste!A$9,J497=\"\"),\"\",IF(B497=\"m\",(VLOOKUP(Eingabeblatt!$G497,'Table males'!$A$3:$E$138,2)+(VLOOKUP(Eingabeblatt!$G497,'Table males'!$A$3:$E$138,3)*Eingabeblatt!I497)+(VLOOKUP(Eingabeblatt!$G497,'Table males'!$A$3:$E$138,4)*Eingabeblatt!H497)+(VLOOKUP(Eingabeblatt!$G497,'Table males'!$A$3:$E$138,5)*(Eingabeblatt!J497+Eingabeblatt!K497)/2)),VLOOKUP(Eingabeblatt!$G497,'Table females'!$A$3:$E$138,2)+(VLOOKUP(Eingabeblatt!$G497,'Table females'!$A$3:$E$138,3)*Eingabeblatt!I497)+(VLOOKUP(Eingabeblatt!$G497,'Table females'!$A$3:$E$138,4)*Eingabeblatt!H497)+(VLOOKUP(Eingabeblatt!$G497,'Table females'!$A$3:$E$138,5)*(Eingabeblatt!J497+Eingabeblatt!K497)/2)))","v":""},{"$f":"CONCATENATE(\" \",IF(OR(J497=\"\",K497=\"\",L497=\"\"),\"\",IF(B497=\"m\",'Table males'!D$141,'Table females'!D$141)))","v":" "},"",""]
[{"$nulls":6},"",{"$nulls":4},{"$f":"IF(OR(C498=\"\",G498=\"\",H498=\"\",I498=\"\",K498=\"\",B498=Dropdownliste!A$9,J498=\"\"),\"\",IF(B498=\"m\",(VLOOKUP(Eingabeblatt!$G498,'Table males'!$A$3:$E$138,2)+(VLOOKUP(Eingabeblatt!$G498,'Table males'!$A$3:$E$138,3)*Eingabeblatt!I498)+(VLOOKUP(Eingabeblatt!$G498,'Table males'!$A$3:$E$138,4)*Eingabeblatt!H498)+(VLOOKUP(Eingabeblatt!$G498,'Table males'!$A$3:$E$138,5)*(Eingabeblatt!J498+Eingabeblatt!K498)/2)),VLOOKUP(Eingabeblatt!$G498,'Table females'!$A$3:$E$138,2)+(VLOOKUP(Eingabeblatt!$G498,'Table females'!$A$3:$E$138,3)*Eingabeblatt!I498)+(VLOOKUP(Eingabeblatt!$G498,'Table females'!$A$3:$E$138,4)*Eingabeblatt!H498)+(VLOOKUP(Eingabeblatt!$G498,'Table females'!$A$3:$E$138,5)*(Eingabeblatt!J498+Eingabeblatt!K498)/2)))","v":""},{"$f":"CONCATENATE(\" \",IF(OR(J498=\"\",K498=\"\",L498=\"\"),\"\",IF(B498=\"m\",'Table males'!D$141,'Table females'!D$141)))","v":" "},"",""]
[{"$nulls":6},"",{"$nulls":4},{"$f":"IF(OR(C499=\"\",G499=\"\",H499=\"\",I499=\"\",K499=\"\",B499=Dropdownliste!A$9,J499=\"\"),\"\",IF(B499=\"m\",(VLOOKUP(Eingabeblatt!$G499,'Table males'!$A$3:$E$138,2)+(VLOOKUP(Eingabeblatt!$G499,'Table males'!$A$3:$E$138,3)*Eingabeblatt!I499)+(VLOOKUP(Eingabeblatt!$G499,'Table males'!$A$3:$E$138,4)*Eingabeblatt!H499)+(VLOOKUP(Eingabeblatt!$G499,'Table males'!$A$3:$E$138,5)*(Eingabeblatt!J499+Eingabeblatt!K499)/2)),VLOOKUP(Eingabeblatt!$G499,'Table females'!$A$3:$E$138,2)+(VLOOKUP(Eingabeblatt!$G499,'Table females'!$A$3:$E$138,3)*Eingabeblatt!I499)+(VLOOKUP(Eingabeblatt!$G499,'Table females'!$A$3:$E$138,4)*Eingabeblatt!H499)+(VLOOKUP(Eingabeblatt!$G499,'Table females'!$A$3:$E$138,5)*(Eingabeblatt!J499+Eingabeblatt!K499)/2)))","v":""},{"$f":"CONCATENATE(\" \",IF(OR(J499=\"\",K499=\"\",L499=\"\"),\"\",IF(B499=\"m\",'Table males'!D$141,'Table females'!D$141)))","v":" "},"",""]
[{"$nulls":6},"",{"$nulls":4},{"$f":"IF(OR(C500=\"\",G500=\"\",H500=\"\",I500=\"\",K500=\"\",B500=Dropdownliste!A$9,J500=\"\"),\"\",IF(B500=\"m\",(VLOOKUP(Eingabeblatt!$G500,'Table males'!$A$3:$E$138,2)+(VLOOKUP(Eingabeblatt!$G500,'Table males'!$A$3:$E$138,3)*Eingabeblatt!I500)+(VLOOKUP(Eingabeblatt!$G500,'Table males'!$A$3:$E$138,4)*Eingabeblatt!H500)+(VLOOKUP(Eingabeblatt!$G500,'Table males'!$A$3:$E$138,5)*(Eingabeblatt!J500+Eingabeblatt!K500)/2)),VLOOKUP(Eingabeblatt!$G500,'Table females'!$A$3:$E$138,2)+(VLOOKUP(Eingabeblatt!$G500,'Table females'!$A$3:$E$138,3)*Eingabeblatt!I500)+(VLOOKUP(Eingabeblatt!$G500,'Table females'!$A$3:$E$138,4)*Eingabeblatt!H500)+(VLOOKUP(Eingabeblatt!$G500,'Table females'!$A$3:$E$138,5)*(Eingabeblatt!J500+Eingabeblatt!K500)/2)))","v":""},{"$f":"CONCATENATE(\" \",IF(OR(J500=\"\",K500=\"\",L500=\"\"),\"\",IF(B500=\"m\",'Table males'!D$141,'Table females'!D$141)))","v":" "},"",""]
[{"$nulls":6},"",{"$nulls":4},{"$f":"IF(OR(C501=\"\",G501=\"\",H501=\"\",I501=\"\",K501=\"\",B501=Dropdownliste!A$9,J501=\"\"),\"\",IF(B501=\"m\",(VLOOKUP(Eingabeblatt!$G501,'Table males'!$A$3:$E$138,2)+(VLOOKUP(Eingabeblatt!$G501,'Table males'!$A$3:$E$138,3)*Eingabeblatt!I501)+(VLOOKUP(Eingabeblatt!$G501,'Table males'!$A$3:$E$138,4)*Eingabeblatt!H501)+(VLOOKUP(Eingabeblatt!$G501,'Table males'!$A$3:$E$138,5)*(Eingabeblatt!J501+Eingabeblatt!K501)/2)),VLOOKUP(Eingabeblatt!$G501,'Table females'!$A$3:$E$138,2)+(VLOOKUP(Eingabeblatt!$G501,'Table females'!$A$3:$E$138,3)*Eingabeblatt!I501)+(VLOOKUP(Eingabeblatt!$G501,'Table females'!$A$3:$E$138,4)*Eingabeblatt!H501)+(VLOOKUP(Eingabeblatt!$G501,'Table females'!$A$3:$E$138,5)*(Eingabeblatt!J501+Eingabeblatt!K501)/2)))","v":""},{"$f":"CONCATENATE(\" \",IF(OR(J501=\"\",K501=\"\",L501=\"\"),\"\",IF(B501=\"m\",'Table males'!D$141,'Table females'!D$141)))","v":" "},"",""]

{"sheet":"Table males","index":3,"n_rows":141,"n_cols":10,"rows_kept":141,"hidden":true,"merged":[[0,0,0,4],[139,0,139,1],[140,0,140,1]]}
["Table l. Coeffs for males"]
["Age","B0","height","weight","Midparent",null,"B0","Stature","Weight","Midparent"]
[{"v":4,"d":"4.0"},-26.0521,1.23812,-0.48849,0.50286,null,{"$f":"(B3-B8)/5","v":0.23481999999999986},{"$f":"(C3-C8)/5","v":0.015696000000000022},{"$f":"(D3-D8)/5","v":-0.014313999999999993},-0.005201999999999996]
[4.1,{"$f":"B3-G3","v":-26.28692},{"$f":"C3-H3","v":1.2224240000000002},-0.474176,0.508062,null,{"$f":"(B3-B8)/5","v":0.23481999999999986},{"$f":"(C3-C8)/5","v":0.015696000000000022},-0.014313999999999993,-0.005201999999999996]
[4.2,{"$f":"B4-G4","v":-26.521739999999998},1.2067280000000002,-0.459862,0.513264,null,{"$f":"(B3-B8)/5","v":0.23481999999999986},{"$f":"(C3-C8)/5","v":0.015696000000000022},-0.014313999999999993,-0.005201999999999996]
[4.3,-26.756559999999997,1.1910320000000003,-0.445548,0.5184660000000001,null,{"$f":"(B3-B8)/5","v":0.23481999999999986},{"$f":"(C3-C8)/5","v":0.015696000000000022},-0.014313999999999993,-0.005201999999999996]
[4.4,-26.991379999999996,1.1753360000000004,-0.431234,0.5236680000000001,null,{"$f":"(B3-B8)/5","v":0.23481999999999986},{"$f":"(C3-C8)/5","v":0.015696000000000022},-0.014313999999999993,-0.005201999999999996]
[4.5,-27.2262,1.15964,-0.41692,0.52887,null,{"$f":"(B8-B13)/5","v":0.15360000000000013},{"$f":"(C8-C13)/5","v":0.010633999999999987},{"$f":"(D8-D13)/5","v":-0.010836000000000002},-2.063999999999999E-3]
[4.6,{"$f":"B8-G8","v":-27.3798},{"$f":"C8-H8","v":1.149006},{"$f":"D8-I8","v":-0.406084},{"$f":"E8-J8","v":0.5309339999999999},null,{"$f":"(B8-B13)/5","v":0.15360000000000013},{"$f":"(C8-C13)/5","v":0.010633999999999987},{"$f":"(D8-D13)/5","v":-0.010836000000000002},{"$f":"(E8-E13)/5","v":-2.063999999999999E-3}]
[4.7,{"$f":"B9-G9","v":-27.5334},1.138372,-0.395248,0.5329979999999999,null,{"$f":"(B8-B13)/5","v":0.15360000000000013},{"$f":"(C8-C13)/5","v":0.010633999999999987},{"$f":"(D8-D13)/5","v":-0.010836000000000002},{"$f":"(E8-E13)/5","v":-2.063999999999999E-3}]
[4.8,-27.687,1.127738,-0.384412,0.5350619999999998,null,{"$f":"(B8-B13)/5","v":0.15360000000000013},{"$f":"(C8-C13)/5","v":0.010633999999999987},{"$f":"(D8-D13)/5","v":-0.010836000000000002},{"$f":"(E8-E13)/5","v":-2.063999999999999E-3}]
[4.9,-27.840600000000002,1.1171039999999999,-0.37357599999999996,0.5371259999999998,null,{"$f":"(B8-B13)/5","v":0.15360000000000013},{"$f":"(C8-C13)/5","v":0.010633999999999987},{"$f":"(D8-D13)/5","v":-0.010836000000000002},{"$f":"(E8-E13)/5","v":-2.063999999999999E-3}]
[{"v":5,"d":"5.0"},-27.9942,1.10647,-0.36274,0.53919,null,{"$f":"(B13-B18)/5","v":0.06824000000000012},{"$f":"(C13-C18)/5","v":0.006334000000000018},{"$f":"(D13-D18)/5","v":-0.00786},4.5599999999998973E-4]
[5.1,{"$f":"B13-G13","v":-28.06244},{"$f":"C13-H13","v":1.100136},{"$f":"D13-I13","v":-0.35488000000000003},{"$f":"E13-J13","v":0.5387339999999999},null,{"$f":"(B13-B18)/5","v":0.06824000000000012},{"$f":"(C13-C18)/5","v":0.006334000000000018},{"$f":"(D13-D18)/5","v":-0.00786},{"$f":"(E13-E18)/5","v":4.5599999999998973E-4}]
[5.2,{"$f":"B14-G14","v":-28.130679999999998},1.093802,-0.34702000000000005,0.5382779999999999,null,{"$f":"(B13-B18)/5","v":0.06824000000000012},{"$f":"(C13-C18)/5","v":0.006334000000000018},{"$f":"(D13-D18)/5","v":-0.00786},{"$f":"(E13-E18)/5","v":4.5599999999998973E-4}]
[5.3,-28.198919999999998,1.0874679999999999,-0.3391600000000001,0.5378219999999999,null,{"$f":"(B13-B18)/5","v":0.06824000000000012},{"$f":"(C13-C18)/5","v":0.006334000000000018},{"$f":"(D13-D18)/5","v":-0.00786},{"$f":"(E13-E18)/5","v":4.5599999999998973E-4}]
[5.4,-28.267159999999997,1.0811339999999998,-0.3313000000000001,0.5373659999999999,null,{"$f":"(B13-B18)/5","v":0.06824000000000012},{"$f":"(C13-C18)/5","v":0.006334000000000018},{"$f":"(D13-D18)/5","v":-0.00786},{"$f":"(E13-E18)/5","v":4.5599999999998973E-4}]
[5.5,-28.3354,{"v":1.0748,"d":"1.07480"},-0.32344,0.53691,null,{"$f":"(B18-B23)/5","v":-0.02126000000000019},{"$f":"(C18-C23)/5","v":0.003114000000000017},{"$f":"(D18-D23)/5","v":-0.005390000000000006},2.3560000000000026E-3]
[5.6,{"$f":"B18-G18","v":-28.31414},{"$f":"C18-H18","v":1.071686},{"$f":"D18-I18","v":-0.31805},{"$f":"E18-J18","v":0.534554},null,{"$f":"(B18-B23)/5","v":-0.02126000000000019},{"$f":"(C18-C23)/5","v":0.003114000000000017},{"$f":"(D18-D23)/5","v":-0.005390000000000006},{"$f":"(E18-E23)/5","v":2.3560000000000026E-3}]
[5.7,{"$f":"B19-G19","v":-28.292879999999997},1.0685719999999999,-0.31266,0.532198,null,{"$f":"(B18-B23)/5","v":-0.02126000000000019},{"$f":"(C18-C23)/5","v":0.003114000000000017},{"$f":"(D18-D23)/5","v":-0.005390000000000006},{"$f":"(E18-E23)/5","v":2.3560000000000026E-3}]
[5.8,-28.271619999999995,1.0654579999999998,-0.30727,0.5298419999999999,null,{"$f":"(B18-B23)/5","v":-0.02126000000000019},{"$f":"(C18-C23)/5","v":0.003114000000000017},{"$f":"(D18-D23)/5","v":-0.005390000000000006},{"$f":"(E18-E23)/5","v":2.3560000000000026E-3}]
[5.9,-28.250359999999993,1.0623439999999997,-0.30188,0.5274859999999999,null,{"$f":"(B18-B23)/5","v":-0.02126000000000019},{"$f":"(C18-C23)/5","v":0.003114000000000017},{"$f":"(D18-D23)/5","v":-0.005390000000000006},{"$f":"(E18-E23)/5","v":2.3560000000000026E-3}]
[{"v":6,"d":"6.0"},-28.2291,1.05923,-0.29649,0.52513,null,{"$f":"(B23-B28)/5","v":-0.04655999999999949},{"$f":"(C23-C28)/5","v":7.6199999999997385E-4},{"$f":"(D23-D28)/5","v":-0.003421999999999992},0.00364199999999999]
[6.1,{"$f":"B23-G23","v":-28.18254},{"$f":"C23-H23","v":1.058468},{"$f":"D23-I23","v":-0.293068},{"$f":"E23-J23","v":0.521488},null,{"$f":"(B23-B28)/5","v":-0.04655999999999949},{"$f":"(C23-C28)/5","v":7.6199999999997385E-4},{"$f":"(D23-D28)/5","v":-0.003421999999999992},{"$f":"(E23-E28)/5","v":0.00364199999999999}]
[6.2,{"$f":"B24-G24","v":-28.13598},1.057706,-0.289646,0.5178459999999999,null,{"$f":"(B23-B28)/5","v":-0.04655999999999949},{"$f":"(C23-C28)/5","v":7.6199999999997385E-4},{"$f":"(D23-D28)/5","v":-0.003421999999999992},{"$f":"(E23-E28)/5","v":0.00364199999999999}]
[{"v":6.30000000000001,"d":"6.3"},-28.08942,1.056944,-0.28622400000000003,0.5142039999999999,null,{"$f":"(B23-B28)/5","v":-0.04655999999999949},{"$f":"(C23-C28)/5","v":7.6199999999997385E-4},{"$f":"(D23-D28)/5","v":-0.003421999999999992},{"$f":"(E23-E28)/5","v":0.00364199999999999}]
[{"v":6.40000000000001,"d":"6.4"},-28.04286,1.0561820000000002,-0.28280200000000005,0.5105619999999998,null,{"$f":"(B23-B28)/5","v":-0.04655999999999949},{"$f":"(C23-C28)/5","v":7.6199999999997385E-4},{"$f":"(D23-D28)/5","v":-0.003421999999999992},{"$f":"(E23-E28)/5","v":0.00364199999999999}]
[6.5,-27.9963,1.05542,-0.27938,0.50692,null,{"$f":"(B28-B33)/5","v":-0.012040000000000361},{"$f":"(C28-C33)/5","v":-6.6999999999999287E-4},{"$f":"(D28-D33)/5","v":-1.958000000000004E-3},4.3080000000000115E-3]
[{"v":6.60000000000001,"d":"6.6"},{"$f":"B28-G28","v":-27.984260000000003},{"$f":"C28-H28","v":1.05609},{"$f":"D28-I28","v":-0.277422},{"$f":"E28-J28","v":0.5026120000000001},null,{"$f":"(B28-B33)/5","v":-0.012040000000000361},{"$f":"(C28-C33)/5","v":-6.6999999999999287E-4},{"$f":"(D28-D33)/5","v":-1.958000000000004E-3},{"$f":"(E28-E33)/5","v":4.3080000000000115E-3}]
[{"v":6.70000000000001,"d":"6.7"},{"$f":"B29-G29","v":-27.972220000000004},1.05676,-0.275464,0.498304,null,{"$f":"(B28-B33)/5","v":-0.012040000000000361},{"$f":"(C28-C33)/5","v":-6.6999999999999287E-4},{"$f":"(D28-D33)/5","v":-1.958000000000004E-3},{"$f":"(E28-E33)/5","v":4.3080000000000115E-3}]
[{"v":6.80000000000001,"d":"6.8"},-27.960180000000005,1.0574299999999999,-0.27350599999999997,0.493996,null,{"$f":"(B28-B33)/5","v":-0.012040000000000361},{"$f":"(C28-C33)/5","v":-6.6999999999999287E-4},{"$f":"(D28-D33)/5","v":-1.958000000000004E-3},{"$f":"(E28-E33)/5","v":4.3080000000000115E-3}]
[{"v":6.90000000000001,"d":"6.9"},-27.948140000000006,1.0580999999999998,-0.27154799999999996,0.48968799999999996,null,{"$f":"(B28-B33)/5","v":-0.012040000000000361},{"$f":"(C28-C33)/5","v":-6.6999999999999287E-4},{"$f":"(D28-D33)/5","v":-1.958000000000004E-3},{"$f":"(E28-E33)/5","v":4.3080000000000115E-3}]
[{"v":7,"d":"7.0"},-27.9361,1.05877,-0.26959,0.48538,null,{"$f":"(B33-B38)/5","v":0.011639999999999873},{"$f":"(C33-C38)/5","v":-1.1800000000000033E-3},{"$f":"(D33-D38)/5","v":-9.9399999999999489E-4},4.3539999999999916E-3]
[{"v":7.10000000000001,"d":"7.1"},{"$f":"B33-G33","v":-27.94774},{"$f":"C33-H33","v":1.05995},{"$f":"D33-I33","v":-0.268596},{"$f":"E33-J33","v":0.481026},null,{"$f":"(B33-B38)/5","v":0.011639999999999873},{"$f":"(C33-C38)/5","v":-1.1800000000000033E-3},{"$f":"(D33-D38)/5","v":-9.9399999999999489E-4},{"$f":"(E33-E38)/5","v":4.3539999999999916E-3}]
[{"v":7.20000000000001,"d":"7.2"},{"$f":"B34-G34","v":-27.95938},1.06113,-0.267602,0.47667200000000004,null,{"$f":"(B33-B38)/5","v":0.011639999999999873},{"$f":"(C33-C38)/5","v":-1.1800000000000033E-3},{"$f":"(D33-D38)/5","v":-9.9399999999999489E-4},{"$f":"(E33-E38)/5","v":4.3539999999999916E-3}]
[{"v":7.30000000000001,"d":"7.3"},-27.97102,1.0623099999999999,-0.266608,0.47231800000000007,null,{"$f":"(B33-B38)/5","v":0.011639999999999873},{"$f":"(C33-C38)/5","v":-1.1800000000000033E-3},{"$f":"(D33-D38)/5","v":-9.9399999999999489E-4},{"$f":"(E33-E38)/5","v":4.3539999999999916E-3}]
[{"v":7.40000000000001,"d":"7.4"},-27.98266,1.0634899999999998,-0.265614,0.4679640000000001,null,{"$f":"(B33-B38)/5","v":0.011639999999999873},{"$f":"(C33-C38)/5","v":-1.1800000000000033E-3},{"$f":"(D33-D38)/5","v":-9.9399999999999489E-4},{"$f":"(E33-E38)/5","v":4.3539999999999916E-3}]
[7.5,-27.9943,1.06467,-0.26462,0.46361,null,{"$f":"(B38-B43)/5","v":0.02452000000000041},{"$f":"(C38-C43)/5","v":-7.7199999999999491E-4},{"$f":"(D38-D43)/5","v":-5.3600000000000316E-4},3.7840000000000096E-3]
[{"v":7.60000000000001,"d":"7.6"},{"$f":"B38-G38","v":-28.018819999999998},{"$f":"C38-H38","v":1.065442},{"$f":"D38-I38","v":-0.26408400000000004},{"$f":"E38-J38","v":0.459826},null,{"$f":"(B38-B43)/5","v":0.02452000000000041},{"$f":"(C38-C43)/5","v":-7.7199999999999491E-4},{"$f":"(D38-D43)/5","v":-5.3600000000000316E-4},{"$f":"(E38-E43)/5","v":3.7840000000000096E-3}]
[{"v":7.70000000000001,"d":"7.7"},{"$f":"B39-G39","v":-28.043339999999997},1.066214,-0.26354800000000006,0.456042,null,{"$f":"(B38-B43)/5","v":0.02452000000000041},{"$f":"(C38-C43)/5","v":-7.7199999999999491E-4},{"$f":"(D38-D43)/5","v":-5.3600000000000316E-4},{"$f":"(E38-E43)/5","v":3.7840000000000096E-3}]
[{"v":7.80000000000001,"d":"7.8"},-28.067859999999996,1.066986,-0.2630120000000001,0.452258,null,{"$f":"(B38-B43)/5","v":0.02452000000000041},{"$f":"(C38-C43)/5","v":-7.7199999999999491E-4},{"$f":"(D38-D43)/5","v":-5.3600000000000316E-4},{"$f":"(E38-E43)/5","v":3.7840000000000096E-3}]
[{"v":7.90000000000001,"d":"7.9"},-28.092379999999995,1.067758,-0.2624760000000001,0.448474,null,{"$f":"(B38-B43)/5","v":0.02452000000000041},{"$f":"(C38-C43)/5","v":-7.7199999999999491E-4},{"$f":"(D38-D43)/5","v":-5.3600000000000316E-4},{"$f":"(E38-E43)/5","v":3.7840000000000096E-3}]
[{"v":8,"d":"8.0"},-28.1169,1.06853,-0.26194,0.44469,null,{"$f":"(B43-B48)/5","v":0.026599999999999825},{"$f":"(C43-C48)/5","v":6.8199999999998264E-4},{"$f":"(D43-D48)/5","v":-5.7800000000000071E-4},2.5959999999999985E-3]
[{"v":8.10000000000001,"d":"8.1"},{"$f":"B43-G43","v":-28.1435},{"$f":"C43-H43","v":1.067848},{"$f":"D43-I43","v":-0.261362},{"$f":"E43-J43","v":0.442094},null,{"$f":"(B43-B48)/5","v":0.026599999999999825},{"$f":"(C43-C48)/5","v":6.8199999999998264E-4},{"$f":"(D43-D48)/5","v":-5.7800000000000071E-4},{"$f":"(E43-E48)/5","v":2.5959999999999985E-3}]
[{"v":8.20000000000002,"d":"8.2"},{"$f":"B44-G44","v":-28.170099999999998},1.0671659999999998,-0.26078399999999996,0.439498,null,{"$f":"(B43-B48)/5","v":0.026599999999999825},{"$f":"(C43-C48)/5","v":6.8199999999998264E-4},{"$f":"(D43-D48)/5","v":-5.7800000000000071E-4},{"$f":"(E43-E48)/5","v":2.5959999999999985E-3}]
[{"v":8.30000000000002,"d":"8.3"},-28.196699999999996,1.0664839999999998,-0.26020599999999994,0.436902,null,{"$f":"(B43-B48)/5","v":0.026599999999999825},{"$f":"(C43-C48)/5","v":6.8199999999998264E-4},{"$f":"(D43-D48)/5","v":-5.7800000000000071E-4},{"$f":"(E43-E48)/5","v":2.5959999999999985E-3}]
[{"v":8.40000000000002,"d":"8.4"},-28.223299999999995,1.0658019999999997,-0.2596279999999999,0.434306,null,{"$f":"(B43-B48)/5","v":0.026599999999999825},{"$f":"(C43-C48)/5","v":6.8199999999998264E-4},{"$f":"(D43-D48)/5","v":-5.7800000000000071E-4},{"$f":"(E43-E48)/5","v":2.5959999999999985E-3}]
[8.5,-28.2499,1.06512,-0.25905,0.43171,null,{"$f":"(B48-B53)/5","v":0.0178600000000003},{"$f":"(C48-C53)/5","v":2.6920000000000056E-3},{"$f":"(D48-D53)/5","v":-1.1279999999999958E-3},7.9000000000000186E-4]
[{"v":8.60000000000002,"d":"8.6"},{"$f":"B48-G48","v":-28.26776},{"$f":"C48-H48","v":1.0624280000000002},{"$f":"D48-I48","v":-0.257922},{"$f":"E48-J48","v":0.43091999999999997},null,{"$f":"(B48-B53)/5","v":0.0178600000000003},{"$f":"(C48-C53)/5","v":2.6920000000000056E-3},{"$f":"(D48-D53)/5","v":-1.1279999999999958E-3},{"$f":"(E48-E53)/5","v":7.9000000000000186E-4}]
[{"v":8.70000000000002,"d":"8.7"},{"$f":"B49-G49","v":-28.285619999999998},1.0597360000000002,-0.25679399999999997,0.43012999999999996,null,{"$f":"(B48-B53)/5","v":0.0178600000000003},{"$f":"(C48-C53)/5","v":2.6920000000000056E-3},{"$f":"(D48-D53)/5","v":-1.1279999999999958E-3},{"$f":"(E48-E53)/5","v":7.9000000000000186E-4}]
[{"v":8.80000000000002,"d":"8.8"},-28.303479999999997,1.0570440000000003,-0.25566599999999995,0.42933999999999994,null,{"$f":"(B48-B53)/5","v":0.0178600000000003},{"$f":"(C48-C53)/5","v":2.6920000000000056E-3},{"$f":"(D48-D53)/5","v":-1.1279999999999958E-3},{"$f":"(E48-E53)/5","v":7.9000000000000186E-4}]
[{"v":8.90000000000002,"d":"8.9"},-28.321339999999996,1.0543520000000004,-0.25453799999999993,0.42854999999999993,null,{"$f":"(B48-B53)/5","v":0.0178600000000003},{"$f":"(C48-C53)/5","v":2.6920000000000056E-3},{"$f":"(D48-D53)/5","v":-1.1279999999999958E-3},{"$f":"(E48-E53)/5","v":7.9000000000000186E-4}]
[{"v":9,"d":"9.0"},-28.3392,1.05166,-0.25341,0.42776,null,{"$f":"(B53-B58)/5","v":-0.008440000000000225},{"$f":"(C53-C58)/5","v":0.005983999999999989},{"$f":"(D53-D58)/5","v":-2.1760000000000056E-3},-1.6340000000000022E-3]
[{"v":9.10000000000002,"d":"9.1"},{"$f":"B53-G53","v":-28.33076},{"$f":"C53-H53","v":1.045676},{"$f":"D53-I53","v":-0.251234},{"$f":"E53-J53","v":0.429394},null,{"$f":"(B53-B58)/5","v":-0.008440000000000225},{"$f":"(C53-C58)/5","v":0.005983999999999989},{"$f":"(D53-D58)/5","v":-2.1760000000000056E-3},{"$f":"(E53-E58)/5","v":-1.6340000000000022E-3}]
[{"v":9.20000000000002,"d":"9.2"},{"$f":"B54-G54","v":-28.32232},1.039692,-0.249058,0.431028,null,{"$f":"(B53-B58)/5","v":-0.008440000000000225},{"$f":"(C53-C58)/5","v":0.005983999999999989},{"$f":"(D53-D58)/5","v":-2.1760000000000056E-3},{"$f":"(E53-E58)/5","v":-1.6340000000000022E-3}]
[{"v":9.30000000000002,"d":"9.3"},-28.31388,1.033708,-0.246882,0.43266200000000005,null,{"$f":"(B53-B58)/5","v":-0.008440000000000225},{"$f":"(C53-C58)/5","v":0.005983999999999989},{"$f":"(D53-D58)/5","v":-2.1760000000000056E-3},{"$f":"(E53-E58)/5","v":-1.6340000000000022E-3}]
[{"v":9.40000000000002,"d":"9.4"},-28.30544,1.027724,-0.24470599999999998,0.43429600000000007,null,{"$f":"(B53-B58)/5","v":-0.008440000000000225},{"$f":"(C53-C58)/5","v":0.005983999999999989},{"$f":"(D53-D58)/5","v":-2.1760000000000056E-3},{"$f":"(E53-E58)/5","v":-1.6340000000000022E-3}]
[9.5,{"v":-28.297,"d":"-28.2970"},1.02174,-0.24253,0.43593,null,{"$f":"(B58-B63)/5","v":-0.05210000000000008},{"$f":"(C58-C63)/5","v":0.010078000000000009},{"$f":"(D58-D63)/5","v":-0.00373},-0.004678000000000004]
[{"v":9.60000000000002,"d":"9.6"},{"$f":"B58-G58","v":-28.2449},{"$f":"C58-H58","v":1.011662},{"$f":"D58-I58","v":-0.23879999999999998},{"$f":"E58-J58","v":0.440608},null,{"$f":"(B58-B63)/5","v":-0.05210000000000008},{"$f":"(C58-C63)/5","v":0.010078000000000009},{"$f":"(D58-D63)/5","v":-0.00373},{"$f":"(E58-E63)/5","v":-0.004678000000000004}]
[{"v":9.70000000000002,"d":"9.7"},{"$f":"B59-G59","v":-28.192800000000002},1.001584,-0.23506999999999997,0.445286,null,{"$f":"(B58-B63)/5","v":-0.05210000000000008},{"$f":"(C58-C63)/5","v":0.010078000000000009},{"$f":"(D58-D63)/5","v":-0.00373},{"$f":"(E58-E63)/5","v":-0.004678000000000004}]
[{"v":9.80000000000002,"d":"9.8"},-28.140700000000002,0.991506,-0.23133999999999996,0.44996400000000003,null,{"$f":"(B58-B63)/5","v":-0.05210000000000008},{"$f":"(C58-C63)/5","v":0.010078000000000009},{"$f":"(D58-D63)/5","v":-0.00373},{"$f":"(E58-E63)/5","v":-0.004678000000000004}]
[{"v":9.90000000000002,"d":"9.9"},-28.088600000000003,0.981428,-0.22760999999999995,0.45464200000000005,null,{"$f":"(B58-B63)/5","v":-0.05210000000000008},{"$f":"(C58-C63)/5","v":0.010078000000000009},{"$f":"(D58-D63)/5","v":-0.00373},{"$f":"(E58-E63)/5","v":-0.004678000000000004}]
[{"v":10,"d":"10.0"},-28.0365,0.97135,-0.22388,0.45932,null,{"$f":"(B63-B68)/5","v":-0.1063600000000001},{"$f":"(C63-C68)/5","v":0.015092000000000017},{"$f":"(D63-D68)/5","v":-0.005785999999999997},-0.00833799999999999]
[10.1,{"$f":"B63-G63","v":-27.93014},{"$f":"C63-H63","v":0.956258},{"$f":"D63-I63","v":-0.218094},{"$f":"E63-J63","v":0.467658},null,{"$f":"(B63-B68)/5","v":-0.1063600000000001},{"$f":"(C63-C68)/5","v":0.015092000000000017},{"$f":"(D63-D68)/5","v":-0.005785999999999997},{"$f":"(E63-E68)/5","v":-0.00833799999999999}]
[10.2,{"$f":"B64-G64","v":-27.823780000000003},0.9411660000000001,-0.21230800000000002,0.47599600000000003,null,{"$f":"(B63-B68)/5","v":-0.1063600000000001},{"$f":"(C63-C68)/5","v":0.015092000000000017},{"$f":"(D63-D68)/5","v":-0.005785999999999997},{"$f":"(E63-E68)/5","v":-0.00833799999999999}]
[10.3,-27.717420000000004,0.9260740000000001,-0.20652200000000004,0.48433400000000004,null,{"$f":"(B63-B68)/5","v":-0.1063600000000001},{"$f":"(C63-C68)/5","v":0.015092000000000017},{"$f":"(D63-D68)/5","v":-0.005785999999999997},{"$f":"(E63-E68)/5","v":-0.00833799999999999}]
[10.4,-27.611060000000005,0.9109820000000001,-0.20073600000000005,0.49267200000000005,null,{"$f":"(B63-B68)/5","v":-0.1063600000000001},{"$f":"(C63-C68)/5","v":0.015092000000000017},{"$f":"(D63-D68)/5","v":-0.005785999999999997},{"$f":"(E63-E68)/5","v":-0.00833799999999999}]
[10.5,-27.5047,0.89589,-0.19495,0.50101,null,{"$f":"(B68-B73)/5","v":-0.17113999999999976},{"$f":"(C68-C73)/5","v":0.016700000000000003},{"$f":"(D68-D73)/5","v":-0.006456000000000001},-0.009360000000000012]
[10.6,{"$f":"B68-G68","v":-27.33356},{"$f":"C68-H68","v":0.8791899999999999},{"$f":"D68-I68","v":-0.18849400000000002},{"$f":"E68-J68","v":0.51037},null,{"$f":"(B68-B73)/5","v":-0.17113999999999976},{"$f":"(C68-C73)/5","v":0.016700000000000003},{"$f":"(D68-D73)/5","v":-0.006456000000000001},{"$f":"(E68-E73)/5","v":-0.009360000000000012}]
[10.7,{"$f":"B69-G69","v":-27.162419999999997},0.8624899999999999,-0.18203800000000003,0.51973,null,{"$f":"(B68-B73)/5","v":-0.17113999999999976},{"$f":"(C68-C73)/5","v":0.016700000000000003},{"$f":"(D68-D73)/5","v":-0.006456000000000001},{"$f":"(E68-E73)/5","v":-0.009360000000000012}]
[10.8,-26.991279999999996,0.8457899999999998,-0.17558200000000004,0.5290900000000001,null,{"$f":"(B68-B73)/5","v":-0.17113999999999976},{"$f":"(C68-C73)/5","v":0.016700000000000003},{"$f":"(D68-D73)/5","v":-0.006456000000000001},{"$f":"(E68-E73)/5","v":-0.009360000000000012}]
[10.9,-26.820139999999995,0.8290899999999998,-0.16912600000000005,0.5384500000000001,null,{"$f":"(B68-B73)/5","v":-0.17113999999999976},{"$f":"(C68-C73)/5","v":0.016700000000000003},{"$f":"(D68-D73)/5","v":-0.006456000000000001},{"$f":"(E68-E73)/5","v":-0.009360000000000012}]
[{"v":11,"d":"11.0"},{"v":-26.649,"d":"-26.6490"},0.81239,-0.16267,0.54781,null,{"$f":"(B73-B78)/5","v":-0.24650000000000033},{"$f":"(C73-C78)/5","v":0.01420999999999999},{"$f":"(D73-D78)/5","v":-0.005468000000000001},-7.255999999999996E-3]
[11.1,{"$f":"B73-G73","v":-26.4025},{"$f":"C73-H73","v":0.79818},{"$f":"D73-I73","v":-0.157202},{"$f":"E73-J73","v":0.5550660000000001},null,{"$f":"(B73-B78)/5","v":-0.24650000000000033},{"$f":"(C73-C78)/5","v":0.01420999999999999},{"$f":"(D73-D78)/5","v":-0.005468000000000001},{"$f":"(E73-E78)/5","v":-7.255999999999996E-3}]
[11.2,{"$f":"B74-G74","v":-26.156},0.7839700000000001,-0.151734,0.5623220000000001,null,{"$f":"(B73-B78)/5","v":-0.24650000000000033},{"$f":"(C73-C78)/5","v":0.01420999999999999},{"$f":"(D73-D78)/5","v":-0.005468000000000001},{"$f":"(E73-E78)/5","v":-7.255999999999996E-3}]
[11.3,-25.909499999999998,0.7697600000000001,-0.146266,0.5695780000000001,null,{"$f":"(B73-B78)/5","v":-0.24650000000000033},{"$f":"(C73-C78)/5","v":0.01420999999999999},{"$f":"(D73-D78)/5","v":-0.005468000000000001},{"$f":"(E73-E78)/5","v":-7.255999999999996E-3}]
[11.4,-25.662999999999997,0.7555500000000002,-0.140798,0.5768340000000002,null,{"$f":"(B73-B78)/5","v":-0.24650000000000033},{"$f":"(C73-C78)/5","v":0.01420999999999999},{"$f":"(D73-D78)/5","v":-0.005468000000000001},{"$f":"(E73-E78)/5","v":-7.255999999999996E-3}]
[11.5,-25.4165,0.74134,-0.13533,0.58409,null,{"$f":"(B78-B83)/5","v":-0.33237999999999984},{"$f":"(C78-C83)/5","v":0.011617999999999995},{"$f":"(D78-D83)/5","v":-0.004582},-0.005035999999999996]
[11.6,{"$f":"B78-G78","v":-25.08412},{"$f":"C78-H78","v":0.729722},{"$f":"D78-I78","v":-0.130748},{"$f":"E78-J78","v":0.589126},null,{"$f":"(B78-B83)/5","v":-0.33237999999999984},{"$f":"(C78-C83)/5","v":0.011617999999999995},{"$f":"(D78-D83)/5","v":-0.004582},{"$f":"(E78-E83)/5","v":-0.005035999999999996}]
[11.7,{"$f":"B79-G79","v":-24.751739999999998},0.718104,-0.126166,0.5941620000000001,null,{"$f":"(B78-B83)/5","v":-0.33237999999999984},{"$f":"(C78-C83)/5","v":0.011617999999999995},{"$f":"(D78-D83)/5","v":-0.004582},{"$f":"(E78-E83)/5","v":-0.005035999999999996}]
[11.8,-24.419359999999998,0.706486,-0.121584,0.5991980000000001,null,{"$f":"(B78-B83)/5","v":-0.33237999999999984},{"$f":"(C78-C83)/5","v":0.011617999999999995},{"$f":"(D78-D83)/5","v":-0.004582},{"$f":"(E78-E83)/5","v":-0.005035999999999996}]
[11.9,-24.086979999999997,0.6948679999999999,-0.117002,0.6042340000000002,null,{"$f":"(B78-B83)/5","v":-0.33237999999999984},{"$f":"(C78-C83)/5","v":0.011617999999999995},{"$f":"(D78-D83)/5","v":-0.004582},{"$f":"(E78-E83)/5","v":-0.005035999999999996}]
[{"v":12,"d":"12.0"},-23.7546,0.68325,-0.11242,0.60927,null,{"$f":"(B83-B88)/5","v":-0.3793199999999999},{"$f":"(C83-C88)/5","v":0.008912000000000008},{"$f":"(D83-D88)/5","v":-0.003802},-2.7039999999999955E-3]
[12.1,{"$f":"B83-G83","v":-23.37528},{"$f":"C83-H83","v":0.674338},{"$f":"D83-I83","v":-0.108618},{"$f":"E83-J83","v":0.611974},null,{"$f":"(B83-B88)/5","v":-0.3793199999999999},{"$f":"(C83-C88)/5","v":0.008912000000000008},{"$f":"(D83-D88)/5","v":-0.003802},{"$f":"(E83-E88)/5","v":-2.7039999999999955E-3}]
[12.2,{"$f":"B84-G84","v":-22.99596},0.665426,-0.104816,0.6146780000000001,null,{"$f":"(B83-B88)/5","v":-0.3793199999999999},{"$f":"(C83-C88)/5","v":0.008912000000000008},{"$f":"(D83-D88)/5","v":-0.003802},{"$f":"(E83-E88)/5","v":-2.7039999999999955E-3}]
[12.3,-22.61664,0.6565139999999999,-0.101014,0.6173820000000001,null,{"$f":"(B83-B88)/5","v":-0.3793199999999999},{"$f":"(C83-C88)/5","v":0.008912000000000008},{"$f":"(D83-D88)/5","v":-0.003802},{"$f":"(E83-E88)/5","v":-2.7039999999999955E-3}]
[12.4,-22.23732,0.6476019999999999,-0.097212,0.6200860000000001,null,{"$f":"(B83-B88)/5","v":-0.3793199999999999},{"$f":"(C83-C88)/5","v":0.008912000000000008},{"$f":"(D83-D88)/5","v":-0.003802},{"$f":"(E83-E88)/5","v":-2.7039999999999955E-3}]
[12.5,{"v":-21.858,"d":"-21.8580"},0.63869,-0.09341,0.62279,null,{"$f":"(B88-B93)/5","v":-0.37708000000000014},{"$f":"(C88-C93)/5","v":6.101999999999985E-3},{"$f":"(D88-D93)/5","v":-3.1200000000000004E-3},-2.5600000000001175E-4]
[12.6,{"$f":"B88-G88","v":-21.48092},{"$f":"C88-H88","v":0.632588},{"$f":"D88-I88","v":-0.09029000000000001},{"$f":"E88-J88","v":0.623046},null,{"$f":"(B88-B93)/5","v":-0.37708000000000014},{"$f":"(C88-C93)/5","v":6.101999999999985E-3},{"$f":"(D88-D93)/5","v":-3.1200000000000004E-3},{"$f":"(E88-E93)/5","v":-2.5600000000001175E-4}]
[12.7,{"$f":"B89-G89","v":-21.10384},0.6264860000000001,-0.08717000000000001,0.623302,null,{"$f":"(B88-B93)/5","v":-0.37708000000000014},{"$f":"(C88-C93)/5","v":6.101999999999985E-3},{"$f":"(D88-D93)/5","v":-3.1200000000000004E-3},{"$f":"(E88-E93)/5","v":-2.5600000000001175E-4}]
[12.8,-20.726760000000002,0.6203840000000002,-0.08405000000000001,0.6235580000000001,null,{"$f":"(B88-B93)/5","v":-0.37708000000000014},{"$f":"(C88-C93)/5","v":6.101999999999985E-3},{"$f":"(D88-D93)/5","v":-3.1200000000000004E-3},{"$f":"(E88-E93)/5","v":-2.5600000000001175E-4}]
[12.9,-20.349680000000003,0.6142820000000002,-0.08093000000000002,0.6238140000000001,null,{"$f":"(B88-B93)/5","v":-0.37708000000000014},{"$f":"(C88-C93)/5","v":6.101999999999985E-3},{"$f":"(D88-D93)/5","v":-3.1200000000000004E-3},{"$f":"(E88-E93)/5","v":-2.5600000000001175E-4}]
[{"v":13,"d":"13.0"},-19.9726,0.60818,-0.07781,0.62407,null,{"$f":"(B93-B98)/5","v":-0.37002000000000024},{"$f":"(C93-C98)/5","v":0.003180000000000005},{"$f":"(D93-D98)/5","v":-2.544000000000002E-3},0.002307999999999999]
[13.1,{"$f":"B93-G93","v":-19.60258},{"$f":"C93-H93","v":0.6050000000000001},{"$f":"D93-I93","v":-0.075266},{"$f":"E93-J93","v":0.621762},null,{"$f":"(B93-B98)/5","v":-0.37002000000000024},{"$f":"(C93-C98)/5","v":0.003180000000000005},{"$f":"(D93-D98)/5","v":-2.544000000000002E-3},{"$f":"(E93-E98)/5","v":0.002307999999999999}]
[13.2,{"$f":"B94-G94","v":-19.23256},0.6018200000000001,-0.072722,0.6194540000000001,null,{"$f":"(B93-B98)/5","v":-0.37002000000000024},{"$f":"(C93-C98)/5","v":0.003180000000000005},{"$f":"(D93-D98)/5","v":-2.544000000000002E-3},{"$f":"(E93-E98)/5","v":0.002307999999999999}]
[13.3,-18.86254,0.5986400000000002,-0.07017799999999999,0.6171460000000001,null,{"$f":"(B93-B98)/5","v":-0.37002000000000024},{"$f":"(C93-C98)/5","v":0.003180000000000005},{"$f":"(D93-D98)/5","v":-2.544000000000002E-3},{"$f":"(E93-E98)/5","v":0.002307999999999999}]
[13.4,-18.49252,0.5954600000000002,-0.06763399999999999,0.6148380000000001,null,{"$f":"(B93-B98)/5","v":-0.37002000000000024},{"$f":"(C93-C98)/5","v":0.003180000000000005},{"$f":"(D93-D98)/5","v":-2.544000000000002E-3},{"$f":"(E93-E98)/5","v":0.002307999999999999}]
[13.5,-18.1225,0.59228,-0.06509,0.61253,null,{"$f":"(B98-B103)/5","v":-0.35811999999999955},{"$f":"(C98-C103)/5","v":1.5400000000000968E-4},{"$f":"(D98-D103)/5","v":-0.00207},0.005162]
[13.6,{"$f":"B98-G98","v":-17.76438},{"$f":"C98-H98","v":0.592126},{"$f":"D98-I98","v":-0.06301999999999999},{"$f":"E98-J98","v":0.607368},null,{"$f":"(B98-B103)/5","v":-0.35811999999999955},{"$f":"(C98-C103)/5","v":1.5400000000000968E-4},{"$f":"(D98-D103)/5","v":-0.00207},{"$f":"(E98-E103)/5","v":0.005162}]
[13.7,{"$f":"B99-G99","v":-17.40626},0.591972,-0.06094999999999999,0.602206,null,{"$f":"(B98-B103)/5","v":-0.35811999999999955},{"$f":"(C98-C103)/5","v":1.5400000000000968E-4},{"$f":"(D98-D103)/5","v":-0.00207},{"$f":"(E98-E103)/5","v":0.005162}]
[13.8,-17.04814,0.5918180000000001,-0.05887999999999999,0.597044,null,{"$f":"(B98-B103)/5","v":-0.35811999999999955},{"$f":"(C98-C103)/5","v":1.5400000000000968E-4},{"$f":"(D98-D103)/5","v":-0.00207},{"$f":"(E98-E103)/5","v":0.005162}]
[13.9,-16.69002,0.5916640000000001,-0.056809999999999986,0.591882,null,{"$f":"(B98-B103)/5","v":-0.35811999999999955},{"$f":"(C98-C103)/5","v":1.5400000000000968E-4},{"$f":"(D98-D103)/5","v":-0.00207},{"$f":"(E98-E103)/5","v":0.005162}]
[{"v":14,"d":"14.0"},-16.3319,0.59151,-0.05474,0.58672,null,{"$f":"(B103-B108)/5","v":-0.34140000000000015},{"$f":"(C103-C108)/5","v":-2.9840000000000088E-3},{"$f":"(D103-D108)/5","v":-0.001695999999999999},0.007594000000000012]
[14.1,{"$f":"B103-G103","v":-15.9905},{"$f":"C103-H103","v":0.594494},{"$f":"D103-I103","v":-0.053044},{"$f":"E103-J103","v":0.579126},null,{"$f":"(B103-B108)/5","v":-0.34140000000000015},{"$f":"(C103-C108)/5","v":-2.9840000000000088E-3},{"$f":"(D103-D108)/5","v":-0.001695999999999999},{"$f":"(E103-E108)/5","v":0.007594000000000012}]
[14.2,{"$f":"B104-G104","v":-15.6491},0.597478,-0.051348000000000005,0.571532,null,{"$f":"(B103-B108)/5","v":-0.34140000000000015},{"$f":"(C103-C108)/5","v":-2.9840000000000088E-3},{"$f":"(D103-D108)/5","v":-0.001695999999999999},{"$f":"(E103-E108)/5","v":0.007594000000000012}]
[14.3,-15.3077,0.6004619999999999,-0.04965200000000001,0.563938,null,{"$f":"(B103-B108)/5","v":-0.34140000000000015},{"$f":"(C103-C108)/5","v":-2.9840000000000088E-3},{"$f":"(D103-D108)/5","v":-0.001695999999999999},{"$f":"(E103-E108)/5","v":0.007594000000000012}]
[14.4,-14.9663,0.6034459999999999,-0.04795600000000001,0.5563440000000001,null,{"$f":"(B103-B108)/5","v":-0.34140000000000015},{"$f":"(C103-C108)/5","v":-2.9840000000000088E-3},{"$f":"(D103-D108)/5","v":-0.001695999999999999},{"$f":"(E103-E108)/5","v":0.007594000000000012}]
[14.5,-14.6249,0.60643,-0.04626,0.54875,null,{"$f":"(B108-B113)/5","v":-0.3198599999999999},{"$f":"(C108-C113)/5","v":-0.006227999999999989},{"$f":"(D108-D113)/5","v":-1.4260000000000008E-3},0.010677999999999988]
[14.6,{"$f":"B108-G108","v":-14.30504},{"$f":"C108-H108","v":0.612658},{"$f":"D108-I108","v":-0.044834},{"$f":"E108-J108","v":0.538072},null,{"$f":"(B108-B113)/5","v":-0.3198599999999999},{"$f":"(C108-C113)/5","v":-0.006227999999999989},{"$f":"(D108-D113)/5","v":-1.4260000000000008E-3},{"$f":"(E108-E113)/5","v":0.010677999999999988}]
[14.7,{"$f":"B109-G109","v":-13.98518},0.618886,-0.043407999999999995,0.527394,null,{"$f":"(B108-B113)/5","v":-0.3198599999999999},{"$f":"(C108-C113)/5","v":-0.006227999999999989},{"$f":"(D108-D113)/5","v":-1.4260000000000008E-3},{"$f":"(E108-E113)/5","v":0.010677999999999988}]
[14.8,-13.66532,0.6251140000000001,-0.04198199999999999,0.5167160000000001,null,{"$f":"(B108-B113)/5","v":-0.3198599999999999},{"$f":"(C108-C113)/5","v":-0.006227999999999989},{"$f":"(D108-D113)/5","v":-1.4260000000000008E-3},{"$f":"(E108-E113)/5","v":0.010677999999999988}]
[14.9,-13.34546,0.6313420000000001,-0.04055599999999999,0.5060380000000001,null,{"$f":"(B108-B113)/5","v":-0.3198599999999999},{"$f":"(C108-C113)/5","v":-0.006227999999999989},{"$f":"(D108-D113)/5","v":-1.4260000000000008E-3},{"$f":"(E108-E113)/5","v":0.010677999999999988}]
[{"v":15,"d":"15.0"},-13.0256,0.63757,-0.03913,0.49536,null,{"$f":"(B113-B118)/5","v":-0.31442000000000014},{"$f":"(C113-C118)/5","v":-9.582000000000002E-3},{"$f":"(D113-D118)/5","v":-0.00126},0.013697999999999998]
[15.1,{"$f":"B113-G113","v":-12.71118},{"$f":"C113-H113","v":0.647152},{"$f":"D113-I113","v":-0.03787},{"$f":"E113-J113","v":0.48166200000000003},null,{"$f":"(B113-B118)/5","v":-0.31442000000000014},{"$f":"(C113-C118)/5","v":-9.582000000000002E-3},{"$f":"(D113-D118)/5","v":-0.00126},{"$f":"(E113-E118)/5","v":0.013697999999999998}]
[15.2,{"$f":"B114-G114","v":-12.39676},0.6567339999999999,-0.036610000000000004,0.46796400000000005,null,{"$f":"(B113-B118)/5","v":-0.31442000000000014},{"$f":"(C113-C118)/5","v":-9.582000000000002E-3},{"$f":"(D113-D118)/5","v":-0.00126},{"$f":"(E113-E118)/5","v":0.013697999999999998}]
[15.3,-12.08234,0.6663159999999999,-0.035350000000000006,0.45426600000000006,null,{"$f":"(B113-B118)/5","v":-0.31442000000000014},{"$f":"(C113-C118)/5","v":-9.582000000000002E-3},{"$f":"(D113-D118)/5","v":-0.00126},{"$f":"(E113-E118)/5","v":0.013697999999999998}]
[15.4,-11.76792,0.6758979999999999,-0.03409000000000001,0.44056800000000007,null,{"$f":"(B113-B118)/5","v":-0.31442000000000014},{"$f":"(C113-C118)/5","v":-9.582000000000002E-3},{"$f":"(D113-D118)/5","v":-0.00126},{"$f":"(E113-E118)/5","v":0.013697999999999998}]
[15.5,-11.4535,0.68548,-0.03283,0.42687,null,{"$f":"(B118-B123)/5","v":-0.29467999999999994},{"$f":"(C118-C123)/5","v":-0.013041999999999998},{"$f":"(D118-D123)/5","v":-1.1959999999999998E-3},0.016832000000000003]
[15.6,{"$f":"B118-G118","v":-11.15882},{"$f":"C118-H118","v":0.698522},{"$f":"D118-I118","v":-0.031633999999999995},{"$f":"E118-J118","v":0.410038},null,{"$f":"(B118-B123)/5","v":-0.29467999999999994},{"$f":"(C118-C123)/5","v":-0.013041999999999998},{"$f":"(D118-D123)/5","v":-1.1959999999999998E-3},{"$f":"(E118-E123)/5","v":0.016832000000000003}]
[15.7,{"$f":"B119-G119","v":-10.86414},0.711564,-0.030437999999999996,0.393206,null,{"$f":"(B118-B123)/5","v":-0.29467999999999994},{"$f":"(C118-C123)/5","v":-0.013041999999999998},{"$f":"(D118-D123)/5","v":-1.1959999999999998E-3},{"$f":"(E118-E123)/5","v":0.016832000000000003}]
[15.8,-10.569460000000001,0.724606,-0.029241999999999997,0.376374,null,{"$f":"(B118-B123)/5","v":-0.29467999999999994},{"$f":"(C118-C123)/5","v":-0.013041999999999998},{"$f":"(D118-D123)/5","v":-1.1959999999999998E-3},{"$f":"(E118-E123)/5","v":0.016832000000000003}]
[15.9,-10.274780000000002,0.737648,-0.028045999999999998,0.359542,null,{"$f":"(B118-B123)/5","v":-0.29467999999999994},{"$f":"(C118-C123)/5","v":-0.013041999999999998},{"$f":"(D118-D123)/5","v":-1.1959999999999998E-3},{"$f":"(E118-E123)/5","v":0.016832000000000003}]
[{"v":16,"d":"16.0"},-9.9801,0.75069,-0.02685,0.34271,null,{"$f":"(B123-B128)/5","v":-0.22448000000000015},{"$f":"(C123-C128)/5","v":-0.016576000000000014},{"$f":"(D123-D128)/5","v":-1.2319999999999998E-3},0.020080000000000004]
[16.1,{"$f":"B123-G123","v":-9.75562},{"$f":"C123-H123","v":0.767266},{"$f":"D123-I123","v":-0.025618},{"$f":"E123-J123","v":0.32263000000000003},null,{"$f":"(B123-B128)/5","v":-0.22448000000000015},{"$f":"(C123-C128)/5","v":-0.016576000000000014},{"$f":"(D123-D128)/5","v":-1.2319999999999998E-3},{"$f":"(E123-E128)/5","v":0.020080000000000004}]
[16.2,{"$f":"B124-G124","v":-9.53114},0.783842,-0.024385999999999998,0.30255000000000004,null,{"$f":"(B123-B128)/5","v":-0.22448000000000015},{"$f":"(C123-C128)/5","v":-0.016576000000000014},{"$f":"(D123-D128)/5","v":-1.2319999999999998E-3},{"$f":"(E123-E128)/5","v":0.020080000000000004}]
[16.3,-9.30666,0.8004180000000001,-0.023153999999999997,0.28247000000000005,null,{"$f":"(B123-B128)/5","v":-0.22448000000000015},{"$f":"(C123-C128)/5","v":-0.016576000000000014},{"$f":"(D123-D128)/5","v":-1.2319999999999998E-3},{"$f":"(E123-E128)/5","v":0.020080000000000004}]
[16.4,-9.082180000000001,0.8169940000000001,-0.021921999999999997,0.26239000000000007,null,{"$f":"(B123-B128)/5","v":-0.22448000000000015},{"$f":"(C123-C128)/5","v":-0.016576000000000014},{"$f":"(D123-D128)/5","v":-1.2319999999999998E-3},{"$f":"(E123-E128)/5","v":0.020080000000000004}]
[16.5,-8.8577,0.83357,-0.02069,0.24231,null,{"$f":"(B128-B133)/5","v":-0.10377999999999972},{"$f":"(C128-C133)/5","v":-0.020326},{"$f":"(D128-D133)/5","v":-1.372E-3},0.023442]
[16.6,{"$f":"B128-G128","v":-8.753919999999999},{"$f":"C128-H128","v":0.853896},{"$f":"D128-I128","v":-0.019318000000000002},{"$f":"E128-J128","v":0.218868},null,{"$f":"(B128-B133)/5","v":-0.10377999999999972},{"$f":"(C128-C133)/5","v":-0.020326},{"$f":"(D128-D133)/5","v":-1.372E-3},{"$f":"(E128-E133)/5","v":0.023442}]
[16.7,{"$f":"B129-G129","v":-8.650139999999999},0.8742219999999999,-0.017946000000000004,0.19542600000000002,null,{"$f":"(B128-B133)/5","v":-0.10377999999999972},{"$f":"(C128-C133)/5","v":-0.020326},{"$f":"(D128-D133)/5","v":-1.372E-3},{"$f":"(E128-E133)/5","v":0.023442}]
[16.8,-8.546359999999998,0.8945479999999999,-0.016574000000000005,0.17198400000000003,null,{"$f":"(B128-B133)/5","v":-0.10377999999999972},{"$f":"(C128-C133)/5","v":-0.020326},{"$f":"(D128-D133)/5","v":-1.372E-3},{"$f":"(E128-E133)/5","v":0.023442}]
[16.9,-8.442579999999998,0.9148739999999999,-0.015202000000000005,0.14854200000000004,null,{"$f":"(B128-B133)/5","v":-0.10377999999999972},{"$f":"(C128-C133)/5","v":-0.020326},{"$f":"(D128-D133)/5","v":-1.372E-3},{"$f":"(E128-E133)/5","v":0.023442}]
[{"v":17,"d":"17.0"},-8.3388,{"v":0.9352,"d":"0.93520"},-0.01383,{"v":0.1251,"d":"0.12510"},null,{"$f":"(B133-B138)/5","v":0.06735999999999968},{"$f":"(C133-C138)/5","v":-0.024075999999999986},{"$f":"(D133-D138)/5","v":-1.616E-3},0.02692]
[17.1,{"$f":"B133-G133","v":-8.40616},{"$f":"C133-H133","v":0.959276},{"$f":"D133-I133","v":-0.012214000000000001},{"$f":"E133-J133","v":0.09817999999999999},null,{"$f":"(B133-B138)/5","v":0.06735999999999968},{"$f":"(C133-C138)/5","v":-0.024075999999999986},{"$f":"(D133-D138)/5","v":-1.616E-3},{"$f":"(E133-E138)/5","v":0.02692}]
[17.2,{"$f":"B134-G134","v":-8.473519999999999},0.983352,-0.010598000000000002,0.07125999999999999,null,{"$f":"(B133-B138)/5","v":0.06735999999999968},{"$f":"(C133-C138)/5","v":-0.024075999999999986},{"$f":"(D133-D138)/5","v":-1.616E-3},{"$f":"(E133-E138)/5","v":0.02692}]
[17.3,-8.540879999999998,1.007428,-0.008982000000000002,0.04433999999999999,null,{"$f":"(B133-B138)/5","v":0.06735999999999968},{"$f":"(C133-C138)/5","v":-0.024075999999999986},{"$f":"(D133-D138)/5","v":-1.616E-3},{"$f":"(E133-E138)/5","v":0.02692}]
[17.4,-8.608239999999997,1.031504,-0.007366000000000002,0.01741999999999999,null,{"$f":"(B133-B138)/5","v":0.06735999999999968},{"$f":"(C133-C138)/5","v":-0.024075999999999986},{"$f":"(D133-D138)/5","v":-1.616E-3},{"$f":"(E133-E138)/5","v":0.02692}]
[17.5,-8.6756,1.05558,-0.00575,{"v":-0.0095,"d":"-0.00950"},null,{"$f":"(B138-B143)/5","v":-1.7351199999999998},{"$f":"(C138-C143)/5","v":0.211116},{"$f":"(D138-D143)/5","v":-1.15E-3},-1.9E-3]
[]
["Chronological age:",null,{"v":14,"d":"14.0"}]
["Estimated adult height:",null,{"$f":"VLOOKUP(C140,A2:E138,2)+(VLOOKUP(C140,A2:E138,3)*Eingabeblatt!I6)+(VLOOKUP(C140,A2:E138,4)*Eingabeblatt!H6)+(VLOOKUP(C140,A2:E138,5)*(Eingabeblatt!J6+Eingabeblatt!K6)/2)","v":{"v":-16.3319,"d":"-16.3"}},"± 5.3 cm†"]

{"sheet":"Table females","index":4,"n_rows":141,"n_cols":10,"rows_kept":141,"hidden":true,"merged":[[0,0,0,4],[139,0,139,1],[140,0,140,1]]}
["Table lI. Coeffs for females"]
["Age","B0","Stature","Weight","Midparent",null,"B0","Stature","Weight","Midparent"]
[{"v":4,"d":"4.0"},-20.6566,1.24768,-1.0883,0.44774,null,{"$f":"(B3-B8)/5","v":-0.8412199999999999},{"$f":"(C3-C8)/5","v":0.005181999999999976},-0.010258000000000012,6.786000000000003E-3]
[4.1,{"$f":"B3-G3","v":-19.81538},{"$f":"C3-H3","v":1.2424979999999999},-1.078042,0.440954,null,{"$f":"(B3-B8)/5","v":-0.8412199999999999},{"$f":"(C3-C8)/5","v":0.005181999999999976},-0.010258000000000012,6.786000000000003E-3]
[4.2,{"$f":"B4-G4","v":-18.97416},{"$f":"C4-H4","v":1.2373159999999999},{"$f":"D4-I4","v":-1.0677839999999998},{"$f":"E4-J4","v":0.434168},null,{"$f":"(B3-B8)/5","v":-0.8412199999999999},{"$f":"(C3-C8)/5","v":0.005181999999999976},-0.010258000000000012,6.786000000000003E-3]
[4.3,-18.13294,1.2321339999999998,-1.0575259999999997,0.427382,null,{"$f":"(B3-B8)/5","v":-0.8412199999999999},{"$f":"(C3-C8)/5","v":0.005181999999999976},-0.010258000000000012,6.786000000000003E-3]
[4.4,-17.29172,1.2269519999999998,-1.0472679999999996,0.42059599999999997,null,{"$f":"(B3-B8)/5","v":-0.8412199999999999},{"$f":"(C3-C8)/5","v":0.005181999999999976},-0.010258000000000012,6.786000000000003E-3]
[4.5,-16.4505,1.22177,-1.03701,0.41381,null,{"$f":"(B8-B13)/5","v":-0.6811000000000004},{"$f":"(C8-C13)/5","v":4.4900000000000165E-3},{"$f":"(D8-D13)/5","v":-0.011080000000000001},{"$f":"(E8-E13)/5","v":0.005828}]
[4.6,{"$f":"B8-G8","v":-15.769400000000001},{"$f":"C8-H8","v":1.21728},{"$f":"D8-I8","v":-1.02593},{"$f":"E8-J8","v":0.407982},null,{"$f":"(B8-B13)/5","v":-0.6811000000000004},{"$f":"(C8-C13)/5","v":4.4900000000000165E-3},{"$f":"(D8-D13)/5","v":-0.011080000000000001},{"$f":"(E8-E13)/5","v":0.005828}]
[4.7,{"$f":"B9-G9","v":-15.0883},1.2127899999999998,-1.01485,0.402154,null,{"$f":"(B8-B13)/5","v":-0.6811000000000004},{"$f":"(C8-C13)/5","v":4.4900000000000165E-3},{"$f":"(D8-D13)/5","v":-0.011080000000000001},{"$f":"(E8-E13)/5","v":0.005828}]
[4.8,-14.4072,1.2082999999999997,-1.00377,0.396326,null,{"$f":"(B8-B13)/5","v":-0.6811000000000004},{"$f":"(C8-C13)/5","v":4.4900000000000165E-3},{"$f":"(D8-D13)/5","v":-0.011080000000000001},{"$f":"(E8-E13)/5","v":0.005828}]
[4.9,-13.726099999999999,1.2038099999999996,-0.9926900000000001,0.390498,null,{"$f":"(B8-B13)/5","v":-0.6811000000000004},{"$f":"(C8-C13)/5","v":4.4900000000000165E-3},{"$f":"(D8-D13)/5","v":-0.011080000000000001},{"$f":"(E8-E13)/5","v":0.005828}]
[{"v":5,"d":"5.0"},-13.045,1.19932,-0.98161,0.38467,null,{"$f":"(B13-B18)/5","v":-0.5069399999999998},{"$f":"(C13-C18)/5","v":4.103999999999974E-3},{"$f":"(D13-D18)/5","v":-0.011708000000000007},{"$f":"(E13-E18)/5","v":0.004856000000000004}]
[5.1,{"$f":"B13-G13","v":-12.53806},{"$f":"C13-H13","v":1.195216},{"$f":"D13-I13","v":-0.9699019999999999},{"$f":"E13-J13","v":0.379814},null,{"$f":"(B13-B18)/5","v":-0.5069399999999998},{"$f":"(C13-C18)/5","v":4.103999999999974E-3},{"$f":"(D13-D18)/5","v":-0.011708000000000007},{"$f":"(E13-E18)/5","v":0.004856000000000004}]
[5.2,{"$f":"B14-G14","v":-12.03112},1.1911120000000002,-0.9581939999999999,0.37495799999999996,null,{"$f":"(B13-B18)/5","v":-0.5069399999999998},{"$f":"(C13-C18)/5","v":4.103999999999974E-3},{"$f":"(D13-D18)/5","v":-0.011708000000000007},{"$f":"(E13-E18)/5","v":0.004856000000000004}]
[5.3,-11.52418,1.1870080000000003,-0.9464859999999998,0.37010199999999993,null,{"$f":"(B13-B18)/5","v":-0.5069399999999998},{"$f":"(C13-C18)/5","v":4.103999999999974E-3},{"$f":"(D13-D18)/5","v":-0.011708000000000007},{"$f":"(E13-E18)/5","v":0.004856000000000004}]
[5.4,-11.01724,1.1829040000000004,-0.9347779999999998,0.3652459999999999,null,{"$f":"(B13-B18)/5","v":-0.5069399999999998},{"$f":"(C13-C18)/5","v":4.103999999999974E-3},{"$f":"(D13-D18)/5","v":-0.011708000000000007},{"$f":"(E13-E18)/5","v":0.004856000000000004}]
[5.5,-10.5103,{"v":1.1788,"d":"1.17880"},-0.92307,0.36039,null,{"$f":"(B18-B23)/5","v":-0.3187800000000003},{"$f":"(C18-C23)/5","v":4.028000000000009E-3},{"$f":"(D18-D23)/5","v":-0.012141999999999986},{"$f":"(E18-E23)/5","v":0.003867999999999994}]
[5.6,{"$f":"B18-G18","v":-10.19152},{"$f":"C18-H18","v":1.1747720000000001},{"$f":"D18-I18","v":-0.910928},{"$f":"E18-J18","v":0.356522},null,{"$f":"(B18-B23)/5","v":-0.3187800000000003},{"$f":"(C18-C23)/5","v":4.028000000000009E-3},{"$f":"(D18-D23)/5","v":-0.012141999999999986},{"$f":"(E18-E23)/5","v":0.003867999999999994}]
[5.7,{"$f":"B19-G19","v":-9.87274},1.1707440000000002,-0.898786,0.352654,null,{"$f":"(B18-B23)/5","v":-0.3187800000000003},{"$f":"(C18-C23)/5","v":4.028000000000009E-3},{"$f":"(D18-D23)/5","v":-0.012141999999999986},{"$f":"(E18-E23)/5","v":0.003867999999999994}]
[5.8,-9.55396,1.1667160000000003,-0.886644,0.34878600000000004,null,{"$f":"(B18-B23)/5","v":-0.3187800000000003},{"$f":"(C18-C23)/5","v":4.028000000000009E-3},{"$f":"(D18-D23)/5","v":-0.012141999999999986},{"$f":"(E18-E23)/5","v":0.003867999999999994}]
[5.9,-9.23518,1.1626880000000004,-0.874502,0.34491800000000006,null,{"$f":"(B18-B23)/5","v":-0.3187800000000003},{"$f":"(C18-C23)/5","v":4.028000000000009E-3},{"$f":"(D18-D23)/5","v":-0.012141999999999986},{"$f":"(E18-E23)/5","v":0.003867999999999994}]
[{"v":6,"d":"6.0"},-8.9164,1.15866,-0.86236,0.34105,null,{"$f":"(B23-B28)/5","v":-0.18651999999999996},{"$f":"(C23-C28)/5","v":0.004258000000000007},{"$f":"(D23-D28)/5","v":-0.012386000000000008},{"$f":"(E23-E28)/5","v":0.002866000000000002}]
[6.1,{"$f":"B23-G23","v":-8.72988},{"$f":"C23-H23","v":1.154402},{"$f":"D23-I23","v":-0.849974},{"$f":"E23-J23","v":0.33818400000000004},null,{"$f":"(B23-B28)/5","v":-0.18651999999999996},{"$f":"(C23-C28)/5","v":0.004258000000000007},{"$f":"(D23-D28)/5","v":-0.012386000000000008},{"$f":"(E23-E28)/5","v":0.002866000000000002}]
[6.2,{"$f":"B24-G24","v":-8.54336},1.1501439999999998,-0.837588,0.33531800000000006,null,{"$f":"(B23-B28)/5","v":-0.18651999999999996},{"$f":"(C23-C28)/5","v":0.004258000000000007},{"$f":"(D23-D28)/5","v":-0.012386000000000008},{"$f":"(E23-E28)/5","v":0.002866000000000002}]
[{"v":6.30000000000001,"d":"6.3"},-8.35684,1.1458859999999997,-0.825202,0.3324520000000001,null,{"$f":"(B23-B28)/5","v":-0.18651999999999996},{"$f":"(C23-C28)/5","v":0.004258000000000007},{"$f":"(D23-D28)/5","v":-0.012386000000000008},{"$f":"(E23-E28)/5","v":0.002866000000000002}]
[{"v":6.40000000000001,"d":"6.4"},-8.17032,1.1416279999999996,-0.812816,0.3295860000000001,null,{"$f":"(B23-B28)/5","v":-0.18651999999999996},{"$f":"(C23-C28)/5","v":0.004258000000000007},{"$f":"(D23-D28)/5","v":-0.012386000000000008},{"$f":"(E23-E28)/5","v":0.002866000000000002}]
[6.5,-7.9838,1.13737,-0.80043,0.32672,null,{"$f":"(B28-B33)/5","v":-0.13552},{"$f":"(C28-C33)/5","v":4.7899999999999835E-3},{"$f":"(D28-D33)/5","v":-0.01243399999999999},{"$f":"(E28-E33)/5","v":1.8480000000000052E-3}]
[{"v":6.60000000000001,"d":"6.6"},{"$f":"B28-G28","v":-7.84828},{"$f":"C28-H28","v":1.13258},{"$f":"D28-I28","v":-0.787996},{"$f":"E28-J28","v":0.324872},null,{"$f":"(B28-B33)/5","v":-0.13552},{"$f":"(C28-C33)/5","v":4.7899999999999835E-3},{"$f":"(D28-D33)/5","v":-0.01243399999999999},{"$f":"(E28-E33)/5","v":1.8480000000000052E-3}]
[{"v":6.70000000000001,"d":"6.7"},{"$f":"B29-G29","v":-7.71276},1.1277899999999998,-0.7755620000000001,0.323024,null,{"$f":"(B28-B33)/5","v":-0.13552},{"$f":"(C28-C33)/5","v":4.7899999999999835E-3},{"$f":"(D28-D33)/5","v":-0.01243399999999999},{"$f":"(E28-E33)/5","v":1.8480000000000052E-3}]
[{"v":6.80000000000001,"d":"6.8"},-7.577240000000001,1.1229999999999998,-0.7631280000000001,0.32117599999999996,null,{"$f":"(B28-B33)/5","v":-0.13552},{"$f":"(C28-C33)/5","v":4.7899999999999835E-3},{"$f":"(D28-D33)/5","v":-0.01243399999999999},{"$f":"(E28-E33)/5","v":1.8480000000000052E-3}]
[{"v":6.90000000000001,"d":"6.9"},-7.441720000000001,1.1182099999999997,-0.7506940000000002,0.31932799999999995,null,{"$f":"(B28-B33)/5","v":-0.13552},{"$f":"(C28-C33)/5","v":4.7899999999999835E-3},{"$f":"(D28-D33)/5","v":-0.01243399999999999},{"$f":"(E28-E33)/5","v":1.8480000000000052E-3}]
[{"v":7,"d":"7.0"},-7.3062,1.11342,-0.73826,0.31748,null,{"$f":"(B33-B38)/5","v":-0.10847999999999995},{"$f":"(C33-C38)/5","v":0.005634000000000005},{"$f":"(D33-D38)/5","v":-0.012292000000000015},{"$f":"(E33-E38)/5","v":8.1599999999999446E-4}]
[{"v":7.10000000000001,"d":"7.1"},{"$f":"B33-G33","v":-7.1977199999999995},{"$f":"C33-H33","v":1.1077860000000002},{"$f":"D33-I33","v":-0.7259680000000001},{"$f":"E33-J33","v":0.316664},null,{"$f":"(B33-B38)/5","v":-0.10847999999999995},{"$f":"(C33-C38)/5","v":0.005634000000000005},{"$f":"(D33-D38)/5","v":-0.012292000000000015},{"$f":"(E33-E38)/5","v":8.1599999999999446E-4}]
[{"v":7.20000000000001,"d":"7.2"},{"$f":"B34-G34","v":-7.089239999999999},1.1021520000000002,-0.7136760000000001,0.315848,null,{"$f":"(B33-B38)/5","v":-0.10847999999999995},{"$f":"(C33-C38)/5","v":0.005634000000000005},{"$f":"(D33-D38)/5","v":-0.012292000000000015},{"$f":"(E33-E38)/5","v":8.1599999999999446E-4}]
[{"v":7.30000000000001,"d":"7.3"},-6.980759999999999,1.0965180000000003,-0.7013840000000001,0.31503200000000003,null,{"$f":"(B33-B38)/5","v":-0.10847999999999995},{"$f":"(C33-C38)/5","v":0.005634000000000005},{"$f":"(D33-D38)/5","v":-0.012292000000000015},{"$f":"(E33-E38)/5","v":8.1599999999999446E-4}]
[{"v":7.40000000000001,"d":"7.4"},-6.872279999999999,1.0908840000000004,-0.6890920000000001,0.31421600000000005,null,{"$f":"(B33-B38)/5","v":-0.10847999999999995},{"$f":"(C33-C38)/5","v":0.005634000000000005},{"$f":"(D33-D38)/5","v":-0.012292000000000015},{"$f":"(E33-E38)/5","v":8.1599999999999446E-4}]
[7.5,-6.7638,1.08525,{"v":-0.6768,"d":"-0.67680"},{"v":0.3134,"d":"0.31340"},null,{"$f":"(B38-B43)/5","v":-0.10532000000000004},{"$f":"(C38-C43)/5","v":0.006780000000000008},{"$f":"(D38-D43)/5","v":-0.011951999999999985},{"$f":"(E38-E43)/5","v":-2.3400000000000086E-4}]
[{"v":7.60000000000001,"d":"7.6"},{"$f":"B38-G38","v":-6.65848},{"$f":"C38-H38","v":1.07847},{"$f":"D38-I38","v":-0.664848},{"$f":"E38-J38","v":0.313634},null,{"$f":"(B38-B43)/5","v":-0.10532000000000004},{"$f":"(C38-C43)/5","v":0.006780000000000008},{"$f":"(D38-D43)/5","v":-0.011951999999999985},{"$f":"(E38-E43)/5","v":-2.3400000000000086E-4}]
[{"v":7.70000000000001,"d":"7.7"},{"$f":"B39-G39","v":-6.55316},1.07169,-0.652896,0.31386800000000004,null,{"$f":"(B38-B43)/5","v":-0.10532000000000004},{"$f":"(C38-C43)/5","v":0.006780000000000008},{"$f":"(D38-D43)/5","v":-0.011951999999999985},{"$f":"(E38-E43)/5","v":-2.3400000000000086E-4}]
[{"v":7.80000000000001,"d":"7.8"},-6.44784,1.06491,-0.6409440000000001,0.31410200000000005,null,{"$f":"(B38-B43)/5","v":-0.10532000000000004},{"$f":"(C38-C43)/5","v":0.006780000000000008},{"$f":"(D38-D43)/5","v":-0.011951999999999985},{"$f":"(E38-E43)/5","v":-2.3400000000000086E-4}]
[{"v":7.90000000000001,"d":"7.9"},-6.34252,1.05813,-0.6289920000000001,0.31433600000000006,null,{"$f":"(B38-B43)/5","v":-0.10532000000000004},{"$f":"(C38-C43)/5","v":0.006780000000000008},{"$f":"(D38-D43)/5","v":-0.011951999999999985},{"$f":"(E38-E43)/5","v":-2.3400000000000086E-4}]
[{"v":8,"d":"8.0"},-6.2372,1.05135,-0.61704,0.31457,null,{"$f":"(B43-B48)/5","v":-0.12614},{"$f":"(C43-C48)/5","v":0.008233999999999986},{"$f":"(D43-D48)/5","v":-0.011421999999999998},{"$f":"(E43-E48)/5","v":-1.2959999999999972E-3}]
[{"v":8.10000000000001,"d":"8.1"},{"$f":"B43-G43","v":-6.111059999999999},{"$f":"C43-H43","v":1.043116},{"$f":"D43-I43","v":-0.605618},{"$f":"E43-J43","v":0.31586600000000004},null,{"$f":"(B43-B48)/5","v":-0.12614},{"$f":"(C43-C48)/5","v":0.008233999999999986},{"$f":"(D43-D48)/5","v":-0.011421999999999998},{"$f":"(E43-E48)/5","v":-1.2959999999999972E-3}]
[{"v":8.20000000000002,"d":"8.2"},{"$f":"B44-G44","v":-5.984919999999999},1.0348819999999999,-0.594196,0.31716200000000005,null,{"$f":"(B43-B48)/5","v":-0.12614},{"$f":"(C43-C48)/5","v":0.008233999999999986},{"$f":"(D43-D48)/5","v":-0.011421999999999998},{"$f":"(E43-E48)/5","v":-1.2959999999999972E-3}]
[{"v":8.30000000000002,"d":"8.3"},-5.8587799999999985,1.0266479999999998,-0.5827739999999999,0.3184580000000001,null,{"$f":"(B43-B48)/5","v":-0.12614},{"$f":"(C43-C48)/5","v":0.008233999999999986},{"$f":"(D43-D48)/5","v":-0.011421999999999998},{"$f":"(E43-E48)/5","v":-1.2959999999999972E-3}]
[{"v":8.40000000000002,"d":"8.4"},-5.732639999999998,1.0184139999999997,-0.5713519999999999,0.3197540000000001,null,{"$f":"(B43-B48)/5","v":-0.12614},{"$f":"(C43-C48)/5","v":0.008233999999999986},{"$f":"(D43-D48)/5","v":-0.011421999999999998},{"$f":"(E43-E48)/5","v":-1.2959999999999972E-3}]
[8.5,-5.6065,1.01018,-0.55993,0.32105,null,{"$f":"(B48-B53)/5","v":-0.17083999999999994},{"$f":"(C48-C53)/5","v":0.009996000000000005},{"$f":"(D48-D53)/5","v":-0.010698000000000008},{"$f":"(E48-E53)/5","v":-2.3719999999999965E-3}]
[{"v":8.60000000000002,"d":"8.6"},{"$f":"B48-G48","v":-5.4356599999999995},{"$f":"C48-H48","v":1.000184},{"$f":"D48-I48","v":-0.549232},{"$f":"E48-J48","v":0.323422},null,{"$f":"(B48-B53)/5","v":-0.17083999999999994},{"$f":"(C48-C53)/5","v":0.009996000000000005},{"$f":"(D48-D53)/5","v":-0.010698000000000008},{"$f":"(E48-E53)/5","v":-2.3719999999999965E-3}]
[{"v":8.70000000000002,"d":"8.7"},{"$f":"B49-G49","v":-5.264819999999999},0.990188,-0.5385340000000001,0.325794,null,{"$f":"(B48-B53)/5","v":-0.17083999999999994},{"$f":"(C48-C53)/5","v":0.009996000000000005},{"$f":"(D48-D53)/5","v":-0.010698000000000008},{"$f":"(E48-E53)/5","v":-2.3719999999999965E-3}]
[{"v":8.80000000000002,"d":"8.8"},-5.093979999999999,0.980192,-0.5278360000000001,0.32816599999999996,null,{"$f":"(B48-B53)/5","v":-0.17083999999999994},{"$f":"(C48-C53)/5","v":0.009996000000000005},{"$f":"(D48-D53)/5","v":-0.010698000000000008},{"$f":"(E48-E53)/5","v":-2.3719999999999965E-3}]
[{"v":8.90000000000002,"d":"8.9"},-4.923139999999999,0.970196,-0.5171380000000001,0.33053799999999994,null,{"$f":"(B48-B53)/5","v":-0.17083999999999994},{"$f":"(C48-C53)/5","v":0.009996000000000005},{"$f":"(D48-D53)/5","v":-0.010698000000000008},{"$f":"(E48-E53)/5","v":-2.3719999999999965E-3}]
[{"v":9,"d":"9.0"},-4.7523,{"v":0.9602,"d":"0.96020"},-0.50644,0.33291,null,{"$f":"(B53-B58)/5","v":-0.4103},{"$f":"(C53-C58)/5","v":0.012062000000000017},{"$f":"(D53-D58)/5","v":-0.01098},{"$f":"(E53-E58)/5","v":-3.4680000000000045E-3}]
[{"v":9.10000000000002,"d":"9.1"},{"$f":"B53-G53","v":-4.342},{"$f":"C53-H53","v":0.948138},{"$f":"D53-I53","v":-0.49546},{"$f":"E53-J53","v":0.336378},null,{"$f":"(B53-B58)/5","v":-0.4103},{"$f":"(C53-C58)/5","v":0.012062000000000017},{"$f":"(D53-D58)/5","v":-0.01098},{"$f":"(E53-E58)/5","v":-3.4680000000000045E-3}]
[{"v":9.20000000000002,"d":"9.2"},{"$f":"B54-G54","v":-3.9316999999999998},0.936076,-0.48448,0.33984600000000004,null,{"$f":"(B53-B58)/5","v":-0.4103},{"$f":"(C53-C58)/5","v":0.012062000000000017},{"$f":"(D53-D58)/5","v":-0.01098},{"$f":"(E53-E58)/5","v":-3.4680000000000045E-3}]
[{"v":9.30000000000002,"d":"9.3"},-3.5214,0.924014,-0.47350000000000003,0.34331400000000006,null,{"$f":"(B53-B58)/5","v":-0.4103},{"$f":"(C53-C58)/5","v":0.012062000000000017},{"$f":"(D53-D58)/5","v":-0.01098},{"$f":"(E53-E58)/5","v":-3.4680000000000045E-3}]
[{"v":9.40000000000002,"d":"9.4"},-3.1111,0.911952,-0.46252000000000004,0.3467820000000001,null,{"$f":"(B53-B58)/5","v":-0.4103},{"$f":"(C53-C58)/5","v":0.012062000000000017},{"$f":"(D53-D58)/5","v":-0.01098},{"$f":"(E53-E58)/5","v":-3.4680000000000045E-3}]
[9.5,-2.7008,0.89989,-0.45154,0.35025,null,{"$f":"(B58-B63)/5","v":-0.71018},{"$f":"(C58-C63)/5","v":0.014436000000000004},{"$f":"(D58-D63)/5","v":-0.007469999999999999},{"$f":"(E58-E63)/5","v":-0.004574}]
[{"v":9.60000000000002,"d":"9.6"},{"$f":"B58-G58","v":-1.99062},{"$f":"C58-H58","v":0.885454},{"$f":"D58-I58","v":-0.44407},{"$f":"E58-J58","v":0.35482400000000003},null,{"$f":"(B58-B63)/5","v":-0.71018},{"$f":"(C58-C63)/5","v":0.014436000000000004},{"$f":"(D58-D63)/5","v":-0.007469999999999999},{"$f":"(E58-E63)/5","v":-0.004574}]
[{"v":9.70000000000002,"d":"9.7"},{"$f":"B59-G59","v":-1.28044},0.871018,-0.43660000000000004,0.35939800000000005,null,{"$f":"(B58-B63)/5","v":-0.71018},{"$f":"(C58-C63)/5","v":0.014436000000000004},{"$f":"(D58-D63)/5","v":-0.007469999999999999},{"$f":"(E58-E63)/5","v":-0.004574}]
[{"v":9.80000000000002,"d":"9.8"},-0.57026,0.856582,-0.42913000000000007,0.3639720000000001,null,{"$f":"(B58-B63)/5","v":-0.71018},{"$f":"(C58-C63)/5","v":0.014436000000000004},{"$f":"(D58-D63)/5","v":-0.007469999999999999},{"$f":"(E58-E63)/5","v":-0.004574}]
[{"v":9.90000000000002,"d":"9.9"},0.13992000000000004,0.842146,-0.4216600000000001,0.3685460000000001,null,{"$f":"(B58-B63)/5","v":-0.71018},{"$f":"(C58-C63)/5","v":0.014436000000000004},{"$f":"(D58-D63)/5","v":-0.007469999999999999},{"$f":"(E58-E63)/5","v":-0.004574}]
[{"v":10,"d":"10.0"},0.8501,0.82771,-0.41419,0.37312,null,{"$f":"(B63-B68)/5","v":-0.8325999999999999},{"$f":"(C63-C68)/5","v":0.017116},{"$f":"(D63-D68)/5","v":-0.007366000000000006},{"$f":"(E63-E68)/5","v":-0.005698000000000003}]
[10.1,{"$f":"B63-G63","v":1.6826999999999999},{"$f":"C63-H63","v":0.8105939999999999},{"$f":"D63-I63","v":-0.406824},{"$f":"E63-J63","v":0.378818},null,{"$f":"(B63-B68)/5","v":-0.8325999999999999},{"$f":"(C63-C68)/5","v":0.017116},{"$f":"(D63-D68)/5","v":-0.007366000000000006},{"$f":"(E63-E68)/5","v":-0.005698000000000003}]
[10.2,{"$f":"B64-G64","v":2.5153},0.7934779999999999,-0.39945800000000004,0.38451599999999997,null,{"$f":"(B63-B68)/5","v":-0.8325999999999999},{"$f":"(C63-C68)/5","v":0.017116},{"$f":"(D63-D68)/5","v":-0.007366000000000006},{"$f":"(E63-E68)/5","v":-0.005698000000000003}]
[10.3,3.3478999999999997,0.7763619999999999,-0.39209200000000005,0.39021399999999995,null,{"$f":"(B63-B68)/5","v":-0.8325999999999999},{"$f":"(C63-C68)/5","v":0.017116},{"$f":"(D63-D68)/5","v":-0.007366000000000006},{"$f":"(E63-E68)/5","v":-0.005698000000000003}]
[10.4,4.180499999999999,0.7592459999999999,-0.38472600000000007,0.39591199999999993,null,{"$f":"(B63-B68)/5","v":-0.8325999999999999},{"$f":"(C63-C68)/5","v":0.017116},{"$f":"(D63-D68)/5","v":-0.007366000000000006},{"$f":"(E63-E68)/5","v":-0.005698000000000003}]
[10.5,5.0131,0.74213,-0.37736,0.40161,null,{"$f":"(B68-B73)/5","v":-0.7776},{"$f":"(C68-C73)/5","v":0.014079999999999981},{"$f":"(D68-D73)/5","v":-6.7579999999999975E-3},{"$f":"(E68-E73)/5","v":-0.003761999999999999}]
[10.6,{"$f":"B68-G68","v":5.790699999999999},{"$f":"C68-H68","v":0.72805},{"$f":"D68-I68","v":-0.370602},{"$f":"E68-J68","v":0.405372},null,{"$f":"(B68-B73)/5","v":-0.7776},{"$f":"(C68-C73)/5","v":0.014079999999999981},{"$f":"(D68-D73)/5","v":-6.7579999999999975E-3},{"$f":"(E68-E73)/5","v":-0.003761999999999999}]
[10.7,{"$f":"B69-G69","v":6.568299999999999},0.71397,-0.363844,0.409134,null,{"$f":"(B68-B73)/5","v":-0.7776},{"$f":"(C68-C73)/5","v":0.014079999999999981},{"$f":"(D68-D73)/5","v":-6.7579999999999975E-3},{"$f":"(E68-E73)/5","v":-0.003761999999999999}]
[10.8,7.3458999999999985,0.69989,-0.357086,0.412896,null,{"$f":"(B68-B73)/5","v":-0.7776},{"$f":"(C68-C73)/5","v":0.014079999999999981},{"$f":"(D68-D73)/5","v":-6.7579999999999975E-3},{"$f":"(E68-E73)/5","v":-0.003761999999999999}]
[10.9,8.123499999999998,0.68581,-0.35032800000000003,0.416658,null,{"$f":"(B68-B73)/5","v":-0.7776},{"$f":"(C68-C73)/5","v":0.014079999999999981},{"$f":"(D68-D73)/5","v":-6.7579999999999975E-3},{"$f":"(E68-E73)/5","v":-0.003761999999999999}]
[{"v":11,"d":"11.0"},8.9011,0.67173,-0.34357,0.42042,null,{"$f":"(B73-B78)/5","v":-0.54514},{"$f":"(C73-C78)/5","v":0.006046000000000018},{"$f":"(D73-D78)/5","v":-0.006918000000000002},{"$f":"(E73-E78)/5","v":7.1200000000000148E-4}]
[11.1,{"$f":"B73-G73","v":9.44624},{"$f":"C73-H73","v":0.665684},{"$f":"D73-I73","v":-0.336652},{"$f":"E73-J73","v":0.419708},null,{"$f":"(B73-B78)/5","v":-0.54514},{"$f":"(C73-C78)/5","v":0.006046000000000018},{"$f":"(D73-D78)/5","v":-0.006918000000000002},{"$f":"(E73-E78)/5","v":7.1200000000000148E-4}]
[11.2,{"$f":"B74-G74","v":9.99138},0.6596380000000001,-0.329734,0.41899600000000004,null,{"$f":"(B73-B78)/5","v":-0.54514},{"$f":"(C73-C78)/5","v":0.006046000000000018},{"$f":"(D73-D78)/5","v":-0.006918000000000002},{"$f":"(E73-E78)/5","v":7.1200000000000148E-4}]
[11.3,10.53652,0.6535920000000001,-0.32281600000000005,0.41828400000000004,null,{"$f":"(B73-B78)/5","v":-0.54514},{"$f":"(C73-C78)/5","v":0.006046000000000018},{"$f":"(D73-D78)/5","v":-0.006918000000000002},{"$f":"(E73-E78)/5","v":7.1200000000000148E-4}]
[11.4,11.08166,0.6475460000000001,-0.31589800000000007,0.41757200000000005,null,{"$f":"(B73-B78)/5","v":-0.54514},{"$f":"(C73-C78)/5","v":0.006046000000000018},{"$f":"(D73-D78)/5","v":-0.006918000000000002},{"$f":"(E73-E78)/5","v":7.1200000000000148E-4}]
[11.5,11.6268,0.6415,-0.30898,0.41686,null,{"$f":"(B78-B83)/5","v":-0.13521999999999998},{"$f":"(C78-C83)/5","v":-6.0400000000000449E-4},{"$f":"(D78-D83)/5","v":-0.012385999999999998},{"$f":"(E78-E83)/5","v":4.392000000000007E-3}]
[11.6,{"$f":"B78-G78","v":11.76202},{"$f":"C78-H78","v":0.642104},{"$f":"D78-I78","v":-0.29659399999999997},{"$f":"E78-J78","v":0.412468},null,{"$f":"(B78-B83)/5","v":-0.13521999999999998},{"$f":"(C78-C83)/5","v":-6.0400000000000449E-4},{"$f":"(D78-D83)/5","v":-0.012385999999999998},{"$f":"(E78-E83)/5","v":4.392000000000007E-3}]
[11.7,{"$f":"B79-G79","v":11.89724},0.6427080000000001,-0.28420799999999996,0.408076,null,{"$f":"(B78-B83)/5","v":-0.13521999999999998},{"$f":"(C78-C83)/5","v":-6.0400000000000449E-4},{"$f":"(D78-D83)/5","v":-0.012385999999999998},{"$f":"(E78-E83)/5","v":4.392000000000007E-3}]
[11.8,12.03246,0.6433120000000001,-0.27182199999999995,0.403684,null,{"$f":"(B78-B83)/5","v":-0.13521999999999998},{"$f":"(C78-C83)/5","v":-6.0400000000000449E-4},{"$f":"(D78-D83)/5","v":-0.012385999999999998},{"$f":"(E78-E83)/5","v":4.392000000000007E-3}]
[11.9,12.16768,0.6439160000000002,-0.25943599999999994,0.399292,null,{"$f":"(B78-B83)/5","v":-0.13521999999999998},{"$f":"(C78-C83)/5","v":-6.0400000000000449E-4},{"$f":"(D78-D83)/5","v":-0.012385999999999998},{"$f":"(E78-E83)/5","v":4.392000000000007E-3}]
[{"v":12,"d":"12.0"},12.3029,0.64452,-0.24705,{"v":0.3949,"d":"0.39490"},null,{"$f":"(B83-B88)/5","v":0.28699999999999976},{"$f":"(C83-C88)/5","v":-0.005868000000000007},{"$f":"(D83-D88)/5","v":-1.5619999999999968E-3},{"$f":"(E83-E88)/5","v":0.007279999999999997}]
[12.1,{"$f":"B83-G83","v":12.0159},{"$f":"C83-H83","v":0.650388},{"$f":"D83-I83","v":-0.24548799999999998},{"$f":"E83-J83","v":0.38761999999999996},null,{"$f":"(B83-B88)/5","v":0.28699999999999976},{"$f":"(C83-C88)/5","v":-0.005868000000000007},{"$f":"(D83-D88)/5","v":-1.5619999999999968E-3},{"$f":"(E83-E88)/5","v":0.007279999999999997}]
[12.2,{"$f":"B84-G84","v":11.728900000000001},0.656256,-0.24392599999999998,0.38033999999999996,null,{"$f":"(B83-B88)/5","v":0.28699999999999976},{"$f":"(C83-C88)/5","v":-0.005868000000000007},{"$f":"(D83-D88)/5","v":-1.5619999999999968E-3},{"$f":"(E83-E88)/5","v":0.007279999999999997}]
[12.3,11.441900000000002,0.6621239999999999,-0.24236399999999997,0.37305999999999995,null,{"$f":"(B83-B88)/5","v":0.28699999999999976},{"$f":"(C83-C88)/5","v":-0.005868000000000007},{"$f":"(D83-D88)/5","v":-1.5619999999999968E-3},{"$f":"(E83-E88)/5","v":0.007279999999999997}]
[12.4,11.154900000000003,0.6679919999999999,-0.24080199999999996,0.36577999999999994,null,{"$f":"(B83-B88)/5","v":0.28699999999999976},{"$f":"(C83-C88)/5","v":-0.005868000000000007},{"$f":"(D83-D88)/5","v":-1.5619999999999968E-3},{"$f":"(E83-E88)/5","v":0.007279999999999997}]
[12.5,10.8679,0.67386,-0.23924,{"v":0.3585,"d":"0.35850"},null,{"$f":"(B88-B93)/5","v":0.5407800000000001},{"$f":"(C88-C93)/5","v":-0.009748000000000001},{"$f":"(D88-D93)/5","v":-0.00685},{"$f":"(E88-E93)/5","v":0.009373999999999993}]
[12.6,{"$f":"B88-G88","v":10.32712},{"$f":"C88-H88","v":0.683608},{"$f":"D88-I88","v":-0.23239},{"$f":"E88-J88","v":0.349126},null,{"$f":"(B88-B93)/5","v":0.5407800000000001},{"$f":"(C88-C93)/5","v":-0.009748000000000001},{"$f":"(D88-D93)/5","v":-0.00685},{"$f":"(E88-E93)/5","v":0.009373999999999993}]
[12.7,{"$f":"B89-G89","v":9.786340000000001},0.693356,-0.22554000000000002,0.339752,null,{"$f":"(B88-B93)/5","v":0.5407800000000001},{"$f":"(C88-C93)/5","v":-0.009748000000000001},{"$f":"(D88-D93)/5","v":-0.00685},{"$f":"(E88-E93)/5","v":0.009373999999999993}]
[12.8,9.245560000000001,0.703104,-0.21869000000000002,0.330378,null,{"$f":"(B88-B93)/5","v":0.5407800000000001},{"$f":"(C88-C93)/5","v":-0.009748000000000001},{"$f":"(D88-D93)/5","v":-0.00685},{"$f":"(E88-E93)/5","v":0.009373999999999993}]
[12.9,8.704780000000001,0.7128519999999999,-0.21184000000000003,0.321004,null,{"$f":"(B88-B93)/5","v":0.5407800000000001},{"$f":"(C88-C93)/5","v":-0.009748000000000001},{"$f":"(D88-D93)/5","v":-0.00685},{"$f":"(E88-E93)/5","v":0.009373999999999993}]
[{"v":13,"d":"13.0"},{"v":8.164,"d":"8.1640"},{"v":0.7226,"d":"0.72260"},-0.20499,0.31163,null,{"$f":"(B93-B98)/5","v":0.70084},{"$f":"(C93-C98)/5","v":-0.012246000000000002},{"$f":"(D93-D98)/5","v":-6.6479999999999985E-3},{"$f":"(E93-E98)/5","v":0.010674000000000006}]
[13.1,{"$f":"B93-G93","v":7.463159999999999},{"$f":"C93-H93","v":0.734846},{"$f":"D93-I93","v":-0.19834200000000002},{"$f":"E93-J93","v":0.300956},null,{"$f":"(B93-B98)/5","v":0.70084},{"$f":"(C93-C98)/5","v":-0.012246000000000002},{"$f":"(D93-D98)/5","v":-6.6479999999999985E-3},{"$f":"(E93-E98)/5","v":0.010674000000000006}]
[13.2,{"$f":"B94-G94","v":6.762319999999999},0.747092,-0.19169400000000003,0.290282,null,{"$f":"(B93-B98)/5","v":0.70084},{"$f":"(C93-C98)/5","v":-0.012246000000000002},{"$f":"(D93-D98)/5","v":-6.6479999999999985E-3},{"$f":"(E93-E98)/5","v":0.010674000000000006}]
[13.3,6.061479999999999,0.759338,-0.18504600000000004,0.27960799999999997,null,{"$f":"(B93-B98)/5","v":0.70084},{"$f":"(C93-C98)/5","v":-0.012246000000000002},{"$f":"(D93-D98)/5","v":-6.6479999999999985E-3},{"$f":"(E93-E98)/5","v":0.010674000000000006}]
[13.4,5.360639999999998,0.7715839999999999,-0.17839800000000006,0.26893399999999995,null,{"$f":"(B93-B98)/5","v":0.70084},{"$f":"(C93-C98)/5","v":-0.012246000000000002},{"$f":"(D93-D98)/5","v":-6.6479999999999985E-3},{"$f":"(E93-E98)/5","v":0.010674000000000006}]
[13.5,4.6598,0.78383,-0.17175,0.25826,null,{"$f":"(B98-B103)/5","v":0.7672399999999999},{"$f":"(C98-C103)/5","v":-0.013358000000000004},{"$f":"(D98-D103)/5","v":-0.006352000000000002},{"$f":"(E98-E103)/5","v":0.011181999999999997}]
[13.6,{"$f":"B98-G98","v":3.8925599999999996},{"$f":"C98-H98","v":0.797188},{"$f":"D98-I98","v":-0.16539800000000002},{"$f":"E98-J98","v":0.247078},null,{"$f":"(B98-B103)/5","v":0.7672399999999999},{"$f":"(C98-C103)/5","v":-0.013358000000000004},{"$f":"(D98-D103)/5","v":-0.006352000000000002},{"$f":"(E98-E103)/5","v":0.011181999999999997}]
[13.7,{"$f":"B99-G99","v":3.1253199999999994},0.810546,-0.15904600000000002,0.235896,null,{"$f":"(B98-B103)/5","v":0.7672399999999999},{"$f":"(C98-C103)/5","v":-0.013358000000000004},{"$f":"(D98-D103)/5","v":-0.006352000000000002},{"$f":"(E98-E103)/5","v":0.011181999999999997}]
[13.8,2.3580799999999993,0.823904,-0.15269400000000002,0.224714,null,{"$f":"(B98-B103)/5","v":0.7672399999999999},{"$f":"(C98-C103)/5","v":-0.013358000000000004},{"$f":"(D98-D103)/5","v":-0.006352000000000002},{"$f":"(E98-E103)/5","v":0.011181999999999997}]
[13.9,1.5908399999999994,0.837262,-0.14634200000000003,0.213532,null,{"$f":"(B98-B103)/5","v":0.7672399999999999},{"$f":"(C98-C103)/5","v":-0.013358000000000004},{"$f":"(D98-D103)/5","v":-0.006352000000000002},{"$f":"(E98-E103)/5","v":0.011181999999999997}]
[{"v":14,"d":"14.0"},0.8236,0.85062,-0.13999,0.20235,null,{"$f":"(B103-B108)/5","v":0.7399},{"$f":"(C103-C108)/5","v":-0.013085999999999997},{"$f":"(D103-D108)/5","v":-0.005968000000000001},{"$f":"(E103-E108)/5","v":0.010896}]
[14.1,{"$f":"B103-G103","v":0.0837},{"$f":"C103-H103","v":0.8637060000000001},{"$f":"D103-I103","v":-0.134022},{"$f":"E103-J103","v":0.191454},null,{"$f":"(B103-B108)/5","v":0.7399},{"$f":"(C103-C108)/5","v":-0.013085999999999997},{"$f":"(D103-D108)/5","v":-0.005968000000000001},{"$f":"(E103-E108)/5","v":0.010896}]
[14.2,{"$f":"B104-G104","v":-0.6562},0.8767920000000001,-0.128054,0.18055800000000002,null,{"$f":"(B103-B108)/5","v":0.7399},{"$f":"(C103-C108)/5","v":-0.013085999999999997},{"$f":"(D103-D108)/5","v":-0.005968000000000001},{"$f":"(E103-E108)/5","v":0.010896}]
[14.3,-1.3961000000000001,0.8898780000000002,-0.122086,0.16966200000000004,null,{"$f":"(B103-B108)/5","v":0.7399},{"$f":"(C103-C108)/5","v":-0.013085999999999997},{"$f":"(D103-D108)/5","v":-0.005968000000000001},{"$f":"(E103-E108)/5","v":0.010896}]
[14.4,-2.136,0.9029640000000002,-0.116118,0.15876600000000005,null,{"$f":"(B103-B108)/5","v":0.7399},{"$f":"(C103-C108)/5","v":-0.013085999999999997},{"$f":"(D103-D108)/5","v":-0.005968000000000001},{"$f":"(E103-E108)/5","v":0.010896}]
[14.5,-2.8759,0.91605,-0.11015,0.14787,null,{"$f":"(B108-B113)/5","v":0.6188999999999999},{"$f":"(C108-C113)/5","v":-0.011427999999999994},{"$f":"(D108-D113)/5","v":-0.005493999999999999},{"$f":"(E108-E113)/5","v":0.009814}]
[14.6,{"$f":"B108-G108","v":-3.4948},{"$f":"C108-H108","v":0.927478},{"$f":"D108-I108","v":-0.104656},{"$f":"E108-J108","v":0.138056},null,{"$f":"(B108-B113)/5","v":0.6188999999999999},{"$f":"(C108-C113)/5","v":-0.011427999999999994},{"$f":"(D108-D113)/5","v":-0.005493999999999999},{"$f":"(E108-E113)/5","v":0.009814}]
[14.7,{"$f":"B109-G109","v":-4.1137},0.938906,-0.099162,0.12824200000000002,null,{"$f":"(B108-B113)/5","v":0.6188999999999999},{"$f":"(C108-C113)/5","v":-0.011427999999999994},{"$f":"(D108-D113)/5","v":-0.005493999999999999},{"$f":"(E108-E113)/5","v":0.009814}]
[14.8,-4.7326,0.950334,-0.093668,0.11842800000000002,null,{"$f":"(B108-B113)/5","v":0.6188999999999999},{"$f":"(C108-C113)/5","v":-0.011427999999999994},{"$f":"(D108-D113)/5","v":-0.005493999999999999},{"$f":"(E108-E113)/5","v":0.009814}]
[14.9,-5.3515,0.961762,-0.088174,0.10861400000000002,null,{"$f":"(B108-B113)/5","v":0.6188999999999999},{"$f":"(C108-C113)/5","v":-0.011427999999999994},{"$f":"(D108-D113)/5","v":-0.005493999999999999},{"$f":"(E108-E113)/5","v":0.009814}]
[{"v":15,"d":"15.0"},-5.9704,0.97319,-0.08268,{"v":0.0988,"d":"0.09880"},null,{"$f":"(B113-B118)/5","v":0.38238000000000005},{"$f":"(C113-C118)/5","v":-8.389999999999986E-3},{"$f":"(D113-D118)/5","v":-4.9260000000000016E-3},{"$f":"(E113-E118)/5","v":0.007942000000000001}]
[15.1,{"$f":"B113-G113","v":-6.35278},{"$f":"C113-H113","v":0.98158},{"$f":"D113-I113","v":-0.077754},{"$f":"E113-J113","v":0.090858},null,{"$f":"(B113-B118)/5","v":0.38238000000000005},{"$f":"(C113-C118)/5","v":-8.389999999999986E-3},{"$f":"(D113-D118)/5","v":-4.9260000000000016E-3},{"$f":"(E113-E118)/5","v":0.007942000000000001}]
[15.2,{"$f":"B114-G114","v":-6.7351600000000005},0.98997,-0.072828,0.08291599999999999,null,{"$f":"(B113-B118)/5","v":0.38238000000000005},{"$f":"(C113-C118)/5","v":-8.389999999999986E-3},{"$f":"(D113-D118)/5","v":-4.9260000000000016E-3},{"$f":"(E113-E118)/5","v":0.007942000000000001}]
[15.3,-7.117540000000001,0.99836,-0.067902,0.07497399999999999,null,{"$f":"(B113-B118)/5","v":0.38238000000000005},{"$f":"(C113-C118)/5","v":-8.389999999999986E-3},{"$f":"(D113-D118)/5","v":-4.9260000000000016E-3},{"$f":"(E113-E118)/5","v":0.007942000000000001}]
[15.4,-7.499920000000001,1.00675,-0.062976,0.06703199999999998,null,{"$f":"(B113-B118)/5","v":0.38238000000000005},{"$f":"(C113-C118)/5","v":-8.389999999999986E-3},{"$f":"(D113-D118)/5","v":-4.9260000000000016E-3},{"$f":"(E113-E118)/5","v":0.007942000000000001}]
[15.5,-7.8823,1.01514,-0.05805,0.05909,null,{"$f":"(B118-B123)/5","v":0.03839999999999986},{"$f":"(C118-C123)/5","v":-0.003964000000000034},{"$f":"(D118-D123)/5","v":-0.004272},{"$f":"(E118-E123)/5","v":0.005273999999999999}]
[15.6,{"$f":"B118-G118","v":-7.9207},{"$f":"C118-H118","v":1.019104},{"$f":"D118-I118","v":-0.053778},{"$f":"E118-J118","v":0.053815999999999996},null,{"$f":"(B118-B123)/5","v":0.03839999999999986},{"$f":"(C118-C123)/5","v":-0.003964000000000034},{"$f":"(D118-D123)/5","v":-0.004272},{"$f":"(E118-E123)/5","v":0.005273999999999999}]
[15.7,{"$f":"B119-G119","v":-7.9591},1.023068,-0.049506,0.048541999999999995,null,{"$f":"(B118-B123)/5","v":0.03839999999999986},{"$f":"(C118-C123)/5","v":-0.003964000000000034},{"$f":"(D118-D123)/5","v":-0.004272},{"$f":"(E118-E123)/5","v":0.005273999999999999}]
[15.8,-7.9975000000000005,1.0270320000000002,-0.045234,0.043267999999999994,null,{"$f":"(B118-B123)/5","v":0.03839999999999986},{"$f":"(C118-C123)/5","v":-0.003964000000000034},{"$f":"(D118-D123)/5","v":-0.004272},{"$f":"(E118-E123)/5","v":0.005273999999999999}]
[15.9,-8.0359,1.0309960000000002,-0.040962000000000005,0.03799399999999999,null,{"$f":"(B118-B123)/5","v":0.03839999999999986},{"$f":"(C118-C123)/5","v":-0.003964000000000034},{"$f":"(D118-D123)/5","v":-0.004272},{"$f":"(E118-E123)/5","v":0.005273999999999999}]
[{"v":16,"d":"16.0"},-8.0743,1.03496,-0.03669,0.03272,null,{"$f":"(B123-B128)/5","v":-0.3872399999999999},{"$f":"(C123-C128)/5","v":1.8460000000000143E-3},{"$f":"(D123-D128)/5","v":-0.003526},{"$f":"(E123-E128)/5","v":1.8159999999999995E-3}]
[16.1,{"$f":"B123-G123","v":-7.687059999999999},{"$f":"C123-H123","v":1.033114},{"$f":"D123-I123","v":-0.033164},{"$f":"E123-J123","v":0.030904},null,{"$f":"(B123-B128)/5","v":-0.3872399999999999},{"$f":"(C123-C128)/5","v":1.8460000000000143E-3},{"$f":"(D123-D128)/5","v":-0.003526},{"$f":"(E123-E128)/5","v":1.8159999999999995E-3}]
[16.2,{"$f":"B124-G124","v":-7.299819999999999},1.031268,-0.029637999999999998,0.029088000000000003,null,{"$f":"(B123-B128)/5","v":-0.3872399999999999},{"$f":"(C123-C128)/5","v":1.8460000000000143E-3},{"$f":"(D123-D128)/5","v":-0.003526},{"$f":"(E123-E128)/5","v":1.8159999999999995E-3}]
[16.3,-6.912579999999998,1.029422,-0.026111999999999996,0.027272000000000005,null,{"$f":"(B123-B128)/5","v":-0.3872399999999999},{"$f":"(C123-C128)/5","v":1.8460000000000143E-3},{"$f":"(D123-D128)/5","v":-0.003526},{"$f":"(E123-E128)/5","v":1.8159999999999995E-3}]
[16.4,-6.525339999999998,1.027576,-0.022585999999999995,0.025456000000000006,null,{"$f":"(B123-B128)/5","v":-0.3872399999999999},{"$f":"(C123-C128)/5","v":1.8460000000000143E-3},{"$f":"(D123-D128)/5","v":-0.003526},{"$f":"(E123-E128)/5","v":1.8159999999999995E-3}]
[16.5,-6.1381,1.02573,-0.01906,0.02364,null,{"$f":"(B128-B133)/5","v":-0.8944799999999999},{"$f":"(C128-C133)/5","v":9.038000000000013E-3},{"$f":"(D128-D133)/5","v":-2.6880000000000003E-3},{"$f":"(E128-E133)/5","v":-0.002951999999999999}]
[16.6,{"$f":"B128-G128","v":-5.24362},{"$f":"C128-H128","v":1.016692},{"$f":"D128-I128","v":-0.016372},{"$f":"E128-J128","v":0.026592},null,{"$f":"(B128-B133)/5","v":-0.8944799999999999},{"$f":"(C128-C133)/5","v":9.038000000000013E-3},{"$f":"(D128-D133)/5","v":-2.6880000000000003E-3},{"$f":"(E128-E133)/5","v":-0.002951999999999999}]
[16.7,{"$f":"B129-G129","v":-4.34914},1.0076539999999998,-0.013684000000000002,0.029544,null,{"$f":"(B128-B133)/5","v":-0.8944799999999999},{"$f":"(C128-C133)/5","v":9.038000000000013E-3},{"$f":"(D128-D133)/5","v":-2.6880000000000003E-3},{"$f":"(E128-E133)/5","v":-0.002951999999999999}]
[16.8,-3.4546600000000005,0.9986159999999998,-0.010996000000000002,0.032496,null,{"$f":"(B128-B133)/5","v":-0.8944799999999999},{"$f":"(C128-C133)/5","v":9.038000000000013E-3},{"$f":"(D128-D133)/5","v":-2.6880000000000003E-3},{"$f":"(E128-E133)/5","v":-0.002951999999999999}]
[16.9,-2.560180000000001,0.9895779999999998,-0.008308000000000003,0.03544799999999999,null,{"$f":"(B128-B133)/5","v":-0.8944799999999999},{"$f":"(C128-C133)/5","v":9.038000000000013E-3},{"$f":"(D128-D133)/5","v":-2.6880000000000003E-3},{"$f":"(E128-E133)/5","v":-0.002951999999999999}]
[{"v":17,"d":"17.0"},-1.6657,0.98054,-5.62E-3,0.0384,null,{"$f":"(B133-B138)/5","v":-1.4834},{"$f":"(C133-C138)/5","v":0.017615999999999986},{"$f":"(D133-D138)/5","v":-0.00176},{"$f":"(E133-E138)/5","v":-0.006962}]
[17.1,{"$f":"B133-G133","v":-0.1822999999999999},{"$f":"C133-H133","v":0.962924},{"$f":"D133-I133","v":-3.8599999999999997E-3},{"$f":"E133-J133","v":0.045362},null,{"$f":"(B133-B138)/5","v":-1.4834},{"$f":"(C133-C138)/5","v":0.017615999999999986},{"$f":"(D133-D138)/5","v":-0.00176},{"$f":"(E133-E138)/5","v":-0.006962}]
[17.2,{"$f":"B134-G134","v":1.3011000000000001},0.945308,-2.0999999999999994E-3,0.052324,null,{"$f":"(B133-B138)/5","v":-1.4834},{"$f":"(C133-C138)/5","v":0.017615999999999986},{"$f":"(D133-D138)/5","v":-0.00176},{"$f":"(E133-E138)/5","v":-0.006962}]
[17.3,2.7845000000000004,0.9276920000000001,-3.3999999999999937E-4,0.059286000000000005,null,{"$f":"(B133-B138)/5","v":-1.4834},{"$f":"(C133-C138)/5","v":0.017615999999999986},{"$f":"(D133-D138)/5","v":-0.00176},{"$f":"(E133-E138)/5","v":-0.006962}]
[17.4,4.267900000000001,0.9100760000000001,1.4200000000000007E-3,0.066248,null,{"$f":"(B133-B138)/5","v":-1.4834},{"$f":"(C133-C138)/5","v":0.017615999999999986},{"$f":"(D133-D138)/5","v":-0.00176},{"$f":"(E133-E138)/5","v":-0.006962}]
[17.5,5.7513,0.89246,0.00318,0.07321,null,{"$f":"(B138-B143)/5","v":1.1502599999999998},{"$f":"(C138-C143)/5","v":0.178492},{"$f":"(D138-D143)/5","v":6.3600000000000006E-4},{"$f":"(E138-E143)/5","v":0.014641999999999999}]
[]
["Chronological age:",null,{"$f":"(Eingabeblatt!C6-Eingabeblatt!F6)/365.25","v":{"v":0,"d":"0.0"}}]
["Estimated adult height:",null,{"$f":"VLOOKUP(C140,A2:E98,2)+(VLOOKUP(C140,A2:E98,3)*Eingabeblatt!I6)+VLOOKUP(C140,A2:E98,4)*Eingabeblatt!H6+(VLOOKUP(C140,A2:E98,5)*(Eingabeblatt!J6+Eingabeblatt!K6)/2)","v":{"$error":"#N/A"}},"± 4.3 cm†"]

{"sheet":"Dropdownliste","index":5,"n_rows":9,"n_cols":1,"rows_kept":9,"hidden":true}
[]
[]
[" "]
[]
[]
[]
["m"]
["f"]
[" "]