{"text_format":"1","workbook":"xlsx","n_sheets":7,"sheets":["Anleitung","Instructions","Entrée des données_Eingabemaske","Interpretation","Berechnungen","Perzentile","Perzentile_Graphik"],"not_rendered":{"charts":1,"images":6,"macros":1,"external_links":0,"defined_names":12,"comments":1,"pivot_tables":0},"unopened":[],"bounds":{"document_bytes":16777216,"sheet_cells":100000,"rows_first":2000,"rows_last":500,"rows_between":2000,"halvings":0,"cell_chars":16384,"cell_head_chars":4096},"cells_cut":0,"cells_raw":0,"read":"whole","date_system":"1900"}

{"sheet":"Anleitung","index":0,"n_rows":49,"n_cols":3,"rows_kept":49,"cut":false,"hidden":false,"merged":[[38,2,38,14]]}
[]
[null,"Monitoring des Wachstums"]
[null,"Das exakte und regelmässige Monitoring des Wachstums spielt im Nachwuchsleistungssport eine sehr wichtige Rolle"]
[null,null,"- das Monitoring des Wachstums liefert wichtige Hinweise zur Wachstumsphase des Athleten und sollte bei der Trainingssteuerung berücksichtigt werden"]
[null,null,"- mögliche Wachstumsstörungen können früh erkannt werden"]
[null,null,"Der Wachstumsverlauf sollte bei der Trainingsplanung beachtet werden. Je nach Wachstumsphase (Pubertät: bei Mädchen zwischen 8 und 15 Jahren, "]
[null,null,"bei Jungen zwischen 10 und 17 Jahren) sollte das Training an das Wachstum angepast werden, um zu hohe Tainingsintensitäten zu vermeiden"]
[null,null," und Verletzungen vorzubeugen."]
[]
[null,null,"In der Rubrik \"Interprétation\",werden 3 Beispiele zu unterschiedlichen Wachstumsverläufen beschrieben."]
[]
[]
[null,"Messung der Körpergrösse stehend"]
[]
[null,"Stichwortartige Zusammenfassung des Testprotokolls"]
[null,"(in „gestreckter“ Haltung – maximale Distanz zwischen Boden und Scheitel des Kopfes. "]
[null,"Der Scheitel gilt dabei als höchster Punkt des Schädels, wenn der Kopf exakt horizontal gehalten wird)."]
[]
[null,"1.","Athlet/in steht mit Rücken, Gesäss und Fersen gegen die Wand. Füsse sind zusammen und flach auf dem Boden."]
[null,"2.","Kopf / Blick horizontal ausrichten."]
[null,"3.","Athlet/in atmet möglichst tief ein und hält den Atem an."]
[null,"4.","In der maximal gestreckten Haltung (Füsse immer noch flach auf dem  Boden) und am Ende der tiefen Atmung, wird auf 0.1 cm genau gemessen."]
[null,"5.","Athlet/in verlässt den Messplatz."]
[null,"6.","Erneute Durchführung der Schritte 1 bis 5."]
[null,"7.","Falls Unterschied zw. 1. und 2. Messung maximal 0.4 cm, dann Durchschnitt als Ergebnis verwenden. "]
[null,null,"Falls Unterschied grösser ist als 0.4 cm, dann wieder bei Schritt 1 beginnen."]
[]
[]
[]
[null,"Verwendung des Tools \"Monitoring des Wachstums\""]
[]
[null,"Eingabe in der Eingabemaske"]
[null,null,"Wählen Sie das Geschlecht in der Auswahlliste"]
[null,null,"Füllen Sie die weissen Zellen in der Eingabemaske aus. (1-55 Messungen können eingetragen werden.)"]
[null,null,"Die Daten der gemessenen Körpergrösse erscheinen in der Graphik \"Körpergrösse / taille corporelle\""]
[]
[null,null,"Bemerkungen:"]
[null,null,"Für jeden Athlet eine eigene Tabelle anfertigen"]
[null,null,"Wir empfehlen, die Grössenmessung in einem Zeitintervall von 3 Monaten durchzuführen \n(Achtung: bei 2 Messungen in einem Monat wird nur die erste Messung angezeigt)"]
[]
[]
[null,"Wie liest man die Perzentilkurven?"]
[]
[null,"Wenn sich ein Athlet / eine Athletin auf der 50. Perzentile befindet, heisst es, dass 50% der Kinder gleichen Alters und gleichen Geschlechts kleiner oder grösser"]
[null,"als das betreffende Kind sind."]
[null,"Die Perzentile gehen von 1 bis 100. Auf der Grafik sind die Perzentilekurven des 3., 10., 25., 50., 75., 90., 97. Perzentile dargestellt."]
[]
[null,"Inhalt: Marie Javet & Michael Romann"]
[null,"Kontakt: Marie Javet, Mail: marie.javet@baspo.admin.ch"]

{"sheet":"Instructions","index":1,"n_rows":52,"n_cols":3,"rows_kept":52,"cut":false,"hidden":false,"merged":[]}
[]
[null,"Monitoring de la croissance"]
[null,"Suivre le processus de la croissance de près et de manière régulière d'un jeune athlète joue un rôle essentiel dans:"]
[null,null,"-l'observation de changement de vitesse de croissance. Ceci permet d'identifier dans quelle phase de croissance se trouve l'athlète."]
[null,null,"-l'identification d'éventuels problèmes de croissance."]
[]
[null,null," Lors de la planification de l'entrainement, la phase de croissance de l'athlète doit être prise en compte. Suivant la phase de croissance de l'athlète"]
[null,null,"(puberté: chez les filles entre 8 et 15 ans, chez les garçons entre 10 et 17 ans), l'entrainement devrait être adapté au développement afin de prévenir"]
[null,null,"des charges trop élevées/inadaptées et de provoquer des blessures en lien avec la croissance"]
[]
[null,null,"Sous la rubrique \"Interprétation\", les 3 différents exemples de croissance type sont représentés."]
[]
[null,"Mesure de la taille debout"]
[]
[null,"Protocole de test"]
[null,"(à mesurer en position «étendue», c’est-à-dire avec une distance maximale entre le sol et le sommet de la tête."]
[null,"Sommet de la tête = point du crâne le plus haut lorsque la tête est tenue exactement à l’horizontale)."]
[]
[null,"1.   ","L’athlète est debout, adossé au mur. Son dos, ses fesses et ses talons doivent toucher le mur. Ses pieds sont joints et posés à plat sur le sol."]
[null,"2.    ","Tête / regard à l’horizontale."]
[null,"3.   ","L’athlète inspire aussi profondément que possible et bloque sa respiration."]
[null,"4.    ","Dans la position étendue maximale (les pieds restent sur le sol) et à la fin de la respiration profonde, mesurer la taille du joueur à 0,1 cm près."]
[null,"5.    ","L’athlète se retire de l’endroit de la mesure."]
[null,"6.    ","Répéter les étapes 1 à 5."]
[null,"7.    ","Si les deux résultats divergent de moins de 0,4 cm, le résultat pris en compte sera la moyenne des deux valeurs."]
[null,null,"Si l’écart entre les deux résultats est supérieur à 0,4 cm, recommencer à l’étape 1."]
[]
[]
[]
[null,"Utilisation de l'outil \"Monitoring de la croissance\""]
[]
[null,"Entrée des données dans la feuille de données (Entrée des données_Eingabemaske)"]
[null,null,"Choisissez le sexe dans la liste déroulante"]
[null,null,"Compléter les cellules colorées en blanc (de 1 à 55 mesures possibles)"]
[null,null,"Les valeurs de la taille mesurées apparaissent dans le graphique \"Körpergrösse / taille corporelle\""]
[]
[null,null,"Remarques:"]
[null,null,"Les données d'un seul athlète à la fois peuvent être entrées dans l'outil."]
[null,null,"Nous recommandons un laps de temps de 3 mois entre 2 mesures de la taille"]
[null,null,"(Attention: Lors de 2 mesures dans le même mois, seule la première mesure s'affiche dans le graphique)"]
[]
[]
[]
[null,"Comment lire/comprendre les percentiles"]
[]
[null,"Si un athlète se trouve sur le 50ème percentile, cela veut dire qu'il est plus grand que 50% de la population (générale) du même âge que lui. "]
[null,"Les percentiles vont de 1 à 100. Sur le graphique suivant, les courbes du 3ème, 10ème 25ème, 50ème, 75ème, 90ème et 97ème percentiles sont représentées."]
[]
[]
[]
[null,"Contenu: Marie Javet & Michael Romann"]
[null,"Contact: Marie Javet, Mail: marie.javet@baspo.admin.ch"]

{"sheet":"Entrée des données_Eingabemaske","index":2,"n_rows":75,"n_cols":22,"rows_kept":75,"cut":false,"hidden":false,"merged":[[73,12,73,25],[74,12,74,25],[2,21,2,25],[70,12,70,24],[3,11,3,15],[71,12,71,25],[72,12,72,25],[16,2,16,8],[13,13,13,14],[13,11,13,12],[9,11,9,12],[7,13,7,15],[11,13,11,14],[9,13,9,15],[7,11,7,12],[11,11,11,12]]}
[]
[]
[null,null,null,"männlich / masculin","weiblich / féminin",null,null,null,null,null,null,null,null,null,null,null,null,null,null,null,null,"Eidgenössisches Departement für Verteidigung,\nBevölkerungsschutz und Sport VBS\nBundesamt für Sport BASPO\nEidgenössische Hochschule für Sport Magglingen EHSM"]
[null,null,null,null,null,null,null,null,null,null,null,"Monitoring des Wachstums\nMonitoring de la croissance"]
[null,null,null,null,null,null,null,null,null,null,null,"Persönliche Angaben / Données personnelles"]
[]
[]
[null,null,null,null,null,null,null,null,null,null,null,"Name / Nom:",null,null,null,null,"* Fakultativ / facultatif"]
[]
[null,null,null,null,null,null,null,null,null,null,null,"Vorname / Prénom",null,null,null,null,"* Fakultativ / facultatif"]
[]
[null,null,null,null,null,null,null,null,null,null,null,"Geschecht / sexe:",null,"weiblich / féminin",null,"* in der Auswahlliste auswählen / choisir dans la liste déroulante"]
[]
[null,null,null,null,null,null,null,null,null,null,null,"Geburtsdatum\nDate de Naissance:\n(xx.yy.zzzz)"]
[]
[]
[null,null,"Grössemessung / mesure de la taille:"]
[]
[null,null,null,null,"Datum der Messung\nDate de la mesure:\n(Bsp. / ex: 03.01.2018)","Gemessene Grösse\nTaille mesurée:\nBsp. / ex: 173.4 cm","Alter am Messdatum\nÂge lors de la mesure\n","Perzentil\nPercentile\n"]
[null,null,null,"Messung / mesure 1",null,null,{"$f":"IF(E20-$N$14<0,\"\",(E20-$N$14)/365)","v":0},{"$f":"IF(F20=0,\"\",VLOOKUP(F20,Perzentile!$W$3:$Y$267,3,FALSE)*100)","v":""}]
[null,null,null,"Messung / mesure 2",null,null,{"$f":"IF(E21-$N$14<0,\"\",(E21-$N$14)/365)","v":0},{"$f":"IF(F21=0,\"\",VLOOKUP(F21,Perzentile!$W$3:$Y$267,3,FALSE)*100)","v":""}]
[null,null,null,"Messung / mesure 3",null,null,0,{"$f":"IF(F22=0,\"\",VLOOKUP(F22,Perzentile!$W$3:$Y$267,3,FALSE)*100)","v":""}]
[null,null,null,"Messung / mesure 4",null,null,0,{"$f":"IF(F23=0,\"\",VLOOKUP(F23,Perzentile!$W$3:$Y$267,3,FALSE)*100)","v":""}]
[null,null,null,"Messung / mesure 5",null,null,0,{"$f":"IF(F24=0,\"\",VLOOKUP(F24,Perzentile!$W$3:$Y$267,3,FALSE)*100)","v":""}]
[null,null,null,"Messung / mesure 6",null,null,0,{"$f":"IF(F25=0,\"\",VLOOKUP(F25,Perzentile!$W$3:$Y$267,3,FALSE)*100)","v":""}]
[null,null,null,"Messung / mesure 7",null,null,0,{"$f":"IF(F26=0,\"\",VLOOKUP(F26,Perzentile!$W$3:$Y$267,3,FALSE)*100)","v":""}]
[null,null,null,"Messung / mesure 8",null,null,0,{"$f":"IF(F27=0,\"\",VLOOKUP(F27,Perzentile!$W$3:$Y$267,3,FALSE)*100)","v":""}]
[null,null,null,"Messung / mesure 9",null,null,0,{"$f":"IF(F28=0,\"\",VLOOKUP(F28,Perzentile!$W$3:$Y$267,3,FALSE)*100)","v":""}]
[null,null,null,"Messung / mesure 10",null,null,0,{"$f":"IF(F29=0,\"\",VLOOKUP(F29,Perzentile!$W$3:$Y$267,3,FALSE)*100)","v":""}]
[null,null,null,"Messung / mesure 11",null,null,0,{"$f":"IF(F30=0,\"\",VLOOKUP(F30,Perzentile!$W$3:$Y$267,3,FALSE)*100)","v":""}]
[null,null,null,"Messung / mesure 12",null,null,0,{"$f":"IF(F31=0,\"\",VLOOKUP(F31,Perzentile!$W$3:$Y$267,3,FALSE)*100)","v":""}]
[null,null,null,"Messung / mesure 13",null,null,0,{"$f":"IF(F32=0,\"\",VLOOKUP(F32,Perzentile!$W$3:$Y$267,3,FALSE)*100)","v":""}]
[null,null,null,"Messung / mesure 14",null,null,0,{"$f":"IF(F33=0,\"\",VLOOKUP(F33,Perzentile!$W$3:$Y$267,3,FALSE)*100)","v":""}]
[null,null,null,"Messung / mesure 15",null,null,0,{"$f":"IF(F34=0,\"\",VLOOKUP(F34,Perzentile!$W$3:$Y$267,3,FALSE)*100)","v":""}]
[null,null,null,"Messung / mesure 16",null,null,0,{"$f":"IF(F35=0,\"\",VLOOKUP(F35,Perzentile!$W$3:$Y$267,3,FALSE)*100)","v":""}]
[null,null,null,"Messung / mesure 17",null,null,0,{"$f":"IF(F36=0,\"\",VLOOKUP(F36,Perzentile!$W$3:$Y$267,3,FALSE)*100)","v":""}]
[null,null,null,"Messung / mesure 18",null,null,0,{"$f":"IF(F37=0,\"\",VLOOKUP(F37,Perzentile!$W$3:$Y$267,3,FALSE)*100)","v":""}]
[null,null,null,"Messung / mesure 19",null,null,0,{"$f":"IF(F38=0,\"\",VLOOKUP(F38,Perzentile!$W$3:$Y$267,3,FALSE)*100)","v":""}]
[null,null,null,"Messung / mesure 20",null,null,0,{"$f":"IF(F39=0,\"\",VLOOKUP(F39,Perzentile!$W$3:$Y$267,3,FALSE)*100)","v":""}]
[null,null,null,"Messung / mesure 21",null,null,0,{"$f":"IF(F40=0,\"\",VLOOKUP(F40,Perzentile!$W$3:$Y$267,3,FALSE)*100)","v":""}]
[null,null,null,"Messung / mesure 22",null,null,0,{"$f":"IF(F41=0,\"\",VLOOKUP(F41,Perzentile!$W$3:$Y$267,3,FALSE)*100)","v":""}]
[null,null,null,"Messung / mesure 23",null,null,0,{"$f":"IF(F42=0,\"\",VLOOKUP(F42,Perzentile!$W$3:$Y$267,3,FALSE)*100)","v":""}]
[null,null,null,"Messung / mesure 24",null,null,0,{"$f":"IF(F43=0,\"\",VLOOKUP(F43,Perzentile!$W$3:$Y$267,3,FALSE)*100)","v":""}]
[null,null,null,"Messung / mesure 25",null,null,0,{"$f":"IF(F44=0,\"\",VLOOKUP(F44,Perzentile!$W$3:$Y$267,3,FALSE)*100)","v":""}]
[null,null,null,"Messung / mesure 26",null,null,0,{"$f":"IF(F45=0,\"\",VLOOKUP(F45,Perzentile!$W$3:$Y$267,3,FALSE)*100)","v":""}]
[null,null,null,"Messung / mesure 27",null,null,0,{"$f":"IF(F46=0,\"\",VLOOKUP(F46,Perzentile!$W$3:$Y$267,3,FALSE)*100)","v":""}]
[null,null,null,"Messung / mesure 28",null,null,0,{"$f":"IF(F47=0,\"\",VLOOKUP(F47,Perzentile!$W$3:$Y$267,3,FALSE)*100)","v":""}]
[null,null,null,"Messung / mesure 29",null,null,0,{"$f":"IF(F48=0,\"\",VLOOKUP(F48,Perzentile!$W$3:$Y$267,3,FALSE)*100)","v":""}]
[null,null,null,"Messung / mesure 30",null,null,0,{"$f":"IF(F49=0,\"\",VLOOKUP(F49,Perzentile!$W$3:$Y$267,3,FALSE)*100)","v":""}]
[null,null,null,"Messung / mesure 31",null,null,0,{"$f":"IF(F50=0,\"\",VLOOKUP(F50,Perzentile!$W$3:$Y$267,3,FALSE)*100)","v":""}]
[null,null,null,"Messung / mesure 32",null,null,0,{"$f":"IF(F51=0,\"\",VLOOKUP(F51,Perzentile!$W$3:$Y$267,3,FALSE)*100)","v":""}]
[null,null,null,"Messung / mesure 33",null,null,0,{"$f":"IF(F52=0,\"\",VLOOKUP(F52,Perzentile!$W$3:$Y$267,3,FALSE)*100)","v":""}]
[null,null,null,"Messung / mesure 34",null,null,0,{"$f":"IF(F53=0,\"\",VLOOKUP(F53,Perzentile!$W$3:$Y$267,3,FALSE)*100)","v":""}]
[null,null,null,"Messung / mesure 35",null,null,0,{"$f":"IF(F54=0,\"\",VLOOKUP(F54,Perzentile!$W$3:$Y$267,3,FALSE)*100)","v":""}]
[null,null,null,"Messung / mesure 36",null,null,0,{"$f":"IF(F55=0,\"\",VLOOKUP(F55,Perzentile!$W$3:$Y$267,3,FALSE)*100)","v":""}]
[null,null,null,"Messung / mesure 37",null,null,0,{"$f":"IF(F56=0,\"\",VLOOKUP(F56,Perzentile!$W$3:$Y$267,3,FALSE)*100)","v":""}]
[null,null,null,"Messung / mesure 38",null,null,0,{"$f":"IF(F57=0,\"\",VLOOKUP(F57,Perzentile!$W$3:$Y$267,3,FALSE)*100)","v":""}]
[null,null,null,"Messung / mesure 39",null,null,0,{"$f":"IF(F58=0,\"\",VLOOKUP(F58,Perzentile!$W$3:$Y$267,3,FALSE)*100)","v":""}]
[null,null,null,"Messung / mesure 40",null,null,0,{"$f":"IF(F59=0,\"\",VLOOKUP(F59,Perzentile!$W$3:$Y$267,3,FALSE)*100)","v":""}]
[null,null,null,"Messung / mesure 41",null,null,0,{"$f":"IF(F60=0,\"\",VLOOKUP(F60,Perzentile!$W$3:$Y$267,3,FALSE)*100)","v":""}]
[null,null,null,"Messung / mesure 42",null,null,0,{"$f":"IF(F61=0,\"\",VLOOKUP(F61,Perzentile!$W$3:$Y$267,3,FALSE)*100)","v":""}]
[null,null,null,"Messung / mesure 43",null,null,0,{"$f":"IF(F62=0,\"\",VLOOKUP(F62,Perzentile!$W$3:$Y$267,3,FALSE)*100)","v":""}]
[null,null,null,"Messung / mesure 44",null,null,0,{"$f":"IF(F63=0,\"\",VLOOKUP(F63,Perzentile!$W$3:$Y$267,3,FALSE)*100)","v":""}]
[null,null,null,"Messung / mesure 45",null,null,0,{"$f":"IF(F64=0,\"\",VLOOKUP(F64,Perzentile!$W$3:$Y$267,3,FALSE)*100)","v":""}]
[null,null,null,"Messung / mesure 46",null,null,0,{"$f":"IF(F65=0,\"\",VLOOKUP(F65,Perzentile!$W$3:$Y$267,3,FALSE)*100)","v":""}]
[null,null,null,"Messung / mesure 47",null,null,0,{"$f":"IF(F66=0,\"\",VLOOKUP(F66,Perzentile!$W$3:$Y$267,3,FALSE)*100)","v":""}]
[null,null,null,"Messung / mesure 48",null,null,0,{"$f":"IF(F67=0,\"\",VLOOKUP(F67,Perzentile!$W$3:$Y$267,3,FALSE)*100)","v":""}]
[null,null,null,"Messung / mesure 49",null,null,0,{"$f":"IF(F68=0,\"\",VLOOKUP(F68,Perzentile!$W$3:$Y$267,3,FALSE)*100)","v":""}]
[null,null,null,"Messung / mesure 50",null,null,0,{"$f":"IF(F69=0,\"\",VLOOKUP(F69,Perzentile!$W$3:$Y$267,3,FALSE)*100)","v":""}]
[null,null,null,"Messung / mesure 51",null,null,0,{"$f":"IF(F70=0,\"\",VLOOKUP(F70,Perzentile!$W$3:$Y$267,3,FALSE)*100)","v":""}]
[null,null,null,"Messung / mesure 52",null,null,0,{"$f":"IF(F71=0,\"\",VLOOKUP(F71,Perzentile!$W$3:$Y$267,3,FALSE)*100)","v":""}]
[null,null,null,"Messung / mesure 53",null,null,0,{"$f":"IF(F72=0,\"\",VLOOKUP(F72,Perzentile!$W$3:$Y$267,3,FALSE)*100)","v":""},null,null,null,null,"Erarbeitet von der Arbeitsgruppe Wachstumskurven des Kinderspitals Zürich (Paediatrica 2011, Vol. 22, Nr. 1)"]
[null,null,null,"Messung / mesure 54",null,null,0,{"$f":"IF(F73=0,\"\",VLOOKUP(F73,Perzentile!$W$3:$Y$267,3,FALSE)*100)","v":""},null,null,null,null,"Quelle: WHO Growth Charts (www.who.int/childgrowth/standards)"]
[null,null,null,"Messung / mesure 55",null,null,0,{"$f":"IF(F74=0,\"\",VLOOKUP(F74,Perzentile!$W$3:$Y$267,3,FALSE)*100)","v":""},null,null,null,null,"Elaboré par le groupe de travail \"courbes de croissance\" de la Clinique pédiatrique universitaire de Zurich (Paediatrica 2011, Vol. 22, No 1)"]
[null,null,null,null,null,null,null,null,null,null,null,null,"Source: WHO Growth Charts (www.who.int/childgrowth/standards)"]

{"sheet":"Interpretation","index":3,"n_rows":0,"n_cols":0,"rows_kept":0,"cut":false,"hidden":false,"merged":[]}

{"sheet":"Berechnungen","index":4,"n_rows":120,"n_cols":6,"rows_kept":120,"cut":false,"hidden":true,"merged":[]}
["Datum der Messung","Geburtsdatum","Alter am Tag der Messung\nin Jahr","Alter am Tag der Messung\nin Monaten","Aufgerundet","Grösse"]
[{"$f":"'Entrée des données_Eingabemaske'!$E20","v":"00:00:00"},{"$f":"'Entrée des données_Eingabemaske'!$N$14","v":"00:00:00"},{"$f":"(A2-B2)/365","v":0},{"$f":"$C2*12","v":0},{"$f":"ROUND($D2,0)","v":0},{"$f":"'Entrée des données_Eingabemaske'!$F20","v":0}]
[{"$f":"'Entrée des données_Eingabemaske'!$E21","v":"00:00:00"},{"$f":"'Entrée des données_Eingabemaske'!$N$14","v":"00:00:00"},{"$f":"(A3-B3)/365","v":0},{"$f":"$C3*12","v":0},{"$f":"ROUND($D3,0)","v":0},{"$f":"'Entrée des données_Eingabemaske'!$F21","v":0}]
[{"$f":"'Entrée des données_Eingabemaske'!$E22","v":"00:00:00"},{"$f":"'Entrée des données_Eingabemaske'!$N$14","v":"00:00:00"},0,0,0,{"$f":"'Entrée des données_Eingabemaske'!$F22","v":0}]
[{"$f":"'Entrée des données_Eingabemaske'!$E23","v":"00:00:00"},{"$f":"'Entrée des données_Eingabemaske'!$N$14","v":"00:00:00"},0,0,0,{"$f":"'Entrée des données_Eingabemaske'!$F23","v":0}]
[{"$f":"'Entrée des données_Eingabemaske'!$E24","v":"00:00:00"},{"$f":"'Entrée des données_Eingabemaske'!$N$14","v":"00:00:00"},0,0,0,{"$f":"'Entrée des données_Eingabemaske'!$F24","v":0}]
[{"$f":"'Entrée des données_Eingabemaske'!$E25","v":"00:00:00"},{"$f":"'Entrée des données_Eingabemaske'!$N$14","v":"00:00:00"},0,0,0,{"$f":"'Entrée des données_Eingabemaske'!$F25","v":0}]
[{"$f":"'Entrée des données_Eingabemaske'!$E26","v":"00:00:00"},{"$f":"'Entrée des données_Eingabemaske'!$N$14","v":"00:00:00"},0,0,0,{"$f":"'Entrée des données_Eingabemaske'!$F26","v":0}]
[{"$f":"'Entrée des données_Eingabemaske'!$E27","v":"00:00:00"},{"$f":"'Entrée des données_Eingabemaske'!$N$14","v":"00:00:00"},0,0,0,{"$f":"'Entrée des données_Eingabemaske'!$F27","v":0}]
[{"$f":"'Entrée des données_Eingabemaske'!$E28","v":"00:00:00"},{"$f":"'Entrée des données_Eingabemaske'!$N$14","v":"00:00:00"},0,0,0,{"$f":"'Entrée des données_Eingabemaske'!$F28","v":0}]
[{"$f":"'Entrée des données_Eingabemaske'!$E29","v":"00:00:00"},{"$f":"'Entrée des données_Eingabemaske'!$N$14","v":"00:00:00"},0,0,0,{"$f":"'Entrée des données_Eingabemaske'!$F29","v":0}]
[{"$f":"'Entrée des données_Eingabemaske'!$E30","v":"00:00:00"},{"$f":"'Entrée des données_Eingabemaske'!$N$14","v":"00:00:00"},0,0,0,{"$f":"'Entrée des données_Eingabemaske'!$F30","v":0}]
[{"$f":"'Entrée des données_Eingabemaske'!$E31","v":"00:00:00"},{"$f":"'Entrée des données_Eingabemaske'!$N$14","v":"00:00:00"},0,0,0,{"$f":"'Entrée des données_Eingabemaske'!$F31","v":0}]
[{"$f":"'Entrée des données_Eingabemaske'!$E32","v":"00:00:00"},{"$f":"'Entrée des données_Eingabemaske'!$N$14","v":"00:00:00"},0,0,0,{"$f":"'Entrée des données_Eingabemaske'!$F32","v":0}]
[{"$f":"'Entrée des données_Eingabemaske'!$E33","v":"00:00:00"},{"$f":"'Entrée des données_Eingabemaske'!$N$14","v":"00:00:00"},0,0,0,{"$f":"'Entrée des données_Eingabemaske'!$F33","v":0}]
[{"$f":"'Entrée des données_Eingabemaske'!$E34","v":"00:00:00"},{"$f":"'Entrée des données_Eingabemaske'!$N$14","v":"00:00:00"},0,0,0,{"$f":"'Entrée des données_Eingabemaske'!$F34","v":0}]
[{"$f":"'Entrée des données_Eingabemaske'!$E35","v":"00:00:00"},{"$f":"'Entrée des données_Eingabemaske'!$N$14","v":"00:00:00"},0,0,0,{"$f":"'Entrée des données_Eingabemaske'!$F35","v":0}]
[{"$f":"'Entrée des données_Eingabemaske'!$E36","v":"00:00:00"},{"$f":"'Entrée des données_Eingabemaske'!$N$14","v":"00:00:00"},0,0,0,{"$f":"'Entrée des données_Eingabemaske'!$F36","v":0}]
[{"$f":"'Entrée des données_Eingabemaske'!$E37","v":"00:00:00"},{"$f":"'Entrée des données_Eingabemaske'!$N$14","v":"00:00:00"},0,0,0,{"$f":"'Entrée des données_Eingabemaske'!$F37","v":0}]
[{"$f":"'Entrée des données_Eingabemaske'!$E38","v":"00:00:00"},{"$f":"'Entrée des données_Eingabemaske'!$N$14","v":"00:00:00"},0,0,0,{"$f":"'Entrée des données_Eingabemaske'!$F38","v":0}]
[{"$f":"'Entrée des données_Eingabemaske'!$E39","v":"00:00:00"},{"$f":"'Entrée des données_Eingabemaske'!$N$14","v":"00:00:00"},0,0,0,{"$f":"'Entrée des données_Eingabemaske'!$F39","v":0}]
[{"$f":"'Entrée des données_Eingabemaske'!$E40","v":"00:00:00"},{"$f":"'Entrée des données_Eingabemaske'!$N$14","v":"00:00:00"},0,0,0,{"$f":"'Entrée des données_Eingabemaske'!$F40","v":0}]
[{"$f":"'Entrée des données_Eingabemaske'!$E41","v":"00:00:00"},{"$f":"'Entrée des données_Eingabemaske'!$N$14","v":"00:00:00"},0,0,0,{"$f":"'Entrée des données_Eingabemaske'!$F41","v":0}]
[{"$f":"'Entrée des données_Eingabemaske'!$E42","v":"00:00:00"},{"$f":"'Entrée des données_Eingabemaske'!$N$14","v":"00:00:00"},0,0,0,{"$f":"'Entrée des données_Eingabemaske'!$F42","v":0}]
[{"$f":"'Entrée des données_Eingabemaske'!$E43","v":"00:00:00"},{"$f":"'Entrée des données_Eingabemaske'!$N$14","v":"00:00:00"},0,0,0,{"$f":"'Entrée des données_Eingabemaske'!$F43","v":0}]
[{"$f":"'Entrée des données_Eingabemaske'!$E44","v":"00:00:00"},{"$f":"'Entrée des données_Eingabemaske'!$N$14","v":"00:00:00"},0,0,0,{"$f":"'Entrée des données_Eingabemaske'!$F44","v":0}]
[{"$f":"'Entrée des données_Eingabemaske'!$E45","v":"00:00:00"},{"$f":"'Entrée des données_Eingabemaske'!$N$14","v":"00:00:00"},0,0,0,{"$f":"'Entrée des données_Eingabemaske'!$F45","v":0}]
[{"$f":"'Entrée des données_Eingabemaske'!$E46","v":"00:00:00"},{"$f":"'Entrée des données_Eingabemaske'!$N$14","v":"00:00:00"},0,0,0,{"$f":"'Entrée des données_Eingabemaske'!$F46","v":0}]
[{"$f":"'Entrée des données_Eingabemaske'!$E47","v":"00:00:00"},{"$f":"'Entrée des données_Eingabemaske'!$N$14","v":"00:00:00"},0,0,0,{"$f":"'Entrée des données_Eingabemaske'!$F47","v":0}]
[{"$f":"'Entrée des données_Eingabemaske'!$E48","v":"00:00:00"},{"$f":"'Entrée des données_Eingabemaske'!$N$14","v":"00:00:00"},0,0,0,{"$f":"'Entrée des données_Eingabemaske'!$F48","v":0}]
[{"$f":"'Entrée des données_Eingabemaske'!$E49","v":"00:00:00"},{"$f":"'Entrée des données_Eingabemaske'!$N$14","v":"00:00:00"},0,0,0,{"$f":"'Entrée des données_Eingabemaske'!$F49","v":0}]
[{"$f":"'Entrée des données_Eingabemaske'!$E50","v":"00:00:00"},{"$f":"'Entrée des données_Eingabemaske'!$N$14","v":"00:00:00"},0,0,0,{"$f":"'Entrée des données_Eingabemaske'!$F50","v":0}]
[{"$f":"'Entrée des données_Eingabemaske'!$E51","v":"00:00:00"},{"$f":"'Entrée des données_Eingabemaske'!$N$14","v":"00:00:00"},0,0,0,{"$f":"'Entrée des données_Eingabemaske'!$F51","v":0}]
[{"$f":"'Entrée des données_Eingabemaske'!$E52","v":"00:00:00"},{"$f":"'Entrée des données_Eingabemaske'!$N$14","v":"00:00:00"},0,0,0,{"$f":"'Entrée des données_Eingabemaske'!$F52","v":0}]
[{"$f":"'Entrée des données_Eingabemaske'!$E53","v":"00:00:00"},{"$f":"'Entrée des données_Eingabemaske'!$N$14","v":"00:00:00"},0,0,0,{"$f":"'Entrée des données_Eingabemaske'!$F53","v":0}]
[{"$f":"'Entrée des données_Eingabemaske'!$E54","v":"00:00:00"},{"$f":"'Entrée des données_Eingabemaske'!$N$14","v":"00:00:00"},0,0,0,{"$f":"'Entrée des données_Eingabemaske'!$F54","v":0}]
[{"$f":"'Entrée des données_Eingabemaske'!$E55","v":"00:00:00"},{"$f":"'Entrée des données_Eingabemaske'!$N$14","v":"00:00:00"},0,0,0,{"$f":"'Entrée des données_Eingabemaske'!$F55","v":0}]
[{"$f":"'Entrée des données_Eingabemaske'!$E56","v":"00:00:00"},{"$f":"'Entrée des données_Eingabemaske'!$N$14","v":"00:00:00"},0,0,0,{"$f":"'Entrée des données_Eingabemaske'!$F56","v":0}]
[{"$f":"'Entrée des données_Eingabemaske'!$E57","v":"00:00:00"},{"$f":"'Entrée des données_Eingabemaske'!$N$14","v":"00:00:00"},0,0,0,{"$f":"'Entrée des données_Eingabemaske'!$F57","v":0}]
[{"$f":"'Entrée des données_Eingabemaske'!$E58","v":"00:00:00"},{"$f":"'Entrée des données_Eingabemaske'!$N$14","v":"00:00:00"},0,0,0,{"$f":"'Entrée des données_Eingabemaske'!$F58","v":0}]
[{"$f":"'Entrée des données_Eingabemaske'!$E59","v":"00:00:00"},{"$f":"'Entrée des données_Eingabemaske'!$N$14","v":"00:00:00"},0,0,0,{"$f":"'Entrée des données_Eingabemaske'!$F59","v":0}]
[{"$f":"'Entrée des données_Eingabemaske'!$E60","v":"00:00:00"},{"$f":"'Entrée des données_Eingabemaske'!$N$14","v":"00:00:00"},0,0,0,{"$f":"'Entrée des données_Eingabemaske'!$F60","v":0}]
[{"$f":"'Entrée des données_Eingabemaske'!$E61","v":"00:00:00"},{"$f":"'Entrée des données_Eingabemaske'!$N$14","v":"00:00:00"},0,0,0,{"$f":"'Entrée des données_Eingabemaske'!$F61","v":0}]
[{"$f":"'Entrée des données_Eingabemaske'!$E62","v":"00:00:00"},{"$f":"'Entrée des données_Eingabemaske'!$N$14","v":"00:00:00"},0,0,0,{"$f":"'Entrée des données_Eingabemaske'!$F62","v":0}]
[{"$f":"'Entrée des données_Eingabemaske'!$E63","v":"00:00:00"},{"$f":"'Entrée des données_Eingabemaske'!$N$14","v":"00:00:00"},0,0,0,{"$f":"'Entrée des données_Eingabemaske'!$F63","v":0}]
[{"$f":"'Entrée des données_Eingabemaske'!$E64","v":"00:00:00"},{"$f":"'Entrée des données_Eingabemaske'!$N$14","v":"00:00:00"},0,0,0,{"$f":"'Entrée des données_Eingabemaske'!$F64","v":0}]
[{"$f":"'Entrée des données_Eingabemaske'!$E65","v":"00:00:00"},{"$f":"'Entrée des données_Eingabemaske'!$N$14","v":"00:00:00"},0,0,0,{"$f":"'Entrée des données_Eingabemaske'!$F65","v":0}]
[{"$f":"'Entrée des données_Eingabemaske'!$E66","v":"00:00:00"},{"$f":"'Entrée des données_Eingabemaske'!$N$14","v":"00:00:00"},0,0,0,{"$f":"'Entrée des données_Eingabemaske'!$F66","v":0}]
[{"$f":"'Entrée des données_Eingabemaske'!$E67","v":"00:00:00"},{"$f":"'Entrée des données_Eingabemaske'!$N$14","v":"00:00:00"},0,0,0,{"$f":"'Entrée des données_Eingabemaske'!$F67","v":0}]
[{"$f":"'Entrée des données_Eingabemaske'!$E68","v":"00:00:00"},{"$f":"'Entrée des données_Eingabemaske'!$N$14","v":"00:00:00"},0,0,0,{"$f":"'Entrée des données_Eingabemaske'!$F68","v":0}]
[{"$f":"'Entrée des données_Eingabemaske'!$E69","v":"00:00:00"},{"$f":"'Entrée des données_Eingabemaske'!$N$14","v":"00:00:00"},0,0,0,{"$f":"'Entrée des données_Eingabemaske'!$F69","v":0}]
[{"$f":"'Entrée des données_Eingabemaske'!$E70","v":"00:00:00"},{"$f":"'Entrée des données_Eingabemaske'!$N$14","v":"00:00:00"},0,0,0,{"$f":"'Entrée des données_Eingabemaske'!$F70","v":0}]
[{"$f":"'Entrée des données_Eingabemaske'!$E71","v":"00:00:00"},{"$f":"'Entrée des données_Eingabemaske'!$N$14","v":"00:00:00"},0,0,0,{"$f":"'Entrée des données_Eingabemaske'!$F71","v":0}]
[{"$f":"'Entrée des données_Eingabemaske'!$E72","v":"00:00:00"},{"$f":"'Entrée des données_Eingabemaske'!$N$14","v":"00:00:00"},0,0,0,{"$f":"'Entrée des données_Eingabemaske'!$F72","v":0}]
[{"$f":"'Entrée des données_Eingabemaske'!$E73","v":"00:00:00"},{"$f":"'Entrée des données_Eingabemaske'!$N$14","v":"00:00:00"},0,0,0,{"$f":"'Entrée des données_Eingabemaske'!$F73","v":0}]
[{"$f":"'Entrée des données_Eingabemaske'!$E74","v":"00:00:00"},{"$f":"'Entrée des données_Eingabemaske'!$N$14","v":"00:00:00"},0,0,0,{"$f":"'Entrée des données_Eingabemaske'!$F74","v":0}]
[{"$f":"'Entrée des données_Eingabemaske'!$E75","v":"00:00:00"},{"$f":"'Entrée des données_Eingabemaske'!$N$14","v":"00:00:00"},0,0,0,{"$f":"'Entrée des données_Eingabemaske'!$F75","v":0}]
[{"$f":"'Entrée des données_Eingabemaske'!$E76","v":"00:00:00"},{"$f":"'Entrée des données_Eingabemaske'!$N$14","v":"00:00:00"},0,0,0,{"$f":"'Entrée des données_Eingabemaske'!$F76","v":0}]
[{"$f":"'Entrée des données_Eingabemaske'!$E77","v":"00:00:00"},{"$f":"'Entrée des données_Eingabemaske'!$N$14","v":"00:00:00"},0,0,0,{"$f":"'Entrée des données_Eingabemaske'!$F77","v":0}]
[{"$f":"'Entrée des données_Eingabemaske'!$E78","v":"00:00:00"},{"$f":"'Entrée des données_Eingabemaske'!$N$14","v":"00:00:00"},0,0,0,{"$f":"'Entrée des données_Eingabemaske'!$F78","v":0}]
[{"$f":"'Entrée des données_Eingabemaske'!$E79","v":"00:00:00"},{"$f":"'Entrée des données_Eingabemaske'!$N$14","v":"00:00:00"},0,0,0,{"$f":"'Entrée des données_Eingabemaske'!$F79","v":0}]
[{"$f":"'Entrée des données_Eingabemaske'!$E80","v":"00:00:00"},{"$f":"'Entrée des données_Eingabemaske'!$N$14","v":"00:00:00"},0,0,0,{"$f":"'Entrée des données_Eingabemaske'!$F80","v":0}]
[{"$f":"'Entrée des données_Eingabemaske'!$E81","v":"00:00:00"},{"$f":"'Entrée des données_Eingabemaske'!$N$14","v":"00:00:00"},0,0,0,{"$f":"'Entrée des données_Eingabemaske'!$F81","v":0}]
[{"$f":"'Entrée des données_Eingabemaske'!$E82","v":"00:00:00"},{"$f":"'Entrée des données_Eingabemaske'!$N$14","v":"00:00:00"},0,0,0,{"$f":"'Entrée des données_Eingabemaske'!$F82","v":0}]
[{"$f":"'Entrée des données_Eingabemaske'!$E83","v":"00:00:00"},{"$f":"'Entrée des données_Eingabemaske'!$N$14","v":"00:00:00"},0,0,0,{"$f":"'Entrée des données_Eingabemaske'!$F83","v":0}]
[{"$f":"'Entrée des données_Eingabemaske'!$E84","v":"00:00:00"},{"$f":"'Entrée des données_Eingabemaske'!$N$14","v":"00:00:00"},0,0,0,{"$f":"'Entrée des données_Eingabemaske'!$F84","v":0}]
[{"$f":"'Entrée des données_Eingabemaske'!$E85","v":"00:00:00"},{"$f":"'Entrée des données_Eingabemaske'!$N$14","v":"00:00:00"},{"$f":"(A67-B67)/365","v":0},{"$f":"$C67*12","v":0},{"$f":"ROUND($D67,0)","v":0},{"$f":"'Entrée des données_Eingabemaske'!$F85","v":0}]
[{"$f":"'Entrée des données_Eingabemaske'!$E86","v":"00:00:00"},{"$f":"'Entrée des données_Eingabemaske'!$N$14","v":"00:00:00"},0,0,0,{"$f":"'Entrée des données_Eingabemaske'!$F86","v":0}]
[{"$f":"'Entrée des données_Eingabemaske'!$E87","v":"00:00:00"},{"$f":"'Entrée des données_Eingabemaske'!$N$14","v":"00:00:00"},0,0,0,{"$f":"'Entrée des données_Eingabemaske'!$F87","v":0}]
[{"$f":"'Entrée des données_Eingabemaske'!$E88","v":"00:00:00"},{"$f":"'Entrée des données_Eingabemaske'!$N$14","v":"00:00:00"},0,0,0,{"$f":"'Entrée des données_Eingabemaske'!$F88","v":0}]
[{"$f":"'Entrée des données_Eingabemaske'!$E89","v":"00:00:00"},{"$f":"'Entrée des données_Eingabemaske'!$N$14","v":"00:00:00"},0,0,0,{"$f":"'Entrée des données_Eingabemaske'!$F89","v":0}]
[{"$f":"'Entrée des données_Eingabemaske'!$E90","v":"00:00:00"},{"$f":"'Entrée des données_Eingabemaske'!$N$14","v":"00:00:00"},0,0,0,{"$f":"'Entrée des données_Eingabemaske'!$F90","v":0}]
[{"$f":"'Entrée des données_Eingabemaske'!$E91","v":"00:00:00"},{"$f":"'Entrée des données_Eingabemaske'!$N$14","v":"00:00:00"},0,0,0,{"$f":"'Entrée des données_Eingabemaske'!$F91","v":0}]
[{"$f":"'Entrée des données_Eingabemaske'!$E92","v":"00:00:00"},{"$f":"'Entrée des données_Eingabemaske'!$N$14","v":"00:00:00"},0,0,0,{"$f":"'Entrée des données_Eingabemaske'!$F92","v":0}]
[{"$f":"'Entrée des données_Eingabemaske'!$E93","v":"00:00:00"},{"$f":"'Entrée des données_Eingabemaske'!$N$14","v":"00:00:00"},0,0,0,{"$f":"'Entrée des données_Eingabemaske'!$F93","v":0}]
[{"$f":"'Entrée des données_Eingabemaske'!$E94","v":"00:00:00"},{"$f":"'Entrée des données_Eingabemaske'!$N$14","v":"00:00:00"},0,0,0,{"$f":"'Entrée des données_Eingabemaske'!$F94","v":0}]
[{"$f":"'Entrée des données_Eingabemaske'!$E95","v":"00:00:00"},{"$f":"'Entrée des données_Eingabemaske'!$N$14","v":"00:00:00"},0,0,0,{"$f":"'Entrée des données_Eingabemaske'!$F95","v":0}]
[{"$f":"'Entrée des données_Eingabemaske'!$E96","v":"00:00:00"},{"$f":"'Entrée des données_Eingabemaske'!$N$14","v":"00:00:00"},0,0,0,{"$f":"'Entrée des données_Eingabemaske'!$F96","v":0}]
[{"$f":"'Entrée des données_Eingabemaske'!$E97","v":"00:00:00"},{"$f":"'Entrée des données_Eingabemaske'!$N$14","v":"00:00:00"},0,0,0,{"$f":"'Entrée des données_Eingabemaske'!$F97","v":0}]
[{"$f":"'Entrée des données_Eingabemaske'!$E98","v":"00:00:00"},{"$f":"'Entrée des données_Eingabemaske'!$N$14","v":"00:00:00"},0,0,0,{"$f":"'Entrée des données_Eingabemaske'!$F98","v":0}]
[{"$f":"'Entrée des données_Eingabemaske'!$E99","v":"00:00:00"},{"$f":"'Entrée des données_Eingabemaske'!$N$14","v":"00:00:00"},0,0,0,{"$f":"'Entrée des données_Eingabemaske'!$F99","v":0}]
[{"$f":"'Entrée des données_Eingabemaske'!$E100","v":"00:00:00"},{"$f":"'Entrée des données_Eingabemaske'!$N$14","v":"00:00:00"},0,0,0,{"$f":"'Entrée des données_Eingabemaske'!$F100","v":0}]
[{"$f":"'Entrée des données_Eingabemaske'!$E101","v":"00:00:00"},{"$f":"'Entrée des données_Eingabemaske'!$N$14","v":"00:00:00"},0,0,0,{"$f":"'Entrée des données_Eingabemaske'!$F101","v":0}]
[{"$f":"'Entrée des données_Eingabemaske'!$E102","v":"00:00:00"},{"$f":"'Entrée des données_Eingabemaske'!$N$14","v":"00:00:00"},0,0,0,{"$f":"'Entrée des données_Eingabemaske'!$F102","v":0}]
[{"$f":"'Entrée des données_Eingabemaske'!$E103","v":"00:00:00"},{"$f":"'Entrée des données_Eingabemaske'!$N$14","v":"00:00:00"},0,0,0,{"$f":"'Entrée des données_Eingabemaske'!$F103","v":0}]
[{"$f":"'Entrée des données_Eingabemaske'!$E104","v":"00:00:00"},{"$f":"'Entrée des données_Eingabemaske'!$N$14","v":"00:00:00"},0,0,0,{"$f":"'Entrée des données_Eingabemaske'!$F104","v":0}]
[{"$f":"'Entrée des données_Eingabemaske'!$E105","v":"00:00:00"},{"$f":"'Entrée des données_Eingabemaske'!$N$14","v":"00:00:00"},0,0,0,{"$f":"'Entrée des données_Eingabemaske'!$F105","v":0}]
[{"$f":"'Entrée des données_Eingabemaske'!$E106","v":"00:00:00"},{"$f":"'Entrée des données_Eingabemaske'!$N$14","v":"00:00:00"},0,0,0,{"$f":"'Entrée des données_Eingabemaske'!$F106","v":0}]
[{"$f":"'Entrée des données_Eingabemaske'!$E107","v":"00:00:00"},{"$f":"'Entrée des données_Eingabemaske'!$N$14","v":"00:00:00"},0,0,0,{"$f":"'Entrée des données_Eingabemaske'!$F107","v":0}]
[{"$f":"'Entrée des données_Eingabemaske'!$E108","v":"00:00:00"},{"$f":"'Entrée des données_Eingabemaske'!$N$14","v":"00:00:00"},0,0,0,{"$f":"'Entrée des données_Eingabemaske'!$F108","v":0}]
[{"$f":"'Entrée des données_Eingabemaske'!$E109","v":"00:00:00"},{"$f":"'Entrée des données_Eingabemaske'!$N$14","v":"00:00:00"},0,0,0,{"$f":"'Entrée des données_Eingabemaske'!$F109","v":0}]
[{"$f":"'Entrée des données_Eingabemaske'!$E110","v":"00:00:00"},{"$f":"'Entrée des données_Eingabemaske'!$N$14","v":"00:00:00"},0,0,0,{"$f":"'Entrée des données_Eingabemaske'!$F110","v":0}]
[{"$f":"'Entrée des données_Eingabemaske'!$E111","v":"00:00:00"},{"$f":"'Entrée des données_Eingabemaske'!$N$14","v":"00:00:00"},0,0,0,{"$f":"'Entrée des données_Eingabemaske'!$F111","v":0}]
[{"$f":"'Entrée des données_Eingabemaske'!$E112","v":"00:00:00"},{"$f":"'Entrée des données_Eingabemaske'!$N$14","v":"00:00:00"},0,0,0,{"$f":"'Entrée des données_Eingabemaske'!$F112","v":0}]
[{"$f":"'Entrée des données_Eingabemaske'!$E113","v":"00:00:00"},{"$f":"'Entrée des données_Eingabemaske'!$N$14","v":"00:00:00"},0,0,0,{"$f":"'Entrée des données_Eingabemaske'!$F113","v":0}]
[{"$f":"'Entrée des données_Eingabemaske'!$E114","v":"00:00:00"},{"$f":"'Entrée des données_Eingabemaske'!$N$14","v":"00:00:00"},0,0,0,{"$f":"'Entrée des données_Eingabemaske'!$F114","v":0}]
[{"$f":"'Entrée des données_Eingabemaske'!$E115","v":"00:00:00"},{"$f":"'Entrée des données_Eingabemaske'!$N$14","v":"00:00:00"},0,0,0,{"$f":"'Entrée des données_Eingabemaske'!$F115","v":0}]
[{"$f":"'Entrée des données_Eingabemaske'!$E116","v":"00:00:00"},{"$f":"'Entrée des données_Eingabemaske'!$N$14","v":"00:00:00"},0,0,0,{"$f":"'Entrée des données_Eingabemaske'!$F116","v":0}]
[{"$f":"'Entrée des données_Eingabemaske'!$E117","v":"00:00:00"},{"$f":"'Entrée des données_Eingabemaske'!$N$14","v":"00:00:00"},0,0,0,{"$f":"'Entrée des données_Eingabemaske'!$F117","v":0}]
[{"$f":"'Entrée des données_Eingabemaske'!$E118","v":"00:00:00"},{"$f":"'Entrée des données_Eingabemaske'!$N$14","v":"00:00:00"},0,0,0,{"$f":"'Entrée des données_Eingabemaske'!$F118","v":0}]
[{"$f":"'Entrée des données_Eingabemaske'!$E119","v":"00:00:00"},{"$f":"'Entrée des données_Eingabemaske'!$N$14","v":"00:00:00"},{"$f":"(A101-B101)/365","v":0},0,0,{"$f":"'Entrée des données_Eingabemaske'!$F119","v":0}]
[{"$f":"'Entrée des données_Eingabemaske'!$E120","v":"00:00:00"},{"$f":"'Entrée des données_Eingabemaske'!$N$14","v":"00:00:00"},0,0,0,{"$f":"'Entrée des données_Eingabemaske'!$F120","v":0}]
[{"$f":"'Entrée des données_Eingabemaske'!$E121","v":"00:00:00"},{"$f":"'Entrée des données_Eingabemaske'!$N$14","v":"00:00:00"},0,0,0,{"$f":"'Entrée des données_Eingabemaske'!$F121","v":0}]
[{"$f":"'Entrée des données_Eingabemaske'!$E122","v":"00:00:00"},{"$f":"'Entrée des données_Eingabemaske'!$N$14","v":"00:00:00"},0,0,0,{"$f":"'Entrée des données_Eingabemaske'!$F122","v":0}]
[{"$f":"'Entrée des données_Eingabemaske'!$E123","v":"00:00:00"},{"$f":"'Entrée des données_Eingabemaske'!$N$14","v":"00:00:00"},0,0,0,{"$f":"'Entrée des données_Eingabemaske'!$F123","v":0}]
[{"$f":"'Entrée des données_Eingabemaske'!$E124","v":"00:00:00"},{"$f":"'Entrée des données_Eingabemaske'!$N$14","v":"00:00:00"},0,0,0,{"$f":"'Entrée des données_Eingabemaske'!$F124","v":0}]
[{"$f":"'Entrée des données_Eingabemaske'!$E125","v":"00:00:00"},{"$f":"'Entrée des données_Eingabemaske'!$N$14","v":"00:00:00"},0,0,0,{"$f":"'Entrée des données_Eingabemaske'!$F125","v":0}]
[{"$f":"'Entrée des données_Eingabemaske'!$E126","v":"00:00:00"},{"$f":"'Entrée des données_Eingabemaske'!$N$14","v":"00:00:00"},0,0,0,{"$f":"'Entrée des données_Eingabemaske'!$F126","v":0}]
[{"$f":"'Entrée des données_Eingabemaske'!$E127","v":"00:00:00"},{"$f":"'Entrée des données_Eingabemaske'!$N$14","v":"00:00:00"},0,0,0,{"$f":"'Entrée des données_Eingabemaske'!$F127","v":0}]
[{"$f":"'Entrée des données_Eingabemaske'!$E128","v":"00:00:00"},{"$f":"'Entrée des données_Eingabemaske'!$N$14","v":"00:00:00"},0,0,0,{"$f":"'Entrée des données_Eingabemaske'!$F128","v":0}]
[{"$f":"'Entrée des données_Eingabemaske'!$E129","v":"00:00:00"},{"$f":"'Entrée des données_Eingabemaske'!$N$14","v":"00:00:00"},0,0,0,{"$f":"'Entrée des données_Eingabemaske'!$F129","v":0}]
[{"$f":"'Entrée des données_Eingabemaske'!$E130","v":"00:00:00"},{"$f":"'Entrée des données_Eingabemaske'!$N$14","v":"00:00:00"},0,0,0,{"$f":"'Entrée des données_Eingabemaske'!$F130","v":0}]
[{"$f":"'Entrée des données_Eingabemaske'!$E131","v":"00:00:00"},{"$f":"'Entrée des données_Eingabemaske'!$N$14","v":"00:00:00"},0,0,0,{"$f":"'Entrée des données_Eingabemaske'!$F131","v":0}]
[{"$f":"'Entrée des données_Eingabemaske'!$E132","v":"00:00:00"},{"$f":"'Entrée des données_Eingabemaske'!$N$14","v":"00:00:00"},0,0,0,{"$f":"'Entrée des données_Eingabemaske'!$F132","v":0}]
[{"$f":"'Entrée des données_Eingabemaske'!$E133","v":"00:00:00"},{"$f":"'Entrée des données_Eingabemaske'!$N$14","v":"00:00:00"},0,0,0,{"$f":"'Entrée des données_Eingabemaske'!$F133","v":0}]
[{"$f":"'Entrée des données_Eingabemaske'!$E134","v":"00:00:00"},{"$f":"'Entrée des données_Eingabemaske'!$N$14","v":"00:00:00"},0,0,0,{"$f":"'Entrée des données_Eingabemaske'!$F134","v":0}]
[{"$f":"'Entrée des données_Eingabemaske'!$E135","v":"00:00:00"},{"$f":"'Entrée des données_Eingabemaske'!$N$14","v":"00:00:00"},0,0,0,{"$f":"'Entrée des données_Eingabemaske'!$F135","v":0}]
[{"$f":"'Entrée des données_Eingabemaske'!$E136","v":"00:00:00"},{"$f":"'Entrée des données_Eingabemaske'!$N$14","v":"00:00:00"},0,0,0,{"$f":"'Entrée des données_Eingabemaske'!$F136","v":0}]
[{"$f":"'Entrée des données_Eingabemaske'!$E137","v":"00:00:00"},{"$f":"'Entrée des données_Eingabemaske'!$N$14","v":"00:00:00"},0,0,0,{"$f":"'Entrée des données_Eingabemaske'!$F137","v":0}]
[{"$f":"'Entrée des données_Eingabemaske'!$E138","v":"00:00:00"},{"$f":"'Entrée des données_Eingabemaske'!$N$14","v":"00:00:00"},0,0,0,{"$f":"'Entrée des données_Eingabemaske'!$F138","v":0}]

{"sheet":"Perzentile","index":5,"n_rows":267,"n_cols":25,"rows_kept":267,"cut":false,"hidden":true,"merged":[[0,2,0,11],[0,12,0,21]]}
[null,null,"Knaben",null,null,null,null,null,null,null,null,null,"Mädchen"]
["Age","Month","L","M","SD","P3","P10","P25","P50","P75","P90","P97","L","M","SD","P3","P10","P25","P50","P75","P90","P97","Taille actuelle","Z-score","Percentile"]
[{"$f":"B3/12","v":8.3333333333333329E-2},1,1,54.724400000000003,3.5569999999999997E-2,51.063347017467024,52.2297997626466,53.411474062278124,54.724400000000003,56.037325937721882,57.219000237353399,58.385452982532982,1,53.687199999999997,3.6400000000000002E-2,50.011726649376818,51.182773886366689,52.369102633351133,53.687199999999997,55.005297366648861,56.191626113633305,57.362673350623183,{"$f":"VLOOKUP(Perzentile!B3,Berechnungen!$E$2:$F$40,2,FALSE)","v":{"$error":"#N/A"}},{"$f":"IF('Entrée des données_Eingabemaske'!$N$12=\"männlich / masculin\",((W3/D3)^C3-1)/C3/E3,((W3/N3)^M3-1)/M3/O3)","v":{"$error":"#N/A"}},{"$f":"_xlfn.NORM.S.DIST(X3,TRUE)","v":{"$error":"#N/A"}}]
[0.16666666666666666,2,1,58.424900000000001,3.424E-2,54.662431488951768,55.861196364604425,57.075604449898648,58.424900000000001,59.774195550101361,60.988603635395584,62.187368511048234,1,57.067300000000003,3.5680000000000003E-2,53.23770090950363,54.45785434441953,55.693930097685708,57.067300000000003,58.440669902314298,59.676745655580476,60.896899090496369,{"$f":"VLOOKUP(Perzentile!B4,Berechnungen!$E$2:$F$40,2,FALSE)","v":{"$error":"#N/A"}},{"$f":"IF('Entrée des données_Eingabemaske'!$N$12=\"männlich / masculin\",((W4/D4)^C4-1)/C4/E4,((W4/N4)^M4-1)/M4/O4)","v":{"$error":"#N/A"}},{"$error":"#N/A"}]
[0.25,3,1,61.429200000000002,3.3279999999999997E-2,57.584173677363246,58.809242402324529,60.050297587415848,61.429200000000002,62.808102412584155,64.049157597675475,65.27422632263675,1,59.802900000000001,3.5200000000000002E-2,55.843712695174425,57.105154395807425,58.383057203513559,59.802900000000001,61.222742796486443,62.500645604192584,63.762087304825585,{"$f":"VLOOKUP(Perzentile!B5,Berechnungen!$E$2:$F$40,2,FALSE)","v":{"$error":"#N/A"}},{"$f":"IF('Entrée des données_Eingabemaske'!$N$12=\"männlich / masculin\",((W5/D5)^C5-1)/C5/E5,((W5/N5)^M5-1)/M5/O5)","v":{"$error":"#N/A"}},{"$error":"#N/A"}]
[0.33333333333333331,4,1,63.886000000000003,3.2570000000000002E-2,59.972506688732082,61.219389767985433,62.482543972463958,63.886000000000003,65.289456027536048,66.552610232014572,67.799493311267938,1,62.0899,3.4860000000000002E-2,58.019008913410843,59.316040697964162,60.629998020235206,62.0899,63.549801979764801,64.863759302035845,66.160791086589157,{"$f":"VLOOKUP(Perzentile!B6,Berechnungen!$E$2:$F$40,2,FALSE)","v":{"$error":"#N/A"}},{"$f":"IF('Entrée des données_Eingabemaske'!$N$12=\"männlich / masculin\",((W6/D6)^C6-1)/C6/E6,((W6/N6)^M6-1)/M6/O6)","v":{"$error":"#N/A"}},{"$error":"#N/A"}]
[0.41666666666666669,5,1,65.902600000000007,3.2039999999999999E-2,61.931267989548829,63.196579130281158,64.478401872110837,65.902600000000007,67.326798127889163,68.608620869718848,69.873932010451185,1,64.030100000000004,3.4630000000000001E-2,59.859699040714453,61.188435792317684,62.534511813685938,64.030100000000004,65.525688186314056,66.871764207682332,68.200500959285563,{"$f":"VLOOKUP(Perzentile!B7,Berechnungen!$E$2:$F$40,2,FALSE)","v":{"$error":"#N/A"}},{"$f":"IF('Entrée des données_Eingabemaske'!$N$12=\"männlich / masculin\",((W7/D7)^C7-1)/C7/E7,((W7/N7)^M7-1)/M7/O7)","v":{"$error":"#N/A"}},{"$error":"#N/A"}]
[0.5,6,1,67.623599999999996,3.1649999999999998E-2,63.598162003638393,64.880711921328327,66.179998396491456,67.623599999999996,69.067201603508522,70.366488078671665,71.649037996361585,1,65.731099999999998,3.4479999999999997E-2,61.468453703236833,62.826580859088274,64.202430813004966,65.731099999999998,67.25976918699503,68.635619140911729,69.993746296763149,{"$f":"VLOOKUP(Perzentile!B8,Berechnungen!$E$2:$F$40,2,FALSE)","v":{"$error":"#N/A"}},{"$f":"IF('Entrée des données_Eingabemaske'!$N$12=\"männlich / masculin\",((W8/D8)^C8-1)/C8/E8,((W8/N8)^M8-1)/M8/O8)","v":{"$error":"#N/A"}},{"$error":"#N/A"}]
[0.58333333333333337,7,1,69.164500000000004,3.1390000000000001E-2,65.081158546850432,66.382157158522119,67.700133072781753,69.164500000000004,70.628866927218255,71.946842841477903,73.247841453149576,1,67.287300000000002,3.4410000000000003E-2,62.932593247770903,64.32005190237777,65.725616114666423,67.287300000000002,68.848983885333581,70.254548097622234,71.642006752229094,{"$f":"VLOOKUP(Perzentile!B9,Berechnungen!$E$2:$F$40,2,FALSE)","v":{"$error":"#N/A"}},{"$f":"IF('Entrée des données_Eingabemaske'!$N$12=\"männlich / masculin\",((W9/D9)^C9-1)/C9/E9,((W9/N9)^M9-1)/M9/O9)","v":{"$error":"#N/A"}},{"$error":"#N/A"}]
[0.66666666666666663,8,1,70.599400000000003,3.124E-2,66.451262195899048,67.772905655325047,69.111795821029418,70.599400000000003,72.087004178970602,73.425894344674958,74.747537804100958,1,68.749799999999993,3.44E-2,64.301736056582314,65.718939364561777,67.154636381275736,68.749799999999993,70.344963618724236,71.780660635438196,73.197863943417673,{"$f":"VLOOKUP(Perzentile!B10,Berechnungen!$E$2:$F$40,2,FALSE)","v":{"$error":"#N/A"}},{"$f":"IF('Entrée des données_Eingabemaske'!$N$12=\"männlich / masculin\",((W10/D10)^C10-1)/C10/E10,((W10/N10)^M10-1)/M10/O10)","v":{"$error":"#N/A"}},{"$error":"#N/A"}]
[0.75,9,1,71.968699999999998,3.117E-2,67.74958269458341,69.093841023162113,70.455641169384521,71.968699999999998,73.481758830615476,74.843558976837883,76.187817305416587,1,70.143500000000003,3.4439999999999998E-2,65.59998762414638,67.047601878530941,68.514106687453264,70.143500000000003,71.772893312546742,73.239398121469065,74.687012375853627,{"$f":"VLOOKUP(Perzentile!B11,Berechnungen!$E$2:$F$40,2,FALSE)","v":{"$error":"#N/A"}},{"$f":"IF('Entrée des données_Eingabemaske'!$N$12=\"männlich / masculin\",((W11/D11)^C11-1)/C11/E11,((W11/N11)^M11-1)/M11/O11)","v":{"$error":"#N/A"}},{"$error":"#N/A"}]
[0.83333333333333337,10,1,73.281199999999998,3.1179999999999999E-2,68.983759984452362,70.352972811280111,71.740053097965074,73.281199999999998,74.822346902034923,76.2094271887199,77.578640015547634,1,71.481800000000007,3.4520000000000002E-2,66.840844467148685,68.3195052096669,69.817461645989454,71.481800000000007,73.14613835401056,74.644094790333114,76.122755532851329,{"$f":"VLOOKUP(Perzentile!B12,Berechnungen!$E$2:$F$40,2,FALSE)","v":{"$error":"#N/A"}},{"$f":"IF('Entrée des données_Eingabemaske'!$N$12=\"männlich / masculin\",((W12/D12)^C12-1)/C12/E12,((W12/N12)^M12-1)/M12/O12)","v":{"$error":"#N/A"}},{"$error":"#N/A"}]
[0.91666666666666663,11,1,74.538799999999995,3.125E-2,70.157796918772988,71.553633880193246,72.967685731502627,74.538799999999995,76.109914268497363,77.523966119806744,78.919803081227002,1,72.771000000000001,3.4639999999999997E-2,68.029919095340048,69.540480909862836,71.070754709296978,72.771000000000001,74.471245290703024,76.00151909013718,77.512080904659953,{"$f":"VLOOKUP(Perzentile!B13,Berechnungen!$E$2:$F$40,2,FALSE)","v":{"$error":"#N/A"}},{"$f":"IF('Entrée des données_Eingabemaske'!$N$12=\"männlich / masculin\",((W13/D13)^C13-1)/C13/E13,((W13/N13)^M13-1)/M13/O13)","v":{"$error":"#N/A"}},{"$error":"#N/A"}]
[1,12,1,75.748800000000003,3.1370000000000002E-2,71.279583267400952,72.703526092433719,74.14605057312059,75.748800000000003,77.351549426879416,78.794073907566286,80.218016732599054,1,74.015000000000001,3.4790000000000001E-2,69.171990595414513,70.715027978883569,72.278201135234056,74.015000000000001,75.751798864765945,77.314972021116432,78.858009404585488,{"$f":"VLOOKUP(Perzentile!B14,Berechnungen!$E$2:$F$40,2,FALSE)","v":{"$error":"#N/A"}},{"$f":"IF('Entrée des données_Eingabemaske'!$N$12=\"männlich / masculin\",((W14/D14)^C14-1)/C14/E14,((W14/N14)^M14-1)/M14/O14)","v":{"$error":"#N/A"}},{"$error":"#N/A"}]
[1.0833333333333333,13,1,76.918599999999998,3.1539999999999999E-2,72.355770925870686,73.809539698050799,75.282279337775904,76.918599999999998,78.554920662224092,80.027660301949197,81.481429074129309,1,75.217600000000004,3.4959999999999998E-2,70.271851405735319,71.8476226530437,73.443956831807171,75.217600000000004,76.991243168192838,78.587577346956309,80.16334859426469,{"$f":"VLOOKUP(Perzentile!B15,Berechnungen!$E$2:$F$40,2,FALSE)","v":{"$error":"#N/A"}},{"$f":"IF('Entrée des données_Eingabemaske'!$N$12=\"männlich / masculin\",((W15/D15)^C15-1)/C15/E15,((W15/N15)^M15-1)/M15/O15)","v":{"$error":"#N/A"}},{"$error":"#N/A"}]
[1.1666666666666667,14,1,78.049700000000001,3.1739999999999997E-2,73.390414737888392,74.874915538749406,76.378788242902388,78.049700000000001,79.720611757097615,81.224484461250597,82.708985262111611,1,76.381699999999995,3.5139999999999998E-2,71.333550390270005,72.941947755301513,74.57133380433531,76.381699999999995,78.19206619566468,79.821452244698477,81.429849609729985,{"$f":"VLOOKUP(Perzentile!B16,Berechnungen!$E$2:$F$40,2,FALSE)","v":{"$error":"#N/A"}},{"$f":"IF('Entrée des données_Eingabemaske'!$N$12=\"männlich / masculin\",((W16/D16)^C16-1)/C16/E16,((W16/N16)^M16-1)/M16/O16)","v":{"$error":"#N/A"}},{"$error":"#N/A"}]
[1.25,15,1,79.145799999999994,3.1969999999999998E-2,74.386844435378009,75.903101318035922,77.439144503051921,79.145799999999994,80.852455496948068,82.388498681964052,83.904755564621979,1,77.509900000000002,3.5340000000000003E-2,72.358030400578443,73.99947412338814,75.662337766644526,77.509900000000002,79.357462233355491,81.020325876611878,82.661769599421561,{"$f":"VLOOKUP(Perzentile!B17,Berechnungen!$E$2:$F$40,2,FALSE)","v":{"$error":"#N/A"}},{"$f":"IF('Entrée des données_Eingabemaske'!$N$12=\"männlich / masculin\",((W17/D17)^C17-1)/C17/E17,((W17/N17)^M17-1)/M17/O17)","v":{"$error":"#N/A"}},{"$error":"#N/A"}]
[1.3333333333333333,16,1,80.211299999999994,3.2219999999999999E-2,75.350561790996778,76.899247771380573,78.468143235669118,80.211299999999994,81.954456764330871,83.523352228619416,85.07203820900321,1,78.605500000000006,3.5549999999999998E-2,73.349762334125302,75.02429959363846,76.7206886257012,78.605500000000006,80.490311374298813,82.186700406361567,83.861237665874697,{"$f":"VLOOKUP(Perzentile!B18,Berechnungen!$E$2:$F$40,2,FALSE)","v":{"$error":"#N/A"}},{"$f":"IF('Entrée des données_Eingabemaske'!$N$12=\"männlich / masculin\",((W18/D18)^C18-1)/C18/E18,((W18/N18)^M18-1)/M18/O18)","v":{"$error":"#N/A"}},{"$error":"#N/A"}]
[1.4166666666666667,17,1,81.248699999999999,3.2500000000000001E-2,76.282308842005548,77.864657042787428,79.467654000580424,81.248699999999999,83.029745999419589,84.632742957212571,86.215091157994436,1,79.671000000000006,3.576E-2,74.312553257832548,76.019814786720701,77.749355121529703,79.671000000000006,81.59264487847031,83.322185213279297,85.029446742167465,{"$f":"VLOOKUP(Perzentile!B19,Berechnungen!$E$2:$F$40,2,FALSE)","v":{"$error":"#N/A"}},{"$f":"IF('Entrée des données_Eingabemaske'!$N$12=\"männlich / masculin\",((W19/D19)^C19-1)/C19/E19,((W19/N19)^M19-1)/M19/O19)","v":{"$error":"#N/A"}},{"$error":"#N/A"}]
[1.5,18,1,82.258700000000005,3.279E-2,77.185705417037283,78.802018670576686,80.43942390602605,82.258700000000005,84.077976093973973,85.715381329423337,87.331694582962712,1,80.707899999999995,3.5979999999999998E-2,75.24631940994577,76.986440545226515,78.749269285871577,80.707899999999995,82.666530714128413,84.429359454773476,86.169480590054221,{"$f":"VLOOKUP(Perzentile!B20,Berechnungen!$E$2:$F$40,2,FALSE)","v":{"$error":"#N/A"}},{"$f":"IF('Entrée des données_Eingabemaske'!$N$12=\"männlich / masculin\",((W20/D20)^C20-1)/C20/E20,((W20/N20)^M20-1)/M20/O20)","v":{"$error":"#N/A"}},{"$error":"#N/A"}]
[1.5833333333333333,19,1,83.241799999999998,3.3099999999999997E-2,78.059642638219742,79.710736383500347,81.383375976611433,83.241799999999998,85.100224023388577,86.772863616499649,88.423957361780253,1,81.718199999999996,3.6200000000000003E-2,76.154438530087546,77.927115645405763,79.722925203378054,81.718199999999996,83.713474796621938,85.509284354594215,87.281961469912432,{"$f":"VLOOKUP(Perzentile!B21,Berechnungen!$E$2:$F$40,2,FALSE)","v":{"$error":"#N/A"}},{"$f":"IF('Entrée des données_Eingabemaske'!$N$12=\"männlich / masculin\",((W21/D21)^C21-1)/C21/E21,((W21/N21)^M21-1)/M21/O21)","v":{"$error":"#N/A"}},{"$error":"#N/A"}]
[1.6666666666666667,20,1,84.199600000000004,3.3419999999999998E-2,78.907139637681226,80.593377162195182,82.301619141158213,84.199600000000004,86.097580858841795,87.805822837804811,89.492060362318782,1,82.703599999999994,3.6429999999999997E-2,77.036971705992499,78.842423350913563,80.671435127727733,82.703599999999994,84.735764872272242,86.564776649086426,88.370228294007475,{"$f":"VLOOKUP(Perzentile!B22,Berechnungen!$E$2:$F$40,2,FALSE)","v":{"$error":"#N/A"}},{"$f":"IF('Entrée des données_Eingabemaske'!$N$12=\"männlich / masculin\",((W22/D22)^C22-1)/C22/E22,((W22/N22)^M22-1)/M22/O22)","v":{"$error":"#N/A"}},{"$error":"#N/A"}]
[1.75,21,1,85.134799999999998,3.3759999999999998E-2,79.729115456219091,81.45142748113426,83.196214712506617,85.134799999999998,87.073385287493366,88.818172518865737,90.540484543780892,1,83.665400000000005,3.6659999999999998E-2,77.89667956573831,79.734658917258784,81.596622869009622,83.665400000000005,85.734177130990389,87.596141082741227,89.434120434261686,{"$f":"VLOOKUP(Perzentile!B23,Berechnungen!$E$2:$F$40,2,FALSE)","v":{"$error":"#N/A"}},{"$f":"IF('Entrée des données_Eingabemaske'!$N$12=\"männlich / masculin\",((W23/D23)^C23-1)/C23/E23,((W23/N23)^M23-1)/M23/O23)","v":{"$error":"#N/A"}},{"$error":"#N/A"}]
[1.8333333333333333,22,1,86.047700000000006,3.4099999999999998E-2,80.529025422276433,82.287337345553937,84.068594253781995,86.047700000000006,88.026805746218017,89.808062654446076,91.566374577723579,1,84.603999999999999,3.6880000000000003E-2,78.735556209801828,80.605308546538751,82.499460103152273,84.603999999999999,86.708539896847725,88.602691453461247,90.472443790198156,{"$f":"VLOOKUP(Perzentile!B24,Berechnungen!$E$2:$F$40,2,FALSE)","v":{"$error":"#N/A"}},{"$f":"IF('Entrée des données_Eingabemaske'!$N$12=\"männlich / masculin\",((W24/D24)^C24-1)/C24/E24,((W24/N24)^M24-1)/M24/O24)","v":{"$error":"#N/A"}},{"$error":"#N/A"}]
[1.9166666666666667,23,1,86.941000000000003,3.4450000000000001E-2,81.307802244377726,83.102602542962543,84.920823979341577,86.941000000000003,88.961176020658428,90.779397457037447,92.574197755622265,1,85.520200000000003,3.7109999999999997E-2,79.55121067246273,81.452997950678039,83.379602486798589,85.520200000000003,87.660797513201416,89.587402049321966,91.489189327537275,{"$f":"VLOOKUP(Perzentile!B25,Berechnungen!$E$2:$F$40,2,FALSE)","v":{"$error":"#N/A"}},{"$f":"IF('Entrée des données_Eingabemaske'!$N$12=\"männlich / masculin\",((W25/D25)^C25-1)/C25/E25,((W25/N25)^M25-1)/M25/O25)","v":{"$error":"#N/A"}},{"$error":"#N/A"}]
[2,24,1,87.816100000000006,3.4790000000000001E-2,82.070045846463302,83.900803465465614,85.755451445137169,87.816100000000006,89.876748554862843,91.731396534534397,93.56215415353671,1,86.415300000000002,3.7339999999999998E-2,80.346454299279102,82.280056943505087,84.23889201832813,86.415300000000002,88.59170798167186,90.550543056494917,92.484145700720887,{"$f":"VLOOKUP(Perzentile!B26,Berechnungen!$E$2:$F$40,2,FALSE)","v":{"$error":"#N/A"}},{"$f":"IF('Entrée des données_Eingabemaske'!$N$12=\"männlich / masculin\",((W26/D26)^C26-1)/C26/E26,((W26/N26)^M26-1)/M26/O26)","v":{"$error":"#N/A"}},{"$error":"#N/A"}]
[2,24,1,87.116100000000003,3.5069999999999997E-2,81.369971540069429,83.200752833926359,85.055424797396114,87.116100000000003,89.176775202603892,91.031447166073647,92.862228459930591,1,85.715299999999999,3.7643999999999997E-2,79.646605794947291,81.580160170945817,83.53894634766813,85.715299999999999,87.891653652331868,89.850439829054181,91.783994205052707,{"$f":"VLOOKUP(Perzentile!B27,Berechnungen!$E$2:$F$40,2,FALSE)","v":{"$error":"#N/A"}},{"$f":"IF('Entrée des données_Eingabemaske'!$N$12=\"männlich / masculin\",((W27/D27)^C27-1)/C27/E27,((W27/N27)^M27-1)/M27/O27)","v":{"$error":"#N/A"}},{"$error":"#N/A"}]
[2.0833333333333335,25,1,87.971999999999994,3.542E-2,82.111506851005686,83.978726023840736,85.870311360183464,87.971999999999994,90.073688639816524,91.965273976159253,93.832493148994288,1,86.590400000000002,3.7859999999999998E-2,80.424570721722731,82.389073426892296,84.379211791132761,86.590400000000002,88.80158820886723,90.791726573107709,92.75622927827726,{"$f":"VLOOKUP(Perzentile!B28,Berechnungen!$E$2:$F$40,2,FALSE)","v":{"$error":"#N/A"}},{"$f":"IF('Entrée des données_Eingabemaske'!$N$12=\"männlich / masculin\",((W28/D28)^C28-1)/C28/E28,((W28/N28)^M28-1)/M28/O28)","v":{"$error":"#N/A"}},{"$error":"#N/A"}]
[2.1666666666666665,26,1,88.8065,3.576E-2,82.833625295172723,84.736650498386012,86.66450911373181,88.8065,90.948490886268189,92.876349501613987,94.779374704827276,1,87.446200000000005,3.8080000000000003E-2,81.183248887028228,83.178695703423926,85.200181982195843,87.446200000000005,89.692218017804166,91.713704296576083,93.709151112971767,{"$f":"VLOOKUP(Perzentile!B29,Berechnungen!$E$2:$F$40,2,FALSE)","v":{"$error":"#N/A"}},{"$f":"IF('Entrée des données_Eingabemaske'!$N$12=\"männlich / masculin\",((W29/D29)^C29-1)/C29/E29,((W29/N29)^M29-1)/M29/O29)","v":{"$error":"#N/A"}},{"$error":"#N/A"}]
[2.25,27,1,89.619699999999995,3.61E-2,83.534822662827978,85.473533167125183,87.43754275673011,89.619699999999995,91.801857243269879,93.765866832874806,95.704577337172012,1,88.283000000000001,3.8300000000000001E-2,81.923587489247637,83.9497679942247,86.002389018985724,88.283000000000001,90.563610981014278,92.616232005775302,94.642412510752365,{"$f":"VLOOKUP(Perzentile!B30,Berechnungen!$E$2:$F$40,2,FALSE)","v":{"$error":"#N/A"}},{"$f":"IF('Entrée des données_Eingabemaske'!$N$12=\"männlich / masculin\",((W30/D30)^C30-1)/C30/E30,((W30/N30)^M30-1)/M30/O30)","v":{"$error":"#N/A"}},{"$error":"#N/A"}]
[2.3333333333333335,28,1,90.412000000000006,3.6420000000000001E-2,84.21891332787979,86.192100545954858,88.191036751126006,90.412000000000006,92.632963248874006,94.631899454045168,96.605086672120223,1,89.100399999999993,3.8510000000000003E-2,82.64691488742875,84.703067983668859,86.786052725207327,89.100399999999993,91.41474727479266,93.497732016331128,95.553885112571251,{"$f":"VLOOKUP(Perzentile!B31,Berechnungen!$E$2:$F$40,2,FALSE)","v":{"$error":"#N/A"}},{"$f":"IF('Entrée des données_Eingabemaske'!$N$12=\"männlich / masculin\",((W31/D31)^C31-1)/C31/E31,((W31/N31)^M31-1)/M31/O31)","v":{"$error":"#N/A"}},{"$error":"#N/A"}]
[2.4166666666666665,29,1,91.1828,3.6740000000000002E-2,84.882035952834116,86.889530396266196,88.923221516853843,91.1828,93.442378483146143,95.476069603733791,97.483564047165885,1,89.899100000000004,3.8719999999999997E-2,83.352258409060937,85.438155931560928,87.551273247448265,89.899100000000004,92.246926752551744,94.36004406843908,96.445941590939071,{"$f":"VLOOKUP(Perzentile!B32,Berechnungen!$E$2:$F$40,2,FALSE)","v":{"$error":"#N/A"}},{"$f":"IF('Entrée des données_Eingabemaske'!$N$12=\"männlich / masculin\",((W32/D32)^C32-1)/C32/E32,((W32/N32)^M32-1)/M32/O32)","v":{"$error":"#N/A"}},{"$error":"#N/A"}]
[2.5,30,1,91.932699999999997,3.7039999999999997E-2,85.528245664635193,87.56877700261515,89.635936130705176,91.932699999999997,94.229463869294818,96.296622997384844,98.337154335364801,1,90.679699999999997,3.8929999999999999E-2,84.040196280196582,86.155617001378388,88.298642777140685,90.679699999999997,93.060757222859309,95.203782998621605,97.319203719803397,{"$f":"VLOOKUP(Perzentile!B33,Berechnungen!$E$2:$F$40,2,FALSE)","v":{"$error":"#N/A"}},{"$f":"IF('Entrée des données_Eingabemaske'!$N$12=\"männlich / masculin\",((W33/D33)^C33-1)/C33/E33,((W33/N33)^M33-1)/M33/O33)","v":{"$error":"#N/A"}},{"$error":"#N/A"}]
[2.5833333333333335,31,1,92.6631,3.7330000000000002E-2,86.157221396072046,88.230067649202851,90.329963383971844,92.6631,94.996236616028156,97.096132350797163,99.168978603927954,1,91.442999999999998,3.9129999999999998E-2,84.713210910214855,86.857397567909246,89.029564659530436,91.442999999999998,93.856435340469574,96.028602432090764,98.172789089785141,{"$f":"VLOOKUP(Perzentile!B34,Berechnungen!$E$2:$F$40,2,FALSE)","v":{"$error":"#N/A"}},{"$f":"IF('Entrée des données_Eingabemaske'!$N$12=\"männlich / masculin\",((W34/D34)^C34-1)/C34/E34,((W34/N34)^M34-1)/M34/O34)","v":{"$error":"#N/A"}},{"$error":"#N/A"}]
[2.6666666666666665,32,1,93.375299999999996,3.7609999999999998E-2,86.770244309115867,88.874689500008813,91.006596520964465,93.375299999999996,95.744003479035513,97.875910499991193,99.980355690884124,1,92.190600000000003,3.9329999999999997E-2,85.371112650646637,87.543878184858357,89.744997091315085,92.190600000000003,94.636202908684908,96.837321815141649,99.01008734935337,{"$f":"VLOOKUP(Perzentile!B35,Berechnungen!$E$2:$F$40,2,FALSE)","v":{"$error":"#N/A"}},{"$f":"IF('Entrée des données_Eingabemaske'!$N$12=\"männlich / masculin\",((W35/D35)^C35-1)/C35/E35,((W35/N35)^M35-1)/M35/O35)","v":{"$error":"#N/A"}},{"$error":"#N/A"}]
[2.75,33,1,94.071100000000001,3.7870000000000001E-2,87.37082438558015,89.505607717366971,91.668248774948665,94.071100000000001,96.473951225051337,98.636592282633032,100.77137561441985,1,92.923900000000003,3.952E-2,86.01696283845952,88.21759086850993,90.446935860757335,92.923900000000003,95.400864139242685,97.630209131490076,99.830837161540501,{"$f":"VLOOKUP(Perzentile!B36,Berechnungen!$E$2:$F$40,2,FALSE)","v":{"$error":"#N/A"}},{"$f":"IF('Entrée des données_Eingabemaske'!$N$12=\"männlich / masculin\",((W36/D36)^C36-1)/C36/E36,((W36/N36)^M36-1)/M36/O36)","v":{"$error":"#N/A"}},{"$error":"#N/A"}]
[2.8333333333333335,34,1,94.753200000000007,3.8120000000000001E-2,87.95978856379925,90.124246018170254,92.316948429001599,94.753200000000007,97.189451570998415,99.382153981829745,101.54661143620078,1,93.644400000000005,3.9710000000000002E-2,86.650444920431795,88.8787978399737,91.136229515978869,93.644400000000005,96.15257048402114,98.410002160026295,100.6383550795682,{"$f":"VLOOKUP(Perzentile!B37,Berechnungen!$E$2:$F$40,2,FALSE)","v":{"$error":"#N/A"}},{"$f":"IF('Entrée des données_Eingabemaske'!$N$12=\"männlich / masculin\",((W37/D37)^C37-1)/C37/E37,((W37/N37)^M37-1)/M37/O37)","v":{"$error":"#N/A"}},{"$error":"#N/A"}]
[2.9166666666666665,35,1,95.423599999999993,3.8359999999999998E-2,88.53905036112144,90.732545474114559,92.95466446873553,95.423599999999993,97.892535531264471,100.11465452588544,102.30814963887855,1,94.353300000000004,3.9890000000000002E-2,87.274457157271186,89.529856274954255,91.81468708682516,94.353300000000004,96.891912913174849,99.176743725045753,101.43214284272882,{"$f":"VLOOKUP(Perzentile!B38,Berechnungen!$E$2:$F$40,2,FALSE)","v":{"$error":"#N/A"}},{"$f":"IF('Entrée des données_Eingabemaske'!$N$12=\"männlich / masculin\",((W38/D38)^C38-1)/C38/E38,((W38/N38)^M38-1)/M38/O38)","v":{"$error":"#N/A"}},{"$error":"#N/A"}]
[3,36,1,96.083500000000001,3.8580000000000003E-2,89.111583484409266,91.332914669063982,93.583232980477803,96.083500000000001,98.583767019522199,100.83408533093602,103.05541651559074,1,95.051500000000004,4.0059999999999998E-2,87.889883518973747,90.171655250787552,92.483202824620051,95.051500000000004,97.619797175379972,99.931344749212442,102.21311648102626,{"$f":"VLOOKUP(Perzentile!B39,Berechnungen!$E$2:$F$40,2,FALSE)","v":{"$error":"#N/A"}},{"$f":"IF('Entrée des données_Eingabemaske'!$N$12=\"männlich / masculin\",((W39/D39)^C39-1)/C39/E39,((W39/N39)^M39-1)/M39/O39)","v":{"$error":"#N/A"}},{"$error":"#N/A"}]
[3.0833333333333335,37,1,96.733699999999999,3.8789999999999998E-2,89.676397724717091,91.924933774820985,94.202811959928027,96.733699999999999,99.26458804007197,101.54246622517901,103.79100227528291,1,95.739900000000006,4.0239999999999998E-2,88.494004243326799,90.802628302301443,93.141378611111733,95.739900000000006,98.338421388888264,100.67717169769857,102.98579575667321,{"$f":"VLOOKUP(Perzentile!B40,Berechnungen!$E$2:$F$40,2,FALSE)","v":{"$error":"#N/A"}},{"$f":"IF('Entrée des données_Eingabemaske'!$N$12=\"männlich / masculin\",((W40/D40)^C40-1)/C40/E40,((W40/N40)^M40-1)/M40/O40)","v":{"$error":"#N/A"}},{"$error":"#N/A"}]
[3.1666666666666665,38,1,97.374899999999997,3.9E-2,90.232358508939683,92.508052733949782,94.813443492921621,97.374899999999997,99.936356507078358,102.24174726605021,104.51744149106032,1,96.418700000000001,4.0410000000000001E-2,89.090602106736711,91.42541669295656,93.790699300711097,96.418700000000001,99.04670069928892,101.41198330704344,103.74679789326329,{"$f":"VLOOKUP(Perzentile!B41,Berechnungen!$E$2:$F$40,2,FALSE)","v":{"$error":"#N/A"}},{"$f":"IF('Entrée des données_Eingabemaske'!$N$12=\"männlich / masculin\",((W41/D41)^C41-1)/C41/E41,((W41/N41)^M41-1)/M41/O41)","v":{"$error":"#N/A"}},{"$error":"#N/A"}]
[3.25,39,1,98.007300000000001,3.9190000000000003E-2,90.783348382061163,93.084980791095361,95.416648212852763,98.007300000000001,100.59795178714725,102.92961920890464,105.23125161793882,1,97.088499999999996,4.0570000000000002E-2,89.680278835772043,92.040621599217232,94.431765512599711,97.088499999999996,99.745234487400268,102.13637840078276,104.49672116422795,{"$f":"VLOOKUP(Perzentile!B42,Berechnungen!$E$2:$F$40,2,FALSE)","v":{"$error":"#N/A"}},{"$f":"IF('Entrée des données_Eingabemaske'!$N$12=\"männlich / masculin\",((W42/D42)^C42-1)/C42/E42,((W42/N42)^M42-1)/M42/O42)","v":{"$error":"#N/A"}},{"$error":"#N/A"}]
[3.3333333333333335,40,1,98.631,3.9370000000000002E-2,91.327685694627661,93.654603950401381,96.011887185023909,98.631,101.25011281497608,103.60739604959862,105.93431430537234,1,97.749300000000005,4.0730000000000002E-2,90.261241885541523,92.647021601198944,95.063934404760971,97.749300000000005,100.43466559523904,102.85157839880107,105.23735811445849,{"$f":"VLOOKUP(Perzentile!B43,Berechnungen!$E$2:$F$40,2,FALSE)","v":{"$error":"#N/A"}},{"$f":"IF('Entrée des données_Eingabemaske'!$N$12=\"männlich / masculin\",((W43/D43)^C43-1)/C43/E43,((W43/N43)^M43-1)/M43/O43)","v":{"$error":"#N/A"}},{"$error":"#N/A"}]
[3.4166666666666665,41,1,99.245900000000006,3.9539999999999999E-2,91.865321910794677,94.216857278963374,96.599078865498129,99.245900000000006,101.8927211345019,104.27494272103664,106.62647808920534,1,98.401499999999999,4.0890000000000003E-2,90.833868618813256,93.245001274147029,95.687597859036217,98.401499999999999,101.11540214096378,103.55799872585297,105.96913138118674,{"$f":"VLOOKUP(Perzentile!B44,Berechnungen!$E$2:$F$40,2,FALSE)","v":{"$error":"#N/A"}},{"$f":"IF('Entrée des données_Eingabemaske'!$N$12=\"männlich / masculin\",((W44/D44)^C44-1)/C44/E44,((W44/N44)^M44-1)/M44/O44)","v":{"$error":"#N/A"}},{"$error":"#N/A"}]
[3.5,42,1,99.851500000000001,3.9710000000000002E-2,92.393959499687071,94.770015959503553,97.177078624186422,99.851500000000001,102.52592137581358,104.93298404049644,107.30904050031293,1,99.044799999999995,4.1050000000000003E-2,91.397889961476579,93.834281690613921,96.302466966060422,99.044799999999995,101.78713303393955,104.25531830938608,106.69171003852341,{"$f":"VLOOKUP(Perzentile!B45,Berechnungen!$E$2:$F$40,2,FALSE)","v":{"$error":"#N/A"}},{"$f":"IF('Entrée des données_Eingabemaske'!$N$12=\"männlich / masculin\",((W45/D45)^C45-1)/C45/E45,((W45/N45)^M45-1)/M45/O45)","v":{"$error":"#N/A"}},{"$error":"#N/A"}]
[3.5833333333333335,43,1,100.4485,3.986E-2,92.918033335609536,95.317324893276151,97.747925860811307,100.4485,103.14907413918868,105.57967510672385,107.97896666439046,1,99.679500000000004,4.1200000000000001E-2,91.955465461695042,94.416429925758635,96.909508596547596,99.679500000000004,102.44949140345243,104.94257007424137,107.40353453830495,{"$f":"VLOOKUP(Perzentile!B46,Berechnungen!$E$2:$F$40,2,FALSE)","v":{"$error":"#N/A"}},{"$f":"IF('Entrée des données_Eingabemaske'!$N$12=\"männlich / masculin\",((W46/D46)^C46-1)/C46/E46,((W46/N46)^M46-1)/M46/O46)","v":{"$error":"#N/A"}},{"$error":"#N/A"}]
[3.6666666666666665,44,1,101.03740000000001,4.002E-2,93.432379545909072,95.855424781294786,98.310089398727811,101.03740000000001,103.7647106012722,106.21937521870522,108.64242045409094,1,100.3058,4.1349999999999998E-2,92.504936114854416,94.990379274790527,97.508256074711227,100.3058,103.10334392528878,105.62122072520947,108.10666388514559,{"$f":"VLOOKUP(Perzentile!B47,Berechnungen!$E$2:$F$40,2,FALSE)","v":{"$error":"#N/A"}},{"$f":"IF('Entrée des données_Eingabemaske'!$N$12=\"männlich / masculin\",((W47/D47)^C47-1)/C47/E47,((W47/N47)^M47-1)/M47/O47)","v":{"$error":"#N/A"}},{"$error":"#N/A"}]
[3.75,45,1,101.6186,4.0160000000000001E-2,93.943075687892957,96.38858424711502,98.866005322168292,101.6186,104.3711946778317,106.84861575288498,109.29412431210703,1,100.9238,4.1500000000000002E-2,93.046401225061089,95.556229263535528,98.098809150990178,100.9238,103.74879084900982,106.29137073646447,108.80119877493892,{"$f":"VLOOKUP(Perzentile!B48,Berechnungen!$E$2:$F$40,2,FALSE)","v":{"$error":"#N/A"}},{"$f":"IF('Entrée des données_Eingabemaske'!$N$12=\"männlich / masculin\",((W48/D48)^C48-1)/C48/E48,((W48/N48)^M48-1)/M48/O48)","v":{"$error":"#N/A"}},{"$error":"#N/A"}]
[3.8333333333333335,46,1,102.19329999999999,4.0309999999999999E-2,94.445536385879535,96.91406120095624,99.414798881100964,102.19329999999999,104.97180111889904,107.47253879904375,109.94106361412045,1,101.5337,4.1640000000000003E-2,93.58196178940814,96.115475209986073,98.682049560503486,101.5337,104.38535043949651,106.95192479001392,109.48543821059185,{"$f":"VLOOKUP(Perzentile!B49,Berechnungen!$E$2:$F$40,2,FALSE)","v":{"$error":"#N/A"}},{"$f":"IF('Entrée des données_Eingabemaske'!$N$12=\"männlich / masculin\",((W49/D49)^C49-1)/C49/E49,((W49/N49)^M49-1)/M49/O49)","v":{"$error":"#N/A"}},{"$error":"#N/A"}]
[3.9166666666666665,47,1,102.7625,4.045E-2,94.944524099773346,97.43541934058949,99.958819367989477,102.7625,105.56618063201053,108.08958065941052,110.58047590022666,1,102.136,4.1790000000000001E-2,94.108277404142328,96.666000306311219,99.257100058583333,102.136,105.01489994141666,107.60599969368877,110.16372259585765,{"$f":"VLOOKUP(Perzentile!B50,Berechnungen!$E$2:$F$40,2,FALSE)","v":{"$error":"#N/A"}},{"$f":"IF('Entrée des données_Eingabemaske'!$N$12=\"männlich / masculin\",((W50/D50)^C50-1)/C50/E50,((W50/N50)^M50-1)/M50/O50)","v":{"$error":"#N/A"}},{"$error":"#N/A"}]
[4,48,1,103.32729999999999,4.0590000000000001E-2,95.439147962520281,97.952402111643806,100.49845281857097,103.32729999999999,106.15614718142902,108.70219788835618,111.21545203747972,1,102.7312,4.1930000000000002E-2,94.629645391558512,97.21089200512175,99.825822440035338,102.7312,105.63657755996466,108.25150799487825,110.83275460844149,{"$f":"VLOOKUP(Perzentile!B51,Berechnungen!$E$2:$F$40,2,FALSE)","v":{"$error":"#N/A"}},{"$f":"IF('Entrée des données_Eingabemaske'!$N$12=\"männlich / masculin\",((W51/D51)^C51-1)/C51/E51,((W51/N51)^M51-1)/M51/O51)","v":{"$error":"#N/A"}},{"$error":"#N/A"}]
[4.083333333333333,49,1,103.8886,4.0730000000000002E-2,95.930242505575677,98.465864904590788,101.03457575453174,103.8886,106.74262424546825,109.31133509540921,111.84695749442432,1,103.3197,4.206E-2,95.146473301162231,97.750555450565656,100.38861941226136,103.3197,106.25078058773863,108.88884454943434,111.49292669883776,{"$f":"VLOOKUP(Perzentile!B52,Berechnungen!$E$2:$F$40,2,FALSE)","v":{"$error":"#N/A"}},{"$f":"IF('Entrée des données_Eingabemaske'!$N$12=\"männlich / masculin\",((W52/D52)^C52-1)/C52/E52,((W52/N52)^M52-1)/M52/O52)","v":{"$error":"#N/A"}},{"$error":"#N/A"}]
[4.166666666666667,50,1,104.4473,4.086E-2,96.420605750617099,98.978001010008299,101.56876884394812,104.4473,107.32583115605186,109.9165989899917,112.4739942493829,1,103.9021,4.2200000000000001E-2,95.655443285642633,98.282921065644715,100.9446859578036,103.9021,106.85951404219641,109.52127893435529,112.14875671435738,{"$f":"VLOOKUP(Perzentile!B53,Berechnungen!$E$2:$F$40,2,FALSE)","v":{"$error":"#N/A"}},{"$f":"IF('Entrée des données_Eingabemaske'!$N$12=\"männlich / masculin\",((W53/D53)^C53-1)/C53/E53,((W53/N53)^M53-1)/M53/O53)","v":{"$error":"#N/A"}},{"$error":"#N/A"}]
[4.25,51,1,105.00409999999999,4.1000000000000002E-2,96.906967355503326,99.486805081512315,102.10030824367885,105.00409999999999,107.90789175632113,110.52139491848766,113.10123264449666,1,104.4786,4.233E-2,96.16064142570653,98.810836781951195,101.49561570198797,104.4786,107.46158429801201,110.14636321804879,112.79655857429347,{"$f":"VLOOKUP(Perzentile!B54,Berechnungen!$E$2:$F$40,2,FALSE)","v":{"$error":"#N/A"}},{"$f":"IF('Entrée des données_Eingabemaske'!$N$12=\"männlich / masculin\",((W54/D54)^C54-1)/C54/E54,((W54/N54)^M54-1)/M54/O54)","v":{"$error":"#N/A"}},{"$error":"#N/A"}]
[4.333333333333333,52,1,105.5596,4.113E-2,97.393821683956219,99.995530694648295,102.63119054950275,105.5596,108.48800945049724,111.12366930535171,113.72537831604379,1,105.04940000000001,4.2459999999999998E-2,96.660312847047138,99.333170570166544,102.04090758826203,105.04940000000001,108.057892411738,110.76562942983347,113.43848715295287,{"$f":"VLOOKUP(Perzentile!B55,Berechnungen!$E$2:$F$40,2,FALSE)","v":{"$error":"#N/A"}},{"$f":"IF('Entrée des données_Eingabemaske'!$N$12=\"männlich / masculin\",((W55/D55)^C55-1)/C55/E55,((W55/N55)^M55-1)/M55/O55)","v":{"$error":"#N/A"}},{"$error":"#N/A"}]
[4.416666666666667,53,1,106.1138,4.1259999999999998E-2,97.879205251395831,100.50283995315451,103.16071161705322,106.1138,109.06688838294677,111.72476004684549,114.34839474860416,1,105.6148,4.2590000000000003E-2,97.154737699768702,99.85020890479548,102.5808544980609,105.6148,108.6487455019391,111.37939109520451,114.0748623002313,{"$f":"VLOOKUP(Perzentile!B56,Berechnungen!$E$2:$F$40,2,FALSE)","v":{"$error":"#N/A"}},{"$f":"IF('Entrée des données_Eingabemaske'!$N$12=\"männlich / masculin\",((W56/D56)^C56-1)/C56/E56,((W56/N56)^M56-1)/M56/O56)","v":{"$error":"#N/A"}},{"$error":"#N/A"}]
[4.5,54,1,106.66679999999999,4.1390000000000003E-2,98.363211226779782,101.00882820243571,103.68896899658354,106.66679999999999,109.64463100341645,112.32477179756428,114.97038877322021,1,106.1748,4.2720000000000001E-2,97.643919944822585,100.36195448478564,103.11545785186004,106.1748,109.23414214813997,111.98764551521437,114.70568005517742,{"$f":"VLOOKUP(Perzentile!B57,Berechnungen!$E$2:$F$40,2,FALSE)","v":{"$error":"#N/A"}},{"$f":"IF('Entrée des données_Eingabemaske'!$N$12=\"männlich / masculin\",((W57/D57)^C57-1)/C57/E57,((W57/N57)^M57-1)/M57/O57)","v":{"$error":"#N/A"}},{"$error":"#N/A"}]
[4.583333333333333,55,1,107.2188,4.1520000000000001E-2,98.84602487220937,101.51368540025383,104.21615740279201,107.2188,110.221442597208,112.92391459974618,115.59157512779063,1,106.7295,4.2849999999999999E-2,98.127955483959482,100.86850451763614,103.64481617994626,106.7295,109.81418382005373,112.59049548236388,115.33104451604052,{"$f":"VLOOKUP(Perzentile!B58,Berechnungen!$E$2:$F$40,2,FALSE)","v":{"$error":"#N/A"}},{"$f":"IF('Entrée des données_Eingabemaske'!$N$12=\"männlich / masculin\",((W58/D58)^C58-1)/C58/E58,((W58/N58)^M58-1)/M58/O58)","v":{"$error":"#N/A"}},{"$error":"#N/A"}]
[4.666666666666667,56,1,107.7697,4.165E-2,99.327554754699463,102.01731738407622,104.74217990797942,107.7697,110.79722009202058,113.52208261592378,116.21184524530054,1,107.2788,4.2979999999999997E-2,98.606756288430745,101.36976716042271,104.16883377544686,107.2788,110.38876622455317,113.1878328395773,115.95084371156926,{"$f":"VLOOKUP(Perzentile!B59,Berechnungen!$E$2:$F$40,2,FALSE)","v":{"$error":"#N/A"}},{"$f":"IF('Entrée des données_Eingabemaske'!$N$12=\"männlich / masculin\",((W59/D59)^C59-1)/C59/E59,((W59/N59)^M59-1)/M59/O59)","v":{"$error":"#N/A"}},{"$error":"#N/A"}]
[4.75,57,1,108.3198,4.1770000000000002E-2,99.810115379118216,102.5213968148139,105.26805895339579,108.3198,111.37154104660421,114.11820318518609,116.82948462088179,1,107.8227,4.3099999999999999E-2,99.082354241637404,101.86712691559281,104.68823931189706,107.8227,110.95716068810292,113.77827308440719,116.56304575836259,{"$f":"VLOOKUP(Perzentile!B60,Berechnungen!$E$2:$F$40,2,FALSE)","v":{"$error":"#N/A"}},{"$f":"IF('Entrée des données_Eingabemaske'!$N$12=\"männlich / masculin\",((W60/D60)^C60-1)/C60/E60,((W60/N60)^M60-1)/M60/O60)","v":{"$error":"#N/A"}},{"$error":"#N/A"}]
[4.833333333333333,58,1,108.8689,4.19E-2,100.28945888077341,103.02296552309042,105.79214289478138,108.8689,111.94565710521863,114.71483447690957,117.44834111922658,1,108.3613,4.3220000000000001E-2,99.552837509438305,102.35931294203864,105.20241130582238,108.3613,111.52018869417762,114.36328705796134,117.16976249056168,{"$f":"VLOOKUP(Perzentile!B61,Berechnungen!$E$2:$F$40,2,FALSE)","v":{"$error":"#N/A"}},{"$f":"IF('Entrée des données_Eingabemaske'!$N$12=\"männlich / masculin\",((W61/D61)^C61-1)/C61/E61,((W61/N61)^M61-1)/M61/O61)","v":{"$error":"#N/A"}},{"$error":"#N/A"}]
[4.916666666666667,59,1,109.417,4.2020000000000002E-2,100.76967082674595,103.52480736826493,106.31589689721746,109.417,112.51810310278253,115.30919263173507,118.06432917325407,1,108.8948,4.3339999999999997E-2,100.01839337766862,102.84651657647167,105.71154519767208,108.8948,112.07805480232793,114.94308342352832,117.77120662233139,{"$f":"VLOOKUP(Perzentile!B62,Berechnungen!$E$2:$F$40,2,FALSE)","v":{"$error":"#N/A"}},{"$f":"IF('Entrée des données_Eingabemaske'!$N$12=\"männlich / masculin\",((W62/D62)^C62-1)/C62/E62,((W62/N62)^M62-1)/M62/O62)","v":{"$error":"#N/A"}},{"$error":"#N/A"}]
[5,60,1,109.96380000000001,4.2139999999999997E-2,101.24843839923953,104.02525083897815,106.83829912447135,109.96380000000001,113.08930087552866,115.90234916102186,118.67916160076047,1,109.4233,4.3470000000000002E-2,100.47705909910414,103.3274322861832,106.21500124553403,109.4233,112.63159875446595,115.5191677138168,118.36954090089584,{"$f":"VLOOKUP(Perzentile!B63,Berechnungen!$E$2:$F$40,2,FALSE)","v":{"$error":"#N/A"}},{"$f":"IF('Entrée des données_Eingabemaske'!$N$12=\"männlich / masculin\",((W63/D63)^C63-1)/C63/E63,((W63/N63)^M63-1)/M63/O63)","v":{"$error":"#N/A"}},{"$error":"#N/A"}]
[5.083333333333333,61,1,110.2647,4.1640000000000003E-2,101.629,104.38055580941651,107.16800000000001,110.265,113.36199999999999,116.1488441905835,118.9,1,109.6016,4.3549999999999998E-2,100.624,103.48456255501729,106.38200000000001,109.602,112.821,115.7186374449827,118.57899999999999,{"$f":"VLOOKUP(Perzentile!B64,Berechnungen!$E$2:$F$40,2,FALSE)","v":{"$error":"#N/A"}},{"$f":"IF('Entrée des données_Eingabemaske'!$N$12=\"männlich / masculin\",((W64/D64)^C64-1)/C64/E64,((W64/N64)^M64-1)/M64/O64)","v":{"$error":"#N/A"}},{"$error":"#N/A"}]
[5.166666666666667,62,1,110.8006,4.172E-2,102.10599999999999,104.87649841055232,107.68300000000001,110.801,113.91800000000001,116.72470158944769,119.495,1,110.1258,4.3639999999999998E-2,101.087,103.96680425944139,106.884,110.126,113.367,116.28479574055859,119.16500000000001,{"$f":"VLOOKUP(Perzentile!B65,Berechnungen!$E$2:$F$40,2,FALSE)","v":{"$error":"#N/A"}},{"$f":"IF('Entrée des données_Eingabemaske'!$N$12=\"männlich / masculin\",((W65/D65)^C65-1)/C65/E65,((W65/N65)^M65-1)/M65/O65)","v":{"$error":"#N/A"}},{"$error":"#N/A"}]
[5.25,63,1,111.3338,4.1799999999999997E-2,102.581,105.36977576224037,108.19499999999999,111.334,114.473,117.29782423775964,120.087,1,110.6451,4.3729999999999998E-2,101.545,104.4442996488108,107.38200000000001,110.645,113.90900000000001,116.8459003511892,119.745,{"$f":"VLOOKUP(Perzentile!B66,Berechnungen!$E$2:$F$40,2,FALSE)","v":{"$error":"#N/A"}},{"$f":"IF('Entrée des données_Eingabemaske'!$N$12=\"männlich / masculin\",((W66/D66)^C66-1)/C66/E66,((W66/N66)^M66-1)/M66/O66)","v":{"$error":"#N/A"}},{"$error":"#N/A"}]
[{"$f":"B67/12","v":5.333333333333333},64,1,111.86360000000001,4.1869999999999997E-2,103.054,105.86115985460887,108.70399999999999,111.864,115.023,117.86604014539115,120.673,1,111.1596,4.3819999999999998E-2,101.998,104.91714480285924,107.874,111.16,114.44499999999999,117.40205519714075,120.321,{"$f":"VLOOKUP(Perzentile!B67,Berechnungen!$E$2:$F$40,2,FALSE)","v":{"$error":"#N/A"}},{"$f":"IF('Entrée des données_Eingabemaske'!$N$12=\"männlich / masculin\",((W67/D67)^C67-1)/C67/E67,((W67/N67)^M67-1)/M67/O67)","v":{"$error":"#N/A"}},{"$f":"_xlfn.NORM.S.DIST(X67,TRUE)","v":{"$error":"#N/A"}}]
[5.416666666666667,65,1,112.3895,4.1950000000000001E-2,103.52200000000001,106.34731818060123,109.209,112.39,115.57,118.43168181939876,121.25700000000001,1,111.6696,4.3900000000000002E-2,102.449,105.38705560410584,108.363,111.67,114.976,117.95214439589415,120.89,{"$f":"VLOOKUP(Perzentile!B68,Berechnungen!$E$2:$F$40,2,FALSE)","v":{"$error":"#N/A"}},{"$f":"IF('Entrée des données_Eingabemaske'!$N$12=\"männlich / masculin\",((W68/D68)^C68-1)/C68/E68,((W68/N68)^M68-1)/M68/O68)","v":{"$error":"#N/A"}},{"$error":"#N/A"}]
[5.5,66,1,112.911,4.2029999999999998E-2,103.985,106.82920567161281,109.71,112.911,116.11199999999999,118.99279432838718,121.837,1,112.17529999999999,4.3990000000000001E-2,102.89400000000001,105.85136660577413,108.84699999999999,112.175,115.504,118.49923339422584,121.456,{"$f":"VLOOKUP(Perzentile!B69,Berechnungen!$E$2:$F$40,2,FALSE)","v":{"$error":"#N/A"}},{"$f":"IF('Entrée des données_Eingabemaske'!$N$12=\"männlich / masculin\",((W69/D69)^C69-1)/C69/E69,((W69/N69)^M69-1)/M69/O69)","v":{"$error":"#N/A"}},{"$error":"#N/A"}]
[5.583333333333333,67,1,113.428,4.2110000000000002E-2,104.444,107.30672907757567,110.206,113.428,116.65,119.54927092242433,122.41200000000001,1,112.6767,4.4069999999999998E-2,103.337,106.31294787335246,109.327,112.67700000000001,116.026,119.04045212664755,122.01600000000001,{"$f":"VLOOKUP(Perzentile!B70,Berechnungen!$E$2:$F$40,2,FALSE)","v":{"$error":"#N/A"}},{"$f":"IF('Entrée des données_Eingabemaske'!$N$12=\"männlich / masculin\",((W70/D70)^C70-1)/C70/E70,((W70/N70)^M70-1)/M70/O70)","v":{"$error":"#N/A"}},{"$error":"#N/A"}]
[5.666666666666667,68,1,113.941,4.2180000000000002E-2,104.902,107.78182296090452,110.699,113.941,117.18300000000001,120.10017703909548,122.98,1,113.17400000000001,4.4150000000000002E-2,103.776,106.77055830979459,109.804,113.17400000000001,116.544,119.57744169020542,122.572,{"$f":"VLOOKUP(Perzentile!B71,Berechnungen!$E$2:$F$40,2,FALSE)","v":{"$error":"#N/A"}},{"$f":"IF('Entrée des données_Eingabemaske'!$N$12=\"männlich / masculin\",((W71/D71)^C71-1)/C71/E71,((W71/N71)^M71-1)/M71/O71)","v":{"$error":"#N/A"}},{"$error":"#N/A"}]
[5.75,69,1,114.45,4.2259999999999999E-2,105.35299999999999,108.25157464964774,111.188,114.45,117.712,120.64842535035226,123.547,1,113.66719999999999,4.4229999999999998E-2,104.212,107.22419917614731,110.276,113.667,117.05800000000001,120.11020082385267,123.123,{"$f":"VLOOKUP(Perzentile!B72,Berechnungen!$E$2:$F$40,2,FALSE)","v":{"$error":"#N/A"}},{"$f":"IF('Entrée des données_Eingabemaske'!$N$12=\"männlich / masculin\",((W72/D72)^C72-1)/C72/E72,((W72/N72)^M72-1)/M72/O72)","v":{"$error":"#N/A"}},{"$error":"#N/A"}]
[5.833333333333333,70,1,114.9547,4.2340000000000003E-2,105.801,108.71715529067259,111.672,114.955,118.238,121.19224470932741,124.10899999999999,1,114.15649999999999,4.4310000000000002E-2,104.643,107.67406037634738,110.745,114.15600000000001,117.568,120.6389396236526,123.67,{"$f":"VLOOKUP(Perzentile!B73,Berechnungen!$E$2:$F$40,2,FALSE)","v":{"$error":"#N/A"}},{"$f":"IF('Entrée des données_Eingabemaske'!$N$12=\"männlich / masculin\",((W73/D73)^C73-1)/C73/E73,((W73/N73)^M73-1)/M73/O73)","v":{"$error":"#N/A"}},{"$error":"#N/A"}]
[5.916666666666667,71,1,115.45489999999999,4.2410000000000003E-2,106.246,109.17985669330221,112.152,115.455,118.758,121.72994330669778,124.664,1,114.6421,4.4389999999999999E-2,105.071,108.12033173231228,111.21,114.642,118.075,121.1638682676877,124.21299999999999,{"$f":"VLOOKUP(Perzentile!B74,Berechnungen!$E$2:$F$40,2,FALSE)","v":{"$error":"#N/A"}},{"$f":"IF('Entrée des données_Eingabemaske'!$N$12=\"männlich / masculin\",((W74/D74)^C74-1)/C74/E74,((W74/N74)^M74-1)/M74/O74)","v":{"$error":"#N/A"}},{"$error":"#N/A"}]
[6,72,1,115.9509,4.249E-2,106.685,109.63701103016874,112.628,115.95099999999999,119.274,122.26478896983127,125.217,1,115.12439999999999,4.4470000000000003E-2,105.496,108.56339158582053,111.67100000000001,115.124,118.578,121.68540841417946,124.753,{"$f":"VLOOKUP(Perzentile!B75,Berechnungen!$E$2:$F$40,2,FALSE)","v":{"$error":"#N/A"}},{"$f":"IF('Entrée des données_Eingabemaske'!$N$12=\"männlich / masculin\",((W75/D75)^C75-1)/C75/E75,((W75/N75)^M75-1)/M75/O75)","v":{"$error":"#N/A"}},{"$error":"#N/A"}]
[6.083333333333333,73,1,116.4432,4.2569999999999997E-2,107.12,110.09056551900854,113.1,116.443,119.78700000000001,122.79583448099149,125.76600000000001,1,115.6039,4.4540000000000003E-2,105.92,109.00519392889012,112.131,115.604,119.077,122.20260607110987,125.288,{"$f":"VLOOKUP(Perzentile!B76,Berechnungen!$E$2:$F$40,2,FALSE)","v":{"$error":"#N/A"}},{"$f":"IF('Entrée des données_Eingabemaske'!$N$12=\"männlich / masculin\",((W76/D76)^C76-1)/C76/E76,((W76/N76)^M76-1)/M76/O76)","v":{"$error":"#N/A"}},{"$error":"#N/A"}]
[6.166666666666667,74,1,116.9325,4.2639999999999997E-2,107.55500000000001,110.5426815874018,113.569,116.932,120.29600000000001,123.32231841259822,126.31,1,116.0812,4.4609999999999997E-2,106.342,109.44483601543689,112.58799999999999,116.081,119.574,122.7175639845631,125.821,{"$f":"VLOOKUP(Perzentile!B77,Berechnungen!$E$2:$F$40,2,FALSE)","v":{"$error":"#N/A"}},{"$f":"IF('Entrée des données_Eingabemaske'!$N$12=\"männlich / masculin\",((W77/D77)^C77-1)/C77/E77,((W77/N77)^M77-1)/M77/O77)","v":{"$error":"#N/A"}},{"$error":"#N/A"}]
[6.25,75,1,117.4196,4.2720000000000001E-2,107.985,110.99112549137588,114.036,117.42,120.803,123.84807450862412,126.854,1,116.5568,4.4690000000000001E-2,106.76,109.8812960721805,113.04300000000001,116.557,120.07,123.23230392781949,126.354,{"$f":"VLOOKUP(Perzentile!B78,Berechnungen!$E$2:$F$40,2,FALSE)","v":{"$error":"#N/A"}},{"$f":"IF('Entrée des données_Eingabemaske'!$N$12=\"männlich / masculin\",((W78/D78)^C78-1)/C78/E78,((W78/N78)^M78-1)/M78/O78)","v":{"$error":"#N/A"}},{"$error":"#N/A"}]
[6.333333333333333,76,1,117.9046,4.2799999999999998E-2,108.414,111.43748470220186,114.501,117.905,121.30800000000001,124.37171529779815,127.396,1,117.0311,4.4749999999999998E-2,107.181,110.31943282334728,113.499,117.03100000000001,120.563,123.74276717665271,126.881,{"$f":"VLOOKUP(Perzentile!B79,Berechnungen!$E$2:$F$40,2,FALSE)","v":{"$error":"#N/A"}},{"$f":"IF('Entrée des données_Eingabemaske'!$N$12=\"männlich / masculin\",((W79/D79)^C79-1)/C79/E79,((W79/N79)^M79-1)/M79/O79)","v":{"$error":"#N/A"}},{"$error":"#N/A"}]
[6.416666666666667,77,1,118.38800000000001,4.2869999999999998E-2,108.842,111.88374959258357,114.965,118.38800000000001,121.81100000000001,124.89225040741643,127.934,1,117.5044,4.4819999999999999E-2,107.599,110.75504818057306,113.952,117.504,121.057,124.25375181942697,127.41,{"$f":"VLOOKUP(Perzentile!B80,Berechnungen!$E$2:$F$40,2,FALSE)","v":{"$error":"#N/A"}},{"$f":"IF('Entrée des données_Eingabemaske'!$N$12=\"männlich / masculin\",((W80/D80)^C80-1)/C80/E80,((W80/N80)^M80-1)/M80/O80)","v":{"$error":"#N/A"}},{"$error":"#N/A"}]
[6.5,78,1,118.87,4.2950000000000002E-2,109.268,112.32708141408948,115.426,118.87,122.31399999999999,125.41291858591053,128.47200000000001,1,117.9769,4.4889999999999999E-2,108.01600000000001,111.1898246427088,114.405,117.977,121.54900000000001,124.76397535729122,127.938,{"$f":"VLOOKUP(Perzentile!B81,Berechnungen!$E$2:$F$40,2,FALSE)","v":{"$error":"#N/A"}},{"$f":"IF('Entrée des données_Eingabemaske'!$N$12=\"männlich / masculin\",((W81/D81)^C81-1)/C81/E81,((W81/N81)^M81-1)/M81/O81)","v":{"$error":"#N/A"}},{"$error":"#N/A"}]
[6.583333333333333,79,1,119.35080000000001,4.3029999999999999E-2,109.69199999999999,112.76918057653532,115.887,119.351,122.815,125.93241942346469,129.01,1,118.44889999999999,4.4949999999999997E-2,108.435,111.62556312321998,114.858,118.449,122.04,125.27223687678,128.46299999999999,{"$f":"VLOOKUP(Perzentile!B82,Berechnungen!$E$2:$F$40,2,FALSE)","v":{"$error":"#N/A"}},{"$f":"IF('Entrée des données_Eingabemaske'!$N$12=\"männlich / masculin\",((W82/D82)^C82-1)/C82/E82,((W82/N82)^M82-1)/M82/O82)","v":{"$error":"#N/A"}},{"$error":"#N/A"}]
[6.666666666666667,80,1,119.83029999999999,4.3110000000000002E-2,110.114,113.20995297377668,116.346,119.83,123.315,126.45064702622332,129.54599999999999,1,118.9208,4.5019999999999998E-2,108.851,112.05961075353994,115.31,118.92100000000001,122.532,125.78198924646004,128.99,{"$f":"VLOOKUP(Perzentile!B83,Berechnungen!$E$2:$F$40,2,FALSE)","v":{"$error":"#N/A"}},{"$f":"IF('Entrée des données_Eingabemaske'!$N$12=\"männlich / masculin\",((W83/D83)^C83-1)/C83/E83,((W83/N83)^M83-1)/M83/O83)","v":{"$error":"#N/A"}},{"$error":"#N/A"}]
[6.75,81,1,120.3085,4.3180000000000003E-2,110.538,113.65094082112293,116.80500000000001,120.30800000000001,123.812,126.96605917887707,130.07900000000001,1,119.3926,4.5080000000000002E-2,109.27,112.49500957312462,115.762,119.393,123.023,126.29019042687538,129.51499999999999,{"$f":"VLOOKUP(Perzentile!B84,Berechnungen!$E$2:$F$40,2,FALSE)","v":{"$error":"#N/A"}},{"$f":"IF('Entrée des données_Eingabemaske'!$N$12=\"männlich / masculin\",((W84/D84)^C84-1)/C84/E84,((W84/N84)^M84-1)/M84/O84)","v":{"$error":"#N/A"}},{"$error":"#N/A"}]
[6.833333333333333,82,1,120.78530000000001,4.326E-2,110.958,114.08897254319918,117.261,120.785,124.31,127.48162745680084,130.613,1,119.8648,4.514E-2,109.688,112.9307126966908,116.215,119.86499999999999,123.514,126.79888730330919,130.041,{"$f":"VLOOKUP(Perzentile!B85,Berechnungen!$E$2:$F$40,2,FALSE)","v":{"$error":"#N/A"}},{"$f":"IF('Entrée des données_Eingabemaske'!$N$12=\"männlich / masculin\",((W85/D85)^C85-1)/C85/E85,((W85/N85)^M85-1)/M85/O85)","v":{"$error":"#N/A"}},{"$error":"#N/A"}]
[6.916666666666667,83,1,121.2604,4.3339999999999997E-2,111.376,114.52530092042582,117.71599999999999,121.26,124.80500000000001,127.99549907957419,131.14500000000001,1,120.3374,4.5199999999999997E-2,110.107,113.36672003196678,116.669,120.337,124.006,127.30807996803323,130.56800000000001,{"$f":"VLOOKUP(Perzentile!B86,Berechnungen!$E$2:$F$40,2,FALSE)","v":{"$error":"#N/A"}},{"$f":"IF('Entrée des données_Eingabemaske'!$N$12=\"männlich / masculin\",((W86/D86)^C86-1)/C86/E86,((W86/N86)^M86-1)/M86/O86)","v":{"$error":"#N/A"}},{"$error":"#N/A"}]
[7,84,1,121.7338,4.342E-2,111.79300000000001,114.95992647567591,118.169,121.73399999999999,125.29900000000001,128.5076735243241,131.67500000000001,1,120.8105,4.5249999999999999E-2,110.529,113.80467393523253,117.123,120.81,124.498,127.81632606476748,131.09200000000001,{"$f":"VLOOKUP(Perzentile!B87,Berechnungen!$E$2:$F$40,2,FALSE)","v":{"$error":"#N/A"}},{"$f":"IF('Entrée des données_Eingabemaske'!$N$12=\"männlich / masculin\",((W87/D87)^C87-1)/C87/E87,((W87/N87)^M87-1)/M87/O87)","v":{"$error":"#N/A"}},{"$error":"#N/A"}]
[7.083333333333333,85,1,122.20529999999999,4.3499999999999997E-2,112.20699999999999,115.39266088132112,118.62,122.205,125.791,129.01793911867887,132.203,1,121.2843,4.5310000000000003E-2,110.949,114.24167224944816,117.578,121.28400000000001,124.991,128.32692775055187,131.62,{"$f":"VLOOKUP(Perzentile!B88,Berechnungen!$E$2:$F$40,2,FALSE)","v":{"$error":"#N/A"}},{"$f":"IF('Entrée des données_Eingabemaske'!$N$12=\"männlich / masculin\",((W88/D88)^C88-1)/C88/E88,((W88/N88)^M88-1)/M88/O88)","v":{"$error":"#N/A"}},{"$error":"#N/A"}]
[7.166666666666667,86,1,122.675,4.3580000000000001E-2,112.62,115.82359913674723,119.069,122.675,126.28100000000001,129.52640086325277,132.72999999999999,1,121.7587,4.5359999999999998E-2,111.371,114.68072321389728,118.03400000000001,121.759,125.48399999999999,128.83667678610274,132.14599999999999,{"$f":"VLOOKUP(Perzentile!B89,Berechnungen!$E$2:$F$40,2,FALSE)","v":{"$error":"#N/A"}},{"$f":"IF('Entrée des données_Eingabemaske'!$N$12=\"männlich / masculin\",((W89/D89)^C89-1)/C89/E89,((W89/N89)^M89-1)/M89/O89)","v":{"$error":"#N/A"}},{"$error":"#N/A"}]
[7.25,87,1,123.1429,4.3659999999999997E-2,113.03100000000001,116.25274179558454,119.517,123.143,126.76900000000001,130.03305820441545,133.255,1,122.2338,4.5420000000000002E-2,111.792,115.118806155683,118.489,122.23399999999999,125.97799999999999,129.34879384431699,132.67599999999999,{"$f":"VLOOKUP(Perzentile!B90,Berechnungen!$E$2:$F$40,2,FALSE)","v":{"$error":"#N/A"}},{"$f":"IF('Entrée des données_Eingabemaske'!$N$12=\"männlich / masculin\",((W90/D90)^C90-1)/C90/E90,((W90/N90)^M90-1)/M90/O90)","v":{"$error":"#N/A"}},{"$error":"#N/A"}]
[7.333333333333333,88,1,123.6092,4.3740000000000001E-2,113.44,116.68027820045019,119.962,123.60899999999999,127.256,130.53812179954983,133.77799999999999,1,122.7098,4.5469999999999997E-2,112.21599999999999,115.55923616654518,118.946,122.71,126.473,129.86036383345484,133.20400000000001,{"$f":"VLOOKUP(Perzentile!B91,Berechnungen!$E$2:$F$40,2,FALSE)","v":{"$error":"#N/A"}},{"$f":"IF('Entrée des données_Eingabemaske'!$N$12=\"männlich / masculin\",((W91/D91)^C91-1)/C91/E91,((W91/N91)^M91-1)/M91/O91)","v":{"$error":"#N/A"}},{"$error":"#N/A"}]
[7.416666666666667,89,1,124.0736,4.3819999999999998E-2,113.848,117.1059256907369,120.40600000000001,124.074,127.741,131.04127430926312,134.29900000000001,1,123.18680000000001,4.5510000000000002E-2,112.643,116.00212554168951,119.405,123.187,126.968,130.3714744583105,133.73099999999999,{"$f":"VLOOKUP(Perzentile!B92,Berechnungen!$E$2:$F$40,2,FALSE)","v":{"$error":"#N/A"}},{"$f":"IF('Entrée des données_Eingabemaske'!$N$12=\"männlich / masculin\",((W92/D92)^C92-1)/C92/E92,((W92/N92)^M92-1)/M92/O92)","v":{"$error":"#N/A"}},{"$error":"#N/A"}]
[7.5,90,1,124.5361,4.3900000000000002E-2,114.254,117.52968485083214,120.849,124.536,128.22399999999999,131.54251514916785,134.81899999999999,1,123.66459999999999,4.5560000000000003E-2,113.068,116.44413448746971,119.864,123.66500000000001,127.465,130.88506551253028,134.261,{"$f":"VLOOKUP(Perzentile!B93,Berechnungen!$E$2:$F$40,2,FALSE)","v":{"$error":"#N/A"}},{"$f":"IF('Entrée des données_Eingabemaske'!$N$12=\"männlich / masculin\",((W93/D93)^C93-1)/C93/E93,((W93/N93)^M93-1)/M93/O93)","v":{"$error":"#N/A"}},{"$error":"#N/A"}]
[7.583333333333333,91,1,124.99639999999999,4.3979999999999998E-2,114.657,117.95127317391481,121.288,124.996,128.70400000000001,132.04152682608517,135.33600000000001,1,124.1435,4.5609999999999998E-2,113.494,116.88711790399253,120.324,124.14400000000001,127.96299999999999,131.39988209600747,134.79300000000001,{"$f":"VLOOKUP(Perzentile!B94,Berechnungen!$E$2:$F$40,2,FALSE)","v":{"$error":"#N/A"}},{"$f":"IF('Entrée des données_Eingabemaske'!$N$12=\"männlich / masculin\",((W94/D94)^C94-1)/C94/E94,((W94/N94)^M94-1)/M94/O94)","v":{"$error":"#N/A"}},{"$error":"#N/A"}]
[7.666666666666667,92,1,125.4545,4.4060000000000002E-2,115.05800000000001,118.37069133664414,121.726,125.45399999999999,129.18299999999999,132.53830866335582,135.851,1,124.6234,4.5650000000000003E-2,113.923,117.33257854450014,120.786,124.623,128.46100000000001,131.91422145549987,135.32300000000001,{"$f":"VLOOKUP(Perzentile!B95,Berechnungen!$E$2:$F$40,2,FALSE)","v":{"$error":"#N/A"}},{"$f":"IF('Entrée des données_Eingabemaske'!$N$12=\"männlich / masculin\",((W95/D95)^C95-1)/C95/E95,((W95/N95)^M95-1)/M95/O95)","v":{"$error":"#N/A"}},{"$error":"#N/A"}]
[7.75,93,1,125.9104,4.4139999999999999E-2,115.458,118.78794001567937,122.16200000000001,125.91,129.65899999999999,133.03285998432065,136.363,1,125.1045,4.5690000000000001E-2,114.354,117.77911971877079,121.249,125.104,128.96,132.4298802812292,135.85499999999999,{"$f":"VLOOKUP(Perzentile!B96,Berechnungen!$E$2:$F$40,2,FALSE)","v":{"$error":"#N/A"}},{"$f":"IF('Entrée des données_Eingabemaske'!$N$12=\"männlich / masculin\",((W96/D96)^C96-1)/C96/E96,((W96/N96)^M96-1)/M96/O96)","v":{"$error":"#N/A"}},{"$error":"#N/A"}]
[7.833333333333333,94,1,126.364,4.4220000000000002E-2,115.854,119.20292555470071,122.595,126.364,130.13300000000001,133.52507444529931,136.874,1,125.5869,4.573E-2,114.785,118.22683538172578,121.71299999999999,125.587,129.46100000000001,132.94696461827425,136.38800000000001,{"$f":"VLOOKUP(Perzentile!B97,Berechnungen!$E$2:$F$40,2,FALSE)","v":{"$error":"#N/A"}},{"$f":"IF('Entrée des données_Eingabemaske'!$N$12=\"männlich / masculin\",((W97/D97)^C97-1)/C97/E97,((W97/N97)^M97-1)/M97/O97)","v":{"$error":"#N/A"}},{"$error":"#N/A"}]
[7.916666666666667,95,1,126.8156,4.4299999999999999E-2,116.249,119.61593162930433,123.026,126.816,130.60499999999999,134.01526837069568,137.38200000000001,1,126.0706,4.5769999999999998E-2,115.218,118.67572533344303,122.179,126.071,129.96299999999999,133.46547466655696,136.923,{"$f":"VLOOKUP(Perzentile!B98,Berechnungen!$E$2:$F$40,2,FALSE)","v":{"$error":"#N/A"}},{"$f":"IF('Entrée des données_Eingabemaske'!$N$12=\"männlich / masculin\",((W98/D98)^C98-1)/C98/E98,((W98/N98)^M98-1)/M98/O98)","v":{"$error":"#N/A"}},{"$error":"#N/A"}]
[8,96,1,127.2651,4.4380000000000003E-2,116.642,120.02686454216084,123.456,127.265,131.07499999999999,134.50333545783917,137.88800000000001,1,126.5558,4.5809999999999997E-2,115.652,119.12597763242509,122.645,126.556,130.46600000000001,133.9856223675749,137.46,{"$f":"VLOOKUP(Perzentile!B99,Berechnungen!$E$2:$F$40,2,FALSE)","v":{"$error":"#N/A"}},{"$f":"IF('Entrée des données_Eingabemaske'!$N$12=\"männlich / masculin\",((W99/D99)^C99-1)/C99/E99,((W99/N99)^M99-1)/M99/O99)","v":{"$error":"#N/A"}},{"$error":"#N/A"}]
[8.0833333333333339,97,1,127.7129,4.446E-2,117.03400000000001,120.43610214805918,123.883,127.71299999999999,131.54300000000001,134.9896978519408,138.392,1,127.0424,4.5850000000000002E-2,116.087,119.57749792390658,123.114,127.042,130.971,134.50730207609342,137.99799999999999,{"$f":"VLOOKUP(Perzentile!B100,Berechnungen!$E$2:$F$40,2,FALSE)","v":{"$error":"#N/A"}},{"$f":"IF('Entrée des données_Eingabemaske'!$N$12=\"männlich / masculin\",((W100/D100)^C100-1)/C100/E100,((W100/N100)^M100-1)/M100/O100)","v":{"$error":"#N/A"}},{"$error":"#N/A"}]
[8.1666666666666661,98,1,128.15899999999999,4.4540000000000003E-2,117.423,120.84364496987239,124.309,128.15899999999999,132.00899999999999,135.47435503012761,138.89500000000001,1,127.5304,4.5879999999999997E-2,116.526,120.03192036042459,123.584,127.53,131.477,135.02887963957539,138.535,{"$f":"VLOOKUP(Perzentile!B101,Berechnungen!$E$2:$F$40,2,FALSE)","v":{"$error":"#N/A"}},{"$f":"IF('Entrée des données_Eingabemaske'!$N$12=\"männlich / masculin\",((W101/D101)^C101-1)/C101/E101,((W101/N101)^M101-1)/M101/O101)","v":{"$error":"#N/A"}},{"$error":"#N/A"}]
[8.25,99,1,128.60339999999999,4.462E-2,117.81100000000001,121.24949353047352,124.733,128.60300000000001,132.47399999999999,135.95730646952646,139.39599999999999,1,128.01990000000001,4.5909999999999999E-2,116.96599999999999,120.48771701906422,124.056,128.02000000000001,131.98400000000001,135.55208298093578,139.07400000000001,{"$f":"VLOOKUP(Perzentile!B102,Berechnungen!$E$2:$F$40,2,FALSE)","v":{"$error":"#N/A"}},{"$f":"IF('Entrée des données_Eingabemaske'!$N$12=\"männlich / masculin\",((W102/D102)^C102-1)/C102/E102,((W102/N102)^M102-1)/M102/O102)","v":{"$error":"#N/A"}},{"$error":"#N/A"}]
[8.3333333333333339,100,1,129.04660000000001,4.4699999999999997E-2,118.197,121.65411971005811,125.15600000000001,129.047,132.93700000000001,136.43908028994193,139.89599999999999,1,128.51089999999999,4.5940000000000002E-2,117.407,120.94488772681596,124.529,128.511,132.49299999999999,136.07691227318404,139.61500000000001,{"$f":"VLOOKUP(Perzentile!B103,Berechnungen!$E$2:$F$40,2,FALSE)","v":{"$error":"#N/A"}},{"$f":"IF('Entrée des données_Eingabemaske'!$N$12=\"männlich / masculin\",((W103/D103)^C103-1)/C103/E103,((W103/N103)^M103-1)/M103/O103)","v":{"$error":"#N/A"}},{"$error":"#N/A"}]
[8.4166666666666661,101,1,129.48869999999999,4.478E-2,118.583,122.05761813892508,125.578,129.489,133.4,136.91978186107491,140.39400000000001,1,129.0035,4.5969999999999997E-2,117.85,121.40352641937785,125.004,129.00399999999999,133.00299999999999,136.60347358062216,140.15700000000001,{"$f":"VLOOKUP(Perzentile!B104,Berechnungen!$E$2:$F$40,2,FALSE)","v":{"$error":"#N/A"}},{"$f":"IF('Entrée des données_Eingabemaske'!$N$12=\"männlich / masculin\",((W104/D104)^C104-1)/C104/E104,((W104/N104)^M104-1)/M104/O104)","v":{"$error":"#N/A"}},{"$error":"#N/A"}]
[8.5,102,1,129.93,4.487E-2,118.965,122.45860678833401,125.998,129.93,133.86199999999999,137.401393211666,140.89500000000001,1,129.4975,4.5999999999999999E-2,118.294,121.86344470248085,125.48,129.49799999999999,133.51499999999999,137.13155529751916,140.70099999999999,{"$f":"VLOOKUP(Perzentile!B105,Berechnungen!$E$2:$F$40,2,FALSE)","v":{"$error":"#N/A"}},{"$f":"IF('Entrée des données_Eingabemaske'!$N$12=\"männlich / masculin\",((W105/D105)^C105-1)/C105/E105,((W105/N105)^M105-1)/M105/O105)","v":{"$error":"#N/A"}},{"$error":"#N/A"}]
[8.5833333333333339,103,1,130.37049999999999,4.4949999999999997E-2,119.349,122.86041049900632,126.41800000000001,130.37,134.32300000000001,137.88058950099366,141.392,1,129.9932,4.6019999999999998E-2,118.742,122.32659064759359,125.958,129.99299999999999,134.02799999999999,137.65980935240643,141.245,{"$f":"VLOOKUP(Perzentile!B106,Berechnungen!$E$2:$F$40,2,FALSE)","v":{"$error":"#N/A"}},{"$f":"IF('Entrée des données_Eingabemaske'!$N$12=\"männlich / masculin\",((W106/D106)^C106-1)/C106/E106,((W106/N106)^M106-1)/M106/O106)","v":{"$error":"#N/A"}},{"$error":"#N/A"}]
[8.6666666666666661,104,1,130.81030000000001,4.5030000000000001E-2,119.732,123.26146428171123,126.837,130.81,134.78299999999999,138.3591357182888,141.88900000000001,1,130.49039999999999,4.6039999999999998E-2,119.191,122.79112267815076,126.438,130.49,134.54300000000001,138.18967732184925,141.79,{"$f":"VLOOKUP(Perzentile!B107,Berechnungen!$E$2:$F$40,2,FALSE)","v":{"$error":"#N/A"}},{"$f":"IF('Entrée des données_Eingabemaske'!$N$12=\"männlich / masculin\",((W107/D107)^C107-1)/C107/E107,((W107/N107)^M107-1)/M107/O107)","v":{"$error":"#N/A"}},{"$error":"#N/A"}]
[8.75,105,1,131.24950000000001,4.5109999999999997E-2,120.114,123.66186257067022,127.256,131.25,135.24299999999999,138.8371374293298,142.38499999999999,1,130.98910000000001,4.607E-2,119.639,123.25536198595101,126.919,130.989,135.059,138.72283801404902,142.339,{"$f":"VLOOKUP(Perzentile!B108,Berechnungen!$E$2:$F$40,2,FALSE)","v":{"$error":"#N/A"}},{"$f":"IF('Entrée des données_Eingabemaske'!$N$12=\"männlich / masculin\",((W108/D108)^C108-1)/C108/E108,((W108/N108)^M108-1)/M108/O108)","v":{"$error":"#N/A"}},{"$error":"#N/A"}]
[8.8333333333333339,106,1,131.6884,4.5190000000000001E-2,120.496,124.06188817643216,127.675,131.68799999999999,135.702,139.31491182356785,142.881,1,131.48949999999999,4.6080000000000003E-2,120.09399999999999,123.72453272346064,127.40300000000001,131.49,135.57599999999999,139.25446727653934,142.88499999999999,{"$f":"VLOOKUP(Perzentile!B109,Berechnungen!$E$2:$F$40,2,FALSE)","v":{"$error":"#N/A"}},{"$f":"IF('Entrée des données_Eingabemaske'!$N$12=\"männlich / masculin\",((W109/D109)^C109-1)/C109/E109,((W109/N109)^M109-1)/M109/O109)","v":{"$error":"#N/A"}},{"$error":"#N/A"}]
[8.9166666666666661,107,1,132.12690000000001,4.5269999999999998E-2,120.877,124.46144699285273,128.09299999999999,132.12700000000001,136.161,139.79235300714728,143.37700000000001,1,131.99119999999999,4.6100000000000002E-2,120.547,124.19322231318709,127.887,131.99100000000001,136.095,139.78917768681288,143.435,{"$f":"VLOOKUP(Perzentile!B110,Berechnungen!$E$2:$F$40,2,FALSE)","v":{"$error":"#N/A"}},{"$f":"IF('Entrée des données_Eingabemaske'!$N$12=\"männlich / masculin\",((W110/D110)^C110-1)/C110/E110,((W110/N110)^M110-1)/M110/O110)","v":{"$error":"#N/A"}},{"$error":"#N/A"}]
[9,108,1,132.5652,4.5350000000000001E-2,121.258,124.86072751928815,128.51,132.565,136.62,140.26967248071185,143.87200000000001,1,132.49440000000001,4.6120000000000001E-2,121.002,124.66329752699944,128.37299999999999,132.494,136.61600000000001,140.32550247300057,143.98699999999999,{"$f":"VLOOKUP(Perzentile!B111,Berechnungen!$E$2:$F$40,2,FALSE)","v":{"$error":"#N/A"}},{"$f":"IF('Entrée des données_Eingabemaske'!$N$12=\"männlich / masculin\",((W111/D111)^C111-1)/C111/E111,((W111/N111)^M111-1)/M111/O111)","v":{"$error":"#N/A"}},{"$error":"#N/A"}]
[9.0833333333333339,109,1,133.00309999999999,4.5429999999999998E-2,121.639,125.25954146143042,128.928,133.00299999999999,137.07900000000001,140.74665853856956,144.36699999999999,1,132.99889999999999,4.6129999999999997E-2,121.46,125.13627452520095,128.86099999999999,132.999,137.137,140.86152547479904,144.53800000000001,{"$f":"VLOOKUP(Perzentile!B112,Berechnungen!$E$2:$F$40,2,FALSE)","v":{"$error":"#N/A"}},{"$f":"IF('Entrée des données_Eingabemaske'!$N$12=\"männlich / masculin\",((W112/D112)^C112-1)/C112/E112,((W112/N112)^M112-1)/M112/O112)","v":{"$error":"#N/A"}},{"$error":"#N/A"}]
[9.1666666666666661,110,1,133.44040000000001,4.5510000000000002E-2,122.01900000000001,125.6577006069909,129.34399999999999,133.44,137.536,141.22309939300914,144.86199999999999,1,133.50460000000001,4.614E-2,121.919,125.61036763560011,129.35,133.505,137.65899999999999,141.39883236439991,145.09,{"$f":"VLOOKUP(Perzentile!B113,Berechnungen!$E$2:$F$40,2,FALSE)","v":{"$error":"#N/A"}},{"$f":"IF('Entrée des données_Eingabemaske'!$N$12=\"männlich / masculin\",((W113/D113)^C113-1)/C113/E113,((W113/N113)^M113-1)/M113/O113)","v":{"$error":"#N/A"}},{"$error":"#N/A"}]
[9.25,111,1,133.87700000000001,4.5589999999999999E-2,122.398,126.05511098310652,129.76,133.87700000000001,137.994,141.69888901689353,145.35599999999999,1,134.01179999999999,4.6149999999999997E-2,122.38,126.08585906897957,129.84,134.012,138.18299999999999,141.93774093102041,145.64400000000001,{"$f":"VLOOKUP(Perzentile!B114,Berechnungen!$E$2:$F$40,2,FALSE)","v":{"$error":"#N/A"}},{"$f":"IF('Entrée des données_Eingabemaske'!$N$12=\"männlich / masculin\",((W114/D114)^C114-1)/C114/E114,((W114/N114)^M114-1)/M114/O114)","v":{"$error":"#N/A"}},{"$error":"#N/A"}]
[9.3333333333333339,112,1,134.31299999999999,4.5659999999999999E-2,122.779,126.45358824258618,130.17699999999999,134.31299999999999,138.44900000000001,142.17241175741381,145.84700000000001,1,134.52019999999999,4.616E-2,122.842,126.56246651459566,130.33199999999999,134.52000000000001,138.708,142.47793348540432,146.19900000000001,{"$f":"VLOOKUP(Perzentile!B115,Berechnungen!$E$2:$F$40,2,FALSE)","v":{"$error":"#N/A"}},{"$f":"IF('Entrée des données_Eingabemaske'!$N$12=\"männlich / masculin\",((W115/D115)^C115-1)/C115/E115,((W115/N115)^M115-1)/M115/O115)","v":{"$error":"#N/A"}},{"$error":"#N/A"}]
[9.4166666666666661,113,1,134.7483,4.5740000000000003E-2,123.15600000000001,126.84960143095728,130.59100000000001,134.74799999999999,138.905,142.64699856904272,146.34,1,135.0299,4.616E-2,123.307,127.04201448718632,130.82599999999999,135.03,139.23400000000001,143.01778551281367,146.75299999999999,{"$f":"VLOOKUP(Perzentile!B116,Berechnungen!$E$2:$F$40,2,FALSE)","v":{"$error":"#N/A"}},{"$f":"IF('Entrée des données_Eingabemaske'!$N$12=\"männlich / masculin\",((W116/D116)^C116-1)/C116/E116,((W116/N116)^M116-1)/M116/O116)","v":{"$error":"#N/A"}},{"$error":"#N/A"}]
[9.5,114,1,135.18289999999999,4.582E-2,123.533,127.24486646630983,131.005,135.18299999999999,139.36099999999999,143.12093353369013,146.833,1,135.541,4.6170000000000003E-2,123.771,127.52114261298115,131.32,135.541,139.762,143.56085738701884,147.31100000000001,{"$f":"VLOOKUP(Perzentile!B117,Berechnungen!$E$2:$F$40,2,FALSE)","v":{"$error":"#N/A"}},{"$f":"IF('Entrée des données_Eingabemaske'!$N$12=\"männlich / masculin\",((W117/D117)^C117-1)/C117/E117,((W117/N117)^M117-1)/M117/O117)","v":{"$error":"#N/A"}},{"$error":"#N/A"}]
[9.5833333333333339,115,1,135.61680000000001,4.589E-2,123.91200000000001,127.64112156316811,131.41900000000001,135.61699999999999,139.81399999999999,143.5924784368319,147.322,1,136.05330000000001,4.6170000000000003E-2,124.239,128.00313021349044,131.816,136.053,140.29,144.10346978650955,147.86799999999999,{"$f":"VLOOKUP(Perzentile!B118,Berechnungen!$E$2:$F$40,2,FALSE)","v":{"$error":"#N/A"}},{"$f":"IF('Entrée des données_Eingabemaske'!$N$12=\"männlich / masculin\",((W118/D118)^C118-1)/C118/E118,((W118/N118)^M118-1)/M118/O118)","v":{"$error":"#N/A"}},{"$error":"#N/A"}]
[9.6666666666666661,116,1,136.05009999999999,4.5969999999999997E-2,124.28700000000001,128.03499059877444,131.83199999999999,136.05000000000001,140.26900000000001,144.06520940122553,147.81299999999999,1,136.56700000000001,4.616E-2,124.711,128.48818515359616,132.315,136.56700000000001,140.81899999999999,144.64581484640385,148.423,{"$f":"VLOOKUP(Perzentile!B119,Berechnungen!$E$2:$F$40,2,FALSE)","v":{"$error":"#N/A"}},{"$f":"IF('Entrée des données_Eingabemaske'!$N$12=\"männlich / masculin\",((W119/D119)^C119-1)/C119/E119,((W119/N119)^M119-1)/M119/O119)","v":{"$error":"#N/A"}},{"$error":"#N/A"}]
[9.75,117,1,136.4829,4.6039999999999998E-2,124.66500000000001,128.4300493934403,132.245,136.483,140.721,144.5357506065597,148.30099999999999,1,137.0821,4.616E-2,125.181,128.97281368151738,132.81399999999999,137.08199999999999,141.35,145.19138631848261,148.983,{"$f":"VLOOKUP(Perzentile!B120,Berechnungen!$E$2:$F$40,2,FALSE)","v":{"$error":"#N/A"}},{"$f":"IF('Entrée des données_Eingabemaske'!$N$12=\"männlich / masculin\",((W120/D120)^C120-1)/C120/E120,((W120/N120)^M120-1)/M120/O120)","v":{"$error":"#N/A"}},{"$error":"#N/A"}]
[9.8333333333333339,118,1,136.9153,4.6120000000000001E-2,125.039,128.82289953310016,132.65600000000001,136.91499999999999,141.17400000000001,145.00770046689985,148.792,1,137.59870000000001,4.616E-2,125.65300000000001,129.45885347480822,133.315,137.59899999999999,141.88300000000001,145.73854652519179,149.54499999999999,{"$f":"VLOOKUP(Perzentile!B121,Berechnungen!$E$2:$F$40,2,FALSE)","v":{"$error":"#N/A"}},{"$f":"IF('Entrée des données_Eingabemaske'!$N$12=\"männlich / masculin\",((W121/D121)^C121-1)/C121/E121,((W121/N121)^M121-1)/M121/O121)","v":{"$error":"#N/A"}},{"$error":"#N/A"}]
[9.9166666666666661,119,1,137.34739999999999,4.6190000000000002E-2,125.416,129.21713894995611,133.06800000000001,137.34700000000001,141.626,145.47766105004385,149.279,1,138.11670000000001,4.6149999999999997E-2,126.128,129.94798048584178,133.81700000000001,138.11699999999999,142.416,146.28541951415824,150.10499999999999,{"$f":"VLOOKUP(Perzentile!B122,Berechnungen!$E$2:$F$40,2,FALSE)","v":{"$error":"#N/A"}},{"$f":"IF('Entrée des données_Eingabemaske'!$N$12=\"männlich / masculin\",((W122/D122)^C122-1)/C122/E122,((W122/N122)^M122-1)/M122/O122)","v":{"$error":"#N/A"}},{"$error":"#N/A"}]
[10,120,1,137.77950000000001,4.6260000000000003E-2,125.792,129.61130084063171,133.48099999999999,137.78,142.078,145.94769915936831,149.767,1,138.63630000000001,4.614E-2,126.605,130.43862616448681,134.322,138.636,142.95099999999999,146.83397383551321,150.667,{"$f":"VLOOKUP(Perzentile!B123,Berechnungen!$E$2:$F$40,2,FALSE)","v":{"$error":"#N/A"}},{"$f":"IF('Entrée des données_Eingabemaske'!$N$12=\"männlich / masculin\",((W123/D123)^C123-1)/C123/E123,((W123/N123)^M123-1)/M123/O123)","v":{"$error":"#N/A"}},{"$error":"#N/A"}]
[10.083333333333334,121,1,138.21190000000001,4.6330000000000003E-2,126.169,130.00566739284167,133.893,138.21199999999999,142.53100000000001,146.41813260715836,150.255,1,139.1575,4.6120000000000001E-2,127.087,130.93257394737756,134.82900000000001,139.15799999999999,143.48599999999999,147.38242605262241,151.22800000000001,{"$f":"VLOOKUP(Perzentile!B124,Berechnungen!$E$2:$F$40,2,FALSE)","v":{"$error":"#N/A"}},{"$f":"IF('Entrée des données_Eingabemaske'!$N$12=\"männlich / masculin\",((W124/D124)^C124-1)/C124/E124,((W124/N124)^M124-1)/M124/O124)","v":{"$error":"#N/A"}},{"$error":"#N/A"}]
[10.166666666666666,122,1,138.64519999999999,4.6399999999999997E-2,126.54600000000001,130.40080284745267,134.30600000000001,138.64500000000001,142.98400000000001,146.88959715254731,150.745,1,139.68029999999999,4.6109999999999998E-2,127.56699999999999,131.42626384574049,135.33600000000001,139.68,144.024,147.93433615425948,151.79400000000001,{"$f":"VLOOKUP(Perzentile!B125,Berechnungen!$E$2:$F$40,2,FALSE)","v":{"$error":"#N/A"}},{"$f":"IF('Entrée des données_Eingabemaske'!$N$12=\"männlich / masculin\",((W125/D125)^C125-1)/C125/E125,((W125/N125)^M125-1)/M125/O125)","v":{"$error":"#N/A"}},{"$error":"#N/A"}]
[10.25,123,1,139.0797,4.6469999999999997E-2,126.92400000000001,130.79698909614112,134.72,139.08000000000001,143.43899999999999,147.36241090385889,151.23500000000001,1,140.20490000000001,4.6089999999999999E-2,128.05099999999999,131.9234575989486,135.846,140.20500000000001,144.56299999999999,148.48634240105142,152.35900000000001,{"$f":"VLOOKUP(Perzentile!B126,Berechnungen!$E$2:$F$40,2,FALSE)","v":{"$error":"#N/A"}},{"$f":"IF('Entrée des données_Eingabemaske'!$N$12=\"männlich / masculin\",((W126/D126)^C126-1)/C126/E126,((W126/N126)^M126-1)/M126/O126)","v":{"$error":"#N/A"}},{"$error":"#N/A"}]
[10.333333333333334,124,1,139.51580000000001,4.6539999999999998E-2,127.304,131.19460195859205,135.136,139.51599999999999,143.89500000000001,147.83699804140798,151.72800000000001,1,140.7313,4.607E-2,128.53700000000001,132.42237197028965,136.358,140.73099999999999,145.10400000000001,149.04022802971036,152.92500000000001,{"$f":"VLOOKUP(Perzentile!B127,Berechnungen!$E$2:$F$40,2,FALSE)","v":{"$error":"#N/A"}},{"$f":"IF('Entrée des données_Eingabemaske'!$N$12=\"männlich / masculin\",((W127/D127)^C127-1)/C127/E127,((W127/N127)^M127-1)/M127/O127)","v":{"$error":"#N/A"}},{"$error":"#N/A"}]
[10.416666666666666,125,1,139.95400000000001,4.6609999999999999E-2,127.685,131.59411113764489,135.554,139.95400000000001,144.35400000000001,148.31388886235513,152.22300000000001,1,141.2594,4.6050000000000001E-2,129.02500000000001,132.92291299971612,136.87200000000001,141.25899999999999,145.64699999999999,149.59588700028388,153.494,{"$f":"VLOOKUP(Perzentile!B128,Berechnungen!$E$2:$F$40,2,FALSE)","v":{"$error":"#N/A"}},{"$f":"IF('Entrée des données_Eingabemaske'!$N$12=\"männlich / masculin\",((W128/D128)^C128-1)/C128/E128,((W128/N128)^M128-1)/M128/O128)","v":{"$error":"#N/A"}},{"$error":"#N/A"}]
[10.5,126,1,140.3948,4.6670000000000003E-2,128.071,131.99778538847923,135.97499999999999,140.39500000000001,144.81399999999999,148.79181461152078,152.71799999999999,1,141.78919999999999,4.6030000000000001E-2,129.51400000000001,133.42508081794631,137.387,141.78899999999999,146.191,150.15331918205365,154.06399999999999,{"$f":"VLOOKUP(Perzentile!B129,Berechnungen!$E$2:$F$40,2,FALSE)","v":{"$error":"#N/A"}},{"$f":"IF('Entrée des données_Eingabemaske'!$N$12=\"männlich / masculin\",((W129/D129)^C129-1)/C129/E129,((W129/N129)^M129-1)/M129/O129)","v":{"$error":"#N/A"}},{"$error":"#N/A"}]
[10.583333333333334,127,1,140.83869999999999,4.6739999999999997E-2,128.458,132.40250128039276,136.399,140.839,145.279,149.27489871960722,153.22,1,142.32060000000001,4.5999999999999999E-2,130.00800000000001,133.93060536399466,137.905,142.321,146.73599999999999,150.71059463600537,154.63399999999999,{"$f":"VLOOKUP(Perzentile!B130,Berechnungen!$E$2:$F$40,2,FALSE)","v":{"$error":"#N/A"}},{"$f":"IF('Entrée des données_Eingabemaske'!$N$12=\"männlich / masculin\",((W130/D130)^C130-1)/C130/E130,((W130/N130)^M130-1)/M130/O130)","v":{"$error":"#N/A"}},{"$error":"#N/A"}]
[{"$f":"B131/12","v":10.666666666666666},128,1,141.2859,4.6800000000000001E-2,128.85,132.8120502155511,136.82599999999999,141.286,145.74600000000001,149.75974978444887,153.72200000000001,1,142.85339999999999,4.5969999999999997E-2,130.50200000000001,134.43748829293742,138.42400000000001,142.85300000000001,147.28299999999999,151.26931170706257,155.20500000000001,{"$f":"VLOOKUP(Perzentile!B131,Berechnungen!$E$2:$F$40,2,FALSE)","v":{"$error":"#N/A"}},{"$f":"IF('Entrée des données_Eingabemaske'!$N$12=\"männlich / masculin\",((W131/D131)^C131-1)/C131/E131,((W131/N131)^M131-1)/M131/O131)","v":{"$error":"#N/A"}},{"$f":"_xlfn.NORM.S.DIST(X131,TRUE)","v":{"$error":"#N/A"}}]
[10.75,129,1,141.73679999999999,4.6859999999999999E-2,129.245,133.22500817955267,137.25700000000001,141.73699999999999,146.21700000000001,150.2485918204473,154.22900000000001,1,143.38740000000001,4.5940000000000002E-2,130.99799999999999,134.94554154114596,138.94399999999999,143.387,147.83000000000001,151.82925845885407,155.77699999999999,{"$f":"VLOOKUP(Perzentile!B132,Berechnungen!$E$2:$F$40,2,FALSE)","v":{"$error":"#N/A"}},{"$f":"IF('Entrée des données_Eingabemaske'!$N$12=\"männlich / masculin\",((W132/D132)^C132-1)/C132/E132,((W132/N132)^M132-1)/M132/O132)","v":{"$error":"#N/A"}},{"$error":"#N/A"}]
[10.833333333333334,130,1,142.19159999999999,4.6920000000000003E-2,129.64400000000001,133.64156229280425,137.69200000000001,142.19200000000001,146.69200000000001,150.74163770719574,154.74,1,143.9222,4.5909999999999999E-2,131.495,135.45438878144071,139.46600000000001,143.922,148.37899999999999,152.39001121855927,156.34899999999999,{"$f":"VLOOKUP(Perzentile!B133,Berechnungen!$E$2:$F$40,2,FALSE)","v":{"$error":"#N/A"}},{"$f":"IF('Entrée des données_Eingabemaske'!$N$12=\"männlich / masculin\",((W133/D133)^C133-1)/C133/E133,((W133/N133)^M133-1)/M133/O133)","v":{"$error":"#N/A"}},{"$error":"#N/A"}]
[10.916666666666666,131,1,142.65010000000001,4.6980000000000001E-2,130.04599999999999,134.06152369711521,138.13,142.65,147.16999999999999,151.23867630288481,155.255,1,144.45750000000001,4.5879999999999997E-2,131.99199999999999,135.96374774536923,139.98699999999999,144.458,148.928,152.95125225463079,156.923,{"$f":"VLOOKUP(Perzentile!B134,Berechnungen!$E$2:$F$40,2,FALSE)","v":{"$error":"#N/A"}},{"$f":"IF('Entrée des données_Eingabemaske'!$N$12=\"männlich / masculin\",((W134/D134)^C134-1)/C134/E134,((W134/N134)^M134-1)/M134/O134)","v":{"$error":"#N/A"}},{"$error":"#N/A"}]
[11,132,1,143.11259999999999,4.7030000000000002E-2,130.45400000000001,134.48700751548219,138.57300000000001,143.113,147.65199999999999,151.73819248451778,155.77099999999999,1,144.99289999999999,4.5839999999999999E-2,132.49199999999999,136.47510015303686,140.51,144.99299999999999,149.476,153.51069984696312,157.494,{"$f":"VLOOKUP(Perzentile!B135,Berechnungen!$E$2:$F$40,2,FALSE)","v":{"$error":"#N/A"}},{"$f":"IF('Entrée des données_Eingabemaske'!$N$12=\"männlich / masculin\",((W135/D135)^C135-1)/C135/E135,((W135/N135)^M135-1)/M135/O135)","v":{"$error":"#N/A"}},{"$error":"#N/A"}]
[11.083333333333334,133,1,143.5795,4.709E-2,130.863,134.9147265407893,139.01900000000001,143.58000000000001,148.13999999999999,152.24427345921069,156.29599999999999,1,145.52799999999999,4.58E-2,132.99199999999999,136.98622506063967,141.03200000000001,145.52799999999999,150.024,154.06977493936031,158.06399999999999,{"$f":"VLOOKUP(Perzentile!B136,Berechnungen!$E$2:$F$40,2,FALSE)","v":{"$error":"#N/A"}},{"$f":"IF('Entrée des données_Eingabemaske'!$N$12=\"männlich / masculin\",((W136/D136)^C136-1)/C136/E136,((W136/N136)^M136-1)/M136/O136)","v":{"$error":"#N/A"}},{"$error":"#N/A"}]
[11.166666666666666,134,1,144.05109999999999,4.7140000000000001E-2,131.279,135.34863585421789,139.471,144.05099999999999,148.631,152.75356414578209,156.82300000000001,1,146.06219999999999,4.5760000000000002E-2,133.49100000000001,137.49655760832155,141.554,146.06200000000001,150.57,154.62784239167843,158.63300000000001,{"$f":"VLOOKUP(Perzentile!B137,Berechnungen!$E$2:$F$40,2,FALSE)","v":{"$error":"#N/A"}},{"$f":"IF('Entrée des données_Eingabemaske'!$N$12=\"männlich / masculin\",((W137/D137)^C137-1)/C137/E137,((W137/N137)^M137-1)/M137/O137)","v":{"$error":"#N/A"}},{"$error":"#N/A"}]
[11.25,135,1,144.52760000000001,4.7190000000000003E-2,131.69999999999999,135.78708839522457,139.92699999999999,144.52799999999999,149.12799999999999,153.26811160477544,157.35499999999999,1,146.5951,4.5710000000000001E-2,133.99199999999999,138.0075997864891,142.07499999999999,146.595,151.11500000000001,155.18260021351091,159.19800000000001,{"$f":"VLOOKUP(Perzentile!B138,Berechnungen!$E$2:$F$40,2,FALSE)","v":{"$error":"#N/A"}},{"$f":"IF('Entrée des données_Eingabemaske'!$N$12=\"männlich / masculin\",((W138/D138)^C138-1)/C138/E138,((W138/N138)^M138-1)/M138/O138)","v":{"$error":"#N/A"}},{"$error":"#N/A"}]
[11.333333333333334,136,1,145.0093,4.7230000000000001E-2,132.12799999999999,136.23222342867453,140.38999999999999,145.00899999999999,149.62899999999999,153.78637657132546,157.88999999999999,1,147.12620000000001,4.5670000000000002E-2,134.489,138.51513008858018,142.59399999999999,147.126,151.65799999999999,155.73726991141984,159.76400000000001,{"$f":"VLOOKUP(Perzentile!B139,Berechnungen!$E$2:$F$40,2,FALSE)","v":{"$error":"#N/A"}},{"$f":"IF('Entrée des données_Eingabemaske'!$N$12=\"männlich / masculin\",((W139/D139)^C139-1)/C139/E139,((W139/N139)^M139-1)/M139/O139)","v":{"$error":"#N/A"}},{"$error":"#N/A"}]
[11.416666666666666,137,1,145.49639999999999,4.7280000000000003E-2,132.55799999999999,136.6805173385718,140.857,145.49600000000001,150.136,154.31228266142818,158.435,1,147.65479999999999,4.5620000000000001E-2,134.98599999999999,139.02225330663001,143.11099999999999,147.655,152.19800000000001,156.28734669336998,160.32400000000001,{"$f":"VLOOKUP(Perzentile!B140,Berechnungen!$E$2:$F$40,2,FALSE)","v":{"$error":"#N/A"}},{"$f":"IF('Entrée des données_Eingabemaske'!$N$12=\"männlich / masculin\",((W140/D140)^C140-1)/C140/E140,((W140/N140)^M140-1)/M140/O140)","v":{"$error":"#N/A"}},{"$error":"#N/A"}]
[11.5,138,1,145.98910000000001,4.7320000000000001E-2,132.99600000000001,137.1358800770096,141.33000000000001,145.989,150.649,154.84231992299044,158.982,1,148.18039999999999,4.5569999999999999E-2,135.47999999999999,139.52661946841013,143.626,148.18,152.73500000000001,156.83418053158985,160.881,{"$f":"VLOOKUP(Perzentile!B141,Berechnungen!$E$2:$F$40,2,FALSE)","v":{"$error":"#N/A"}},{"$f":"IF('Entrée des données_Eingabemaske'!$N$12=\"männlich / masculin\",((W141/D141)^C141-1)/C141/E141,((W141/N141)^M141-1)/M141/O141)","v":{"$error":"#N/A"}},{"$error":"#N/A"}]
[11.583333333333334,139,1,146.48779999999999,4.7359999999999999E-2,133.43899999999999,137.59682813611798,141.80799999999999,146.488,151.167,155.37877186388201,159.536,1,148.70230000000001,4.5519999999999998E-2,135.971,140.02756883258144,144.137,148.702,153.268,157.37703116741861,161.43299999999999,{"$f":"VLOOKUP(Perzentile!B142,Berechnungen!$E$2:$F$40,2,FALSE)","v":{"$error":"#N/A"}},{"$f":"IF('Entrée des données_Eingabemaske'!$N$12=\"männlich / masculin\",((W142/D142)^C142-1)/C142/E142,((W142/N142)^M142-1)/M142/O142)","v":{"$error":"#N/A"}},{"$f":"_xlfn.NORM.S.DIST(X142,TRUE)","v":{"$error":"#N/A"}}]
[11.666666666666666,140,1,146.99270000000001,4.7399999999999998E-2,133.88800000000001,138.06354844407105,142.29300000000001,146.99299999999999,151.69200000000001,155.92185155592898,160.09700000000001,1,149.21969999999999,4.546E-2,136.46100000000001,140.52625963300395,144.64400000000001,149.22,153.79499999999999,157.91314036699603,161.97800000000001,{"$f":"VLOOKUP(Perzentile!B143,Berechnungen!$E$2:$F$40,2,FALSE)","v":{"$error":"#N/A"}},{"$f":"IF('Entrée des données_Eingabemaske'!$N$12=\"männlich / masculin\",((W143/D143)^C143-1)/C143/E143,((W143/N143)^M143-1)/M143/O143)","v":{"$error":"#N/A"}},{"$error":"#N/A"}]
[11.75,141,1,147.50409999999999,4.7440000000000003E-2,134.34299999999999,138.53632180835248,142.78399999999999,147.50399999999999,152.22399999999999,156.47187819164751,160.66499999999999,1,149.73220000000001,4.5409999999999999E-2,136.94399999999999,141.01849620100813,145.14599999999999,149.732,154.31800000000001,158.44590379899188,162.52000000000001,{"$f":"VLOOKUP(Perzentile!B144,Berechnungen!$E$2:$F$40,2,FALSE)","v":{"$error":"#N/A"}},{"$f":"IF('Entrée des données_Eingabemaske'!$N$12=\"männlich / masculin\",((W144/D144)^C144-1)/C144/E144,((W144/N144)^M144-1)/M144/O144)","v":{"$error":"#N/A"}},{"$error":"#N/A"}]
[11.833333333333334,142,1,148.0224,4.7469999999999998E-2,134.80699999999999,139.0174198735094,143.28299999999999,148.02199999999999,152.762,157.02738012649061,161.238,1,150.239,4.5350000000000001E-2,137.42500000000001,141.50735518650697,145.643,150.239,154.83500000000001,158.97064481349304,163.053,{"$f":"VLOOKUP(Perzentile!B145,Berechnungen!$E$2:$F$40,2,FALSE)","v":{"$error":"#N/A"}},{"$f":"IF('Entrée des données_Eingabemaske'!$N$12=\"männlich / masculin\",((W145/D145)^C145-1)/C145/E145,((W145/N145)^M145-1)/M145/O145)","v":{"$error":"#N/A"}},{"$error":"#N/A"}]
[11.916666666666666,143,1,148.5478,4.7500000000000001E-2,135.27699999999999,139.50514588171018,143.78899999999999,148.548,153.30699999999999,157.59045411828978,161.81899999999999,1,150.73939999999999,4.5289999999999997E-2,137.899,141.99026357625638,146.13499999999999,150.739,155.34399999999999,159.4885364237436,163.58000000000001,{"$f":"VLOOKUP(Perzentile!B146,Berechnungen!$E$2:$F$40,2,FALSE)","v":{"$error":"#N/A"}},{"$f":"IF('Entrée des données_Eingabemaske'!$N$12=\"männlich / masculin\",((W146/D146)^C146-1)/C146/E146,((W146/N146)^M146-1)/M146/O146)","v":{"$error":"#N/A"}},{"$error":"#N/A"}]
[12,144,1,149.08070000000001,4.7530000000000003E-2,135.75399999999999,139.99987464918513,144.30099999999999,149.08099999999999,153.86000000000001,158.16152535081488,162.40799999999999,1,151.23269999999999,4.5229999999999999E-2,138.36799999999999,142.46656046911312,146.619,151.233,155.846,159.99883953088687,164.09800000000001,{"$f":"VLOOKUP(Perzentile!B147,Berechnungen!$E$2:$F$40,2,FALSE)","v":{"$error":"#N/A"}},{"$f":"IF('Entrée des données_Eingabemaske'!$N$12=\"männlich / masculin\",((W147/D147)^C147-1)/C147/E147,((W147/N147)^M147-1)/M147/O147)","v":{"$error":"#N/A"}},{"$error":"#N/A"}]
[12.083333333333334,145,1,149.62119999999999,4.7550000000000002E-2,136.24,140.50361668865861,144.82300000000001,149.62100000000001,154.41999999999999,158.73878331134134,163.00200000000001,1,151.7182,4.5159999999999999E-2,138.83199999999999,142.93752909560052,147.09700000000001,151.71799999999999,156.34,160.49887090439944,164.60499999999999,{"$f":"VLOOKUP(Perzentile!B148,Berechnungen!$E$2:$F$40,2,FALSE)","v":{"$error":"#N/A"}},{"$f":"IF('Entrée des données_Eingabemaske'!$N$12=\"männlich / masculin\",((W148/D148)^C148-1)/C148/E148,((W148/N148)^M148-1)/M148/O148)","v":{"$error":"#N/A"}},{"$error":"#N/A"}]
[12.166666666666666,146,1,150.1694,4.7579999999999997E-2,136.73099999999999,141.0126371044492,145.35,150.16900000000001,154.989,159.32616289555079,163.608,1,152.1951,4.5100000000000001E-2,139.285,143.3985313228379,147.565,152.19499999999999,156.82499999999999,160.9916686771621,165.10499999999999,{"$f":"VLOOKUP(Perzentile!B149,Berechnungen!$E$2:$F$40,2,FALSE)","v":{"$error":"#N/A"}},{"$f":"IF('Entrée des données_Eingabemaske'!$N$12=\"männlich / masculin\",((W149/D149)^C149-1)/C149/E149,((W149/N149)^M149-1)/M149/O149)","v":{"$error":"#N/A"}},{"$error":"#N/A"}]
[12.25,147,1,150.72559999999999,4.759E-2,137.23500000000001,141.53299050265835,145.887,150.726,155.56399999999999,159.91820949734162,164.21700000000001,1,152.6628,4.5030000000000001E-2,139.733,143.8528943771708,148.02600000000001,152.66300000000001,157.30000000000001,161.47270562282924,165.59200000000001,{"$f":"VLOOKUP(Perzentile!B150,Berechnungen!$E$2:$F$40,2,FALSE)","v":{"$error":"#N/A"}},{"$f":"IF('Entrée des données_Eingabemaske'!$N$12=\"männlich / masculin\",((W150/D150)^C150-1)/C150/E150,((W150/N150)^M150-1)/M150/O150)","v":{"$error":"#N/A"}},{"$error":"#N/A"}]
[12.333333333333334,148,1,151.28989999999999,4.761E-2,137.74299999999999,142.05899667178431,146.43199999999999,151.29,156.148,160.52080332821566,164.83699999999999,1,153.1206,4.4970000000000003E-2,140.16999999999999,144.29604944921863,148.476,153.12100000000001,157.76499999999999,161.94515055078136,166.071,{"$f":"VLOOKUP(Perzentile!B151,Berechnungen!$E$2:$F$40,2,FALSE)","v":{"$error":"#N/A"}},{"$f":"IF('Entrée des données_Eingabemaske'!$N$12=\"männlich / masculin\",((W151/D151)^C151-1)/C151/E151,((W151/N151)^M151-1)/M151/O151)","v":{"$error":"#N/A"}},{"$error":"#N/A"}]
[12.416666666666666,149,1,151.8623,4.7620000000000003E-2,138.261,142.59452568097285,146.98500000000001,151.86199999999999,156.74,161.13007431902713,165.464,1,153.56780000000001,4.4900000000000002E-2,140.59899999999999,144.73125305262494,148.917,153.56800000000001,158.21899999999999,162.40434694737507,166.536,{"$f":"VLOOKUP(Perzentile!B152,Berechnungen!$E$2:$F$40,2,FALSE)","v":{"$error":"#N/A"}},{"$f":"IF('Entrée des données_Eingabemaske'!$N$12=\"männlich / masculin\",((W152/D152)^C152-1)/C152/E152,((W152/N152)^M152-1)/M152/O152)","v":{"$error":"#N/A"}},{"$error":"#N/A"}]
[12.5,150,1,152.4425,4.7629999999999999E-2,138.786,143.13736390461071,147.54499999999999,152.44200000000001,157.34,161.74763609538928,166.09899999999999,1,154.00409999999999,4.4830000000000002E-2,141.01900000000001,145.15626311773946,149.34700000000001,154.00399999999999,158.661,162.85193688226053,166.989,{"$f":"VLOOKUP(Perzentile!B153,Berechnungen!$E$2:$F$40,2,FALSE)","v":{"$error":"#N/A"}},{"$f":"IF('Entrée des données_Eingabemaske'!$N$12=\"männlich / masculin\",((W153/D153)^C153-1)/C153/E153,((W153/N153)^M153-1)/M153/O153)","v":{"$error":"#N/A"}},{"$error":"#N/A"}]
[12.583333333333334,151,1,153.02979999999999,4.7629999999999999E-2,139.321,143.68881493579411,148.114,153.03,157.946,162.37078506420588,166.739,1,154.429,4.4760000000000001E-2,141.428,145.57060539221479,149.767,154.429,159.09100000000001,163.28739460778522,167.43,{"$f":"VLOOKUP(Perzentile!B154,Berechnungen!$E$2:$F$40,2,FALSE)","v":{"$error":"#N/A"}},{"$f":"IF('Entrée des données_Eingabemaske'!$N$12=\"männlich / masculin\",((W154/D154)^C154-1)/C154/E154,((W154/N154)^M154-1)/M154/O154)","v":{"$error":"#N/A"}},{"$error":"#N/A"}]
[12.666666666666666,152,1,153.6234,4.7640000000000002E-2,139.85900000000001,144.24421264999307,148.68700000000001,153.62299999999999,158.56,163.00258735000691,167.38800000000001,1,154.84229999999999,4.4679999999999997E-2,141.83000000000001,145.97607264644409,150.17599999999999,154.84200000000001,159.50899999999999,163.70852735355589,167.85400000000001,{"$f":"VLOOKUP(Perzentile!B155,Berechnungen!$E$2:$F$40,2,FALSE)","v":{"$error":"#N/A"}},{"$f":"IF('Entrée des données_Eingabemaske'!$N$12=\"männlich / masculin\",((W155/D155)^C155-1)/C155/E155,((W155/N155)^M155-1)/M155/O155)","v":{"$error":"#N/A"}},{"$error":"#N/A"}]
[12.75,153,1,154.22229999999999,4.7629999999999999E-2,140.40700000000001,144.80852437677186,149.268,154.22200000000001,159.17699999999999,163.63607562322812,168.03800000000001,1,155.24369999999999,4.4609999999999997E-2,142.21799999999999,146.36841528972545,150.57300000000001,155.244,159.91499999999999,164.11898471027453,168.26900000000001,{"$f":"VLOOKUP(Perzentile!B156,Berechnungen!$E$2:$F$40,2,FALSE)","v":{"$error":"#N/A"}},{"$f":"IF('Entrée des données_Eingabemaske'!$N$12=\"männlich / masculin\",((W156/D156)^C156-1)/C156/E156,((W156/N156)^M156-1)/M156/O156)","v":{"$error":"#N/A"}},{"$error":"#N/A"}]
[12.833333333333334,154,1,154.82579999999999,4.7629999999999999E-2,140.95599999999999,145.37518655507799,149.852,154.82599999999999,159.80000000000001,164.27641344492199,168.69499999999999,1,155.63300000000001,4.4540000000000003E-2,142.596,146.74942062279004,150.958,155.63300000000001,160.30799999999999,164.51657937720998,168.67,{"$f":"VLOOKUP(Perzentile!B157,Berechnungen!$E$2:$F$40,2,FALSE)","v":{"$error":"#N/A"}},{"$f":"IF('Entrée des données_Eingabemaske'!$N$12=\"männlich / masculin\",((W157/D157)^C157-1)/C157/E157,((W157/N157)^M157-1)/M157/O157)","v":{"$error":"#N/A"}},{"$error":"#N/A"}]
[12.916666666666666,155,1,155.43289999999999,4.7620000000000003E-2,141.512,145.94722094106359,150.441,155.43299999999999,160.42500000000001,164.91857905893636,169.35400000000001,1,156.01009999999999,4.446E-2,142.965,147.12099043815405,151.33199999999999,156.01,160.68899999999999,164.89920956184591,169.05600000000001,{"$f":"VLOOKUP(Perzentile!B158,Berechnungen!$E$2:$F$40,2,FALSE)","v":{"$error":"#N/A"}},{"$f":"IF('Entrée des données_Eingabemaske'!$N$12=\"männlich / masculin\",((W158/D158)^C158-1)/C158/E158,((W158/N158)^M158-1)/M158/O158)","v":{"$error":"#N/A"}},{"$error":"#N/A"}]
[13,156,1,156.04259999999999,4.7600000000000003E-2,142.07300000000001,146.52371201588946,151.03299999999999,156.04300000000001,161.05199999999999,165.56148798411056,170.012,1,156.37479999999999,4.4389999999999999E-2,143.31899999999999,147.47893880672098,151.69300000000001,156.375,161.05699999999999,165.27066119327901,169.43,{"$f":"VLOOKUP(Perzentile!B159,Berechnungen!$E$2:$F$40,2,FALSE)","v":{"$error":"#N/A"}},{"$f":"IF('Entrée des données_Eingabemaske'!$N$12=\"männlich / masculin\",((W159/D159)^C159-1)/C159/E159,((W159/N159)^M159-1)/M159/O159)","v":{"$error":"#N/A"}},{"$error":"#N/A"}]
[13.083333333333334,157,1,156.65389999999999,4.7579999999999997E-2,142.63499999999999,147.1017367832373,151.62700000000001,156.654,161.68100000000001,166.20606321676269,170.673,1,156.7269,4.4310000000000002E-2,143.666,147.82707680419213,152.04300000000001,156.727,161.411,165.62672319580787,169.78800000000001,{"$f":"VLOOKUP(Perzentile!B160,Berechnungen!$E$2:$F$40,2,FALSE)","v":{"$error":"#N/A"}},{"$f":"IF('Entrée des données_Eingabemaske'!$N$12=\"männlich / masculin\",((W160/D160)^C160-1)/C160/E160,((W160/N160)^M160-1)/M160/O160)","v":{"$error":"#N/A"}},{"$error":"#N/A"}]
[13.166666666666666,158,1,157.26599999999999,4.7559999999999998E-2,143.19800000000001,147.68054412661004,152.221,157.26599999999999,162.31100000000001,166.85145587338994,171.334,1,157.06659999999999,4.4229999999999998E-2,144.001,148.16358986867152,152.381,157.06700000000001,161.75200000000001,165.96961013132844,170.13300000000001,{"$f":"VLOOKUP(Perzentile!B161,Berechnungen!$E$2:$F$40,2,FALSE)","v":{"$error":"#N/A"}},{"$f":"IF('Entrée des données_Eingabemaske'!$N$12=\"männlich / masculin\",((W161/D161)^C161-1)/C161/E161,((W161/N161)^M161-1)/M161/O161)","v":{"$error":"#N/A"}},{"$error":"#N/A"}]
[13.25,159,1,157.8775,4.7539999999999999E-2,143.761,148.25881940246822,152.815,157.87799999999999,162.94,167.49618059753178,171.994,1,157.39359999999999,4.4150000000000002E-2,144.32400000000001,148.48819116041216,152.70699999999999,157.39400000000001,162.08099999999999,166.29900883958783,170.46299999999999,{"$f":"VLOOKUP(Perzentile!B162,Berechnungen!$E$2:$F$40,2,FALSE)","v":{"$error":"#N/A"}},{"$f":"IF('Entrée des données_Eingabemaske'!$N$12=\"männlich / masculin\",((W162/D162)^C162-1)/C162/E162,((W162/N162)^M162-1)/M162/O162)","v":{"$error":"#N/A"}},{"$error":"#N/A"}]
[13.333333333333334,160,1,158.4871,4.7509999999999997E-2,144.32499999999999,148.83737282771665,153.40799999999999,158.48699999999999,163.566,168.13682717228338,172.649,1,157.70820000000001,4.4080000000000001E-2,144.63300000000001,148.79913871794554,153.01900000000001,157.708,162.39699999999999,166.61726128205447,170.78299999999999,{"$f":"VLOOKUP(Perzentile!B163,Berechnungen!$E$2:$F$40,2,FALSE)","v":{"$error":"#N/A"}},{"$f":"IF('Entrée des données_Eingabemaske'!$N$12=\"männlich / masculin\",((W163/D163)^C163-1)/C163/E163,((W163/N163)^M163-1)/M163/O163)","v":{"$error":"#N/A"}},{"$error":"#N/A"}]
[13.416666666666666,161,1,159.09370000000001,4.7469999999999998E-2,144.88999999999999,149.41519453900315,154,159.09399999999999,164.18799999999999,168.77220546099687,173.298,1,158.0102,4.3999999999999997E-2,144.934,149.10027835599132,153.321,158.01,162.69999999999999,166.9201216440087,171.08600000000001,{"$f":"VLOOKUP(Perzentile!B164,Berechnungen!$E$2:$F$40,2,FALSE)","v":{"$error":"#N/A"}},{"$f":"IF('Entrée des données_Eingabemaske'!$N$12=\"männlich / masculin\",((W164/D164)^C164-1)/C164/E164,((W164/N164)^M164-1)/M164/O164)","v":{"$error":"#N/A"}},{"$error":"#N/A"}]
[13.5,162,1,159.6962,4.7440000000000003E-2,145.447,149.98718106663492,154.58600000000001,159.696,164.80600000000001,169.40521893336509,173.94499999999999,1,158.2997,4.3920000000000001E-2,145.22300000000001,149.38968349041821,153.61000000000001,158.30000000000001,162.989,167.20971650958177,171.376,{"$f":"VLOOKUP(Perzentile!B165,Berechnungen!$E$2:$F$40,2,FALSE)","v":{"$error":"#N/A"}},{"$f":"IF('Entrée des données_Eingabemaske'!$N$12=\"männlich / masculin\",((W165/D165)^C165-1)/C165/E165,((W165/N165)^M165-1)/M165/O165)","v":{"$error":"#N/A"}},{"$error":"#N/A"}]
[13.583333333333334,163,1,160.29390000000001,4.7399999999999998E-2,146.00399999999999,150.55675981146737,155.16900000000001,160.29400000000001,165.41900000000001,170.03104018853264,174.584,1,158.5771,4.3839999999999997E-2,145.50200000000001,149.66772780328333,153.88800000000001,158.577,163.26599999999999,167.48647219671668,171.65199999999999,{"$f":"VLOOKUP(Perzentile!B166,Berechnungen!$E$2:$F$40,2,FALSE)","v":{"$error":"#N/A"}},{"$f":"IF('Entrée des données_Eingabemaske'!$N$12=\"männlich / masculin\",((W166/D166)^C166-1)/C166/E166,((W166/N166)^M166-1)/M166/O166)","v":{"$error":"#N/A"}},{"$error":"#N/A"}]
[13.666666666666666,164,1,160.8861,4.7350000000000003E-2,146.55799999999999,151.12329549185455,155.74799999999999,160.886,166.024,170.64890450814545,175.214,1,158.8425,4.376E-2,145.76900000000001,149.93450196489118,154.154,158.84200000000001,163.53100000000001,167.75049803510879,171.916,{"$f":"VLOOKUP(Perzentile!B167,Berechnungen!$E$2:$F$40,2,FALSE)","v":{"$error":"#N/A"}},{"$f":"IF('Entrée des données_Eingabemaske'!$N$12=\"männlich / masculin\",((W167/D167)^C167-1)/C167/E167,((W167/N167)^M167-1)/M167/O167)","v":{"$error":"#N/A"}},{"$error":"#N/A"}]
[13.75,165,1,161.47200000000001,4.7300000000000002E-2,147.107,151.68398895527648,156.32,161.47200000000001,166.624,171.26001104472354,175.83699999999999,1,159.09610000000001,4.369E-2,146.023,150.18815219017861,154.40799999999999,159.096,163.78399999999999,168.0040478098214,172.16900000000001,{"$f":"VLOOKUP(Perzentile!B168,Berechnungen!$E$2:$F$40,2,FALSE)","v":{"$error":"#N/A"}},{"$f":"IF('Entrée des données_Eingabemaske'!$N$12=\"männlich / masculin\",((W168/D168)^C168-1)/C168/E168,((W168/N168)^M168-1)/M168/O168)","v":{"$error":"#N/A"}},{"$error":"#N/A"}]
[13.833333333333334,166,1,162.0505,4.725E-2,147.649,152.23780559930952,156.886,162.05000000000001,167.215,171.8631944006905,176.452,1,159.3382,4.3610000000000003E-2,146.26900000000001,150.43303278158123,154.65100000000001,159.33799999999999,164.02500000000001,168.24336721841877,172.40700000000001,{"$f":"VLOOKUP(Perzentile!B169,Berechnungen!$E$2:$F$40,2,FALSE)","v":{"$error":"#N/A"}},{"$f":"IF('Entrée des données_Eingabemaske'!$N$12=\"männlich / masculin\",((W169/D169)^C169-1)/C169/E169,((W169/N169)^M169-1)/M169/O169)","v":{"$error":"#N/A"}},{"$error":"#N/A"}]
[13.916666666666666,167,1,162.6207,4.7199999999999999E-2,148.184,152.78389844174194,157.44399999999999,162.62100000000001,167.798,172.45750155825806,177.05699999999999,1,159.56909999999999,4.3529999999999999E-2,146.505,150.66738781768936,154.88399999999999,159.56899999999999,164.25399999999999,168.47081218231065,172.63300000000001,{"$f":"VLOOKUP(Perzentile!B170,Berechnungen!$E$2:$F$40,2,FALSE)","v":{"$error":"#N/A"}},{"$f":"IF('Entrée des données_Eingabemaske'!$N$12=\"männlich / masculin\",((W170/D170)^C170-1)/C170/E170,((W170/N170)^M170-1)/M170/O170)","v":{"$error":"#N/A"}},{"$error":"#N/A"}]
[14,168,1,163.1816,4.7140000000000001E-2,148.714,153.32341756854785,157.99299999999999,163.18199999999999,168.37,173.03978243145215,177.649,1,159.78899999999999,4.3450000000000003E-2,146.73099999999999,150.89140271700927,155.10599999999999,159.78899999999999,164.47200000000001,168.6865972829907,172.84700000000001,{"$f":"VLOOKUP(Perzentile!B171,Berechnungen!$E$2:$F$40,2,FALSE)","v":{"$error":"#N/A"}},{"$f":"IF('Entrée des données_Eingabemaske'!$N$12=\"männlich / masculin\",((W171/D171)^C171-1)/C171/E171,((W171/N171)^M171-1)/M171/O171)","v":{"$error":"#N/A"}},{"$error":"#N/A"}]
[14.083333333333334,169,1,163.7321,4.7070000000000001E-2,149.23699999999999,153.85534875397352,158.53399999999999,163.732,168.93,173.60885124602649,178.227,1,159.9983,4.3369999999999999E-2,146.947,151.10545186388828,155.31800000000001,159.99799999999999,164.679,168.89114813611172,173.04900000000001,{"$f":"VLOOKUP(Perzentile!B172,Berechnungen!$E$2:$F$40,2,FALSE)","v":{"$error":"#N/A"}},{"$f":"IF('Entrée des données_Eingabemaske'!$N$12=\"männlich / masculin\",((W172/D172)^C172-1)/C172/E172,((W172/N172)^M172-1)/M172/O172)","v":{"$error":"#N/A"}},{"$error":"#N/A"}]
[14.166666666666666,170,1,164.27170000000001,4.7010000000000003E-2,149.74700000000001,154.37503002090227,159.06299999999999,164.27199999999999,169.48,174.16836997909772,178.79599999999999,1,160.19710000000001,4.3299999999999998E-2,147.15100000000001,151.30757344177945,155.518,160.197,164.876,169.08662655822056,173.24299999999999,{"$f":"VLOOKUP(Perzentile!B173,Berechnungen!$E$2:$F$40,2,FALSE)","v":{"$error":"#N/A"}},{"$f":"IF('Entrée des données_Eingabemaske'!$N$12=\"männlich / masculin\",((W173/D173)^C173-1)/C173/E173,((W173/N173)^M173-1)/M173/O173)","v":{"$error":"#N/A"}},{"$error":"#N/A"}]
[14.25,171,1,164.79939999999999,4.6940000000000003E-2,150.25,154.88572226941611,159.58199999999999,164.79900000000001,170.017,174.71307773058385,179.34899999999999,1,160.38570000000001,4.3220000000000001E-2,147.34800000000001,151.50215120829972,155.71,160.386,165.06100000000001,169.26924879170028,173.423,{"$f":"VLOOKUP(Perzentile!B174,Berechnungen!$E$2:$F$40,2,FALSE)","v":{"$error":"#N/A"}},{"$f":"IF('Entrée des données_Eingabemaske'!$N$12=\"männlich / masculin\",((W174/D174)^C174-1)/C174/E174,((W174/N174)^M174-1)/M174/O174)","v":{"$error":"#N/A"}},{"$error":"#N/A"}]
[14.333333333333334,172,1,165.31450000000001,4.6870000000000002E-2,150.74199999999999,155.38466603205222,160.08799999999999,165.31399999999999,170.541,175.2443339679478,179.887,1,160.5643,4.3139999999999998E-2,147.53700000000001,151.68732050826537,155.892,160.56399999999999,165.23599999999999,169.44127949173463,173.59200000000001,{"$f":"VLOOKUP(Perzentile!B175,Berechnungen!$E$2:$F$40,2,FALSE)","v":{"$error":"#N/A"}},{"$f":"IF('Entrée des données_Eingabemaske'!$N$12=\"männlich / masculin\",((W175/D175)^C175-1)/C175/E175,((W175/N175)^M175-1)/M175/O175)","v":{"$error":"#N/A"}},{"$error":"#N/A"}]
[14.416666666666666,173,1,165.81649999999999,4.6789999999999998E-2,151.22399999999999,155.87351293008336,160.583,165.816,171.05,175.75948706991662,180.40899999999999,1,160.73320000000001,4.3069999999999997E-2,147.71299999999999,151.86130183202863,156.06399999999999,160.733,165.40299999999999,169.60509816797139,173.75399999999999,{"$f":"VLOOKUP(Perzentile!B176,Berechnungen!$E$2:$F$40,2,FALSE)","v":{"$error":"#N/A"}},{"$f":"IF('Entrée des données_Eingabemaske'!$N$12=\"männlich / masculin\",((W176/D176)^C176-1)/C176/E176,((W176/N176)^M176-1)/M176/O176)","v":{"$error":"#N/A"}},{"$error":"#N/A"}]
[14.5,174,1,166.30500000000001,4.6710000000000002E-2,151.69499999999999,156.34977088953025,161.065,166.30500000000001,171.54499999999999,176.26022911046979,180.91499999999999,1,160.89269999999999,4.299E-2,147.88399999999999,152.02849338541867,156.227,160.893,165.55799999999999,169.75690661458131,173.90199999999999,{"$f":"VLOOKUP(Perzentile!B177,Berechnungen!$E$2:$F$40,2,FALSE)","v":{"$error":"#N/A"}},{"$f":"IF('Entrée des données_Eingabemaske'!$N$12=\"männlich / masculin\",((W177/D177)^C177-1)/C177/E177,((W177/N177)^M177-1)/M177/O177)","v":{"$error":"#N/A"}},{"$error":"#N/A"}]
[14.583333333333334,175,1,166.7799,4.6629999999999998E-2,152.15299999999999,156.81334173404068,161.53399999999999,166.78,172.02500000000001,176.74645826595932,181.40700000000001,1,161.04300000000001,4.292E-2,148.04300000000001,152.18495971559165,156.381,161.04300000000001,165.70500000000001,169.9010402844084,174.04300000000001,{"$f":"VLOOKUP(Perzentile!B178,Berechnungen!$E$2:$F$40,2,FALSE)","v":{"$error":"#N/A"}},{"$f":"IF('Entrée des données_Eingabemaske'!$N$12=\"männlich / masculin\",((W178/D178)^C178-1)/C178/E178,((W178/N178)^M178-1)/M178/O178)","v":{"$error":"#N/A"}},{"$error":"#N/A"}]
[14.666666666666666,176,1,167.2415,4.6550000000000001E-2,152.59899999999999,157.26450338376279,161.99100000000001,167.24199999999999,172.49199999999999,177.21849661623725,181.88399999999999,1,161.18450000000001,4.2840000000000003E-2,148.197,152.33520192212015,156.52699999999999,161.184,165.84200000000001,170.03379807787988,174.172,{"$f":"VLOOKUP(Perzentile!B179,Berechnungen!$E$2:$F$40,2,FALSE)","v":{"$error":"#N/A"}},{"$f":"IF('Entrée des données_Eingabemaske'!$N$12=\"männlich / masculin\",((W179/D179)^C179-1)/C179/E179,((W179/N179)^M179-1)/M179/O179)","v":{"$error":"#N/A"}},{"$error":"#N/A"}]
[14.75,177,1,167.68989999999999,4.6460000000000001E-2,153.03700000000001,157.7054948251525,162.435,167.69,172.94499999999999,177.67430517484749,182.34299999999999,1,161.3176,4.2770000000000002E-2,148.34100000000001,152.47546608756528,156.66399999999999,161.31800000000001,165.971,170.15973391243472,174.29400000000001,{"$f":"VLOOKUP(Perzentile!B180,Berechnungen!$E$2:$F$40,2,FALSE)","v":{"$error":"#N/A"}},{"$f":"IF('Entrée des données_Eingabemaske'!$N$12=\"männlich / masculin\",((W180/D180)^C180-1)/C180/E180,((W180/N180)^M180-1)/M180/O180)","v":{"$error":"#N/A"}},{"$error":"#N/A"}]
[14.833333333333334,178,1,168.12549999999999,4.6370000000000001E-2,153.46299999999999,158.13455035012223,162.86699999999999,168.126,173.38399999999999,178.11644964987775,182.78800000000001,1,161.4425,4.2700000000000002E-2,148.477,152.60800285590744,156.79300000000001,161.44200000000001,166.09200000000001,170.27699714409255,174.40799999999999,{"$f":"VLOOKUP(Perzentile!B181,Berechnungen!$E$2:$F$40,2,FALSE)","v":{"$error":"#N/A"}},{"$f":"IF('Entrée des données_Eingabemaske'!$N$12=\"männlich / masculin\",((W181/D181)^C181-1)/C181/E181,((W181/N181)^M181-1)/M181/O181)","v":{"$error":"#N/A"}},{"$error":"#N/A"}]
[14.916666666666666,179,1,168.54820000000001,4.6280000000000002E-2,153.87700000000001,158.55157146065036,163.28700000000001,168.548,173.809,178.54482853934965,183.21899999999999,1,161.55959999999999,4.2630000000000001E-2,148.60599999999999,152.73318816729758,156.91399999999999,161.56,166.20500000000001,170.38601183270239,174.51300000000001,{"$f":"VLOOKUP(Perzentile!B182,Berechnungen!$E$2:$F$40,2,FALSE)","v":{"$error":"#N/A"}},{"$f":"IF('Entrée des données_Eingabemaske'!$N$12=\"männlich / masculin\",((W182/D182)^C182-1)/C182/E182,((W182/N182)^M182-1)/M182/O182)","v":{"$error":"#N/A"}},{"$error":"#N/A"}]
[15,180,1,168.958,4.6190000000000002E-2,154.28,158.95655369309276,163.69399999999999,168.958,174.22200000000001,178.95944630690724,183.636,1,161.66919999999999,4.2549999999999998E-2,148.73099999999999,152.8533754338674,157.029,161.66900000000001,166.309,170.48502456613261,174.607,{"$f":"VLOOKUP(Perzentile!B183,Berechnungen!$E$2:$F$40,2,FALSE)","v":{"$error":"#N/A"}},{"$f":"IF('Entrée des données_Eingabemaske'!$N$12=\"männlich / masculin\",((W183/D183)^C183-1)/C183/E183,((W183/N183)^M183-1)/M183/O183)","v":{"$error":"#N/A"}},{"$error":"#N/A"}]
[15.083333333333334,181,1,169.35489999999999,4.6089999999999999E-2,154.67400000000001,159.35166295417761,164.09,169.35499999999999,174.62,179.35813704582236,184.036,1,161.77170000000001,4.2479999999999997E-2,148.84700000000001,152.96479842118595,157.137,161.77199999999999,166.40700000000001,170.5786015788141,174.697,{"$f":"VLOOKUP(Perzentile!B184,Berechnungen!$E$2:$F$40,2,FALSE)","v":{"$error":"#N/A"}},{"$f":"IF('Entrée des données_Eingabemaske'!$N$12=\"männlich / masculin\",((W184/D184)^C184-1)/C184/E184,((W184/N184)^M184-1)/M184/O184)","v":{"$error":"#N/A"}},{"$error":"#N/A"}]
[15.166666666666666,182,1,169.7389,4.5990000000000003E-2,155.05699999999999,159.73473425220462,164.47399999999999,169.739,175.00399999999999,179.74306574779538,184.42099999999999,1,161.8673,4.2410000000000003E-2,148.95599999999999,153.06971481792249,157.23699999999999,161.86699999999999,166.49799999999999,170.66488518207751,174.779,{"$f":"VLOOKUP(Perzentile!B185,Berechnungen!$E$2:$F$40,2,FALSE)","v":{"$error":"#N/A"}},{"$f":"IF('Entrée des données_Eingabemaske'!$N$12=\"männlich / masculin\",((W185/D185)^C185-1)/C185/E185,((W185/N185)^M185-1)/M185/O185)","v":{"$error":"#N/A"}},{"$error":"#N/A"}]
[15.25,183,1,170.10990000000001,4.589E-2,155.428,160.10566850860934,164.845,170.11,175.375,180.11413149139068,184.792,1,161.9564,4.2349999999999999E-2,149.05600000000001,153.16642550797187,157.33000000000001,161.95599999999999,166.583,170.74637449202814,174.85599999999999,{"$f":"VLOOKUP(Perzentile!B186,Berechnungen!$E$2:$F$40,2,FALSE)","v":{"$error":"#N/A"}},{"$f":"IF('Entrée des données_Eingabemaske'!$N$12=\"männlich / masculin\",((W186/D186)^C186-1)/C186/E186,((W186/N186)^M186-1)/M186/O186)","v":{"$error":"#N/A"}},{"$error":"#N/A"}]
[15.333333333333334,184,1,170.46799999999999,4.5789999999999997E-2,155.78700000000001,160.46455485711598,165.203,170.46799999999999,175.733,180.47144514288399,185.149,1,162.0393,4.2279999999999998E-2,149.154,153.25936253781393,157.41800000000001,162.03899999999999,166.66,170.81923746218607,174.92500000000001,{"$f":"VLOOKUP(Perzentile!B187,Berechnungen!$E$2:$F$40,2,FALSE)","v":{"$error":"#N/A"}},{"$f":"IF('Entrée des données_Eingabemaske'!$N$12=\"männlich / masculin\",((W187/D187)^C187-1)/C187/E187,((W187/N187)^M187-1)/M187/O187)","v":{"$error":"#N/A"}},{"$error":"#N/A"}]
[15.416666666666666,185,1,170.81360000000001,4.5690000000000001E-2,156.13499999999999,160.81176491648364,165.55,170.81399999999999,176.078,180.81543508351638,185.49199999999999,1,162.1164,4.2209999999999998E-2,149.24600000000001,153.34682818823461,157.501,162.11600000000001,166.732,170.88597181176539,174.98699999999999,{"$f":"VLOOKUP(Perzentile!B188,Berechnungen!$E$2:$F$40,2,FALSE)","v":{"$error":"#N/A"}},{"$f":"IF('Entrée des données_Eingabemaske'!$N$12=\"männlich / masculin\",((W188/D188)^C188-1)/C188/E188,((W188/N188)^M188-1)/M188/O188)","v":{"$error":"#N/A"}},{"$error":"#N/A"}]
[15.5,186,1,171.14680000000001,4.5589999999999999E-2,156.47200000000001,161.14738803830033,165.88399999999999,171.14699999999999,176.41,181.14621196169972,185.822,1,162.18799999999999,4.2139999999999997E-2,149.334,153.42910469692924,157.578,162.18799999999999,166.798,170.94689530307073,175.042,{"$f":"VLOOKUP(Perzentile!B189,Berechnungen!$E$2:$F$40,2,FALSE)","v":{"$error":"#N/A"}},{"$f":"IF('Entrée des données_Eingabemaske'!$N$12=\"männlich / masculin\",((W189/D189)^C189-1)/C189/E189,((W189/N189)^M189-1)/M189/O189)","v":{"$error":"#N/A"}},{"$error":"#N/A"}]
[15.583333333333334,187,1,171.46799999999999,4.548E-2,156.80099999999999,161.47399358692033,166.208,171.46799999999999,176.72800000000001,181.46200641307965,186.13499999999999,1,162.2542,4.2079999999999999E-2,149.41300000000001,153.50420582097806,157.649,162.25399999999999,166.85900000000001,171.00419417902197,175.096,{"$f":"VLOOKUP(Perzentile!B190,Berechnungen!$E$2:$F$40,2,FALSE)","v":{"$error":"#N/A"}},{"$f":"IF('Entrée des données_Eingabemaske'!$N$12=\"männlich / masculin\",((W190/D190)^C190-1)/C190/E190,((W190/N190)^M190-1)/M190/O190)","v":{"$error":"#N/A"}},{"$error":"#N/A"}]
[15.666666666666666,188,1,171.7773,4.5379999999999997E-2,157.11600000000001,161.78728019395768,166.51900000000001,171.77699999999999,177.035,181.76731980604234,186.43899999999999,1,162.31540000000001,4.2009999999999999E-2,149.49100000000001,153.57666653520627,157.71600000000001,162.315,166.91499999999999,171.05413346479378,175.14,{"$f":"VLOOKUP(Perzentile!B191,Berechnungen!$E$2:$F$40,2,FALSE)","v":{"$error":"#N/A"}},{"$f":"IF('Entrée des données_Eingabemaske'!$N$12=\"männlich / masculin\",((W191/D191)^C191-1)/C191/E191,((W191/N191)^M191-1)/M191/O191)","v":{"$error":"#N/A"}},{"$error":"#N/A"}]
[15.75,189,1,172.07480000000001,4.5269999999999998E-2,157.42400000000001,162.09173604319585,166.821,172.07499999999999,177.32900000000001,182.05786395680417,186.726,1,162.37190000000001,4.1950000000000001E-2,149.56100000000001,153.64260996702333,157.77799999999999,162.37200000000001,166.96600000000001,171.10119003297669,175.18299999999999,{"$f":"VLOOKUP(Perzentile!B192,Berechnungen!$E$2:$F$40,2,FALSE)","v":{"$error":"#N/A"}},{"$f":"IF('Entrée des données_Eingabemaske'!$N$12=\"männlich / masculin\",((W192/D192)^C192-1)/C192/E192,((W192/N192)^M192-1)/M192/O192)","v":{"$error":"#N/A"}},{"$error":"#N/A"}]
[15.833333333333334,190,1,172.36060000000001,4.5159999999999999E-2,157.721,162.38525290594777,167.11099999999999,172.36099999999999,177.61099999999999,182.33594709405222,187,1,162.4239,4.1889999999999997E-2,149.62700000000001,153.70430366663786,157.83500000000001,162.42400000000001,167.01300000000001,171.14349633336215,175.221,{"$f":"VLOOKUP(Perzentile!B193,Berechnungen!$E$2:$F$40,2,FALSE)","v":{"$error":"#N/A"}},{"$f":"IF('Entrée des données_Eingabemaske'!$N$12=\"männlich / masculin\",((W193/D193)^C193-1)/C193/E193,((W193/N193)^M193-1)/M193/O193)","v":{"$error":"#N/A"}},{"$error":"#N/A"}]
[15.916666666666666,191,1,172.6345,4.5060000000000003E-2,158.00399999999999,162.66542498078505,167.38800000000001,172.63399999999999,177.881,182.60357501921496,187.26499999999999,1,162.4717,4.1820000000000003E-2,149.69300000000001,153.76411267241741,157.88900000000001,162.47200000000001,167.05500000000001,171.17928732758261,175.251,{"$f":"VLOOKUP(Perzentile!B194,Berechnungen!$E$2:$F$40,2,FALSE)","v":{"$error":"#N/A"}},{"$f":"IF('Entrée des données_Eingabemaske'!$N$12=\"männlich / masculin\",((W194/D194)^C194-1)/C194/E194,((W194/N194)^M194-1)/M194/O194)","v":{"$error":"#N/A"}},{"$error":"#N/A"}]
[{"$f":"B195/12","v":16},192,1,172.89670000000001,4.4949999999999997E-2,158.28,162.93685715651583,167.655,172.89699999999999,178.13900000000001,182.85654284348416,187.51400000000001,1,162.51560000000001,4.1759999999999999E-2,149.751,153.81815620175766,157.93799999999999,162.51599999999999,167.09299999999999,171.21304379824235,175.28,{"$f":"VLOOKUP(Perzentile!B195,Berechnungen!$E$2:$F$40,2,FALSE)","v":{"$error":"#N/A"}},{"$f":"IF('Entrée des données_Eingabemaske'!$N$12=\"männlich / masculin\",((W195/D195)^C195-1)/C195/E195,((W195/N195)^M195-1)/M195/O195)","v":{"$error":"#N/A"}},{"$f":"_xlfn.NORM.S.DIST(X195,TRUE)","v":{"$error":"#N/A"}}]
[16.083333333333332,193,1,173.14699999999999,4.4839999999999998E-2,158.54499999999999,163.19714708805628,167.91,173.14699999999999,178.38399999999999,183.0968529119437,187.749,1,162.55600000000001,4.1700000000000001E-2,149.80699999999999,153.86889352476254,157.98400000000001,162.55600000000001,167.12799999999999,171.24310647523745,175.30500000000001,{"$f":"VLOOKUP(Perzentile!B196,Berechnungen!$E$2:$F$40,2,FALSE)","v":{"$error":"#N/A"}},{"$f":"IF('Entrée des données_Eingabemaske'!$N$12=\"männlich / masculin\",((W196/D196)^C196-1)/C196/E196,((W196/N196)^M196-1)/M196/O196)","v":{"$error":"#N/A"}},{"$error":"#N/A"}]
[16.166666666666668,194,1,173.38560000000001,4.4729999999999999E-2,158.79900000000001,163.44647827799312,168.155,173.386,178.61699999999999,183.3247217220069,187.97200000000001,1,162.5933,4.1640000000000003E-2,149.86000000000001,153.91670248853168,158.02699999999999,162.59299999999999,167.16,171.26989751146832,175.327,{"$f":"VLOOKUP(Perzentile!B197,Berechnungen!$E$2:$F$40,2,FALSE)","v":{"$error":"#N/A"}},{"$f":"IF('Entrée des données_Eingabemaske'!$N$12=\"männlich / masculin\",((W197/D197)^C197-1)/C197/E197,((W197/N197)^M197-1)/M197/O197)","v":{"$error":"#N/A"}},{"$error":"#N/A"}]
[16.25,195,1,173.61259999999999,4.462E-2,159.04300000000001,163.68494005997263,168.38800000000001,173.613,178.83799999999999,183.54025994002734,188.18199999999999,1,162.6276,4.1579999999999999E-2,149.91,153.96167704926796,158.06700000000001,162.62799999999999,167.18899999999999,171.29352295073204,175.346,{"$f":"VLOOKUP(Perzentile!B198,Berechnungen!$E$2:$F$40,2,FALSE)","v":{"$error":"#N/A"}},{"$f":"IF('Entrée des données_Eingabemaske'!$N$12=\"männlich / masculin\",((W198/D198)^C198-1)/C198/E198,((W198/N198)^M198-1)/M198/O198)","v":{"$error":"#N/A"}},{"$error":"#N/A"}]
[16.333333333333332,196,1,173.828,4.4510000000000001E-2,159.27600000000001,163.91252752821546,168.60900000000001,173.828,179.047,183.74347247178451,188.38,1,162.65940000000001,4.1520000000000001E-2,149.95699999999999,154.00428990992296,158.10400000000001,162.65899999999999,167.215,171.31451009007708,175.36199999999999,{"$f":"VLOOKUP(Perzentile!B199,Berechnungen!$E$2:$F$40,2,FALSE)","v":{"$error":"#N/A"}},{"$f":"IF('Entrée des données_Eingabemaske'!$N$12=\"männlich / masculin\",((W199/D199)^C199-1)/C199/E199,((W199/N199)^M199-1)/M199/O199)","v":{"$error":"#N/A"}},{"$error":"#N/A"}]
[16.416666666666668,197,1,174.03210000000001,4.4400000000000002E-2,159.499,164.12951870667536,168.82,174.03200000000001,179.244,183.93468129332467,188.565,1,162.68899999999999,4.147E-2,150,154.04273961043364,158.13800000000001,162.68899999999999,167.24,171.33526038956634,175.37799999999999,{"$f":"VLOOKUP(Perzentile!B200,Berechnungen!$E$2:$F$40,2,FALSE)","v":{"$error":"#N/A"}},{"$f":"IF('Entrée des données_Eingabemaske'!$N$12=\"männlich / masculin\",((W200/D200)^C200-1)/C200/E200,((W200/N200)^M200-1)/M200/O200)","v":{"$error":"#N/A"}},{"$error":"#N/A"}]
[16.5,198,1,174.2251,4.4290000000000003E-2,159.71199999999999,164.33609746446271,169.02,174.22499999999999,179.43,184.11410253553728,188.738,1,162.7165,4.1410000000000002E-2,150.04400000000001,154.08128987210841,158.172,162.71600000000001,167.261,171.35171012789158,175.38900000000001,{"$f":"VLOOKUP(Perzentile!B201,Berechnungen!$E$2:$F$40,2,FALSE)","v":{"$error":"#N/A"}},{"$f":"IF('Entrée des données_Eingabemaske'!$N$12=\"männlich / masculin\",((W201/D201)^C201-1)/C201/E201,((W201/N201)^M201-1)/M201/O201)","v":{"$error":"#N/A"}},{"$error":"#N/A"}]
[16.583333333333332,199,1,174.40710000000001,4.4179999999999997E-2,159.91499999999999,164.5323534453594,169.21,174.40700000000001,179.60400000000001,184.28184655464059,188.899,1,162.74250000000001,4.1360000000000001E-2,150.083,154.11633822208265,158.202,162.74199999999999,167.28299999999999,171.36866177791737,175.40199999999999,{"$f":"VLOOKUP(Perzentile!B202,Berechnungen!$E$2:$F$40,2,FALSE)","v":{"$error":"#N/A"}},{"$f":"IF('Entrée des données_Eingabemaske'!$N$12=\"männlich / masculin\",((W202/D202)^C202-1)/C202/E202,((W202/N202)^M202-1)/M202/O202)","v":{"$error":"#N/A"}},{"$error":"#N/A"}]
[16.666666666666668,200,1,174.57839999999999,4.4069999999999998E-2,160.108,164.71856505393993,169.38900000000001,174.578,179.768,184.43823494606008,189.04900000000001,1,162.767,4.1300000000000003E-2,150.124,154.15205525847037,158.233,162.767,167.30099999999999,171.38194474152962,175.41,{"$f":"VLOOKUP(Perzentile!B203,Berechnungen!$E$2:$F$40,2,FALSE)","v":{"$error":"#N/A"}},{"$f":"IF('Entrée des données_Eingabemaske'!$N$12=\"männlich / masculin\",((W203/D203)^C203-1)/C203/E203,((W203/N203)^M203-1)/M203/O203)","v":{"$error":"#N/A"}},{"$error":"#N/A"}]
[16.75,201,1,174.73920000000001,4.3959999999999999E-2,160.292,164.8949164976444,169.55799999999999,174.739,179.92,184.58348350235562,189.18700000000001,1,162.79040000000001,4.1250000000000002E-2,150.161,154.18464795600519,158.261,162.79,167.32,171.39615204399482,175.42,{"$f":"VLOOKUP(Perzentile!B204,Berechnungen!$E$2:$F$40,2,FALSE)","v":{"$error":"#N/A"}},{"$f":"IF('Entrée des données_Eingabemaske'!$N$12=\"männlich / masculin\",((W204/D204)^C204-1)/C204/E204,((W204/N204)^M204-1)/M204/O204)","v":{"$error":"#N/A"}},{"$error":"#N/A"}]
[16.833333333333332,202,1,174.8896,4.385E-2,160.46600000000001,165.06149771629296,169.71700000000001,174.89,180.06200000000001,184.71770228370701,189.31299999999999,1,162.8126,4.1189999999999997E-2,150.19999999999999,154.21819353970426,158.28899999999999,162.81299999999999,167.33600000000001,171.40700646029575,175.42599999999999,{"$f":"VLOOKUP(Perzentile!B205,Berechnungen!$E$2:$F$40,2,FALSE)","v":{"$error":"#N/A"}},{"$f":"IF('Entrée des données_Eingabemaske'!$N$12=\"männlich / masculin\",((W205/D205)^C205-1)/C205/E205,((W205/N205)^M205-1)/M205/O205)","v":{"$error":"#N/A"}},{"$error":"#N/A"}]
[16.916666666666668,203,1,175.0301,4.3749999999999997E-2,160.62799999999999,165.21653318308128,169.86500000000001,175.03,180.19499999999999,184.84366681691873,189.43199999999999,1,162.834,4.1140000000000003E-2,150.23500000000001,154.24889790395318,158.316,162.834,167.352,171.4191020960468,175.43299999999999,{"$f":"VLOOKUP(Perzentile!B206,Berechnungen!$E$2:$F$40,2,FALSE)","v":{"$error":"#N/A"}},{"$f":"IF('Entrée des données_Eingabemaske'!$N$12=\"männlich / masculin\",((W206/D206)^C206-1)/C206/E206,((W206/N206)^M206-1)/M206/O206)","v":{"$error":"#N/A"}},{"$error":"#N/A"}]
[17,204,1,175.1609,4.3639999999999998E-2,160.78399999999999,165.36469205406533,170.005,175.161,180.31700000000001,184.95710794593467,189.53800000000001,1,162.8545,4.1090000000000002E-2,150.26900000000001,154.27875240378089,158.34100000000001,162.85400000000001,167.36799999999999,171.43024759621909,175.44,{"$f":"VLOOKUP(Perzentile!B207,Berechnungen!$E$2:$F$40,2,FALSE)","v":{"$error":"#N/A"}},{"$f":"IF('Entrée des données_Eingabemaske'!$N$12=\"männlich / masculin\",((W207/D207)^C207-1)/C207/E207,((W207/N207)^M207-1)/M207/O207)","v":{"$error":"#N/A"}},{"$error":"#N/A"}]
[17.083333333333332,205,1,175.2824,4.3529999999999999E-2,160.93199999999999,165.50410661221596,170.136,175.28200000000001,180.429,185.06069338778403,189.63300000000001,1,162.87430000000001,4.104E-2,150.30199999999999,154.30794634720272,158.36600000000001,162.874,167.38300000000001,171.44065365279729,175.446,{"$f":"VLOOKUP(Perzentile!B208,Berechnungen!$E$2:$F$40,2,FALSE)","v":{"$error":"#N/A"}},{"$f":"IF('Entrée des données_Eingabemaske'!$N$12=\"männlich / masculin\",((W208/D208)^C208-1)/C208/E208,((W208/N208)^M208-1)/M208/O208)","v":{"$error":"#N/A"}},{"$error":"#N/A"}]
[17.166666666666668,206,1,175.39510000000001,4.3430000000000003E-2,161.06800000000001,165.63299732331703,170.25700000000001,175.39500000000001,180.53299999999999,185.157202676683,189.72200000000001,1,162.89349999999999,4.0989999999999999E-2,150.33500000000001,154.33657434657579,158.38999999999999,162.89400000000001,167.39699999999999,171.45042565342419,175.452,{"$f":"VLOOKUP(Perzentile!B209,Berechnungen!$E$2:$F$40,2,FALSE)","v":{"$error":"#N/A"}},{"$f":"IF('Entrée des données_Eingabemaske'!$N$12=\"männlich / masculin\",((W209/D209)^C209-1)/C209/E209,((W209/N209)^M209-1)/M209/O209)","v":{"$error":"#N/A"}},{"$error":"#N/A"}]
[17.25,207,1,175.49950000000001,4.3319999999999997E-2,161.20099999999999,165.75632693310359,170.37200000000001,175.5,180.62700000000001,185.24267306689643,189.798,1,162.91200000000001,4.0939999999999997E-2,150.36799999999999,154.36454153323268,158.41300000000001,162.91200000000001,167.411,171.45945846676733,175.45599999999999,{"$f":"VLOOKUP(Perzentile!B210,Berechnungen!$E$2:$F$40,2,FALSE)","v":{"$error":"#N/A"}},{"$f":"IF('Entrée des données_Eingabemaske'!$N$12=\"männlich / masculin\",((W210/D210)^C210-1)/C210/E210,((W210/N210)^M210-1)/M210/O210)","v":{"$error":"#N/A"}},{"$error":"#N/A"}]
[17.333333333333332,208,1,175.5959,4.3220000000000001E-2,161.322,165.86987863230621,170.477,175.596,180.715,185.32192136769376,189.87,1,162.93,4.0890000000000003E-2,150.4,154.39203729208171,158.43600000000001,162.93,167.42400000000001,171.4679627079183,175.46,{"$f":"VLOOKUP(Perzentile!B211,Berechnungen!$E$2:$F$40,2,FALSE)","v":{"$error":"#N/A"}},{"$f":"IF('Entrée des données_Eingabemaske'!$N$12=\"männlich / masculin\",((W211/D211)^C211-1)/C211/E211,((W211/N211)^M211-1)/M211/O211)","v":{"$error":"#N/A"}},{"$error":"#N/A"}]
[17.416666666666668,209,1,175.685,4.3110000000000002E-2,161.44,165.97880993536657,170.577,175.685,180.79300000000001,185.39119006463346,189.93,1,162.94759999999999,4.0840000000000001E-2,150.43100000000001,154.41915629314991,158.459,162.94800000000001,167.43600000000001,171.47604370685008,175.464,{"$f":"VLOOKUP(Perzentile!B212,Berechnungen!$E$2:$F$40,2,FALSE)","v":{"$error":"#N/A"}},{"$f":"IF('Entrée des données_Eingabemaske'!$N$12=\"männlich / masculin\",((W212/D212)^C212-1)/C212/E212,((W212/N212)^M212-1)/M212/O212)","v":{"$error":"#N/A"}},{"$error":"#N/A"}]
[17.5,210,1,175.7672,4.301E-2,161.54900000000001,166.07899404844687,170.66800000000001,175.767,180.86600000000001,185.45540595155313,189.98599999999999,1,162.9649,4.0800000000000003E-2,150.46,154.44390475286818,158.47999999999999,162.965,167.45,171.48589524713182,175.47,{"$f":"VLOOKUP(Perzentile!B213,Berechnungen!$E$2:$F$40,2,FALSE)","v":{"$error":"#N/A"}},{"$f":"IF('Entrée des données_Eingabemaske'!$N$12=\"männlich / masculin\",((W213/D213)^C213-1)/C213/E213,((W213/N213)^M213-1)/M213/O213)","v":{"$error":"#N/A"}},{"$error":"#N/A"}]
[17.583333333333332,211,1,175.8432,4.2909999999999997E-2,161.65199999999999,166.17334017677652,170.75399999999999,175.84299999999999,180.93299999999999,185.51305982322347,190.035,1,162.98169999999999,4.0750000000000001E-2,150.49,154.47026979880258,158.50200000000001,162.982,167.46100000000001,171.4931302011974,175.47300000000001,{"$f":"VLOOKUP(Perzentile!B214,Berechnungen!$E$2:$F$40,2,FALSE)","v":{"$error":"#N/A"}},{"$f":"IF('Entrée des données_Eingabemaske'!$N$12=\"männlich / masculin\",((W214/D214)^C214-1)/C214/E214,((W214/N214)^M214-1)/M214/O214)","v":{"$error":"#N/A"}},{"$error":"#N/A"}]
[17.666666666666668,212,1,175.91329999999999,4.2810000000000001E-2,161.749,166.26212947770281,170.834,175.91300000000001,180.99299999999999,185.56447052229717,190.077,1,162.9983,4.0710000000000003E-2,150.518,154.49435852230792,158.523,162.99799999999999,167.47399999999999,171.50224147769208,175.47900000000001,{"$f":"VLOOKUP(Perzentile!B215,Berechnungen!$E$2:$F$40,2,FALSE)","v":{"$error":"#N/A"}},{"$f":"IF('Entrée des données_Eingabemaske'!$N$12=\"männlich / masculin\",((W215/D215)^C215-1)/C215/E215,((W215/N215)^M215-1)/M215/O215)","v":{"$error":"#N/A"}},{"$error":"#N/A"}]
[17.75,213,1,175.97810000000001,4.2709999999999998E-2,161.84200000000001,166.34592684183914,170.90899999999999,175.97800000000001,181.048,185.61027315816091,190.114,1,163.01439999999999,4.0660000000000002E-2,150.548,154.52006412166008,158.54400000000001,163.01400000000001,167.48500000000001,171.50873587833991,175.48099999999999,{"$f":"VLOOKUP(Perzentile!B216,Berechnungen!$E$2:$F$40,2,FALSE)","v":{"$error":"#N/A"}},{"$f":"IF('Entrée des données_Eingabemaske'!$N$12=\"männlich / masculin\",((W216/D216)^C216-1)/C216/E216,((W216/N216)^M216-1)/M216/O216)","v":{"$error":"#N/A"}},{"$error":"#N/A"}]
[17.833333333333332,214,1,176.03800000000001,4.2610000000000002E-2,161.93,166.42510838875353,170.97900000000001,176.03800000000001,181.09700000000001,185.65089161124646,190.14599999999999,1,163.03,4.0620000000000003E-2,150.57499999999999,154.54320849269749,158.56299999999999,163.03,167.49700000000001,171.51679150730251,175.48500000000001,{"$f":"VLOOKUP(Perzentile!B217,Berechnungen!$E$2:$F$40,2,FALSE)","v":{"$error":"#N/A"}},{"$f":"IF('Entrée des données_Eingabemaske'!$N$12=\"männlich / masculin\",((W217/D217)^C217-1)/C217/E217,((W217/N217)^M217-1)/M217/O217)","v":{"$error":"#N/A"}},{"$error":"#N/A"}]
[17.916666666666668,215,1,176.09350000000001,4.2509999999999999E-2,162.01400000000001,166.50014499518673,171.04400000000001,176.09399999999999,181.143,185.68685500481328,190.173,1,163.04509999999999,4.0579999999999998E-2,150.601,154.5658804657925,158.58199999999999,163.04499999999999,167.50800000000001,171.52431953420745,175.489,{"$f":"VLOOKUP(Perzentile!B218,Berechnungen!$E$2:$F$40,2,FALSE)","v":{"$error":"#N/A"}},{"$f":"IF('Entrée des données_Eingabemaske'!$N$12=\"männlich / masculin\",((W218/D218)^C218-1)/C218/E218,((W218/N218)^M218-1)/M218/O218)","v":{"$error":"#N/A"}},{"$error":"#N/A"}]
[18,216,1,176.14490000000001,4.2410000000000003E-2,162.095,166.57131866431004,171.10599999999999,176.14500000000001,181.184,185.71848133568997,190.19499999999999,1,163.05950000000001,4.0529999999999997E-2,150.63,154.58998004644718,158.602,163.06,167.517,171.52901995355282,175.489,{"$f":"VLOOKUP(Perzentile!B219,Berechnungen!$E$2:$F$40,2,FALSE)","v":{"$error":"#N/A"}},{"$f":"IF('Entrée des données_Eingabemaske'!$N$12=\"männlich / masculin\",((W219/D219)^C219-1)/C219/E219,((W219/N219)^M219-1)/M219/O219)","v":{"$error":"#N/A"}},{"$error":"#N/A"}]
[18.083333333333332,217,1,176.1925,4.2320000000000003E-2,162.16800000000001,166.63665355533897,171.16300000000001,176.19200000000001,181.22200000000001,185.74834644466102,190.21700000000001,1,163.07329999999999,4.0489999999999998E-2,150.655,154.6114227304314,158.62,163.07300000000001,167.52699999999999,171.53517726956861,175.49199999999999,{"$f":"VLOOKUP(Perzentile!B220,Berechnungen!$E$2:$F$40,2,FALSE)","v":{"$error":"#N/A"}},{"$f":"IF('Entrée des données_Eingabemaske'!$N$12=\"männlich / masculin\",((W220/D220)^C220-1)/C220/E220,((W220/N220)^M220-1)/M220/O220)","v":{"$error":"#N/A"}},{"$error":"#N/A"}]
[18.166666666666668,218,1,176.23679999999999,4.2220000000000001E-2,162.24199999999999,166.70113658791578,171.21799999999999,176.23699999999999,181.255,185.77246341208422,190.23099999999999,1,163.08619999999999,4.045E-2,150.679,154.63201348413327,158.637,163.08600000000001,167.536,171.54038651586671,175.49299999999999,{"$f":"VLOOKUP(Perzentile!B221,Berechnungen!$E$2:$F$40,2,FALSE)","v":{"$error":"#N/A"}},{"$f":"IF('Entrée des données_Eingabemaske'!$N$12=\"männlich / masculin\",((W221/D221)^C221-1)/C221/E221,((W221/N221)^M221-1)/M221/O221)","v":{"$error":"#N/A"}},{"$error":"#N/A"}]
[18.25,219,1,176.27789999999999,4.2130000000000001E-2,162.31,166.7603446154985,171.26900000000001,176.27799999999999,181.28700000000001,185.79545538450148,190.24600000000001,1,163.09819999999999,4.0410000000000001E-2,150.702,154.65175216914525,158.65299999999999,163.09800000000001,167.54400000000001,171.54464783085473,175.494,{"$f":"VLOOKUP(Perzentile!B222,Berechnungen!$E$2:$F$40,2,FALSE)","v":{"$error":"#N/A"}},{"$f":"IF('Entrée des données_Eingabemaske'!$N$12=\"männlich / masculin\",((W222/D222)^C222-1)/C222/E222,((W222/N222)^M222-1)/M222/O222)","v":{"$error":"#N/A"}},{"$error":"#N/A"}]
[18.333333333333332,220,1,176.31620000000001,4.2040000000000001E-2,162.375,166.81691297799762,171.31700000000001,176.316,181.316,185.8154870220024,190.25700000000001,1,163.10919999999999,4.0370000000000003E-2,150.72499999999999,154.67054382068343,158.66800000000001,163.10900000000001,167.55099999999999,171.54785617931654,175.494,{"$f":"VLOOKUP(Perzentile!B223,Berechnungen!$E$2:$F$40,2,FALSE)","v":{"$error":"#N/A"}},{"$f":"IF('Entrée des données_Eingabemaske'!$N$12=\"männlich / masculin\",((W223/D223)^C223-1)/C223/E223,((W223/N223)^M223-1)/M223/O223)","v":{"$error":"#N/A"}},{"$error":"#N/A"}]
[18.416666666666668,221,1,176.3518,4.1950000000000001E-2,162.43799999999999,166.87093533045129,171.36199999999999,176.352,181.34200000000001,185.83266466954871,190.26599999999999,1,163.11920000000001,4.0340000000000001E-2,150.74299999999999,154.68629782830035,158.68100000000001,163.119,167.55699999999999,171.55210217169966,175.495,{"$f":"VLOOKUP(Perzentile!B224,Berechnungen!$E$2:$F$40,2,FALSE)","v":{"$error":"#N/A"}},{"$f":"IF('Entrée des données_Eingabemaske'!$N$12=\"männlich / masculin\",((W224/D224)^C224-1)/C224/E224,((W224/N224)^M224-1)/M224/O224)","v":{"$error":"#N/A"}},{"$error":"#N/A"}]
[18.5,222,1,176.38509999999999,4.1849999999999998E-2,162.50200000000001,166.92504974631942,171.40600000000001,176.38499999999999,181.364,185.84515025368057,190.26900000000001,1,163.12790000000001,4.0300000000000002E-2,150.76300000000001,154.70291033015118,158.69399999999999,163.12799999999999,167.56200000000001,171.55288966984887,175.49199999999999,{"$f":"VLOOKUP(Perzentile!B225,Berechnungen!$E$2:$F$40,2,FALSE)","v":{"$error":"#N/A"}},{"$f":"IF('Entrée des données_Eingabemaske'!$N$12=\"männlich / masculin\",((W225/D225)^C225-1)/C225/E225,((W225/N225)^M225-1)/M225/O225)","v":{"$error":"#N/A"}},{"$error":"#N/A"}]
[18.583333333333332,223,1,176.4162,4.1770000000000002E-2,162.55699999999999,166.97256867868637,171.446,176.416,181.386,185.85983132131361,190.27600000000001,1,163.13550000000001,4.0259999999999997E-2,150.78299999999999,154.71848047875451,158.70599999999999,163.136,167.565,171.5525195212455,175.488,{"$f":"VLOOKUP(Perzentile!B226,Berechnungen!$E$2:$F$40,2,FALSE)","v":{"$error":"#N/A"}},{"$f":"IF('Entrée des données_Eingabemaske'!$N$12=\"männlich / masculin\",((W226/D226)^C226-1)/C226/E226,((W226/N226)^M226-1)/M226/O226)","v":{"$error":"#N/A"}},{"$error":"#N/A"}]
[18.666666666666668,224,1,176.4453,4.1680000000000002E-2,162.613,167.02046208132791,171.48500000000001,176.44499999999999,181.40600000000001,185.87013791867213,190.27699999999999,1,163.14179999999999,4.0230000000000002E-2,150.798,154.7307276674544,158.715,163.142,167.56899999999999,171.5528723325456,175.48599999999999,{"$f":"VLOOKUP(Perzentile!B227,Berechnungen!$E$2:$F$40,2,FALSE)","v":{"$error":"#N/A"}},{"$f":"IF('Entrée des données_Eingabemaske'!$N$12=\"männlich / masculin\",((W227/D227)^C227-1)/C227/E227,((W227/N227)^M227-1)/M227/O227)","v":{"$error":"#N/A"}},{"$error":"#N/A"}]
[18.75,225,1,176.47239999999999,4.1590000000000002E-2,162.66800000000001,167.06646879619578,171.52199999999999,176.47200000000001,181.423,185.87833120380424,190.27600000000001,1,163.14689999999999,4.0189999999999997E-2,150.815,154.74392797427939,158.72399999999999,163.14699999999999,167.56899999999999,171.54987202572059,175.47900000000001,{"$f":"VLOOKUP(Perzentile!B228,Berechnungen!$E$2:$F$40,2,FALSE)","v":{"$error":"#N/A"}},{"$f":"IF('Entrée des données_Eingabemaske'!$N$12=\"männlich / masculin\",((W228/D228)^C228-1)/C228/E228,((W228/N228)^M228-1)/M228/O228)","v":{"$error":"#N/A"}},{"$error":"#N/A"}]
[18.833333333333332,226,1,176.49760000000001,4.1500000000000002E-2,162.721,167.11068281281311,171.55699999999999,176.49799999999999,181.43799999999999,185.8845171871869,190.274,1,163.1508,4.0160000000000001E-2,150.828,154.75389968750025,158.73099999999999,163.15100000000001,167.57,171.54770031249976,175.47399999999999,{"$f":"VLOOKUP(Perzentile!B229,Berechnungen!$E$2:$F$40,2,FALSE)","v":{"$error":"#N/A"}},{"$f":"IF('Entrée des données_Eingabemaske'!$N$12=\"männlich / masculin\",((W229/D229)^C229-1)/C229/E229,((W229/N229)^M229-1)/M229/O229)","v":{"$error":"#N/A"}},{"$error":"#N/A"}]
[18.916666666666668,227,1,176.52109999999999,4.1419999999999998E-2,162.77000000000001,167.15103065101334,171.59,176.52099999999999,181.453,185.89116934898664,190.273,1,163.1534,4.0120000000000003E-2,150.84200000000001,154.76472945281975,158.738,163.15299999999999,167.56800000000001,171.54207054718026,175.465,{"$f":"VLOOKUP(Perzentile!B230,Berechnungen!$E$2:$F$40,2,FALSE)","v":{"$error":"#N/A"}},{"$f":"IF('Entrée des données_Eingabemaske'!$N$12=\"männlich / masculin\",((W230/D230)^C230-1)/C230/E230,((W230/N230)^M230-1)/M230/O230)","v":{"$error":"#N/A"}},{"$error":"#N/A"}]
[19,228,1,176.54320000000001,4.1340000000000002E-2,162.81700000000001,167.19005747892589,171.62100000000001,176.54300000000001,181.46600000000001,185.89634252107413,190.27,1,163.15479999999999,4.0090000000000001E-2,150.85300000000001,154.7723302093124,158.74299999999999,163.155,167.56700000000001,171.53726979068762,175.45699999999999,{"$f":"VLOOKUP(Perzentile!B231,Berechnungen!$E$2:$F$40,2,FALSE)","v":{"$error":"#N/A"}},{"$f":"IF('Entrée des données_Eingabemaske'!$N$12=\"männlich / masculin\",((W231/D231)^C231-1)/C231/E231,((W231/N231)^M231-1)/M231/O231)","v":{"$error":"#N/A"}},{"$error":"#N/A"}]
[{"$f":"B232/12","v":19.083333333333332},229,1,176.54320000000001,4.1340000000000002E-2,162.81700000000001,167.19005747892589,171.62100000000001,176.54300000000001,181.46600000000001,185.89634252107413,190.27,1,163.15479999999999,4.0090000000000001E-2,150.85300000000001,154.7723302093124,158.74299999999999,163.155,167.56700000000001,171.53726979068762,175.45699999999999,{"$f":"VLOOKUP(Perzentile!B232,Berechnungen!$E$2:$F$40,2,FALSE)","v":{"$error":"#N/A"}},{"$f":"IF('Entrée des données_Eingabemaske'!$N$12=\"männlich / masculin\",((W232/D232)^C232-1)/C232/E232,((W232/N232)^M232-1)/M232/O232)","v":{"$error":"#N/A"}},{"$f":"_xlfn.NORM.S.DIST(X232,TRUE)","v":{"$error":"#N/A"}}]
[{"$f":"B233/12","v":19.166666666666668},230,1,176.54320000000001,4.1340000000000002E-2,162.81700000000001,167.19005747892589,171.62100000000001,176.54300000000001,181.46600000000001,185.89634252107413,190.27,1,163.15479999999999,4.0090000000000001E-2,150.85300000000001,154.7723302093124,158.74299999999999,163.155,167.56700000000001,171.53726979068762,175.45699999999999,{"$f":"VLOOKUP(Perzentile!B233,Berechnungen!$E$2:$F$40,2,FALSE)","v":{"$error":"#N/A"}},{"$f":"IF('Entrée des données_Eingabemaske'!$N$12=\"männlich / masculin\",((W233/D233)^C233-1)/C233/E233,((W233/N233)^M233-1)/M233/O233)","v":{"$error":"#N/A"}},{"$f":"_xlfn.NORM.S.DIST(X233,TRUE)","v":{"$error":"#N/A"}}]
[{"$f":"B234/12","v":19.25},231,1,176.54320000000001,4.1340000000000002E-2,162.81700000000001,167.19005747892601,171.62100000000001,176.54300000000001,181.46600000000001,185.89634252107399,190.27,1,163.15479999999999,4.0090000000000001E-2,150.85300000000001,154.7723302093124,158.74299999999999,163.155,167.56700000000001,171.53726979068762,175.45699999999999,{"$f":"VLOOKUP(Perzentile!B234,Berechnungen!$E$2:$F$40,2,FALSE)","v":{"$error":"#N/A"}},{"$f":"IF('Entrée des données_Eingabemaske'!$N$12=\"männlich / masculin\",((W234/D234)^C234-1)/C234/E234,((W234/N234)^M234-1)/M234/O234)","v":{"$error":"#N/A"}},{"$f":"_xlfn.NORM.S.DIST(X234,TRUE)","v":{"$error":"#N/A"}}]
[{"$f":"B235/12","v":19.333333333333332},232,1,176.54320000000001,4.1340000000000002E-2,162.81700000000001,167.19005747892601,171.62100000000001,176.54300000000001,181.46600000000001,185.89634252107399,190.27,1,163.15479999999999,4.0090000000000001E-2,150.85300000000001,154.7723302093124,158.74299999999999,163.155,167.56700000000001,171.53726979068762,175.45699999999999,{"$f":"VLOOKUP(Perzentile!B235,Berechnungen!$E$2:$F$40,2,FALSE)","v":{"$error":"#N/A"}},{"$f":"IF('Entrée des données_Eingabemaske'!$N$12=\"männlich / masculin\",((W235/D235)^C235-1)/C235/E235,((W235/N235)^M235-1)/M235/O235)","v":{"$error":"#N/A"}},{"$f":"_xlfn.NORM.S.DIST(X235,TRUE)","v":{"$error":"#N/A"}}]
[19.416666666666668,233,1,176.54320000000001,4.1340000000000002E-2,162.81700000000001,167.19005747892601,171.62100000000001,176.54300000000001,181.46600000000001,185.89634252107399,190.27,1,163.15479999999999,4.0090000000000001E-2,150.85300000000001,154.7723302093124,158.74299999999999,163.155,167.56700000000001,171.53726979068762,175.45699999999999,{"$f":"VLOOKUP(Perzentile!B236,Berechnungen!$E$2:$F$40,2,FALSE)","v":{"$error":"#N/A"}},{"$f":"IF('Entrée des données_Eingabemaske'!$N$12=\"männlich / masculin\",((W236/D236)^C236-1)/C236/E236,((W236/N236)^M236-1)/M236/O236)","v":{"$error":"#N/A"}},{"$error":"#N/A"}]
[19.5,234,1,176.54320000000001,4.1340000000000002E-2,162.81700000000001,167.19005747892601,171.62100000000001,176.54300000000001,181.46600000000001,185.89634252107399,190.27,1,163.15479999999999,4.0090000000000001E-2,150.85300000000001,154.7723302093124,158.74299999999999,163.155,167.56700000000001,171.53726979068762,175.45699999999999,{"$f":"VLOOKUP(Perzentile!B237,Berechnungen!$E$2:$F$40,2,FALSE)","v":{"$error":"#N/A"}},{"$f":"IF('Entrée des données_Eingabemaske'!$N$12=\"männlich / masculin\",((W237/D237)^C237-1)/C237/E237,((W237/N237)^M237-1)/M237/O237)","v":{"$error":"#N/A"}},{"$error":"#N/A"}]
[19.583333333333332,235,1,176.54320000000001,4.1340000000000002E-2,162.81700000000001,167.19005747892601,171.62100000000001,176.54300000000001,181.46600000000001,185.89634252107399,190.27,1,163.15479999999999,4.0090000000000001E-2,150.85300000000001,154.7723302093124,158.74299999999999,163.155,167.56700000000001,171.53726979068762,175.45699999999999,{"$f":"VLOOKUP(Perzentile!B238,Berechnungen!$E$2:$F$40,2,FALSE)","v":{"$error":"#N/A"}},{"$f":"IF('Entrée des données_Eingabemaske'!$N$12=\"männlich / masculin\",((W238/D238)^C238-1)/C238/E238,((W238/N238)^M238-1)/M238/O238)","v":{"$error":"#N/A"}},{"$error":"#N/A"}]
[19.666666666666668,236,1,176.54320000000001,4.1340000000000002E-2,162.81700000000001,167.19005747892601,171.62100000000001,176.54300000000001,181.46600000000001,185.89634252107399,190.27,1,163.15479999999999,4.0090000000000001E-2,150.85300000000001,154.7723302093124,158.74299999999999,163.155,167.56700000000001,171.53726979068762,175.45699999999999,{"$f":"VLOOKUP(Perzentile!B239,Berechnungen!$E$2:$F$40,2,FALSE)","v":{"$error":"#N/A"}},{"$f":"IF('Entrée des données_Eingabemaske'!$N$12=\"männlich / masculin\",((W239/D239)^C239-1)/C239/E239,((W239/N239)^M239-1)/M239/O239)","v":{"$error":"#N/A"}},{"$error":"#N/A"}]
[19.75,237,1,176.54320000000001,4.1340000000000002E-2,162.81700000000001,167.19005747892601,171.62100000000001,176.54300000000001,181.46600000000001,185.89634252107399,190.27,1,163.15479999999999,4.0090000000000001E-2,150.85300000000001,154.7723302093124,158.74299999999999,163.155,167.56700000000001,171.53726979068762,175.45699999999999,{"$f":"VLOOKUP(Perzentile!B240,Berechnungen!$E$2:$F$40,2,FALSE)","v":{"$error":"#N/A"}},{"$f":"IF('Entrée des données_Eingabemaske'!$N$12=\"männlich / masculin\",((W240/D240)^C240-1)/C240/E240,((W240/N240)^M240-1)/M240/O240)","v":{"$error":"#N/A"}},{"$error":"#N/A"}]
[19.833333333333332,238,1,176.54320000000001,4.1340000000000002E-2,162.81700000000001,167.19005747892601,171.62100000000001,176.54300000000001,181.46600000000001,185.89634252107399,190.27,1,163.15479999999999,4.0090000000000001E-2,150.85300000000001,154.7723302093124,158.74299999999999,163.155,167.56700000000001,171.53726979068762,175.45699999999999,{"$f":"VLOOKUP(Perzentile!B241,Berechnungen!$E$2:$F$40,2,FALSE)","v":{"$error":"#N/A"}},{"$f":"IF('Entrée des données_Eingabemaske'!$N$12=\"männlich / masculin\",((W241/D241)^C241-1)/C241/E241,((W241/N241)^M241-1)/M241/O241)","v":{"$error":"#N/A"}},{"$error":"#N/A"}]
[19.916666666666668,239,1,176.54320000000001,4.1340000000000002E-2,162.81700000000001,167.19005747892601,171.62100000000001,176.54300000000001,181.46600000000001,185.89634252107399,190.27,1,163.15479999999999,4.0090000000000001E-2,150.85300000000001,154.7723302093124,158.74299999999999,163.155,167.56700000000001,171.53726979068762,175.45699999999999,{"$f":"VLOOKUP(Perzentile!B242,Berechnungen!$E$2:$F$40,2,FALSE)","v":{"$error":"#N/A"}},{"$f":"IF('Entrée des données_Eingabemaske'!$N$12=\"männlich / masculin\",((W242/D242)^C242-1)/C242/E242,((W242/N242)^M242-1)/M242/O242)","v":{"$error":"#N/A"}},{"$error":"#N/A"}]
[20,240,1,176.54320000000001,4.1340000000000002E-2,162.81700000000001,167.19005747892601,171.62100000000001,176.54300000000001,181.46600000000001,185.89634252107399,190.27,1,163.15479999999999,4.0090000000000001E-2,150.85300000000001,154.7723302093124,158.74299999999999,163.155,167.56700000000001,171.53726979068762,175.45699999999999,{"$f":"VLOOKUP(Perzentile!B243,Berechnungen!$E$2:$F$40,2,FALSE)","v":{"$error":"#N/A"}},{"$f":"IF('Entrée des données_Eingabemaske'!$N$12=\"männlich / masculin\",((W243/D243)^C243-1)/C243/E243,((W243/N243)^M243-1)/M243/O243)","v":{"$error":"#N/A"}},{"$error":"#N/A"}]
[20.083333333333332,241,1,176.54320000000001,4.1340000000000002E-2,162.81700000000001,167.19005747892601,171.62100000000001,176.54300000000001,181.46600000000001,185.89634252107399,190.27,1,163.15479999999999,4.0090000000000001E-2,150.85300000000001,154.7723302093124,158.74299999999999,163.155,167.56700000000001,171.53726979068762,175.45699999999999,{"$f":"VLOOKUP(Perzentile!B244,Berechnungen!$E$2:$F$40,2,FALSE)","v":{"$error":"#N/A"}},{"$f":"IF('Entrée des données_Eingabemaske'!$N$12=\"männlich / masculin\",((W244/D244)^C244-1)/C244/E244,((W244/N244)^M244-1)/M244/O244)","v":{"$error":"#N/A"}},{"$error":"#N/A"}]
[20.166666666666668,242,1,176.54320000000001,4.1340000000000002E-2,162.81700000000001,167.19005747892601,171.62100000000001,176.54300000000001,181.46600000000001,185.89634252107399,190.27,1,163.15479999999999,4.0090000000000001E-2,150.85300000000001,154.7723302093124,158.74299999999999,163.155,167.56700000000001,171.53726979068762,175.45699999999999,{"$f":"VLOOKUP(Perzentile!B245,Berechnungen!$E$2:$F$40,2,FALSE)","v":{"$error":"#N/A"}},{"$f":"IF('Entrée des données_Eingabemaske'!$N$12=\"männlich / masculin\",((W245/D245)^C245-1)/C245/E245,((W245/N245)^M245-1)/M245/O245)","v":{"$error":"#N/A"}},{"$error":"#N/A"}]
[20.25,243,1,176.54320000000001,4.1340000000000002E-2,162.81700000000001,167.19005747892601,171.62100000000001,176.54300000000001,181.46600000000001,185.89634252107399,190.27,1,163.15479999999999,4.0090000000000001E-2,150.85300000000001,154.7723302093124,158.74299999999999,163.155,167.56700000000001,171.53726979068762,175.45699999999999,{"$f":"VLOOKUP(Perzentile!B246,Berechnungen!$E$2:$F$40,2,FALSE)","v":{"$error":"#N/A"}},{"$f":"IF('Entrée des données_Eingabemaske'!$N$12=\"männlich / masculin\",((W246/D246)^C246-1)/C246/E246,((W246/N246)^M246-1)/M246/O246)","v":{"$error":"#N/A"}},{"$error":"#N/A"}]
[20.333333333333332,244,1,176.54320000000001,4.1340000000000002E-2,162.81700000000001,167.19005747892601,171.62100000000001,176.54300000000001,181.46600000000001,185.89634252107399,190.27,1,163.15479999999999,4.0090000000000001E-2,150.85300000000001,154.7723302093124,158.74299999999999,163.155,167.56700000000001,171.53726979068762,175.45699999999999,{"$f":"VLOOKUP(Perzentile!B247,Berechnungen!$E$2:$F$40,2,FALSE)","v":{"$error":"#N/A"}},{"$f":"IF('Entrée des données_Eingabemaske'!$N$12=\"männlich / masculin\",((W247/D247)^C247-1)/C247/E247,((W247/N247)^M247-1)/M247/O247)","v":{"$error":"#N/A"}},{"$error":"#N/A"}]
[20.416666666666668,245,1,176.54320000000001,4.1340000000000002E-2,162.81700000000001,167.19005747892601,171.62100000000001,176.54300000000001,181.46600000000001,185.89634252107399,190.27,1,163.15479999999999,4.0090000000000001E-2,150.85300000000001,154.7723302093124,158.74299999999999,163.155,167.56700000000001,171.53726979068762,175.45699999999999,{"$f":"VLOOKUP(Perzentile!B248,Berechnungen!$E$2:$F$40,2,FALSE)","v":{"$error":"#N/A"}},{"$f":"IF('Entrée des données_Eingabemaske'!$N$12=\"männlich / masculin\",((W248/D248)^C248-1)/C248/E248,((W248/N248)^M248-1)/M248/O248)","v":{"$error":"#N/A"}},{"$error":"#N/A"}]
[20.5,246,1,176.54320000000001,4.1340000000000002E-2,162.81700000000001,167.19005747892601,171.62100000000001,176.54300000000001,181.46600000000001,185.89634252107399,190.27,1,163.15479999999999,4.0090000000000001E-2,150.85300000000001,154.7723302093124,158.74299999999999,163.155,167.56700000000001,171.53726979068762,175.45699999999999,{"$f":"VLOOKUP(Perzentile!B249,Berechnungen!$E$2:$F$40,2,FALSE)","v":{"$error":"#N/A"}},{"$f":"IF('Entrée des données_Eingabemaske'!$N$12=\"männlich / masculin\",((W249/D249)^C249-1)/C249/E249,((W249/N249)^M249-1)/M249/O249)","v":{"$error":"#N/A"}},{"$error":"#N/A"}]
[20.583333333333332,247,1,176.54320000000001,4.1340000000000002E-2,162.81700000000001,167.19005747892601,171.62100000000001,176.54300000000001,181.46600000000001,185.89634252107399,190.27,1,163.15479999999999,4.0090000000000001E-2,150.85300000000001,154.7723302093124,158.74299999999999,163.155,167.56700000000001,171.53726979068762,175.45699999999999,{"$f":"VLOOKUP(Perzentile!B250,Berechnungen!$E$2:$F$40,2,FALSE)","v":{"$error":"#N/A"}},{"$f":"IF('Entrée des données_Eingabemaske'!$N$12=\"männlich / masculin\",((W250/D250)^C250-1)/C250/E250,((W250/N250)^M250-1)/M250/O250)","v":{"$error":"#N/A"}},{"$error":"#N/A"}]
[20.666666666666668,248,1,176.54320000000001,4.1340000000000002E-2,162.81700000000001,167.19005747892601,171.62100000000001,176.54300000000001,181.46600000000001,185.89634252107399,190.27,1,163.15479999999999,4.0090000000000001E-2,150.85300000000001,154.7723302093124,158.74299999999999,163.155,167.56700000000001,171.53726979068762,175.45699999999999,{"$f":"VLOOKUP(Perzentile!B251,Berechnungen!$E$2:$F$40,2,FALSE)","v":{"$error":"#N/A"}},{"$f":"IF('Entrée des données_Eingabemaske'!$N$12=\"männlich / masculin\",((W251/D251)^C251-1)/C251/E251,((W251/N251)^M251-1)/M251/O251)","v":{"$error":"#N/A"}},{"$error":"#N/A"}]
[20.75,249,1,176.54320000000001,4.1340000000000002E-2,162.81700000000001,167.19005747892601,171.62100000000001,176.54300000000001,181.46600000000001,185.89634252107399,190.27,1,163.15479999999999,4.0090000000000001E-2,150.85300000000001,154.7723302093124,158.74299999999999,163.155,167.56700000000001,171.53726979068762,175.45699999999999,{"$f":"VLOOKUP(Perzentile!B252,Berechnungen!$E$2:$F$40,2,FALSE)","v":{"$error":"#N/A"}},{"$f":"IF('Entrée des données_Eingabemaske'!$N$12=\"männlich / masculin\",((W252/D252)^C252-1)/C252/E252,((W252/N252)^M252-1)/M252/O252)","v":{"$error":"#N/A"}},{"$error":"#N/A"}]
[20.833333333333332,250,1,176.54320000000001,4.1340000000000002E-2,162.81700000000001,167.19005747892601,171.62100000000001,176.54300000000001,181.46600000000001,185.89634252107399,190.27,1,163.15479999999999,4.0090000000000001E-2,150.85300000000001,154.7723302093124,158.74299999999999,163.155,167.56700000000001,171.53726979068762,175.45699999999999,{"$f":"VLOOKUP(Perzentile!B253,Berechnungen!$E$2:$F$40,2,FALSE)","v":{"$error":"#N/A"}},{"$f":"IF('Entrée des données_Eingabemaske'!$N$12=\"männlich / masculin\",((W253/D253)^C253-1)/C253/E253,((W253/N253)^M253-1)/M253/O253)","v":{"$error":"#N/A"}},{"$error":"#N/A"}]
[20.916666666666668,251,1,176.54320000000001,4.1340000000000002E-2,162.81700000000001,167.19005747892601,171.62100000000001,176.54300000000001,181.46600000000001,185.89634252107399,190.27,1,163.15479999999999,4.0090000000000001E-2,150.85300000000001,154.7723302093124,158.74299999999999,163.155,167.56700000000001,171.53726979068762,175.45699999999999,{"$f":"VLOOKUP(Perzentile!B254,Berechnungen!$E$2:$F$40,2,FALSE)","v":{"$error":"#N/A"}},{"$f":"IF('Entrée des données_Eingabemaske'!$N$12=\"männlich / masculin\",((W254/D254)^C254-1)/C254/E254,((W254/N254)^M254-1)/M254/O254)","v":{"$error":"#N/A"}},{"$error":"#N/A"}]
[21,252,1,176.54320000000001,4.1340000000000002E-2,162.81700000000001,167.19005747892601,171.62100000000001,176.54300000000001,181.46600000000001,185.89634252107399,190.27,1,163.15479999999999,4.0090000000000001E-2,150.85300000000001,154.7723302093124,158.74299999999999,163.155,167.56700000000001,171.53726979068762,175.45699999999999,{"$f":"VLOOKUP(Perzentile!B255,Berechnungen!$E$2:$F$40,2,FALSE)","v":{"$error":"#N/A"}},{"$f":"IF('Entrée des données_Eingabemaske'!$N$12=\"männlich / masculin\",((W255/D255)^C255-1)/C255/E255,((W255/N255)^M255-1)/M255/O255)","v":{"$error":"#N/A"}},{"$error":"#N/A"}]
[21.083333333333332,253,1,176.54320000000001,4.1340000000000002E-2,162.81700000000001,167.19005747892601,171.62100000000001,176.54300000000001,181.46600000000001,185.89634252107399,190.27,1,163.15479999999999,4.0090000000000001E-2,150.85300000000001,154.7723302093124,158.74299999999999,163.155,167.56700000000001,171.53726979068762,175.45699999999999,{"$f":"VLOOKUP(Perzentile!B256,Berechnungen!$E$2:$F$40,2,FALSE)","v":{"$error":"#N/A"}},{"$f":"IF('Entrée des données_Eingabemaske'!$N$12=\"männlich / masculin\",((W256/D256)^C256-1)/C256/E256,((W256/N256)^M256-1)/M256/O256)","v":{"$error":"#N/A"}},{"$error":"#N/A"}]
[21.166666666666668,254,1,176.54320000000001,4.1340000000000002E-2,162.81700000000001,167.19005747892601,171.62100000000001,176.54300000000001,181.46600000000001,185.89634252107399,190.27,1,163.15479999999999,4.0090000000000001E-2,150.85300000000001,154.7723302093124,158.74299999999999,163.155,167.56700000000001,171.53726979068762,175.45699999999999,{"$f":"VLOOKUP(Perzentile!B257,Berechnungen!$E$2:$F$40,2,FALSE)","v":{"$error":"#N/A"}},{"$f":"IF('Entrée des données_Eingabemaske'!$N$12=\"männlich / masculin\",((W257/D257)^C257-1)/C257/E257,((W257/N257)^M257-1)/M257/O257)","v":{"$error":"#N/A"}},{"$error":"#N/A"}]
[21.25,255,1,176.54320000000001,4.1340000000000002E-2,162.81700000000001,167.19005747892601,171.62100000000001,176.54300000000001,181.46600000000001,185.89634252107399,190.27,1,163.15479999999999,4.0090000000000001E-2,150.85300000000001,154.7723302093124,158.74299999999999,163.155,167.56700000000001,171.53726979068762,175.45699999999999,{"$f":"VLOOKUP(Perzentile!B258,Berechnungen!$E$2:$F$40,2,FALSE)","v":{"$error":"#N/A"}},{"$f":"IF('Entrée des données_Eingabemaske'!$N$12=\"männlich / masculin\",((W258/D258)^C258-1)/C258/E258,((W258/N258)^M258-1)/M258/O258)","v":{"$error":"#N/A"}},{"$error":"#N/A"}]
[{"$f":"B259/12","v":21.333333333333332},256,1,176.54320000000001,4.1340000000000002E-2,162.81700000000001,167.19005747892601,171.62100000000001,176.54300000000001,181.46600000000001,185.89634252107399,190.27,1,163.15479999999999,4.0090000000000001E-2,150.85300000000001,154.7723302093124,158.74299999999999,163.155,167.56700000000001,171.53726979068762,175.45699999999999,{"$f":"VLOOKUP(Perzentile!B259,Berechnungen!$E$2:$F$40,2,FALSE)","v":{"$error":"#N/A"}},{"$f":"IF('Entrée des données_Eingabemaske'!$N$12=\"männlich / masculin\",((W259/D259)^C259-1)/C259/E259,((W259/N259)^M259-1)/M259/O259)","v":{"$error":"#N/A"}},{"$f":"_xlfn.NORM.S.DIST(X259,TRUE)","v":{"$error":"#N/A"}}]
[21.416666666666668,257,1,176.54320000000001,4.1340000000000002E-2,162.81700000000001,167.19005747892601,171.62100000000001,176.54300000000001,181.46600000000001,185.89634252107399,190.27,1,163.15479999999999,4.0090000000000001E-2,150.85300000000001,154.7723302093124,158.74299999999999,163.155,167.56700000000001,171.53726979068762,175.45699999999999,{"$f":"VLOOKUP(Perzentile!B260,Berechnungen!$E$2:$F$40,2,FALSE)","v":{"$error":"#N/A"}},{"$f":"IF('Entrée des données_Eingabemaske'!$N$12=\"männlich / masculin\",((W260/D260)^C260-1)/C260/E260,((W260/N260)^M260-1)/M260/O260)","v":{"$error":"#N/A"}},{"$error":"#N/A"}]
[21.5,258,1,176.54320000000001,4.1340000000000002E-2,162.81700000000001,167.19005747892601,171.62100000000001,176.54300000000001,181.46600000000001,185.89634252107399,190.27,1,163.15479999999999,4.0090000000000001E-2,150.85300000000001,154.7723302093124,158.74299999999999,163.155,167.56700000000001,171.53726979068762,175.45699999999999,{"$f":"VLOOKUP(Perzentile!B261,Berechnungen!$E$2:$F$40,2,FALSE)","v":{"$error":"#N/A"}},{"$f":"IF('Entrée des données_Eingabemaske'!$N$12=\"männlich / masculin\",((W261/D261)^C261-1)/C261/E261,((W261/N261)^M261-1)/M261/O261)","v":{"$error":"#N/A"}},{"$error":"#N/A"}]
[21.583333333333332,259,1,176.54320000000001,4.1340000000000002E-2,162.81700000000001,167.19005747892601,171.62100000000001,176.54300000000001,181.46600000000001,185.89634252107399,190.27,1,163.15479999999999,4.0090000000000001E-2,150.85300000000001,154.7723302093124,158.74299999999999,163.155,167.56700000000001,171.53726979068762,175.45699999999999,{"$f":"VLOOKUP(Perzentile!B262,Berechnungen!$E$2:$F$40,2,FALSE)","v":{"$error":"#N/A"}},{"$f":"IF('Entrée des données_Eingabemaske'!$N$12=\"männlich / masculin\",((W262/D262)^C262-1)/C262/E262,((W262/N262)^M262-1)/M262/O262)","v":{"$error":"#N/A"}},{"$error":"#N/A"}]
[21.666666666666668,260,1,176.54320000000001,4.1340000000000002E-2,162.81700000000001,167.19005747892601,171.62100000000001,176.54300000000001,181.46600000000001,185.89634252107399,190.27,1,163.15479999999999,4.0090000000000001E-2,150.85300000000001,154.7723302093124,158.74299999999999,163.155,167.56700000000001,171.53726979068762,175.45699999999999,{"$f":"VLOOKUP(Perzentile!B263,Berechnungen!$E$2:$F$40,2,FALSE)","v":{"$error":"#N/A"}},{"$f":"IF('Entrée des données_Eingabemaske'!$N$12=\"männlich / masculin\",((W263/D263)^C263-1)/C263/E263,((W263/N263)^M263-1)/M263/O263)","v":{"$error":"#N/A"}},{"$error":"#N/A"}]
[21.75,261,1,176.54320000000001,4.1340000000000002E-2,162.81700000000001,167.19005747892601,171.62100000000001,176.54300000000001,181.46600000000001,185.89634252107399,190.27,1,163.15479999999999,4.0090000000000001E-2,150.85300000000001,154.7723302093124,158.74299999999999,163.155,167.56700000000001,171.53726979068762,175.45699999999999,{"$f":"VLOOKUP(Perzentile!B264,Berechnungen!$E$2:$F$40,2,FALSE)","v":{"$error":"#N/A"}},{"$f":"IF('Entrée des données_Eingabemaske'!$N$12=\"männlich / masculin\",((W264/D264)^C264-1)/C264/E264,((W264/N264)^M264-1)/M264/O264)","v":{"$error":"#N/A"}},{"$error":"#N/A"}]
[21.833333333333332,262,1,176.54320000000001,4.1340000000000002E-2,162.81700000000001,167.19005747892601,171.62100000000001,176.54300000000001,181.46600000000001,185.89634252107399,190.27,1,163.15479999999999,4.0090000000000001E-2,150.85300000000001,154.7723302093124,158.74299999999999,163.155,167.56700000000001,171.53726979068762,175.45699999999999,{"$f":"VLOOKUP(Perzentile!B265,Berechnungen!$E$2:$F$40,2,FALSE)","v":{"$error":"#N/A"}},{"$f":"IF('Entrée des données_Eingabemaske'!$N$12=\"männlich / masculin\",((W265/D265)^C265-1)/C265/E265,((W265/N265)^M265-1)/M265/O265)","v":{"$error":"#N/A"}},{"$error":"#N/A"}]
[21.916666666666668,263,1,176.54320000000001,4.1340000000000002E-2,162.81700000000001,167.19005747892601,171.62100000000001,176.54300000000001,181.46600000000001,185.89634252107399,190.27,1,163.15479999999999,4.0090000000000001E-2,150.85300000000001,154.7723302093124,158.74299999999999,163.155,167.56700000000001,171.53726979068762,175.45699999999999,{"$f":"VLOOKUP(Perzentile!B266,Berechnungen!$E$2:$F$40,2,FALSE)","v":{"$error":"#N/A"}},{"$f":"IF('Entrée des données_Eingabemaske'!$N$12=\"männlich / masculin\",((W266/D266)^C266-1)/C266/E266,((W266/N266)^M266-1)/M266/O266)","v":{"$error":"#N/A"}},{"$error":"#N/A"}]
[22,264,1,176.54320000000001,4.1340000000000002E-2,162.81700000000001,167.19005747892601,171.62100000000001,176.54300000000001,181.46600000000001,185.89634252107399,190.27,1,163.15479999999999,4.0090000000000001E-2,150.85300000000001,154.7723302093124,158.74299999999999,163.155,167.56700000000001,171.53726979068762,175.45699999999999,{"$f":"VLOOKUP(Perzentile!B267,Berechnungen!$E$2:$F$40,2,FALSE)","v":{"$error":"#N/A"}},{"$f":"IF('Entrée des données_Eingabemaske'!$N$12=\"männlich / masculin\",((W267/D267)^C267-1)/C267/E267,((W267/N267)^M267-1)/M267/O267)","v":{"$error":"#N/A"}},{"$error":"#N/A"}]

{"sheet":"Perzentile_Graphik","index":6,"n_rows":266,"n_cols":20,"rows_kept":266,"cut":false,"hidden":true,"merged":[]}
["Age arrondi","Age","Month","L","M","SD","P3","P10","P25","P50","P75","P90","P97","Grösse / Taille","Z-score","Percentile","Si(Eingabemaske=\"\")"]
[{"$f":"ROUND(B2,1)","v":0.1},{"$f":"C2/12","v":8.3333333333333329E-2},1,{"$f":"IF('Entrée des données_Eingabemaske'!$N$12=\"männlich / masculin\",Perzentile!C3,Perzentile!M3)","v":1},{"$f":"IF('Entrée des données_Eingabemaske'!$N$12=\"männlich / masculin\",Perzentile!D3,Perzentile!N3)","v":53.687199999999997},{"$f":"IF('Entrée des données_Eingabemaske'!$N$12=\"männlich / masculin\",Perzentile!E3,Perzentile!O3)","v":3.6400000000000002E-2},{"$f":"IF('Entrée des données_Eingabemaske'!$N$12=\"männlich / masculin\",Perzentile!F3,Perzentile!P3)","v":50.011726649376818},{"$f":"IF('Entrée des données_Eingabemaske'!$N$12=\"männlich / masculin\",Perzentile!G3,Perzentile!Q3)","v":51.182773886366689},{"$f":"IF('Entrée des données_Eingabemaske'!$N$12=\"männlich / masculin\",Perzentile!H3,Perzentile!R3)","v":52.369102633351133},{"$f":"IF('Entrée des données_Eingabemaske'!$N$12=\"männlich / masculin\",Perzentile!I3,Perzentile!S3)","v":53.687199999999997},{"$f":"IF('Entrée des données_Eingabemaske'!$N$12=\"männlich / masculin\",Perzentile!J3,Perzentile!T3)","v":55.005297366648861},{"$f":"IF('Entrée des données_Eingabemaske'!$N$12=\"männlich / masculin\",Perzentile!K3,Perzentile!U3)","v":56.191626113633305},{"$f":"IF('Entrée des données_Eingabemaske'!$N$12=\"männlich / masculin\",Perzentile!L3,Perzentile!V3)","v":57.362673350623183},{"$f":"Perzentile!W3","v":{"$error":"#N/A"}},{"$f":"Perzentile!X3","v":{"$error":"#N/A"}},{"$f":"Perzentile!Y3","v":{"$error":"#N/A"}},0]
[{"$f":"ROUND(B3,1)","v":0.2},0.16666666666666666,2,{"$f":"IF('Entrée des données_Eingabemaske'!$N$12=\"männlich / masculin\",Perzentile!C4,Perzentile!M4)","v":1},{"$f":"IF('Entrée des données_Eingabemaske'!$N$12=\"männlich / masculin\",Perzentile!D4,Perzentile!N4)","v":57.067300000000003},{"$f":"IF('Entrée des données_Eingabemaske'!$N$12=\"männlich / masculin\",Perzentile!E4,Perzentile!O4)","v":3.5680000000000003E-2},{"$f":"IF('Entrée des données_Eingabemaske'!$N$12=\"männlich / masculin\",Perzentile!F4,Perzentile!P4)","v":53.23770090950363},{"$f":"IF('Entrée des données_Eingabemaske'!$N$12=\"männlich / masculin\",Perzentile!G4,Perzentile!Q4)","v":54.45785434441953},{"$f":"IF('Entrée des données_Eingabemaske'!$N$12=\"männlich / masculin\",Perzentile!H4,Perzentile!R4)","v":55.693930097685708},{"$f":"IF('Entrée des données_Eingabemaske'!$N$12=\"männlich / masculin\",Perzentile!I4,Perzentile!S4)","v":57.067300000000003},{"$f":"IF('Entrée des données_Eingabemaske'!$N$12=\"männlich / masculin\",Perzentile!J4,Perzentile!T4)","v":58.440669902314298},{"$f":"IF('Entrée des données_Eingabemaske'!$N$12=\"männlich / masculin\",Perzentile!K4,Perzentile!U4)","v":59.676745655580476},{"$f":"IF('Entrée des données_Eingabemaske'!$N$12=\"männlich / masculin\",Perzentile!L4,Perzentile!V4)","v":60.896899090496369},{"$f":"Perzentile!W4","v":{"$error":"#N/A"}},{"$f":"Perzentile!X4","v":{"$error":"#N/A"}},{"$f":"Perzentile!Y4","v":{"$error":"#N/A"}},0]
[0.3,0.25,3,{"$f":"IF('Entrée des données_Eingabemaske'!$N$12=\"männlich / masculin\",Perzentile!C5,Perzentile!M5)","v":1},{"$f":"IF('Entrée des données_Eingabemaske'!$N$12=\"männlich / masculin\",Perzentile!D5,Perzentile!N5)","v":59.802900000000001},{"$f":"IF('Entrée des données_Eingabemaske'!$N$12=\"männlich / masculin\",Perzentile!E5,Perzentile!O5)","v":3.5200000000000002E-2},{"$f":"IF('Entrée des données_Eingabemaske'!$N$12=\"männlich / masculin\",Perzentile!F5,Perzentile!P5)","v":55.843712695174425},{"$f":"IF('Entrée des données_Eingabemaske'!$N$12=\"männlich / masculin\",Perzentile!G5,Perzentile!Q5)","v":57.105154395807425},{"$f":"IF('Entrée des données_Eingabemaske'!$N$12=\"männlich / masculin\",Perzentile!H5,Perzentile!R5)","v":58.383057203513559},{"$f":"IF('Entrée des données_Eingabemaske'!$N$12=\"männlich / masculin\",Perzentile!I5,Perzentile!S5)","v":59.802900000000001},{"$f":"IF('Entrée des données_Eingabemaske'!$N$12=\"männlich / masculin\",Perzentile!J5,Perzentile!T5)","v":61.222742796486443},{"$f":"IF('Entrée des données_Eingabemaske'!$N$12=\"männlich / masculin\",Perzentile!K5,Perzentile!U5)","v":62.500645604192584},{"$f":"IF('Entrée des données_Eingabemaske'!$N$12=\"männlich / masculin\",Perzentile!L5,Perzentile!V5)","v":63.762087304825585},{"$f":"Perzentile!W5","v":{"$error":"#N/A"}},{"$f":"Perzentile!X5","v":{"$error":"#N/A"}},{"$f":"Perzentile!Y5","v":{"$error":"#N/A"}},0,"1) définir le début"]
[0.3,0.33333333333333331,4,{"$f":"IF('Entrée des données_Eingabemaske'!$N$12=\"männlich / masculin\",Perzentile!C6,Perzentile!M6)","v":1},{"$f":"IF('Entrée des données_Eingabemaske'!$N$12=\"männlich / masculin\",Perzentile!D6,Perzentile!N6)","v":62.0899},{"$f":"IF('Entrée des données_Eingabemaske'!$N$12=\"männlich / masculin\",Perzentile!E6,Perzentile!O6)","v":3.4860000000000002E-2},{"$f":"IF('Entrée des données_Eingabemaske'!$N$12=\"männlich / masculin\",Perzentile!F6,Perzentile!P6)","v":58.019008913410843},{"$f":"IF('Entrée des données_Eingabemaske'!$N$12=\"männlich / masculin\",Perzentile!G6,Perzentile!Q6)","v":59.316040697964162},{"$f":"IF('Entrée des données_Eingabemaske'!$N$12=\"männlich / masculin\",Perzentile!H6,Perzentile!R6)","v":60.629998020235206},{"$f":"IF('Entrée des données_Eingabemaske'!$N$12=\"männlich / masculin\",Perzentile!I6,Perzentile!S6)","v":62.0899},{"$f":"IF('Entrée des données_Eingabemaske'!$N$12=\"männlich / masculin\",Perzentile!J6,Perzentile!T6)","v":63.549801979764801},{"$f":"IF('Entrée des données_Eingabemaske'!$N$12=\"männlich / masculin\",Perzentile!K6,Perzentile!U6)","v":64.863759302035845},{"$f":"IF('Entrée des données_Eingabemaske'!$N$12=\"männlich / masculin\",Perzentile!L6,Perzentile!V6)","v":66.160791086589157},{"$f":"Perzentile!W6","v":{"$error":"#N/A"}},{"$f":"Perzentile!X6","v":{"$error":"#N/A"}},{"$f":"Perzentile!Y6","v":{"$error":"#N/A"}},0,{"$f":"MATCH(ROUND(MIN('Entrée des données_Eingabemaske'!$G$20:$G$74),1),Perzentile_Graphik!$A$1:$A$266,0)","v":{"$error":"#N/A"}},null,"=définir.début"]
[0.4,0.41666666666666669,5,{"$f":"IF('Entrée des données_Eingabemaske'!$N$12=\"männlich / masculin\",Perzentile!C7,Perzentile!M7)","v":1},{"$f":"IF('Entrée des données_Eingabemaske'!$N$12=\"männlich / masculin\",Perzentile!D7,Perzentile!N7)","v":64.030100000000004},{"$f":"IF('Entrée des données_Eingabemaske'!$N$12=\"männlich / masculin\",Perzentile!E7,Perzentile!O7)","v":3.4630000000000001E-2},{"$f":"IF('Entrée des données_Eingabemaske'!$N$12=\"männlich / masculin\",Perzentile!F7,Perzentile!P7)","v":59.859699040714453},{"$f":"IF('Entrée des données_Eingabemaske'!$N$12=\"männlich / masculin\",Perzentile!G7,Perzentile!Q7)","v":61.188435792317684},{"$f":"IF('Entrée des données_Eingabemaske'!$N$12=\"männlich / masculin\",Perzentile!H7,Perzentile!R7)","v":62.534511813685938},{"$f":"IF('Entrée des données_Eingabemaske'!$N$12=\"männlich / masculin\",Perzentile!I7,Perzentile!S7)","v":64.030100000000004},{"$f":"IF('Entrée des données_Eingabemaske'!$N$12=\"männlich / masculin\",Perzentile!J7,Perzentile!T7)","v":65.525688186314056},{"$f":"IF('Entrée des données_Eingabemaske'!$N$12=\"männlich / masculin\",Perzentile!K7,Perzentile!U7)","v":66.871764207682332},{"$f":"IF('Entrée des données_Eingabemaske'!$N$12=\"männlich / masculin\",Perzentile!L7,Perzentile!V7)","v":68.200500959285563},{"$f":"Perzentile!W7","v":{"$error":"#N/A"}},{"$f":"Perzentile!X7","v":{"$error":"#N/A"}},{"$f":"Perzentile!Y7","v":{"$error":"#N/A"}},0]
[0.5,0.5,6,{"$f":"IF('Entrée des données_Eingabemaske'!$N$12=\"männlich / masculin\",Perzentile!C8,Perzentile!M8)","v":1},{"$f":"IF('Entrée des données_Eingabemaske'!$N$12=\"männlich / masculin\",Perzentile!D8,Perzentile!N8)","v":65.731099999999998},{"$f":"IF('Entrée des données_Eingabemaske'!$N$12=\"männlich / masculin\",Perzentile!E8,Perzentile!O8)","v":3.4479999999999997E-2},{"$f":"IF('Entrée des données_Eingabemaske'!$N$12=\"männlich / masculin\",Perzentile!F8,Perzentile!P8)","v":61.468453703236833},{"$f":"IF('Entrée des données_Eingabemaske'!$N$12=\"männlich / masculin\",Perzentile!G8,Perzentile!Q8)","v":62.826580859088274},{"$f":"IF('Entrée des données_Eingabemaske'!$N$12=\"männlich / masculin\",Perzentile!H8,Perzentile!R8)","v":64.202430813004966},{"$f":"IF('Entrée des données_Eingabemaske'!$N$12=\"männlich / masculin\",Perzentile!I8,Perzentile!S8)","v":65.731099999999998},{"$f":"IF('Entrée des données_Eingabemaske'!$N$12=\"männlich / masculin\",Perzentile!J8,Perzentile!T8)","v":67.25976918699503},{"$f":"IF('Entrée des données_Eingabemaske'!$N$12=\"männlich / masculin\",Perzentile!K8,Perzentile!U8)","v":68.635619140911729},{"$f":"IF('Entrée des données_Eingabemaske'!$N$12=\"männlich / masculin\",Perzentile!L8,Perzentile!V8)","v":69.993746296763149},{"$f":"Perzentile!W8","v":{"$error":"#N/A"}},{"$f":"Perzentile!X8","v":{"$error":"#N/A"}},{"$f":"Perzentile!Y8","v":{"$error":"#N/A"}},0,"2) définir la fin"]
[0.6,0.58333333333333337,7,{"$f":"IF('Entrée des données_Eingabemaske'!$N$12=\"männlich / masculin\",Perzentile!C9,Perzentile!M9)","v":1},{"$f":"IF('Entrée des données_Eingabemaske'!$N$12=\"männlich / masculin\",Perzentile!D9,Perzentile!N9)","v":67.287300000000002},{"$f":"IF('Entrée des données_Eingabemaske'!$N$12=\"männlich / masculin\",Perzentile!E9,Perzentile!O9)","v":3.4410000000000003E-2},{"$f":"IF('Entrée des données_Eingabemaske'!$N$12=\"männlich / masculin\",Perzentile!F9,Perzentile!P9)","v":62.932593247770903},{"$f":"IF('Entrée des données_Eingabemaske'!$N$12=\"männlich / masculin\",Perzentile!G9,Perzentile!Q9)","v":64.32005190237777},{"$f":"IF('Entrée des données_Eingabemaske'!$N$12=\"männlich / masculin\",Perzentile!H9,Perzentile!R9)","v":65.725616114666423},{"$f":"IF('Entrée des données_Eingabemaske'!$N$12=\"männlich / masculin\",Perzentile!I9,Perzentile!S9)","v":67.287300000000002},{"$f":"IF('Entrée des données_Eingabemaske'!$N$12=\"männlich / masculin\",Perzentile!J9,Perzentile!T9)","v":68.848983885333581},{"$f":"IF('Entrée des données_Eingabemaske'!$N$12=\"männlich / masculin\",Perzentile!K9,Perzentile!U9)","v":70.254548097622234},{"$f":"IF('Entrée des données_Eingabemaske'!$N$12=\"männlich / masculin\",Perzentile!L9,Perzentile!V9)","v":71.642006752229094},{"$f":"Perzentile!W9","v":{"$error":"#N/A"}},{"$f":"Perzentile!X9","v":{"$error":"#N/A"}},{"$f":"Perzentile!Y9","v":{"$error":"#N/A"}},0,{"$f":"242-définir.début","v":{"$error":"#N/A"}},null,"=définir.fin"]
[0.7,0.66666666666666663,8,{"$f":"IF('Entrée des données_Eingabemaske'!$N$12=\"männlich / masculin\",Perzentile!C10,Perzentile!M10)","v":1},{"$f":"IF('Entrée des données_Eingabemaske'!$N$12=\"männlich / masculin\",Perzentile!D10,Perzentile!N10)","v":68.749799999999993},{"$f":"IF('Entrée des données_Eingabemaske'!$N$12=\"männlich / masculin\",Perzentile!E10,Perzentile!O10)","v":3.44E-2},{"$f":"IF('Entrée des données_Eingabemaske'!$N$12=\"männlich / masculin\",Perzentile!F10,Perzentile!P10)","v":64.301736056582314},{"$f":"IF('Entrée des données_Eingabemaske'!$N$12=\"männlich / masculin\",Perzentile!G10,Perzentile!Q10)","v":65.718939364561777},{"$f":"IF('Entrée des données_Eingabemaske'!$N$12=\"männlich / masculin\",Perzentile!H10,Perzentile!R10)","v":67.154636381275736},{"$f":"IF('Entrée des données_Eingabemaske'!$N$12=\"männlich / masculin\",Perzentile!I10,Perzentile!S10)","v":68.749799999999993},{"$f":"IF('Entrée des données_Eingabemaske'!$N$12=\"männlich / masculin\",Perzentile!J10,Perzentile!T10)","v":70.344963618724236},{"$f":"IF('Entrée des données_Eingabemaske'!$N$12=\"männlich / masculin\",Perzentile!K10,Perzentile!U10)","v":71.780660635438196},{"$f":"IF('Entrée des données_Eingabemaske'!$N$12=\"männlich / masculin\",Perzentile!L10,Perzentile!V10)","v":73.197863943417673},{"$f":"Perzentile!W10","v":{"$error":"#N/A"}},{"$f":"Perzentile!X10","v":{"$error":"#N/A"}},{"$f":"Perzentile!Y10","v":{"$error":"#N/A"}},0]
[0.8,0.75,9,{"$f":"IF('Entrée des données_Eingabemaske'!$N$12=\"männlich / masculin\",Perzentile!C11,Perzentile!M11)","v":1},{"$f":"IF('Entrée des données_Eingabemaske'!$N$12=\"männlich / masculin\",Perzentile!D11,Perzentile!N11)","v":70.143500000000003},{"$f":"IF('Entrée des données_Eingabemaske'!$N$12=\"männlich / masculin\",Perzentile!E11,Perzentile!O11)","v":3.4439999999999998E-2},{"$f":"IF('Entrée des données_Eingabemaske'!$N$12=\"männlich / masculin\",Perzentile!F11,Perzentile!P11)","v":65.59998762414638},{"$f":"IF('Entrée des données_Eingabemaske'!$N$12=\"männlich / masculin\",Perzentile!G11,Perzentile!Q11)","v":67.047601878530941},{"$f":"IF('Entrée des données_Eingabemaske'!$N$12=\"männlich / masculin\",Perzentile!H11,Perzentile!R11)","v":68.514106687453264},{"$f":"IF('Entrée des données_Eingabemaske'!$N$12=\"männlich / masculin\",Perzentile!I11,Perzentile!S11)","v":70.143500000000003},{"$f":"IF('Entrée des données_Eingabemaske'!$N$12=\"männlich / masculin\",Perzentile!J11,Perzentile!T11)","v":71.772893312546742},{"$f":"IF('Entrée des données_Eingabemaske'!$N$12=\"männlich / masculin\",Perzentile!K11,Perzentile!U11)","v":73.239398121469065},{"$f":"IF('Entrée des données_Eingabemaske'!$N$12=\"männlich / masculin\",Perzentile!L11,Perzentile!V11)","v":74.687012375853627},{"$f":"Perzentile!W11","v":{"$error":"#N/A"}},{"$f":"Perzentile!X11","v":{"$error":"#N/A"}},{"$f":"Perzentile!Y11","v":{"$error":"#N/A"}},0,"3) définir la valeur de l'axe des x"]
[0.8,0.83333333333333337,10,{"$f":"IF('Entrée des données_Eingabemaske'!$N$12=\"männlich / masculin\",Perzentile!C12,Perzentile!M12)","v":1},{"$f":"IF('Entrée des données_Eingabemaske'!$N$12=\"männlich / masculin\",Perzentile!D12,Perzentile!N12)","v":71.481800000000007},{"$f":"IF('Entrée des données_Eingabemaske'!$N$12=\"männlich / masculin\",Perzentile!E12,Perzentile!O12)","v":3.4520000000000002E-2},{"$f":"IF('Entrée des données_Eingabemaske'!$N$12=\"männlich / masculin\",Perzentile!F12,Perzentile!P12)","v":66.840844467148685},{"$f":"IF('Entrée des données_Eingabemaske'!$N$12=\"männlich / masculin\",Perzentile!G12,Perzentile!Q12)","v":68.3195052096669},{"$f":"IF('Entrée des données_Eingabemaske'!$N$12=\"männlich / masculin\",Perzentile!H12,Perzentile!R12)","v":69.817461645989454},{"$f":"IF('Entrée des données_Eingabemaske'!$N$12=\"männlich / masculin\",Perzentile!I12,Perzentile!S12)","v":71.481800000000007},{"$f":"IF('Entrée des données_Eingabemaske'!$N$12=\"männlich / masculin\",Perzentile!J12,Perzentile!T12)","v":73.14613835401056},{"$f":"IF('Entrée des données_Eingabemaske'!$N$12=\"männlich / masculin\",Perzentile!K12,Perzentile!U12)","v":74.644094790333114},{"$f":"IF('Entrée des données_Eingabemaske'!$N$12=\"männlich / masculin\",Perzentile!L12,Perzentile!V12)","v":76.122755532851329},{"$f":"Perzentile!W12","v":{"$error":"#N/A"}},{"$f":"Perzentile!X12","v":{"$error":"#N/A"}},{"$f":"Perzentile!Y12","v":{"$error":"#N/A"}},0,"=DECALER($B$1;définir.début+13;;définir.fin+13;)"]
[0.9,0.91666666666666663,11,{"$f":"IF('Entrée des données_Eingabemaske'!$N$12=\"männlich / masculin\",Perzentile!C13,Perzentile!M13)","v":1},{"$f":"IF('Entrée des données_Eingabemaske'!$N$12=\"männlich / masculin\",Perzentile!D13,Perzentile!N13)","v":72.771000000000001},{"$f":"IF('Entrée des données_Eingabemaske'!$N$12=\"männlich / masculin\",Perzentile!E13,Perzentile!O13)","v":3.4639999999999997E-2},{"$f":"IF('Entrée des données_Eingabemaske'!$N$12=\"männlich / masculin\",Perzentile!F13,Perzentile!P13)","v":68.029919095340048},{"$f":"IF('Entrée des données_Eingabemaske'!$N$12=\"männlich / masculin\",Perzentile!G13,Perzentile!Q13)","v":69.540480909862836},{"$f":"IF('Entrée des données_Eingabemaske'!$N$12=\"männlich / masculin\",Perzentile!H13,Perzentile!R13)","v":71.070754709296978},{"$f":"IF('Entrée des données_Eingabemaske'!$N$12=\"männlich / masculin\",Perzentile!I13,Perzentile!S13)","v":72.771000000000001},{"$f":"IF('Entrée des données_Eingabemaske'!$N$12=\"männlich / masculin\",Perzentile!J13,Perzentile!T13)","v":74.471245290703024},{"$f":"IF('Entrée des données_Eingabemaske'!$N$12=\"männlich / masculin\",Perzentile!K13,Perzentile!U13)","v":76.00151909013718},{"$f":"IF('Entrée des données_Eingabemaske'!$N$12=\"männlich / masculin\",Perzentile!L13,Perzentile!V13)","v":77.512080904659953},{"$f":"Perzentile!W13","v":{"$error":"#N/A"}},{"$f":"Perzentile!X13","v":{"$error":"#N/A"}},{"$f":"Perzentile!Y13","v":{"$error":"#N/A"}},0]
[1,1,12,{"$f":"IF('Entrée des données_Eingabemaske'!$N$12=\"männlich / masculin\",Perzentile!C14,Perzentile!M14)","v":1},{"$f":"IF('Entrée des données_Eingabemaske'!$N$12=\"männlich / masculin\",Perzentile!D14,Perzentile!N14)","v":74.015000000000001},{"$f":"IF('Entrée des données_Eingabemaske'!$N$12=\"männlich / masculin\",Perzentile!E14,Perzentile!O14)","v":3.4790000000000001E-2},{"$f":"IF('Entrée des données_Eingabemaske'!$N$12=\"männlich / masculin\",Perzentile!F14,Perzentile!P14)","v":69.171990595414513},{"$f":"IF('Entrée des données_Eingabemaske'!$N$12=\"männlich / masculin\",Perzentile!G14,Perzentile!Q14)","v":70.715027978883569},{"$f":"IF('Entrée des données_Eingabemaske'!$N$12=\"männlich / masculin\",Perzentile!H14,Perzentile!R14)","v":72.278201135234056},{"$f":"IF('Entrée des données_Eingabemaske'!$N$12=\"männlich / masculin\",Perzentile!I14,Perzentile!S14)","v":74.015000000000001},{"$f":"IF('Entrée des données_Eingabemaske'!$N$12=\"männlich / masculin\",Perzentile!J14,Perzentile!T14)","v":75.751798864765945},{"$f":"IF('Entrée des données_Eingabemaske'!$N$12=\"männlich / masculin\",Perzentile!K14,Perzentile!U14)","v":77.314972021116432},{"$f":"IF('Entrée des données_Eingabemaske'!$N$12=\"männlich / masculin\",Perzentile!L14,Perzentile!V14)","v":78.858009404585488},{"$f":"Perzentile!W14","v":{"$error":"#N/A"}},{"$f":"Perzentile!X14","v":{"$error":"#N/A"}},{"$f":"Perzentile!Y14","v":{"$error":"#N/A"}},0,"4) définir la valeur de l'axe des y"]
[1.1000000000000001,1.0833333333333333,13,{"$f":"IF('Entrée des données_Eingabemaske'!$N$12=\"männlich / masculin\",Perzentile!C15,Perzentile!M15)","v":1},{"$f":"IF('Entrée des données_Eingabemaske'!$N$12=\"männlich / masculin\",Perzentile!D15,Perzentile!N15)","v":75.217600000000004},{"$f":"IF('Entrée des données_Eingabemaske'!$N$12=\"männlich / masculin\",Perzentile!E15,Perzentile!O15)","v":3.4959999999999998E-2},{"$f":"IF('Entrée des données_Eingabemaske'!$N$12=\"männlich / masculin\",Perzentile!F15,Perzentile!P15)","v":70.271851405735319},{"$f":"IF('Entrée des données_Eingabemaske'!$N$12=\"männlich / masculin\",Perzentile!G15,Perzentile!Q15)","v":71.8476226530437},{"$f":"IF('Entrée des données_Eingabemaske'!$N$12=\"männlich / masculin\",Perzentile!H15,Perzentile!R15)","v":73.443956831807171},{"$f":"IF('Entrée des données_Eingabemaske'!$N$12=\"männlich / masculin\",Perzentile!I15,Perzentile!S15)","v":75.217600000000004},{"$f":"IF('Entrée des données_Eingabemaske'!$N$12=\"männlich / masculin\",Perzentile!J15,Perzentile!T15)","v":76.991243168192838},{"$f":"IF('Entrée des données_Eingabemaske'!$N$12=\"männlich / masculin\",Perzentile!K15,Perzentile!U15)","v":78.587577346956309},{"$f":"IF('Entrée des données_Eingabemaske'!$N$12=\"männlich / masculin\",Perzentile!L15,Perzentile!V15)","v":80.16334859426469},{"$f":"Perzentile!W15","v":{"$error":"#N/A"}},{"$f":"Perzentile!X15","v":{"$error":"#N/A"}},{"$f":"Perzentile!Y15","v":{"$error":"#N/A"}},0,"Attention pour l'axe des y, il faut définir un nom pour tous les percentiles"]
[1.2,1.1666666666666667,14,{"$f":"IF('Entrée des données_Eingabemaske'!$N$12=\"männlich / masculin\",Perzentile!C16,Perzentile!M16)","v":1},{"$f":"IF('Entrée des données_Eingabemaske'!$N$12=\"männlich / masculin\",Perzentile!D16,Perzentile!N16)","v":76.381699999999995},{"$f":"IF('Entrée des données_Eingabemaske'!$N$12=\"männlich / masculin\",Perzentile!E16,Perzentile!O16)","v":3.5139999999999998E-2},{"$f":"IF('Entrée des données_Eingabemaske'!$N$12=\"männlich / masculin\",Perzentile!F16,Perzentile!P16)","v":71.333550390270005},{"$f":"IF('Entrée des données_Eingabemaske'!$N$12=\"männlich / masculin\",Perzentile!G16,Perzentile!Q16)","v":72.941947755301513},{"$f":"IF('Entrée des données_Eingabemaske'!$N$12=\"männlich / masculin\",Perzentile!H16,Perzentile!R16)","v":74.57133380433531},{"$f":"IF('Entrée des données_Eingabemaske'!$N$12=\"männlich / masculin\",Perzentile!I16,Perzentile!S16)","v":76.381699999999995},{"$f":"IF('Entrée des données_Eingabemaske'!$N$12=\"männlich / masculin\",Perzentile!J16,Perzentile!T16)","v":78.19206619566468},{"$f":"IF('Entrée des données_Eingabemaske'!$N$12=\"männlich / masculin\",Perzentile!K16,Perzentile!U16)","v":79.821452244698477},{"$f":"IF('Entrée des données_Eingabemaske'!$N$12=\"männlich / masculin\",Perzentile!L16,Perzentile!V16)","v":81.429849609729985},{"$f":"Perzentile!W16","v":{"$error":"#N/A"}},{"$f":"Perzentile!X16","v":{"$error":"#N/A"}},{"$f":"Perzentile!Y16","v":{"$error":"#N/A"}},0,"=DECALER($N$1;définir.début-13;;définir.fin+13;)"]
[1.3,1.25,15,{"$f":"IF('Entrée des données_Eingabemaske'!$N$12=\"männlich / masculin\",Perzentile!C17,Perzentile!M17)","v":1},{"$f":"IF('Entrée des données_Eingabemaske'!$N$12=\"männlich / masculin\",Perzentile!D17,Perzentile!N17)","v":77.509900000000002},{"$f":"IF('Entrée des données_Eingabemaske'!$N$12=\"männlich / masculin\",Perzentile!E17,Perzentile!O17)","v":3.5340000000000003E-2},{"$f":"IF('Entrée des données_Eingabemaske'!$N$12=\"männlich / masculin\",Perzentile!F17,Perzentile!P17)","v":72.358030400578443},{"$f":"IF('Entrée des données_Eingabemaske'!$N$12=\"männlich / masculin\",Perzentile!G17,Perzentile!Q17)","v":73.99947412338814},{"$f":"IF('Entrée des données_Eingabemaske'!$N$12=\"männlich / masculin\",Perzentile!H17,Perzentile!R17)","v":75.662337766644526},{"$f":"IF('Entrée des données_Eingabemaske'!$N$12=\"männlich / masculin\",Perzentile!I17,Perzentile!S17)","v":77.509900000000002},{"$f":"IF('Entrée des données_Eingabemaske'!$N$12=\"männlich / masculin\",Perzentile!J17,Perzentile!T17)","v":79.357462233355491},{"$f":"IF('Entrée des données_Eingabemaske'!$N$12=\"männlich / masculin\",Perzentile!K17,Perzentile!U17)","v":81.020325876611878},{"$f":"IF('Entrée des données_Eingabemaske'!$N$12=\"männlich / masculin\",Perzentile!L17,Perzentile!V17)","v":82.661769599421561},{"$f":"Perzentile!W17","v":{"$error":"#N/A"}},{"$f":"Perzentile!X17","v":{"$error":"#N/A"}},{"$f":"Perzentile!Y17","v":{"$error":"#N/A"}},0]
[1.3,1.3333333333333333,16,{"$f":"IF('Entrée des données_Eingabemaske'!$N$12=\"männlich / masculin\",Perzentile!C18,Perzentile!M18)","v":1},{"$f":"IF('Entrée des données_Eingabemaske'!$N$12=\"männlich / masculin\",Perzentile!D18,Perzentile!N18)","v":78.605500000000006},{"$f":"IF('Entrée des données_Eingabemaske'!$N$12=\"männlich / masculin\",Perzentile!E18,Perzentile!O18)","v":3.5549999999999998E-2},{"$f":"IF('Entrée des données_Eingabemaske'!$N$12=\"männlich / masculin\",Perzentile!F18,Perzentile!P18)","v":73.349762334125302},{"$f":"IF('Entrée des données_Eingabemaske'!$N$12=\"männlich / masculin\",Perzentile!G18,Perzentile!Q18)","v":75.02429959363846},{"$f":"IF('Entrée des données_Eingabemaske'!$N$12=\"männlich / masculin\",Perzentile!H18,Perzentile!R18)","v":76.7206886257012},{"$f":"IF('Entrée des données_Eingabemaske'!$N$12=\"männlich / masculin\",Perzentile!I18,Perzentile!S18)","v":78.605500000000006},{"$f":"IF('Entrée des données_Eingabemaske'!$N$12=\"männlich / masculin\",Perzentile!J18,Perzentile!T18)","v":80.490311374298813},{"$f":"IF('Entrée des données_Eingabemaske'!$N$12=\"männlich / masculin\",Perzentile!K18,Perzentile!U18)","v":82.186700406361567},{"$f":"IF('Entrée des données_Eingabemaske'!$N$12=\"männlich / masculin\",Perzentile!L18,Perzentile!V18)","v":83.861237665874697},{"$f":"Perzentile!W18","v":{"$error":"#N/A"}},{"$f":"Perzentile!X18","v":{"$error":"#N/A"}},{"$f":"Perzentile!Y18","v":{"$error":"#N/A"}},0]
[1.4,1.4166666666666667,17,{"$f":"IF('Entrée des données_Eingabemaske'!$N$12=\"männlich / masculin\",Perzentile!C19,Perzentile!M19)","v":1},{"$f":"IF('Entrée des données_Eingabemaske'!$N$12=\"männlich / masculin\",Perzentile!D19,Perzentile!N19)","v":79.671000000000006},{"$f":"IF('Entrée des données_Eingabemaske'!$N$12=\"männlich / masculin\",Perzentile!E19,Perzentile!O19)","v":3.576E-2},{"$f":"IF('Entrée des données_Eingabemaske'!$N$12=\"männlich / masculin\",Perzentile!F19,Perzentile!P19)","v":74.312553257832548},{"$f":"IF('Entrée des données_Eingabemaske'!$N$12=\"männlich / masculin\",Perzentile!G19,Perzentile!Q19)","v":76.019814786720701},{"$f":"IF('Entrée des données_Eingabemaske'!$N$12=\"männlich / masculin\",Perzentile!H19,Perzentile!R19)","v":77.749355121529703},{"$f":"IF('Entrée des données_Eingabemaske'!$N$12=\"männlich / masculin\",Perzentile!I19,Perzentile!S19)","v":79.671000000000006},{"$f":"IF('Entrée des données_Eingabemaske'!$N$12=\"männlich / masculin\",Perzentile!J19,Perzentile!T19)","v":81.59264487847031},{"$f":"IF('Entrée des données_Eingabemaske'!$N$12=\"männlich / masculin\",Perzentile!K19,Perzentile!U19)","v":83.322185213279297},{"$f":"IF('Entrée des données_Eingabemaske'!$N$12=\"männlich / masculin\",Perzentile!L19,Perzentile!V19)","v":85.029446742167465},{"$f":"Perzentile!W19","v":{"$error":"#N/A"}},{"$f":"Perzentile!X19","v":{"$error":"#N/A"}},{"$f":"Perzentile!Y19","v":{"$error":"#N/A"}},0]
[1.5,1.5,18,{"$f":"IF('Entrée des données_Eingabemaske'!$N$12=\"männlich / masculin\",Perzentile!C20,Perzentile!M20)","v":1},{"$f":"IF('Entrée des données_Eingabemaske'!$N$12=\"männlich / masculin\",Perzentile!D20,Perzentile!N20)","v":80.707899999999995},{"$f":"IF('Entrée des données_Eingabemaske'!$N$12=\"männlich / masculin\",Perzentile!E20,Perzentile!O20)","v":3.5979999999999998E-2},{"$f":"IF('Entrée des données_Eingabemaske'!$N$12=\"männlich / masculin\",Perzentile!F20,Perzentile!P20)","v":75.24631940994577},{"$f":"IF('Entrée des données_Eingabemaske'!$N$12=\"männlich / masculin\",Perzentile!G20,Perzentile!Q20)","v":76.986440545226515},{"$f":"IF('Entrée des données_Eingabemaske'!$N$12=\"männlich / masculin\",Perzentile!H20,Perzentile!R20)","v":78.749269285871577},{"$f":"IF('Entrée des données_Eingabemaske'!$N$12=\"männlich / masculin\",Perzentile!I20,Perzentile!S20)","v":80.707899999999995},{"$f":"IF('Entrée des données_Eingabemaske'!$N$12=\"männlich / masculin\",Perzentile!J20,Perzentile!T20)","v":82.666530714128413},{"$f":"IF('Entrée des données_Eingabemaske'!$N$12=\"männlich / masculin\",Perzentile!K20,Perzentile!U20)","v":84.429359454773476},{"$f":"IF('Entrée des données_Eingabemaske'!$N$12=\"männlich / masculin\",Perzentile!L20,Perzentile!V20)","v":86.169480590054221},{"$f":"Perzentile!W20","v":{"$error":"#N/A"}},{"$f":"Perzentile!X20","v":{"$error":"#N/A"}},{"$f":"Perzentile!Y20","v":{"$error":"#N/A"}},0]
[1.6,1.5833333333333333,19,{"$f":"IF('Entrée des données_Eingabemaske'!$N$12=\"männlich / masculin\",Perzentile!C21,Perzentile!M21)","v":1},{"$f":"IF('Entrée des données_Eingabemaske'!$N$12=\"männlich / masculin\",Perzentile!D21,Perzentile!N21)","v":81.718199999999996},{"$f":"IF('Entrée des données_Eingabemaske'!$N$12=\"männlich / masculin\",Perzentile!E21,Perzentile!O21)","v":3.6200000000000003E-2},{"$f":"IF('Entrée des données_Eingabemaske'!$N$12=\"männlich / masculin\",Perzentile!F21,Perzentile!P21)","v":76.154438530087546},{"$f":"IF('Entrée des données_Eingabemaske'!$N$12=\"männlich / masculin\",Perzentile!G21,Perzentile!Q21)","v":77.927115645405763},{"$f":"IF('Entrée des données_Eingabemaske'!$N$12=\"männlich / masculin\",Perzentile!H21,Perzentile!R21)","v":79.722925203378054},{"$f":"IF('Entrée des données_Eingabemaske'!$N$12=\"männlich / masculin\",Perzentile!I21,Perzentile!S21)","v":81.718199999999996},{"$f":"IF('Entrée des données_Eingabemaske'!$N$12=\"männlich / masculin\",Perzentile!J21,Perzentile!T21)","v":83.713474796621938},{"$f":"IF('Entrée des données_Eingabemaske'!$N$12=\"männlich / masculin\",Perzentile!K21,Perzentile!U21)","v":85.509284354594215},{"$f":"IF('Entrée des données_Eingabemaske'!$N$12=\"männlich / masculin\",Perzentile!L21,Perzentile!V21)","v":87.281961469912432},{"$f":"Perzentile!W21","v":{"$error":"#N/A"}},{"$f":"Perzentile!X21","v":{"$error":"#N/A"}},{"$f":"Perzentile!Y21","v":{"$error":"#N/A"}},0]
[1.7,1.6666666666666667,20,{"$f":"IF('Entrée des données_Eingabemaske'!$N$12=\"männlich / masculin\",Perzentile!C22,Perzentile!M22)","v":1},{"$f":"IF('Entrée des données_Eingabemaske'!$N$12=\"männlich / masculin\",Perzentile!D22,Perzentile!N22)","v":82.703599999999994},{"$f":"IF('Entrée des données_Eingabemaske'!$N$12=\"männlich / masculin\",Perzentile!E22,Perzentile!O22)","v":3.6429999999999997E-2},{"$f":"IF('Entrée des données_Eingabemaske'!$N$12=\"männlich / masculin\",Perzentile!F22,Perzentile!P22)","v":77.036971705992499},{"$f":"IF('Entrée des données_Eingabemaske'!$N$12=\"männlich / masculin\",Perzentile!G22,Perzentile!Q22)","v":78.842423350913563},{"$f":"IF('Entrée des données_Eingabemaske'!$N$12=\"männlich / masculin\",Perzentile!H22,Perzentile!R22)","v":80.671435127727733},{"$f":"IF('Entrée des données_Eingabemaske'!$N$12=\"männlich / masculin\",Perzentile!I22,Perzentile!S22)","v":82.703599999999994},{"$f":"IF('Entrée des données_Eingabemaske'!$N$12=\"männlich / masculin\",Perzentile!J22,Perzentile!T22)","v":84.735764872272242},{"$f":"IF('Entrée des données_Eingabemaske'!$N$12=\"männlich / masculin\",Perzentile!K22,Perzentile!U22)","v":86.564776649086426},{"$f":"IF('Entrée des données_Eingabemaske'!$N$12=\"männlich / masculin\",Perzentile!L22,Perzentile!V22)","v":88.370228294007475},{"$f":"Perzentile!W22","v":{"$error":"#N/A"}},{"$f":"Perzentile!X22","v":{"$error":"#N/A"}},{"$f":"Perzentile!Y22","v":{"$error":"#N/A"}},0]
[1.8,1.75,21,{"$f":"IF('Entrée des données_Eingabemaske'!$N$12=\"männlich / masculin\",Perzentile!C23,Perzentile!M23)","v":1},{"$f":"IF('Entrée des données_Eingabemaske'!$N$12=\"männlich / masculin\",Perzentile!D23,Perzentile!N23)","v":83.665400000000005},{"$f":"IF('Entrée des données_Eingabemaske'!$N$12=\"männlich / masculin\",Perzentile!E23,Perzentile!O23)","v":3.6659999999999998E-2},{"$f":"IF('Entrée des données_Eingabemaske'!$N$12=\"männlich / masculin\",Perzentile!F23,Perzentile!P23)","v":77.89667956573831},{"$f":"IF('Entrée des données_Eingabemaske'!$N$12=\"männlich / masculin\",Perzentile!G23,Perzentile!Q23)","v":79.734658917258784},{"$f":"IF('Entrée des données_Eingabemaske'!$N$12=\"männlich / masculin\",Perzentile!H23,Perzentile!R23)","v":81.596622869009622},{"$f":"IF('Entrée des données_Eingabemaske'!$N$12=\"männlich / masculin\",Perzentile!I23,Perzentile!S23)","v":83.665400000000005},{"$f":"IF('Entrée des données_Eingabemaske'!$N$12=\"männlich / masculin\",Perzentile!J23,Perzentile!T23)","v":85.734177130990389},{"$f":"IF('Entrée des données_Eingabemaske'!$N$12=\"männlich / masculin\",Perzentile!K23,Perzentile!U23)","v":87.596141082741227},{"$f":"IF('Entrée des données_Eingabemaske'!$N$12=\"männlich / masculin\",Perzentile!L23,Perzentile!V23)","v":89.434120434261686},{"$f":"Perzentile!W23","v":{"$error":"#N/A"}},{"$f":"Perzentile!X23","v":{"$error":"#N/A"}},{"$f":"Perzentile!Y23","v":{"$error":"#N/A"}},0]
[1.8,1.8333333333333333,22,{"$f":"IF('Entrée des données_Eingabemaske'!$N$12=\"männlich / masculin\",Perzentile!C24,Perzentile!M24)","v":1},{"$f":"IF('Entrée des données_Eingabemaske'!$N$12=\"männlich / masculin\",Perzentile!D24,Perzentile!N24)","v":84.603999999999999},{"$f":"IF('Entrée des données_Eingabemaske'!$N$12=\"männlich / masculin\",Perzentile!E24,Perzentile!O24)","v":3.6880000000000003E-2},{"$f":"IF('Entrée des données_Eingabemaske'!$N$12=\"männlich / masculin\",Perzentile!F24,Perzentile!P24)","v":78.735556209801828},{"$f":"IF('Entrée des données_Eingabemaske'!$N$12=\"männlich / masculin\",Perzentile!G24,Perzentile!Q24)","v":80.605308546538751},{"$f":"IF('Entrée des données_Eingabemaske'!$N$12=\"männlich / masculin\",Perzentile!H24,Perzentile!R24)","v":82.499460103152273},{"$f":"IF('Entrée des données_Eingabemaske'!$N$12=\"männlich / masculin\",Perzentile!I24,Perzentile!S24)","v":84.603999999999999},{"$f":"IF('Entrée des données_Eingabemaske'!$N$12=\"männlich / masculin\",Perzentile!J24,Perzentile!T24)","v":86.708539896847725},{"$f":"IF('Entrée des données_Eingabemaske'!$N$12=\"männlich / masculin\",Perzentile!K24,Perzentile!U24)","v":88.602691453461247},{"$f":"IF('Entrée des données_Eingabemaske'!$N$12=\"männlich / masculin\",Perzentile!L24,Perzentile!V24)","v":90.472443790198156},{"$f":"Perzentile!W24","v":{"$error":"#N/A"}},{"$f":"Perzentile!X24","v":{"$error":"#N/A"}},{"$f":"Perzentile!Y24","v":{"$error":"#N/A"}},0]
[1.9,1.9166666666666667,23,{"$f":"IF('Entrée des données_Eingabemaske'!$N$12=\"männlich / masculin\",Perzentile!C25,Perzentile!M25)","v":1},{"$f":"IF('Entrée des données_Eingabemaske'!$N$12=\"männlich / masculin\",Perzentile!D25,Perzentile!N25)","v":85.520200000000003},{"$f":"IF('Entrée des données_Eingabemaske'!$N$12=\"männlich / masculin\",Perzentile!E25,Perzentile!O25)","v":3.7109999999999997E-2},{"$f":"IF('Entrée des données_Eingabemaske'!$N$12=\"männlich / masculin\",Perzentile!F25,Perzentile!P25)","v":79.55121067246273},{"$f":"IF('Entrée des données_Eingabemaske'!$N$12=\"männlich / masculin\",Perzentile!G25,Perzentile!Q25)","v":81.452997950678039},{"$f":"IF('Entrée des données_Eingabemaske'!$N$12=\"männlich / masculin\",Perzentile!H25,Perzentile!R25)","v":83.379602486798589},{"$f":"IF('Entrée des données_Eingabemaske'!$N$12=\"männlich / masculin\",Perzentile!I25,Perzentile!S25)","v":85.520200000000003},{"$f":"IF('Entrée des données_Eingabemaske'!$N$12=\"männlich / masculin\",Perzentile!J25,Perzentile!T25)","v":87.660797513201416},{"$f":"IF('Entrée des données_Eingabemaske'!$N$12=\"männlich / masculin\",Perzentile!K25,Perzentile!U25)","v":89.587402049321966},{"$f":"IF('Entrée des données_Eingabemaske'!$N$12=\"männlich / masculin\",Perzentile!L25,Perzentile!V25)","v":91.489189327537275},{"$f":"Perzentile!W25","v":{"$error":"#N/A"}},{"$f":"Perzentile!X25","v":{"$error":"#N/A"}},{"$f":"Perzentile!Y25","v":{"$error":"#N/A"}},0]
[2,2,24,{"$f":"IF('Entrée des données_Eingabemaske'!$N$12=\"männlich / masculin\",Perzentile!C26,Perzentile!M26)","v":1},{"$f":"IF('Entrée des données_Eingabemaske'!$N$12=\"männlich / masculin\",Perzentile!D26,Perzentile!N26)","v":86.415300000000002},{"$f":"IF('Entrée des données_Eingabemaske'!$N$12=\"männlich / masculin\",Perzentile!E26,Perzentile!O26)","v":3.7339999999999998E-2},{"$f":"IF('Entrée des données_Eingabemaske'!$N$12=\"männlich / masculin\",Perzentile!F26,Perzentile!P26)","v":80.346454299279102},{"$f":"IF('Entrée des données_Eingabemaske'!$N$12=\"männlich / masculin\",Perzentile!G26,Perzentile!Q26)","v":82.280056943505087},{"$f":"IF('Entrée des données_Eingabemaske'!$N$12=\"männlich / masculin\",Perzentile!H26,Perzentile!R26)","v":84.23889201832813},{"$f":"IF('Entrée des données_Eingabemaske'!$N$12=\"männlich / masculin\",Perzentile!I26,Perzentile!S26)","v":86.415300000000002},{"$f":"IF('Entrée des données_Eingabemaske'!$N$12=\"männlich / masculin\",Perzentile!J26,Perzentile!T26)","v":88.59170798167186},{"$f":"IF('Entrée des données_Eingabemaske'!$N$12=\"männlich / masculin\",Perzentile!K26,Perzentile!U26)","v":90.550543056494917},{"$f":"IF('Entrée des données_Eingabemaske'!$N$12=\"männlich / masculin\",Perzentile!L26,Perzentile!V26)","v":92.484145700720887},{"$f":"Perzentile!W26","v":{"$error":"#N/A"}},{"$f":"Perzentile!X26","v":{"$error":"#N/A"}},{"$f":"Perzentile!Y26","v":{"$error":"#N/A"}},0]
[2,2,24,{"$f":"IF('Entrée des données_Eingabemaske'!$N$12=\"männlich / masculin\",Perzentile!C27,Perzentile!M27)","v":1},{"$f":"IF('Entrée des données_Eingabemaske'!$N$12=\"männlich / masculin\",Perzentile!D27,Perzentile!N27)","v":85.715299999999999},{"$f":"IF('Entrée des données_Eingabemaske'!$N$12=\"männlich / masculin\",Perzentile!E27,Perzentile!O27)","v":3.7643999999999997E-2},{"$f":"IF('Entrée des données_Eingabemaske'!$N$12=\"männlich / masculin\",Perzentile!F27,Perzentile!P27)","v":79.646605794947291},{"$f":"IF('Entrée des données_Eingabemaske'!$N$12=\"männlich / masculin\",Perzentile!G27,Perzentile!Q27)","v":81.580160170945817},{"$f":"IF('Entrée des données_Eingabemaske'!$N$12=\"männlich / masculin\",Perzentile!H27,Perzentile!R27)","v":83.53894634766813},{"$f":"IF('Entrée des données_Eingabemaske'!$N$12=\"männlich / masculin\",Perzentile!I27,Perzentile!S27)","v":85.715299999999999},{"$f":"IF('Entrée des données_Eingabemaske'!$N$12=\"männlich / masculin\",Perzentile!J27,Perzentile!T27)","v":87.891653652331868},{"$f":"IF('Entrée des données_Eingabemaske'!$N$12=\"männlich / masculin\",Perzentile!K27,Perzentile!U27)","v":89.850439829054181},{"$f":"IF('Entrée des données_Eingabemaske'!$N$12=\"männlich / masculin\",Perzentile!L27,Perzentile!V27)","v":91.783994205052707},{"$f":"Perzentile!W27","v":{"$error":"#N/A"}},{"$f":"Perzentile!X27","v":{"$error":"#N/A"}},{"$f":"Perzentile!Y27","v":{"$error":"#N/A"}},0]
[2.1,2.0833333333333335,25,{"$f":"IF('Entrée des données_Eingabemaske'!$N$12=\"männlich / masculin\",Perzentile!C28,Perzentile!M28)","v":1},{"$f":"IF('Entrée des données_Eingabemaske'!$N$12=\"männlich / masculin\",Perzentile!D28,Perzentile!N28)","v":86.590400000000002},{"$f":"IF('Entrée des données_Eingabemaske'!$N$12=\"männlich / masculin\",Perzentile!E28,Perzentile!O28)","v":3.7859999999999998E-2},{"$f":"IF('Entrée des données_Eingabemaske'!$N$12=\"männlich / masculin\",Perzentile!F28,Perzentile!P28)","v":80.424570721722731},{"$f":"IF('Entrée des données_Eingabemaske'!$N$12=\"männlich / masculin\",Perzentile!G28,Perzentile!Q28)","v":82.389073426892296},{"$f":"IF('Entrée des données_Eingabemaske'!$N$12=\"männlich / masculin\",Perzentile!H28,Perzentile!R28)","v":84.379211791132761},{"$f":"IF('Entrée des données_Eingabemaske'!$N$12=\"männlich / masculin\",Perzentile!I28,Perzentile!S28)","v":86.590400000000002},{"$f":"IF('Entrée des données_Eingabemaske'!$N$12=\"männlich / masculin\",Perzentile!J28,Perzentile!T28)","v":88.80158820886723},{"$f":"IF('Entrée des données_Eingabemaske'!$N$12=\"männlich / masculin\",Perzentile!K28,Perzentile!U28)","v":90.791726573107709},{"$f":"IF('Entrée des données_Eingabemaske'!$N$12=\"männlich / masculin\",Perzentile!L28,Perzentile!V28)","v":92.75622927827726},{"$f":"Perzentile!W28","v":{"$error":"#N/A"}},{"$f":"Perzentile!X28","v":{"$error":"#N/A"}},{"$f":"Perzentile!Y28","v":{"$error":"#N/A"}},0]
[2.2000000000000002,2.1666666666666665,26,{"$f":"IF('Entrée des données_Eingabemaske'!$N$12=\"männlich / masculin\",Perzentile!C29,Perzentile!M29)","v":1},{"$f":"IF('Entrée des données_Eingabemaske'!$N$12=\"männlich / masculin\",Perzentile!D29,Perzentile!N29)","v":87.446200000000005},{"$f":"IF('Entrée des données_Eingabemaske'!$N$12=\"männlich / masculin\",Perzentile!E29,Perzentile!O29)","v":3.8080000000000003E-2},{"$f":"IF('Entrée des données_Eingabemaske'!$N$12=\"männlich / masculin\",Perzentile!F29,Perzentile!P29)","v":81.183248887028228},{"$f":"IF('Entrée des données_Eingabemaske'!$N$12=\"männlich / masculin\",Perzentile!G29,Perzentile!Q29)","v":83.178695703423926},{"$f":"IF('Entrée des données_Eingabemaske'!$N$12=\"männlich / masculin\",Perzentile!H29,Perzentile!R29)","v":85.200181982195843},{"$f":"IF('Entrée des données_Eingabemaske'!$N$12=\"männlich / masculin\",Perzentile!I29,Perzentile!S29)","v":87.446200000000005},{"$f":"IF('Entrée des données_Eingabemaske'!$N$12=\"männlich / masculin\",Perzentile!J29,Perzentile!T29)","v":89.692218017804166},{"$f":"IF('Entrée des données_Eingabemaske'!$N$12=\"männlich / masculin\",Perzentile!K29,Perzentile!U29)","v":91.713704296576083},{"$f":"IF('Entrée des données_Eingabemaske'!$N$12=\"männlich / masculin\",Perzentile!L29,Perzentile!V29)","v":93.709151112971767},{"$f":"Perzentile!W29","v":{"$error":"#N/A"}},{"$f":"Perzentile!X29","v":{"$error":"#N/A"}},{"$f":"Perzentile!Y29","v":{"$error":"#N/A"}},0]
[2.2999999999999998,2.25,27,{"$f":"IF('Entrée des données_Eingabemaske'!$N$12=\"männlich / masculin\",Perzentile!C30,Perzentile!M30)","v":1},{"$f":"IF('Entrée des données_Eingabemaske'!$N$12=\"männlich / masculin\",Perzentile!D30,Perzentile!N30)","v":88.283000000000001},{"$f":"IF('Entrée des données_Eingabemaske'!$N$12=\"männlich / masculin\",Perzentile!E30,Perzentile!O30)","v":3.8300000000000001E-2},{"$f":"IF('Entrée des données_Eingabemaske'!$N$12=\"männlich / masculin\",Perzentile!F30,Perzentile!P30)","v":81.923587489247637},{"$f":"IF('Entrée des données_Eingabemaske'!$N$12=\"männlich / masculin\",Perzentile!G30,Perzentile!Q30)","v":83.9497679942247},{"$f":"IF('Entrée des données_Eingabemaske'!$N$12=\"männlich / masculin\",Perzentile!H30,Perzentile!R30)","v":86.002389018985724},{"$f":"IF('Entrée des données_Eingabemaske'!$N$12=\"männlich / masculin\",Perzentile!I30,Perzentile!S30)","v":88.283000000000001},{"$f":"IF('Entrée des données_Eingabemaske'!$N$12=\"männlich / masculin\",Perzentile!J30,Perzentile!T30)","v":90.563610981014278},{"$f":"IF('Entrée des données_Eingabemaske'!$N$12=\"männlich / masculin\",Perzentile!K30,Perzentile!U30)","v":92.616232005775302},{"$f":"IF('Entrée des données_Eingabemaske'!$N$12=\"männlich / masculin\",Perzentile!L30,Perzentile!V30)","v":94.642412510752365},{"$f":"Perzentile!W30","v":{"$error":"#N/A"}},{"$f":"Perzentile!X30","v":{"$error":"#N/A"}},{"$f":"Perzentile!Y30","v":{"$error":"#N/A"}},0]
[2.2999999999999998,2.3333333333333335,28,{"$f":"IF('Entrée des données_Eingabemaske'!$N$12=\"männlich / masculin\",Perzentile!C31,Perzentile!M31)","v":1},{"$f":"IF('Entrée des données_Eingabemaske'!$N$12=\"männlich / masculin\",Perzentile!D31,Perzentile!N31)","v":89.100399999999993},{"$f":"IF('Entrée des données_Eingabemaske'!$N$12=\"männlich / masculin\",Perzentile!E31,Perzentile!O31)","v":3.8510000000000003E-2},{"$f":"IF('Entrée des données_Eingabemaske'!$N$12=\"männlich / masculin\",Perzentile!F31,Perzentile!P31)","v":82.64691488742875},{"$f":"IF('Entrée des données_Eingabemaske'!$N$12=\"männlich / masculin\",Perzentile!G31,Perzentile!Q31)","v":84.703067983668859},{"$f":"IF('Entrée des données_Eingabemaske'!$N$12=\"männlich / masculin\",Perzentile!H31,Perzentile!R31)","v":86.786052725207327},{"$f":"IF('Entrée des données_Eingabemaske'!$N$12=\"männlich / masculin\",Perzentile!I31,Perzentile!S31)","v":89.100399999999993},{"$f":"IF('Entrée des données_Eingabemaske'!$N$12=\"männlich / masculin\",Perzentile!J31,Perzentile!T31)","v":91.41474727479266},{"$f":"IF('Entrée des données_Eingabemaske'!$N$12=\"männlich / masculin\",Perzentile!K31,Perzentile!U31)","v":93.497732016331128},{"$f":"IF('Entrée des données_Eingabemaske'!$N$12=\"männlich / masculin\",Perzentile!L31,Perzentile!V31)","v":95.553885112571251},{"$f":"Perzentile!W31","v":{"$error":"#N/A"}},{"$f":"Perzentile!X31","v":{"$error":"#N/A"}},{"$f":"Perzentile!Y31","v":{"$error":"#N/A"}},0]
[2.4,2.4166666666666665,29,{"$f":"IF('Entrée des données_Eingabemaske'!$N$12=\"männlich / masculin\",Perzentile!C32,Perzentile!M32)","v":1},{"$f":"IF('Entrée des données_Eingabemaske'!$N$12=\"männlich / masculin\",Perzentile!D32,Perzentile!N32)","v":89.899100000000004},{"$f":"IF('Entrée des données_Eingabemaske'!$N$12=\"männlich / masculin\",Perzentile!E32,Perzentile!O32)","v":3.8719999999999997E-2},{"$f":"IF('Entrée des données_Eingabemaske'!$N$12=\"männlich / masculin\",Perzentile!F32,Perzentile!P32)","v":83.352258409060937},{"$f":"IF('Entrée des données_Eingabemaske'!$N$12=\"männlich / masculin\",Perzentile!G32,Perzentile!Q32)","v":85.438155931560928},{"$f":"IF('Entrée des données_Eingabemaske'!$N$12=\"männlich / masculin\",Perzentile!H32,Perzentile!R32)","v":87.551273247448265},{"$f":"IF('Entrée des données_Eingabemaske'!$N$12=\"männlich / masculin\",Perzentile!I32,Perzentile!S32)","v":89.899100000000004},{"$f":"IF('Entrée des données_Eingabemaske'!$N$12=\"männlich / masculin\",Perzentile!J32,Perzentile!T32)","v":92.246926752551744},{"$f":"IF('Entrée des données_Eingabemaske'!$N$12=\"männlich / masculin\",Perzentile!K32,Perzentile!U32)","v":94.36004406843908},{"$f":"IF('Entrée des données_Eingabemaske'!$N$12=\"männlich / masculin\",Perzentile!L32,Perzentile!V32)","v":96.445941590939071},{"$f":"Perzentile!W32","v":{"$error":"#N/A"}},{"$f":"Perzentile!X32","v":{"$error":"#N/A"}},{"$f":"Perzentile!Y32","v":{"$error":"#N/A"}},0]
[2.5,2.5,30,{"$f":"IF('Entrée des données_Eingabemaske'!$N$12=\"männlich / masculin\",Perzentile!C33,Perzentile!M33)","v":1},{"$f":"IF('Entrée des données_Eingabemaske'!$N$12=\"männlich / masculin\",Perzentile!D33,Perzentile!N33)","v":90.679699999999997},{"$f":"IF('Entrée des données_Eingabemaske'!$N$12=\"männlich / masculin\",Perzentile!E33,Perzentile!O33)","v":3.8929999999999999E-2},{"$f":"IF('Entrée des données_Eingabemaske'!$N$12=\"männlich / masculin\",Perzentile!F33,Perzentile!P33)","v":84.040196280196582},{"$f":"IF('Entrée des données_Eingabemaske'!$N$12=\"männlich / masculin\",Perzentile!G33,Perzentile!Q33)","v":86.155617001378388},{"$f":"IF('Entrée des données_Eingabemaske'!$N$12=\"männlich / masculin\",Perzentile!H33,Perzentile!R33)","v":88.298642777140685},{"$f":"IF('Entrée des données_Eingabemaske'!$N$12=\"männlich / masculin\",Perzentile!I33,Perzentile!S33)","v":90.679699999999997},{"$f":"IF('Entrée des données_Eingabemaske'!$N$12=\"männlich / masculin\",Perzentile!J33,Perzentile!T33)","v":93.060757222859309},{"$f":"IF('Entrée des données_Eingabemaske'!$N$12=\"männlich / masculin\",Perzentile!K33,Perzentile!U33)","v":95.203782998621605},{"$f":"IF('Entrée des données_Eingabemaske'!$N$12=\"männlich / masculin\",Perzentile!L33,Perzentile!V33)","v":97.319203719803397},{"$f":"Perzentile!W33","v":{"$error":"#N/A"}},{"$f":"Perzentile!X33","v":{"$error":"#N/A"}},{"$f":"Perzentile!Y33","v":{"$error":"#N/A"}},0]
[2.6,2.5833333333333335,31,{"$f":"IF('Entrée des données_Eingabemaske'!$N$12=\"männlich / masculin\",Perzentile!C34,Perzentile!M34)","v":1},{"$f":"IF('Entrée des données_Eingabemaske'!$N$12=\"männlich / masculin\",Perzentile!D34,Perzentile!N34)","v":91.442999999999998},{"$f":"IF('Entrée des données_Eingabemaske'!$N$12=\"männlich / masculin\",Perzentile!E34,Perzentile!O34)","v":3.9129999999999998E-2},{"$f":"IF('Entrée des données_Eingabemaske'!$N$12=\"männlich / masculin\",Perzentile!F34,Perzentile!P34)","v":84.713210910214855},{"$f":"IF('Entrée des données_Eingabemaske'!$N$12=\"männlich / masculin\",Perzentile!G34,Perzentile!Q34)","v":86.857397567909246},{"$f":"IF('Entrée des données_Eingabemaske'!$N$12=\"männlich / masculin\",Perzentile!H34,Perzentile!R34)","v":89.029564659530436},{"$f":"IF('Entrée des données_Eingabemaske'!$N$12=\"männlich / masculin\",Perzentile!I34,Perzentile!S34)","v":91.442999999999998},{"$f":"IF('Entrée des données_Eingabemaske'!$N$12=\"männlich / masculin\",Perzentile!J34,Perzentile!T34)","v":93.856435340469574},{"$f":"IF('Entrée des données_Eingabemaske'!$N$12=\"männlich / masculin\",Perzentile!K34,Perzentile!U34)","v":96.028602432090764},{"$f":"IF('Entrée des données_Eingabemaske'!$N$12=\"männlich / masculin\",Perzentile!L34,Perzentile!V34)","v":98.172789089785141},{"$f":"Perzentile!W34","v":{"$error":"#N/A"}},{"$f":"Perzentile!X34","v":{"$error":"#N/A"}},{"$f":"Perzentile!Y34","v":{"$error":"#N/A"}},0]
[2.7,2.6666666666666665,32,{"$f":"IF('Entrée des données_Eingabemaske'!$N$12=\"männlich / masculin\",Perzentile!C35,Perzentile!M35)","v":1},{"$f":"IF('Entrée des données_Eingabemaske'!$N$12=\"männlich / masculin\",Perzentile!D35,Perzentile!N35)","v":92.190600000000003},{"$f":"IF('Entrée des données_Eingabemaske'!$N$12=\"männlich / masculin\",Perzentile!E35,Perzentile!O35)","v":3.9329999999999997E-2},{"$f":"IF('Entrée des données_Eingabemaske'!$N$12=\"männlich / masculin\",Perzentile!F35,Perzentile!P35)","v":85.371112650646637},{"$f":"IF('Entrée des données_Eingabemaske'!$N$12=\"männlich / masculin\",Perzentile!G35,Perzentile!Q35)","v":87.543878184858357},{"$f":"IF('Entrée des données_Eingabemaske'!$N$12=\"männlich / masculin\",Perzentile!H35,Perzentile!R35)","v":89.744997091315085},{"$f":"IF('Entrée des données_Eingabemaske'!$N$12=\"männlich / masculin\",Perzentile!I35,Perzentile!S35)","v":92.190600000000003},{"$f":"IF('Entrée des données_Eingabemaske'!$N$12=\"männlich / masculin\",Perzentile!J35,Perzentile!T35)","v":94.636202908684908},{"$f":"IF('Entrée des données_Eingabemaske'!$N$12=\"männlich / masculin\",Perzentile!K35,Perzentile!U35)","v":96.837321815141649},{"$f":"IF('Entrée des données_Eingabemaske'!$N$12=\"männlich / masculin\",Perzentile!L35,Perzentile!V35)","v":99.01008734935337},{"$f":"Perzentile!W35","v":{"$error":"#N/A"}},{"$f":"Perzentile!X35","v":{"$error":"#N/A"}},{"$f":"Perzentile!Y35","v":{"$error":"#N/A"}},0]
[2.8,2.75,33,{"$f":"IF('Entrée des données_Eingabemaske'!$N$12=\"männlich / masculin\",Perzentile!C36,Perzentile!M36)","v":1},{"$f":"IF('Entrée des données_Eingabemaske'!$N$12=\"männlich / masculin\",Perzentile!D36,Perzentile!N36)","v":92.923900000000003},{"$f":"IF('Entrée des données_Eingabemaske'!$N$12=\"männlich / masculin\",Perzentile!E36,Perzentile!O36)","v":3.952E-2},{"$f":"IF('Entrée des données_Eingabemaske'!$N$12=\"männlich / masculin\",Perzentile!F36,Perzentile!P36)","v":86.01696283845952},{"$f":"IF('Entrée des données_Eingabemaske'!$N$12=\"männlich / masculin\",Perzentile!G36,Perzentile!Q36)","v":88.21759086850993},{"$f":"IF('Entrée des données_Eingabemaske'!$N$12=\"männlich / masculin\",Perzentile!H36,Perzentile!R36)","v":90.446935860757335},{"$f":"IF('Entrée des données_Eingabemaske'!$N$12=\"männlich / masculin\",Perzentile!I36,Perzentile!S36)","v":92.923900000000003},{"$f":"IF('Entrée des données_Eingabemaske'!$N$12=\"männlich / masculin\",Perzentile!J36,Perzentile!T36)","v":95.400864139242685},{"$f":"IF('Entrée des données_Eingabemaske'!$N$12=\"männlich / masculin\",Perzentile!K36,Perzentile!U36)","v":97.630209131490076},{"$f":"IF('Entrée des données_Eingabemaske'!$N$12=\"männlich / masculin\",Perzentile!L36,Perzentile!V36)","v":99.830837161540501},{"$f":"Perzentile!W36","v":{"$error":"#N/A"}},{"$f":"Perzentile!X36","v":{"$error":"#N/A"}},{"$f":"Perzentile!Y36","v":{"$error":"#N/A"}},0]
[2.8,2.8333333333333335,34,{"$f":"IF('Entrée des données_Eingabemaske'!$N$12=\"männlich / masculin\",Perzentile!C37,Perzentile!M37)","v":1},{"$f":"IF('Entrée des données_Eingabemaske'!$N$12=\"männlich / masculin\",Perzentile!D37,Perzentile!N37)","v":93.644400000000005},{"$f":"IF('Entrée des données_Eingabemaske'!$N$12=\"männlich / masculin\",Perzentile!E37,Perzentile!O37)","v":3.9710000000000002E-2},{"$f":"IF('Entrée des données_Eingabemaske'!$N$12=\"männlich / masculin\",Perzentile!F37,Perzentile!P37)","v":86.650444920431795},{"$f":"IF('Entrée des données_Eingabemaske'!$N$12=\"männlich / masculin\",Perzentile!G37,Perzentile!Q37)","v":88.8787978399737},{"$f":"IF('Entrée des données_Eingabemaske'!$N$12=\"männlich / masculin\",Perzentile!H37,Perzentile!R37)","v":91.136229515978869},{"$f":"IF('Entrée des données_Eingabemaske'!$N$12=\"männlich / masculin\",Perzentile!I37,Perzentile!S37)","v":93.644400000000005},{"$f":"IF('Entrée des données_Eingabemaske'!$N$12=\"männlich / masculin\",Perzentile!J37,Perzentile!T37)","v":96.15257048402114},{"$f":"IF('Entrée des données_Eingabemaske'!$N$12=\"männlich / masculin\",Perzentile!K37,Perzentile!U37)","v":98.410002160026295},{"$f":"IF('Entrée des données_Eingabemaske'!$N$12=\"männlich / masculin\",Perzentile!L37,Perzentile!V37)","v":100.6383550795682},{"$f":"Perzentile!W37","v":{"$error":"#N/A"}},{"$f":"Perzentile!X37","v":{"$error":"#N/A"}},{"$f":"Perzentile!Y37","v":{"$error":"#N/A"}},0]
[2.9,2.9166666666666665,35,{"$f":"IF('Entrée des données_Eingabemaske'!$N$12=\"männlich / masculin\",Perzentile!C38,Perzentile!M38)","v":1},{"$f":"IF('Entrée des données_Eingabemaske'!$N$12=\"männlich / masculin\",Perzentile!D38,Perzentile!N38)","v":94.353300000000004},{"$f":"IF('Entrée des données_Eingabemaske'!$N$12=\"männlich / masculin\",Perzentile!E38,Perzentile!O38)","v":3.9890000000000002E-2},{"$f":"IF('Entrée des données_Eingabemaske'!$N$12=\"männlich / masculin\",Perzentile!F38,Perzentile!P38)","v":87.274457157271186},{"$f":"IF('Entrée des données_Eingabemaske'!$N$12=\"männlich / masculin\",Perzentile!G38,Perzentile!Q38)","v":89.529856274954255},{"$f":"IF('Entrée des données_Eingabemaske'!$N$12=\"männlich / masculin\",Perzentile!H38,Perzentile!R38)","v":91.81468708682516},{"$f":"IF('Entrée des données_Eingabemaske'!$N$12=\"männlich / masculin\",Perzentile!I38,Perzentile!S38)","v":94.353300000000004},{"$f":"IF('Entrée des données_Eingabemaske'!$N$12=\"männlich / masculin\",Perzentile!J38,Perzentile!T38)","v":96.891912913174849},{"$f":"IF('Entrée des données_Eingabemaske'!$N$12=\"männlich / masculin\",Perzentile!K38,Perzentile!U38)","v":99.176743725045753},{"$f":"IF('Entrée des données_Eingabemaske'!$N$12=\"männlich / masculin\",Perzentile!L38,Perzentile!V38)","v":101.43214284272882},{"$f":"Perzentile!W38","v":{"$error":"#N/A"}},{"$f":"Perzentile!X38","v":{"$error":"#N/A"}},{"$f":"Perzentile!Y38","v":{"$error":"#N/A"}},0]
[3,3,36,{"$f":"IF('Entrée des données_Eingabemaske'!$N$12=\"männlich / masculin\",Perzentile!C39,Perzentile!M39)","v":1},{"$f":"IF('Entrée des données_Eingabemaske'!$N$12=\"männlich / masculin\",Perzentile!D39,Perzentile!N39)","v":95.051500000000004},{"$f":"IF('Entrée des données_Eingabemaske'!$N$12=\"männlich / masculin\",Perzentile!E39,Perzentile!O39)","v":4.0059999999999998E-2},{"$f":"IF('Entrée des données_Eingabemaske'!$N$12=\"männlich / masculin\",Perzentile!F39,Perzentile!P39)","v":87.889883518973747},{"$f":"IF('Entrée des données_Eingabemaske'!$N$12=\"männlich / masculin\",Perzentile!G39,Perzentile!Q39)","v":90.171655250787552},{"$f":"IF('Entrée des données_Eingabemaske'!$N$12=\"männlich / masculin\",Perzentile!H39,Perzentile!R39)","v":92.483202824620051},{"$f":"IF('Entrée des données_Eingabemaske'!$N$12=\"männlich / masculin\",Perzentile!I39,Perzentile!S39)","v":95.051500000000004},{"$f":"IF('Entrée des données_Eingabemaske'!$N$12=\"männlich / masculin\",Perzentile!J39,Perzentile!T39)","v":97.619797175379972},{"$f":"IF('Entrée des données_Eingabemaske'!$N$12=\"männlich / masculin\",Perzentile!K39,Perzentile!U39)","v":99.931344749212442},{"$f":"IF('Entrée des données_Eingabemaske'!$N$12=\"männlich / masculin\",Perzentile!L39,Perzentile!V39)","v":102.21311648102626},{"$f":"Perzentile!W39","v":{"$error":"#N/A"}},{"$f":"Perzentile!X39","v":{"$error":"#N/A"}},{"$f":"Perzentile!Y39","v":{"$error":"#N/A"}},0]
[3.1,3.0833333333333335,37,{"$f":"IF('Entrée des données_Eingabemaske'!$N$12=\"männlich / masculin\",Perzentile!C40,Perzentile!M40)","v":1},{"$f":"IF('Entrée des données_Eingabemaske'!$N$12=\"männlich / masculin\",Perzentile!D40,Perzentile!N40)","v":95.739900000000006},{"$f":"IF('Entrée des données_Eingabemaske'!$N$12=\"männlich / masculin\",Perzentile!E40,Perzentile!O40)","v":4.0239999999999998E-2},{"$f":"IF('Entrée des données_Eingabemaske'!$N$12=\"männlich / masculin\",Perzentile!F40,Perzentile!P40)","v":88.494004243326799},{"$f":"IF('Entrée des données_Eingabemaske'!$N$12=\"männlich / masculin\",Perzentile!G40,Perzentile!Q40)","v":90.802628302301443},{"$f":"IF('Entrée des données_Eingabemaske'!$N$12=\"männlich / masculin\",Perzentile!H40,Perzentile!R40)","v":93.141378611111733},{"$f":"IF('Entrée des données_Eingabemaske'!$N$12=\"männlich / masculin\",Perzentile!I40,Perzentile!S40)","v":95.739900000000006},{"$f":"IF('Entrée des données_Eingabemaske'!$N$12=\"männlich / masculin\",Perzentile!J40,Perzentile!T40)","v":98.338421388888264},{"$f":"IF('Entrée des données_Eingabemaske'!$N$12=\"männlich / masculin\",Perzentile!K40,Perzentile!U40)","v":100.67717169769857},{"$f":"IF('Entrée des données_Eingabemaske'!$N$12=\"männlich / masculin\",Perzentile!L40,Perzentile!V40)","v":102.98579575667321},{"$f":"Perzentile!W40","v":{"$error":"#N/A"}},{"$f":"Perzentile!X40","v":{"$error":"#N/A"}},{"$f":"Perzentile!Y40","v":{"$error":"#N/A"}},0]
[3.2,3.1666666666666665,38,{"$f":"IF('Entrée des données_Eingabemaske'!$N$12=\"männlich / masculin\",Perzentile!C41,Perzentile!M41)","v":1},{"$f":"IF('Entrée des données_Eingabemaske'!$N$12=\"männlich / masculin\",Perzentile!D41,Perzentile!N41)","v":96.418700000000001},{"$f":"IF('Entrée des données_Eingabemaske'!$N$12=\"männlich / masculin\",Perzentile!E41,Perzentile!O41)","v":4.0410000000000001E-2},{"$f":"IF('Entrée des données_Eingabemaske'!$N$12=\"männlich / masculin\",Perzentile!F41,Perzentile!P41)","v":89.090602106736711},{"$f":"IF('Entrée des données_Eingabemaske'!$N$12=\"männlich / masculin\",Perzentile!G41,Perzentile!Q41)","v":91.42541669295656},{"$f":"IF('Entrée des données_Eingabemaske'!$N$12=\"männlich / masculin\",Perzentile!H41,Perzentile!R41)","v":93.790699300711097},{"$f":"IF('Entrée des données_Eingabemaske'!$N$12=\"männlich / masculin\",Perzentile!I41,Perzentile!S41)","v":96.418700000000001},{"$f":"IF('Entrée des données_Eingabemaske'!$N$12=\"männlich / masculin\",Perzentile!J41,Perzentile!T41)","v":99.04670069928892},{"$f":"IF('Entrée des données_Eingabemaske'!$N$12=\"männlich / masculin\",Perzentile!K41,Perzentile!U41)","v":101.41198330704344},{"$f":"IF('Entrée des données_Eingabemaske'!$N$12=\"männlich / masculin\",Perzentile!L41,Perzentile!V41)","v":103.74679789326329},{"$f":"Perzentile!W41","v":{"$error":"#N/A"}},{"$f":"Perzentile!X41","v":{"$error":"#N/A"}},{"$f":"Perzentile!Y41","v":{"$error":"#N/A"}},0]
[3.3,3.25,39,{"$f":"IF('Entrée des données_Eingabemaske'!$N$12=\"männlich / masculin\",Perzentile!C42,Perzentile!M42)","v":1},{"$f":"IF('Entrée des données_Eingabemaske'!$N$12=\"männlich / masculin\",Perzentile!D42,Perzentile!N42)","v":97.088499999999996},{"$f":"IF('Entrée des données_Eingabemaske'!$N$12=\"männlich / masculin\",Perzentile!E42,Perzentile!O42)","v":4.0570000000000002E-2},{"$f":"IF('Entrée des données_Eingabemaske'!$N$12=\"männlich / masculin\",Perzentile!F42,Perzentile!P42)","v":89.680278835772043},{"$f":"IF('Entrée des données_Eingabemaske'!$N$12=\"männlich / masculin\",Perzentile!G42,Perzentile!Q42)","v":92.040621599217232},{"$f":"IF('Entrée des données_Eingabemaske'!$N$12=\"männlich / masculin\",Perzentile!H42,Perzentile!R42)","v":94.431765512599711},{"$f":"IF('Entrée des données_Eingabemaske'!$N$12=\"männlich / masculin\",Perzentile!I42,Perzentile!S42)","v":97.088499999999996},{"$f":"IF('Entrée des données_Eingabemaske'!$N$12=\"männlich / masculin\",Perzentile!J42,Perzentile!T42)","v":99.745234487400268},{"$f":"IF('Entrée des données_Eingabemaske'!$N$12=\"männlich / masculin\",Perzentile!K42,Perzentile!U42)","v":102.13637840078276},{"$f":"IF('Entrée des données_Eingabemaske'!$N$12=\"männlich / masculin\",Perzentile!L42,Perzentile!V42)","v":104.49672116422795},{"$f":"Perzentile!W42","v":{"$error":"#N/A"}},{"$f":"Perzentile!X42","v":{"$error":"#N/A"}},{"$f":"Perzentile!Y42","v":{"$error":"#N/A"}},0]
[3.3,3.3333333333333335,40,{"$f":"IF('Entrée des données_Eingabemaske'!$N$12=\"männlich / masculin\",Perzentile!C43,Perzentile!M43)","v":1},{"$f":"IF('Entrée des données_Eingabemaske'!$N$12=\"männlich / masculin\",Perzentile!D43,Perzentile!N43)","v":97.749300000000005},{"$f":"IF('Entrée des données_Eingabemaske'!$N$12=\"männlich / masculin\",Perzentile!E43,Perzentile!O43)","v":4.0730000000000002E-2},{"$f":"IF('Entrée des données_Eingabemaske'!$N$12=\"männlich / masculin\",Perzentile!F43,Perzentile!P43)","v":90.261241885541523},{"$f":"IF('Entrée des données_Eingabemaske'!$N$12=\"männlich / masculin\",Perzentile!G43,Perzentile!Q43)","v":92.647021601198944},{"$f":"IF('Entrée des données_Eingabemaske'!$N$12=\"männlich / masculin\",Perzentile!H43,Perzentile!R43)","v":95.063934404760971},{"$f":"IF('Entrée des données_Eingabemaske'!$N$12=\"männlich / masculin\",Perzentile!I43,Perzentile!S43)","v":97.749300000000005},{"$f":"IF('Entrée des données_Eingabemaske'!$N$12=\"männlich / masculin\",Perzentile!J43,Perzentile!T43)","v":100.43466559523904},{"$f":"IF('Entrée des données_Eingabemaske'!$N$12=\"männlich / masculin\",Perzentile!K43,Perzentile!U43)","v":102.85157839880107},{"$f":"IF('Entrée des données_Eingabemaske'!$N$12=\"männlich / masculin\",Perzentile!L43,Perzentile!V43)","v":105.23735811445849},{"$f":"Perzentile!W43","v":{"$error":"#N/A"}},{"$f":"Perzentile!X43","v":{"$error":"#N/A"}},{"$f":"Perzentile!Y43","v":{"$error":"#N/A"}},0]
[3.4,3.4166666666666665,41,{"$f":"IF('Entrée des données_Eingabemaske'!$N$12=\"männlich / masculin\",Perzentile!C44,Perzentile!M44)","v":1},{"$f":"IF('Entrée des données_Eingabemaske'!$N$12=\"männlich / masculin\",Perzentile!D44,Perzentile!N44)","v":98.401499999999999},{"$f":"IF('Entrée des données_Eingabemaske'!$N$12=\"männlich / masculin\",Perzentile!E44,Perzentile!O44)","v":4.0890000000000003E-2},{"$f":"IF('Entrée des données_Eingabemaske'!$N$12=\"männlich / masculin\",Perzentile!F44,Perzentile!P44)","v":90.833868618813256},{"$f":"IF('Entrée des données_Eingabemaske'!$N$12=\"männlich / masculin\",Perzentile!G44,Perzentile!Q44)","v":93.245001274147029},{"$f":"IF('Entrée des données_Eingabemaske'!$N$12=\"männlich / masculin\",Perzentile!H44,Perzentile!R44)","v":95.687597859036217},{"$f":"IF('Entrée des données_Eingabemaske'!$N$12=\"männlich / masculin\",Perzentile!I44,Perzentile!S44)","v":98.401499999999999},{"$f":"IF('Entrée des données_Eingabemaske'!$N$12=\"männlich / masculin\",Perzentile!J44,Perzentile!T44)","v":101.11540214096378},{"$f":"IF('Entrée des données_Eingabemaske'!$N$12=\"männlich / masculin\",Perzentile!K44,Perzentile!U44)","v":103.55799872585297},{"$f":"IF('Entrée des données_Eingabemaske'!$N$12=\"männlich / masculin\",Perzentile!L44,Perzentile!V44)","v":105.96913138118674},{"$f":"Perzentile!W44","v":{"$error":"#N/A"}},{"$f":"Perzentile!X44","v":{"$error":"#N/A"}},{"$f":"Perzentile!Y44","v":{"$error":"#N/A"}},0]
[3.5,3.5,42,{"$f":"IF('Entrée des données_Eingabemaske'!$N$12=\"männlich / masculin\",Perzentile!C45,Perzentile!M45)","v":1},{"$f":"IF('Entrée des données_Eingabemaske'!$N$12=\"männlich / masculin\",Perzentile!D45,Perzentile!N45)","v":99.044799999999995},{"$f":"IF('Entrée des données_Eingabemaske'!$N$12=\"männlich / masculin\",Perzentile!E45,Perzentile!O45)","v":4.1050000000000003E-2},{"$f":"IF('Entrée des données_Eingabemaske'!$N$12=\"männlich / masculin\",Perzentile!F45,Perzentile!P45)","v":91.397889961476579},{"$f":"IF('Entrée des données_Eingabemaske'!$N$12=\"männlich / masculin\",Perzentile!G45,Perzentile!Q45)","v":93.834281690613921},{"$f":"IF('Entrée des données_Eingabemaske'!$N$12=\"männlich / masculin\",Perzentile!H45,Perzentile!R45)","v":96.302466966060422},{"$f":"IF('Entrée des données_Eingabemaske'!$N$12=\"männlich / masculin\",Perzentile!I45,Perzentile!S45)","v":99.044799999999995},{"$f":"IF('Entrée des données_Eingabemaske'!$N$12=\"männlich / masculin\",Perzentile!J45,Perzentile!T45)","v":101.78713303393955},{"$f":"IF('Entrée des données_Eingabemaske'!$N$12=\"männlich / masculin\",Perzentile!K45,Perzentile!U45)","v":104.25531830938608},{"$f":"IF('Entrée des données_Eingabemaske'!$N$12=\"männlich / masculin\",Perzentile!L45,Perzentile!V45)","v":106.69171003852341},{"$f":"Perzentile!W45","v":{"$error":"#N/A"}},{"$f":"Perzentile!X45","v":{"$error":"#N/A"}},{"$f":"Perzentile!Y45","v":{"$error":"#N/A"}},0]
[3.6,3.5833333333333335,43,{"$f":"IF('Entrée des données_Eingabemaske'!$N$12=\"männlich / masculin\",Perzentile!C46,Perzentile!M46)","v":1},{"$f":"IF('Entrée des données_Eingabemaske'!$N$12=\"männlich / masculin\",Perzentile!D46,Perzentile!N46)","v":99.679500000000004},{"$f":"IF('Entrée des données_Eingabemaske'!$N$12=\"männlich / masculin\",Perzentile!E46,Perzentile!O46)","v":4.1200000000000001E-2},{"$f":"IF('Entrée des données_Eingabemaske'!$N$12=\"männlich / masculin\",Perzentile!F46,Perzentile!P46)","v":91.955465461695042},{"$f":"IF('Entrée des données_Eingabemaske'!$N$12=\"männlich / masculin\",Perzentile!G46,Perzentile!Q46)","v":94.416429925758635},{"$f":"IF('Entrée des données_Eingabemaske'!$N$12=\"männlich / masculin\",Perzentile!H46,Perzentile!R46)","v":96.909508596547596},{"$f":"IF('Entrée des données_Eingabemaske'!$N$12=\"männlich / masculin\",Perzentile!I46,Perzentile!S46)","v":99.679500000000004},{"$f":"IF('Entrée des données_Eingabemaske'!$N$12=\"männlich / masculin\",Perzentile!J46,Perzentile!T46)","v":102.44949140345243},{"$f":"IF('Entrée des données_Eingabemaske'!$N$12=\"männlich / masculin\",Perzentile!K46,Perzentile!U46)","v":104.94257007424137},{"$f":"IF('Entrée des données_Eingabemaske'!$N$12=\"männlich / masculin\",Perzentile!L46,Perzentile!V46)","v":107.40353453830495},{"$f":"Perzentile!W46","v":{"$error":"#N/A"}},{"$f":"Perzentile!X46","v":{"$error":"#N/A"}},{"$f":"Perzentile!Y46","v":{"$error":"#N/A"}},0]
[3.7,3.6666666666666665,44,{"$f":"IF('Entrée des données_Eingabemaske'!$N$12=\"männlich / masculin\",Perzentile!C47,Perzentile!M47)","v":1},{"$f":"IF('Entrée des données_Eingabemaske'!$N$12=\"männlich / masculin\",Perzentile!D47,Perzentile!N47)","v":100.3058},{"$f":"IF('Entrée des données_Eingabemaske'!$N$12=\"männlich / masculin\",Perzentile!E47,Perzentile!O47)","v":4.1349999999999998E-2},{"$f":"IF('Entrée des données_Eingabemaske'!$N$12=\"männlich / masculin\",Perzentile!F47,Perzentile!P47)","v":92.504936114854416},{"$f":"IF('Entrée des données_Eingabemaske'!$N$12=\"männlich / masculin\",Perzentile!G47,Perzentile!Q47)","v":94.990379274790527},{"$f":"IF('Entrée des données_Eingabemaske'!$N$12=\"männlich / masculin\",Perzentile!H47,Perzentile!R47)","v":97.508256074711227},{"$f":"IF('Entrée des données_Eingabemaske'!$N$12=\"männlich / masculin\",Perzentile!I47,Perzentile!S47)","v":100.3058},{"$f":"IF('Entrée des données_Eingabemaske'!$N$12=\"männlich / masculin\",Perzentile!J47,Perzentile!T47)","v":103.10334392528878},{"$f":"IF('Entrée des données_Eingabemaske'!$N$12=\"männlich / masculin\",Perzentile!K47,Perzentile!U47)","v":105.62122072520947},{"$f":"IF('Entrée des données_Eingabemaske'!$N$12=\"männlich / masculin\",Perzentile!L47,Perzentile!V47)","v":108.10666388514559},{"$f":"Perzentile!W47","v":{"$error":"#N/A"}},{"$f":"Perzentile!X47","v":{"$error":"#N/A"}},{"$f":"Perzentile!Y47","v":{"$error":"#N/A"}},0]
[3.8,3.75,45,{"$f":"IF('Entrée des données_Eingabemaske'!$N$12=\"männlich / masculin\",Perzentile!C48,Perzentile!M48)","v":1},{"$f":"IF('Entrée des données_Eingabemaske'!$N$12=\"männlich / masculin\",Perzentile!D48,Perzentile!N48)","v":100.9238},{"$f":"IF('Entrée des données_Eingabemaske'!$N$12=\"männlich / masculin\",Perzentile!E48,Perzentile!O48)","v":4.1500000000000002E-2},{"$f":"IF('Entrée des données_Eingabemaske'!$N$12=\"männlich / masculin\",Perzentile!F48,Perzentile!P48)","v":93.046401225061089},{"$f":"IF('Entrée des données_Eingabemaske'!$N$12=\"männlich / masculin\",Perzentile!G48,Perzentile!Q48)","v":95.556229263535528},{"$f":"IF('Entrée des données_Eingabemaske'!$N$12=\"männlich / masculin\",Perzentile!H48,Perzentile!R48)","v":98.098809150990178},{"$f":"IF('Entrée des données_Eingabemaske'!$N$12=\"männlich / masculin\",Perzentile!I48,Perzentile!S48)","v":100.9238},{"$f":"IF('Entrée des données_Eingabemaske'!$N$12=\"männlich / masculin\",Perzentile!J48,Perzentile!T48)","v":103.74879084900982},{"$f":"IF('Entrée des données_Eingabemaske'!$N$12=\"männlich / masculin\",Perzentile!K48,Perzentile!U48)","v":106.29137073646447},{"$f":"IF('Entrée des données_Eingabemaske'!$N$12=\"männlich / masculin\",Perzentile!L48,Perzentile!V48)","v":108.80119877493892},{"$f":"Perzentile!W48","v":{"$error":"#N/A"}},{"$f":"Perzentile!X48","v":{"$error":"#N/A"}},{"$f":"Perzentile!Y48","v":{"$error":"#N/A"}},0]
[3.8,3.8333333333333335,46,{"$f":"IF('Entrée des données_Eingabemaske'!$N$12=\"männlich / masculin\",Perzentile!C49,Perzentile!M49)","v":1},{"$f":"IF('Entrée des données_Eingabemaske'!$N$12=\"männlich / masculin\",Perzentile!D49,Perzentile!N49)","v":101.5337},{"$f":"IF('Entrée des données_Eingabemaske'!$N$12=\"männlich / masculin\",Perzentile!E49,Perzentile!O49)","v":4.1640000000000003E-2},{"$f":"IF('Entrée des données_Eingabemaske'!$N$12=\"männlich / masculin\",Perzentile!F49,Perzentile!P49)","v":93.58196178940814},{"$f":"IF('Entrée des données_Eingabemaske'!$N$12=\"männlich / masculin\",Perzentile!G49,Perzentile!Q49)","v":96.115475209986073},{"$f":"IF('Entrée des données_Eingabemaske'!$N$12=\"männlich / masculin\",Perzentile!H49,Perzentile!R49)","v":98.682049560503486},{"$f":"IF('Entrée des données_Eingabemaske'!$N$12=\"männlich / masculin\",Perzentile!I49,Perzentile!S49)","v":101.5337},{"$f":"IF('Entrée des données_Eingabemaske'!$N$12=\"männlich / masculin\",Perzentile!J49,Perzentile!T49)","v":104.38535043949651},{"$f":"IF('Entrée des données_Eingabemaske'!$N$12=\"männlich / masculin\",Perzentile!K49,Perzentile!U49)","v":106.95192479001392},{"$f":"IF('Entrée des données_Eingabemaske'!$N$12=\"männlich / masculin\",Perzentile!L49,Perzentile!V49)","v":109.48543821059185},{"$f":"Perzentile!W49","v":{"$error":"#N/A"}},{"$f":"Perzentile!X49","v":{"$error":"#N/A"}},{"$f":"Perzentile!Y49","v":{"$error":"#N/A"}},0]
[3.9,3.9166666666666665,47,{"$f":"IF('Entrée des données_Eingabemaske'!$N$12=\"männlich / masculin\",Perzentile!C50,Perzentile!M50)","v":1},{"$f":"IF('Entrée des données_Eingabemaske'!$N$12=\"männlich / masculin\",Perzentile!D50,Perzentile!N50)","v":102.136},{"$f":"IF('Entrée des données_Eingabemaske'!$N$12=\"männlich / masculin\",Perzentile!E50,Perzentile!O50)","v":4.1790000000000001E-2},{"$f":"IF('Entrée des données_Eingabemaske'!$N$12=\"männlich / masculin\",Perzentile!F50,Perzentile!P50)","v":94.108277404142328},{"$f":"IF('Entrée des données_Eingabemaske'!$N$12=\"männlich / masculin\",Perzentile!G50,Perzentile!Q50)","v":96.666000306311219},{"$f":"IF('Entrée des données_Eingabemaske'!$N$12=\"männlich / masculin\",Perzentile!H50,Perzentile!R50)","v":99.257100058583333},{"$f":"IF('Entrée des données_Eingabemaske'!$N$12=\"männlich / masculin\",Perzentile!I50,Perzentile!S50)","v":102.136},{"$f":"IF('Entrée des données_Eingabemaske'!$N$12=\"männlich / masculin\",Perzentile!J50,Perzentile!T50)","v":105.01489994141666},{"$f":"IF('Entrée des données_Eingabemaske'!$N$12=\"männlich / masculin\",Perzentile!K50,Perzentile!U50)","v":107.60599969368877},{"$f":"IF('Entrée des données_Eingabemaske'!$N$12=\"männlich / masculin\",Perzentile!L50,Perzentile!V50)","v":110.16372259585765},{"$f":"Perzentile!W50","v":{"$error":"#N/A"}},{"$f":"Perzentile!X50","v":{"$error":"#N/A"}},{"$f":"Perzentile!Y50","v":{"$error":"#N/A"}},0]
[4,4,48,{"$f":"IF('Entrée des données_Eingabemaske'!$N$12=\"männlich / masculin\",Perzentile!C51,Perzentile!M51)","v":1},{"$f":"IF('Entrée des données_Eingabemaske'!$N$12=\"männlich / masculin\",Perzentile!D51,Perzentile!N51)","v":102.7312},{"$f":"IF('Entrée des données_Eingabemaske'!$N$12=\"männlich / masculin\",Perzentile!E51,Perzentile!O51)","v":4.1930000000000002E-2},{"$f":"IF('Entrée des données_Eingabemaske'!$N$12=\"männlich / masculin\",Perzentile!F51,Perzentile!P51)","v":94.629645391558512},{"$f":"IF('Entrée des données_Eingabemaske'!$N$12=\"männlich / masculin\",Perzentile!G51,Perzentile!Q51)","v":97.21089200512175},{"$f":"IF('Entrée des données_Eingabemaske'!$N$12=\"männlich / masculin\",Perzentile!H51,Perzentile!R51)","v":99.825822440035338},{"$f":"IF('Entrée des données_Eingabemaske'!$N$12=\"männlich / masculin\",Perzentile!I51,Perzentile!S51)","v":102.7312},{"$f":"IF('Entrée des données_Eingabemaske'!$N$12=\"männlich / masculin\",Perzentile!J51,Perzentile!T51)","v":105.63657755996466},{"$f":"IF('Entrée des données_Eingabemaske'!$N$12=\"männlich / masculin\",Perzentile!K51,Perzentile!U51)","v":108.25150799487825},{"$f":"IF('Entrée des données_Eingabemaske'!$N$12=\"männlich / masculin\",Perzentile!L51,Perzentile!V51)","v":110.83275460844149},{"$f":"Perzentile!W51","v":{"$error":"#N/A"}},{"$f":"Perzentile!X51","v":{"$error":"#N/A"}},{"$f":"Perzentile!Y51","v":{"$error":"#N/A"}},0]
[4.0999999999999996,4.083333333333333,49,{"$f":"IF('Entrée des données_Eingabemaske'!$N$12=\"männlich / masculin\",Perzentile!C52,Perzentile!M52)","v":1},{"$f":"IF('Entrée des données_Eingabemaske'!$N$12=\"männlich / masculin\",Perzentile!D52,Perzentile!N52)","v":103.3197},{"$f":"IF('Entrée des données_Eingabemaske'!$N$12=\"männlich / masculin\",Perzentile!E52,Perzentile!O52)","v":4.206E-2},{"$f":"IF('Entrée des données_Eingabemaske'!$N$12=\"männlich / masculin\",Perzentile!F52,Perzentile!P52)","v":95.146473301162231},{"$f":"IF('Entrée des données_Eingabemaske'!$N$12=\"männlich / masculin\",Perzentile!G52,Perzentile!Q52)","v":97.750555450565656},{"$f":"IF('Entrée des données_Eingabemaske'!$N$12=\"männlich / masculin\",Perzentile!H52,Perzentile!R52)","v":100.38861941226136},{"$f":"IF('Entrée des données_Eingabemaske'!$N$12=\"männlich / masculin\",Perzentile!I52,Perzentile!S52)","v":103.3197},{"$f":"IF('Entrée des données_Eingabemaske'!$N$12=\"männlich / masculin\",Perzentile!J52,Perzentile!T52)","v":106.25078058773863},{"$f":"IF('Entrée des données_Eingabemaske'!$N$12=\"männlich / masculin\",Perzentile!K52,Perzentile!U52)","v":108.88884454943434},{"$f":"IF('Entrée des données_Eingabemaske'!$N$12=\"männlich / masculin\",Perzentile!L52,Perzentile!V52)","v":111.49292669883776},{"$f":"Perzentile!W52","v":{"$error":"#N/A"}},{"$f":"Perzentile!X52","v":{"$error":"#N/A"}},{"$f":"Perzentile!Y52","v":{"$error":"#N/A"}},0]
[4.2,4.166666666666667,50,{"$f":"IF('Entrée des données_Eingabemaske'!$N$12=\"männlich / masculin\",Perzentile!C53,Perzentile!M53)","v":1},{"$f":"IF('Entrée des données_Eingabemaske'!$N$12=\"männlich / masculin\",Perzentile!D53,Perzentile!N53)","v":103.9021},{"$f":"IF('Entrée des données_Eingabemaske'!$N$12=\"männlich / masculin\",Perzentile!E53,Perzentile!O53)","v":4.2200000000000001E-2},{"$f":"IF('Entrée des données_Eingabemaske'!$N$12=\"männlich / masculin\",Perzentile!F53,Perzentile!P53)","v":95.655443285642633},{"$f":"IF('Entrée des données_Eingabemaske'!$N$12=\"männlich / masculin\",Perzentile!G53,Perzentile!Q53)","v":98.282921065644715},{"$f":"IF('Entrée des données_Eingabemaske'!$N$12=\"männlich / masculin\",Perzentile!H53,Perzentile!R53)","v":100.9446859578036},{"$f":"IF('Entrée des données_Eingabemaske'!$N$12=\"männlich / masculin\",Perzentile!I53,Perzentile!S53)","v":103.9021},{"$f":"IF('Entrée des données_Eingabemaske'!$N$12=\"männlich / masculin\",Perzentile!J53,Perzentile!T53)","v":106.85951404219641},{"$f":"IF('Entrée des données_Eingabemaske'!$N$12=\"männlich / masculin\",Perzentile!K53,Perzentile!U53)","v":109.52127893435529},{"$f":"IF('Entrée des données_Eingabemaske'!$N$12=\"männlich / masculin\",Perzentile!L53,Perzentile!V53)","v":112.14875671435738},{"$f":"Perzentile!W53","v":{"$error":"#N/A"}},{"$f":"Perzentile!X53","v":{"$error":"#N/A"}},{"$f":"Perzentile!Y53","v":{"$error":"#N/A"}},0]
[4.3,4.25,51,{"$f":"IF('Entrée des données_Eingabemaske'!$N$12=\"männlich / masculin\",Perzentile!C54,Perzentile!M54)","v":1},{"$f":"IF('Entrée des données_Eingabemaske'!$N$12=\"männlich / masculin\",Perzentile!D54,Perzentile!N54)","v":104.4786},{"$f":"IF('Entrée des données_Eingabemaske'!$N$12=\"männlich / masculin\",Perzentile!E54,Perzentile!O54)","v":4.233E-2},{"$f":"IF('Entrée des données_Eingabemaske'!$N$12=\"männlich / masculin\",Perzentile!F54,Perzentile!P54)","v":96.16064142570653},{"$f":"IF('Entrée des données_Eingabemaske'!$N$12=\"männlich / masculin\",Perzentile!G54,Perzentile!Q54)","v":98.810836781951195},{"$f":"IF('Entrée des données_Eingabemaske'!$N$12=\"männlich / masculin\",Perzentile!H54,Perzentile!R54)","v":101.49561570198797},{"$f":"IF('Entrée des données_Eingabemaske'!$N$12=\"männlich / masculin\",Perzentile!I54,Perzentile!S54)","v":104.4786},{"$f":"IF('Entrée des données_Eingabemaske'!$N$12=\"männlich / masculin\",Perzentile!J54,Perzentile!T54)","v":107.46158429801201},{"$f":"IF('Entrée des données_Eingabemaske'!$N$12=\"männlich / masculin\",Perzentile!K54,Perzentile!U54)","v":110.14636321804879},{"$f":"IF('Entrée des données_Eingabemaske'!$N$12=\"männlich / masculin\",Perzentile!L54,Perzentile!V54)","v":112.79655857429347},{"$f":"Perzentile!W54","v":{"$error":"#N/A"}},{"$f":"Perzentile!X54","v":{"$error":"#N/A"}},{"$f":"Perzentile!Y54","v":{"$error":"#N/A"}},0]
[4.3,4.333333333333333,52,{"$f":"IF('Entrée des données_Eingabemaske'!$N$12=\"männlich / masculin\",Perzentile!C55,Perzentile!M55)","v":1},{"$f":"IF('Entrée des données_Eingabemaske'!$N$12=\"männlich / masculin\",Perzentile!D55,Perzentile!N55)","v":105.04940000000001},{"$f":"IF('Entrée des données_Eingabemaske'!$N$12=\"männlich / masculin\",Perzentile!E55,Perzentile!O55)","v":4.2459999999999998E-2},{"$f":"IF('Entrée des données_Eingabemaske'!$N$12=\"männlich / masculin\",Perzentile!F55,Perzentile!P55)","v":96.660312847047138},{"$f":"IF('Entrée des données_Eingabemaske'!$N$12=\"männlich / masculin\",Perzentile!G55,Perzentile!Q55)","v":99.333170570166544},{"$f":"IF('Entrée des données_Eingabemaske'!$N$12=\"männlich / masculin\",Perzentile!H55,Perzentile!R55)","v":102.04090758826203},{"$f":"IF('Entrée des données_Eingabemaske'!$N$12=\"männlich / masculin\",Perzentile!I55,Perzentile!S55)","v":105.04940000000001},{"$f":"IF('Entrée des données_Eingabemaske'!$N$12=\"männlich / masculin\",Perzentile!J55,Perzentile!T55)","v":108.057892411738},{"$f":"IF('Entrée des données_Eingabemaske'!$N$12=\"männlich / masculin\",Perzentile!K55,Perzentile!U55)","v":110.76562942983347},{"$f":"IF('Entrée des données_Eingabemaske'!$N$12=\"männlich / masculin\",Perzentile!L55,Perzentile!V55)","v":113.43848715295287},{"$f":"Perzentile!W55","v":{"$error":"#N/A"}},{"$f":"Perzentile!X55","v":{"$error":"#N/A"}},{"$f":"Perzentile!Y55","v":{"$error":"#N/A"}},0]
[4.4000000000000004,4.416666666666667,53,{"$f":"IF('Entrée des données_Eingabemaske'!$N$12=\"männlich / masculin\",Perzentile!C56,Perzentile!M56)","v":1},{"$f":"IF('Entrée des données_Eingabemaske'!$N$12=\"männlich / masculin\",Perzentile!D56,Perzentile!N56)","v":105.6148},{"$f":"IF('Entrée des données_Eingabemaske'!$N$12=\"männlich / masculin\",Perzentile!E56,Perzentile!O56)","v":4.2590000000000003E-2},{"$f":"IF('Entrée des données_Eingabemaske'!$N$12=\"männlich / masculin\",Perzentile!F56,Perzentile!P56)","v":97.154737699768702},{"$f":"IF('Entrée des données_Eingabemaske'!$N$12=\"männlich / masculin\",Perzentile!G56,Perzentile!Q56)","v":99.85020890479548},{"$f":"IF('Entrée des données_Eingabemaske'!$N$12=\"männlich / masculin\",Perzentile!H56,Perzentile!R56)","v":102.5808544980609},{"$f":"IF('Entrée des données_Eingabemaske'!$N$12=\"männlich / masculin\",Perzentile!I56,Perzentile!S56)","v":105.6148},{"$f":"IF('Entrée des données_Eingabemaske'!$N$12=\"männlich / masculin\",Perzentile!J56,Perzentile!T56)","v":108.6487455019391},{"$f":"IF('Entrée des données_Eingabemaske'!$N$12=\"männlich / masculin\",Perzentile!K56,Perzentile!U56)","v":111.37939109520451},{"$f":"IF('Entrée des données_Eingabemaske'!$N$12=\"männlich / masculin\",Perzentile!L56,Perzentile!V56)","v":114.0748623002313},{"$f":"Perzentile!W56","v":{"$error":"#N/A"}},{"$f":"Perzentile!X56","v":{"$error":"#N/A"}},{"$f":"Perzentile!Y56","v":{"$error":"#N/A"}},0]
[4.5,4.5,54,{"$f":"IF('Entrée des données_Eingabemaske'!$N$12=\"männlich / masculin\",Perzentile!C57,Perzentile!M57)","v":1},{"$f":"IF('Entrée des données_Eingabemaske'!$N$12=\"männlich / masculin\",Perzentile!D57,Perzentile!N57)","v":106.1748},{"$f":"IF('Entrée des données_Eingabemaske'!$N$12=\"männlich / masculin\",Perzentile!E57,Perzentile!O57)","v":4.2720000000000001E-2},{"$f":"IF('Entrée des données_Eingabemaske'!$N$12=\"männlich / masculin\",Perzentile!F57,Perzentile!P57)","v":97.643919944822585},{"$f":"IF('Entrée des données_Eingabemaske'!$N$12=\"männlich / masculin\",Perzentile!G57,Perzentile!Q57)","v":100.36195448478564},{"$f":"IF('Entrée des données_Eingabemaske'!$N$12=\"männlich / masculin\",Perzentile!H57,Perzentile!R57)","v":103.11545785186004},{"$f":"IF('Entrée des données_Eingabemaske'!$N$12=\"männlich / masculin\",Perzentile!I57,Perzentile!S57)","v":106.1748},{"$f":"IF('Entrée des données_Eingabemaske'!$N$12=\"männlich / masculin\",Perzentile!J57,Perzentile!T57)","v":109.23414214813997},{"$f":"IF('Entrée des données_Eingabemaske'!$N$12=\"männlich / masculin\",Perzentile!K57,Perzentile!U57)","v":111.98764551521437},{"$f":"IF('Entrée des données_Eingabemaske'!$N$12=\"männlich / masculin\",Perzentile!L57,Perzentile!V57)","v":114.70568005517742},{"$f":"Perzentile!W57","v":{"$error":"#N/A"}},{"$f":"Perzentile!X57","v":{"$error":"#N/A"}},{"$f":"Perzentile!Y57","v":{"$error":"#N/A"}},0]
[4.5999999999999996,4.583333333333333,55,{"$f":"IF('Entrée des données_Eingabemaske'!$N$12=\"männlich / masculin\",Perzentile!C58,Perzentile!M58)","v":1},{"$f":"IF('Entrée des données_Eingabemaske'!$N$12=\"männlich / masculin\",Perzentile!D58,Perzentile!N58)","v":106.7295},{"$f":"IF('Entrée des données_Eingabemaske'!$N$12=\"männlich / masculin\",Perzentile!E58,Perzentile!O58)","v":4.2849999999999999E-2},{"$f":"IF('Entrée des données_Eingabemaske'!$N$12=\"männlich / masculin\",Perzentile!F58,Perzentile!P58)","v":98.127955483959482},{"$f":"IF('Entrée des données_Eingabemaske'!$N$12=\"männlich / masculin\",Perzentile!G58,Perzentile!Q58)","v":100.86850451763614},{"$f":"IF('Entrée des données_Eingabemaske'!$N$12=\"männlich / masculin\",Perzentile!H58,Perzentile!R58)","v":103.64481617994626},{"$f":"IF('Entrée des données_Eingabemaske'!$N$12=\"männlich / masculin\",Perzentile!I58,Perzentile!S58)","v":106.7295},{"$f":"IF('Entrée des données_Eingabemaske'!$N$12=\"männlich / masculin\",Perzentile!J58,Perzentile!T58)","v":109.81418382005373},{"$f":"IF('Entrée des données_Eingabemaske'!$N$12=\"männlich / masculin\",Perzentile!K58,Perzentile!U58)","v":112.59049548236388},{"$f":"IF('Entrée des données_Eingabemaske'!$N$12=\"männlich / masculin\",Perzentile!L58,Perzentile!V58)","v":115.33104451604052},{"$f":"Perzentile!W58","v":{"$error":"#N/A"}},{"$f":"Perzentile!X58","v":{"$error":"#N/A"}},{"$f":"Perzentile!Y58","v":{"$error":"#N/A"}},0]
[4.7,4.666666666666667,56,{"$f":"IF('Entrée des données_Eingabemaske'!$N$12=\"männlich / masculin\",Perzentile!C59,Perzentile!M59)","v":1},{"$f":"IF('Entrée des données_Eingabemaske'!$N$12=\"männlich / masculin\",Perzentile!D59,Perzentile!N59)","v":107.2788},{"$f":"IF('Entrée des données_Eingabemaske'!$N$12=\"männlich / masculin\",Perzentile!E59,Perzentile!O59)","v":4.2979999999999997E-2},{"$f":"IF('Entrée des données_Eingabemaske'!$N$12=\"männlich / masculin\",Perzentile!F59,Perzentile!P59)","v":98.606756288430745},{"$f":"IF('Entrée des données_Eingabemaske'!$N$12=\"männlich / masculin\",Perzentile!G59,Perzentile!Q59)","v":101.36976716042271},{"$f":"IF('Entrée des données_Eingabemaske'!$N$12=\"männlich / masculin\",Perzentile!H59,Perzentile!R59)","v":104.16883377544686},{"$f":"IF('Entrée des données_Eingabemaske'!$N$12=\"männlich / masculin\",Perzentile!I59,Perzentile!S59)","v":107.2788},{"$f":"IF('Entrée des données_Eingabemaske'!$N$12=\"männlich / masculin\",Perzentile!J59,Perzentile!T59)","v":110.38876622455317},{"$f":"IF('Entrée des données_Eingabemaske'!$N$12=\"männlich / masculin\",Perzentile!K59,Perzentile!U59)","v":113.1878328395773},{"$f":"IF('Entrée des données_Eingabemaske'!$N$12=\"männlich / masculin\",Perzentile!L59,Perzentile!V59)","v":115.95084371156926},{"$f":"Perzentile!W59","v":{"$error":"#N/A"}},{"$f":"Perzentile!X59","v":{"$error":"#N/A"}},{"$f":"Perzentile!Y59","v":{"$error":"#N/A"}},0]
[4.8,4.75,57,{"$f":"IF('Entrée des données_Eingabemaske'!$N$12=\"männlich / masculin\",Perzentile!C60,Perzentile!M60)","v":1},{"$f":"IF('Entrée des données_Eingabemaske'!$N$12=\"männlich / masculin\",Perzentile!D60,Perzentile!N60)","v":107.8227},{"$f":"IF('Entrée des données_Eingabemaske'!$N$12=\"männlich / masculin\",Perzentile!E60,Perzentile!O60)","v":4.3099999999999999E-2},{"$f":"IF('Entrée des données_Eingabemaske'!$N$12=\"männlich / masculin\",Perzentile!F60,Perzentile!P60)","v":99.082354241637404},{"$f":"IF('Entrée des données_Eingabemaske'!$N$12=\"männlich / masculin\",Perzentile!G60,Perzentile!Q60)","v":101.86712691559281},{"$f":"IF('Entrée des données_Eingabemaske'!$N$12=\"männlich / masculin\",Perzentile!H60,Perzentile!R60)","v":104.68823931189706},{"$f":"IF('Entrée des données_Eingabemaske'!$N$12=\"männlich / masculin\",Perzentile!I60,Perzentile!S60)","v":107.8227},{"$f":"IF('Entrée des données_Eingabemaske'!$N$12=\"männlich / masculin\",Perzentile!J60,Perzentile!T60)","v":110.95716068810292},{"$f":"IF('Entrée des données_Eingabemaske'!$N$12=\"männlich / masculin\",Perzentile!K60,Perzentile!U60)","v":113.77827308440719},{"$f":"IF('Entrée des données_Eingabemaske'!$N$12=\"männlich / masculin\",Perzentile!L60,Perzentile!V60)","v":116.56304575836259},{"$f":"Perzentile!W60","v":{"$error":"#N/A"}},{"$f":"Perzentile!X60","v":{"$error":"#N/A"}},{"$f":"Perzentile!Y60","v":{"$error":"#N/A"}},0]
[4.8,4.833333333333333,58,{"$f":"IF('Entrée des données_Eingabemaske'!$N$12=\"männlich / masculin\",Perzentile!C61,Perzentile!M61)","v":1},{"$f":"IF('Entrée des données_Eingabemaske'!$N$12=\"männlich / masculin\",Perzentile!D61,Perzentile!N61)","v":108.3613},{"$f":"IF('Entrée des données_Eingabemaske'!$N$12=\"männlich / masculin\",Perzentile!E61,Perzentile!O61)","v":4.3220000000000001E-2},{"$f":"IF('Entrée des données_Eingabemaske'!$N$12=\"männlich / masculin\",Perzentile!F61,Perzentile!P61)","v":99.552837509438305},{"$f":"IF('Entrée des données_Eingabemaske'!$N$12=\"männlich / masculin\",Perzentile!G61,Perzentile!Q61)","v":102.35931294203864},{"$f":"IF('Entrée des données_Eingabemaske'!$N$12=\"männlich / masculin\",Perzentile!H61,Perzentile!R61)","v":105.20241130582238},{"$f":"IF('Entrée des données_Eingabemaske'!$N$12=\"männlich / masculin\",Perzentile!I61,Perzentile!S61)","v":108.3613},{"$f":"IF('Entrée des données_Eingabemaske'!$N$12=\"männlich / masculin\",Perzentile!J61,Perzentile!T61)","v":111.52018869417762},{"$f":"IF('Entrée des données_Eingabemaske'!$N$12=\"männlich / masculin\",Perzentile!K61,Perzentile!U61)","v":114.36328705796134},{"$f":"IF('Entrée des données_Eingabemaske'!$N$12=\"männlich / masculin\",Perzentile!L61,Perzentile!V61)","v":117.16976249056168},{"$f":"Perzentile!W61","v":{"$error":"#N/A"}},{"$f":"Perzentile!X61","v":{"$error":"#N/A"}},{"$f":"Perzentile!Y61","v":{"$error":"#N/A"}},0]
[4.9000000000000004,4.916666666666667,59,{"$f":"IF('Entrée des données_Eingabemaske'!$N$12=\"männlich / masculin\",Perzentile!C62,Perzentile!M62)","v":1},{"$f":"IF('Entrée des données_Eingabemaske'!$N$12=\"männlich / masculin\",Perzentile!D62,Perzentile!N62)","v":108.8948},{"$f":"IF('Entrée des données_Eingabemaske'!$N$12=\"männlich / masculin\",Perzentile!E62,Perzentile!O62)","v":4.3339999999999997E-2},{"$f":"IF('Entrée des données_Eingabemaske'!$N$12=\"männlich / masculin\",Perzentile!F62,Perzentile!P62)","v":100.01839337766862},{"$f":"IF('Entrée des données_Eingabemaske'!$N$12=\"männlich / masculin\",Perzentile!G62,Perzentile!Q62)","v":102.84651657647167},{"$f":"IF('Entrée des données_Eingabemaske'!$N$12=\"männlich / masculin\",Perzentile!H62,Perzentile!R62)","v":105.71154519767208},{"$f":"IF('Entrée des données_Eingabemaske'!$N$12=\"männlich / masculin\",Perzentile!I62,Perzentile!S62)","v":108.8948},{"$f":"IF('Entrée des données_Eingabemaske'!$N$12=\"männlich / masculin\",Perzentile!J62,Perzentile!T62)","v":112.07805480232793},{"$f":"IF('Entrée des données_Eingabemaske'!$N$12=\"männlich / masculin\",Perzentile!K62,Perzentile!U62)","v":114.94308342352832},{"$f":"IF('Entrée des données_Eingabemaske'!$N$12=\"männlich / masculin\",Perzentile!L62,Perzentile!V62)","v":117.77120662233139},{"$f":"Perzentile!W62","v":{"$error":"#N/A"}},{"$f":"Perzentile!X62","v":{"$error":"#N/A"}},{"$f":"Perzentile!Y62","v":{"$error":"#N/A"}},0]
[5,5,60,{"$f":"IF('Entrée des données_Eingabemaske'!$N$12=\"männlich / masculin\",Perzentile!C63,Perzentile!M63)","v":1},{"$f":"IF('Entrée des données_Eingabemaske'!$N$12=\"männlich / masculin\",Perzentile!D63,Perzentile!N63)","v":109.4233},{"$f":"IF('Entrée des données_Eingabemaske'!$N$12=\"männlich / masculin\",Perzentile!E63,Perzentile!O63)","v":4.3470000000000002E-2},{"$f":"IF('Entrée des données_Eingabemaske'!$N$12=\"männlich / masculin\",Perzentile!F63,Perzentile!P63)","v":100.47705909910414},{"$f":"IF('Entrée des données_Eingabemaske'!$N$12=\"männlich / masculin\",Perzentile!G63,Perzentile!Q63)","v":103.3274322861832},{"$f":"IF('Entrée des données_Eingabemaske'!$N$12=\"männlich / masculin\",Perzentile!H63,Perzentile!R63)","v":106.21500124553403},{"$f":"IF('Entrée des données_Eingabemaske'!$N$12=\"männlich / masculin\",Perzentile!I63,Perzentile!S63)","v":109.4233},{"$f":"IF('Entrée des données_Eingabemaske'!$N$12=\"männlich / masculin\",Perzentile!J63,Perzentile!T63)","v":112.63159875446595},{"$f":"IF('Entrée des données_Eingabemaske'!$N$12=\"männlich / masculin\",Perzentile!K63,Perzentile!U63)","v":115.5191677138168},{"$f":"IF('Entrée des données_Eingabemaske'!$N$12=\"männlich / masculin\",Perzentile!L63,Perzentile!V63)","v":118.36954090089584},{"$f":"Perzentile!W63","v":{"$error":"#N/A"}},{"$f":"Perzentile!X63","v":{"$error":"#N/A"}},{"$f":"Perzentile!Y63","v":{"$error":"#N/A"}},0]
[5.0999999999999996,5.083333333333333,61,{"$f":"IF('Entrée des données_Eingabemaske'!$N$12=\"männlich / masculin\",Perzentile!C64,Perzentile!M64)","v":1},{"$f":"IF('Entrée des données_Eingabemaske'!$N$12=\"männlich / masculin\",Perzentile!D64,Perzentile!N64)","v":109.6016},{"$f":"IF('Entrée des données_Eingabemaske'!$N$12=\"männlich / masculin\",Perzentile!E64,Perzentile!O64)","v":4.3549999999999998E-2},{"$f":"IF('Entrée des données_Eingabemaske'!$N$12=\"männlich / masculin\",Perzentile!F64,Perzentile!P64)","v":100.624},{"$f":"IF('Entrée des données_Eingabemaske'!$N$12=\"männlich / masculin\",Perzentile!G64,Perzentile!Q64)","v":103.48456255501729},{"$f":"IF('Entrée des données_Eingabemaske'!$N$12=\"männlich / masculin\",Perzentile!H64,Perzentile!R64)","v":106.38200000000001},{"$f":"IF('Entrée des données_Eingabemaske'!$N$12=\"männlich / masculin\",Perzentile!I64,Perzentile!S64)","v":109.602},{"$f":"IF('Entrée des données_Eingabemaske'!$N$12=\"männlich / masculin\",Perzentile!J64,Perzentile!T64)","v":112.821},{"$f":"IF('Entrée des données_Eingabemaske'!$N$12=\"männlich / masculin\",Perzentile!K64,Perzentile!U64)","v":115.7186374449827},{"$f":"IF('Entrée des données_Eingabemaske'!$N$12=\"männlich / masculin\",Perzentile!L64,Perzentile!V64)","v":118.57899999999999},{"$f":"Perzentile!W64","v":{"$error":"#N/A"}},{"$f":"Perzentile!X64","v":{"$error":"#N/A"}},{"$f":"Perzentile!Y64","v":{"$error":"#N/A"}},0]
[5.2,5.166666666666667,62,{"$f":"IF('Entrée des données_Eingabemaske'!$N$12=\"männlich / masculin\",Perzentile!C65,Perzentile!M65)","v":1},{"$f":"IF('Entrée des données_Eingabemaske'!$N$12=\"männlich / masculin\",Perzentile!D65,Perzentile!N65)","v":110.1258},{"$f":"IF('Entrée des données_Eingabemaske'!$N$12=\"männlich / masculin\",Perzentile!E65,Perzentile!O65)","v":4.3639999999999998E-2},{"$f":"IF('Entrée des données_Eingabemaske'!$N$12=\"männlich / masculin\",Perzentile!F65,Perzentile!P65)","v":101.087},{"$f":"IF('Entrée des données_Eingabemaske'!$N$12=\"männlich / masculin\",Perzentile!G65,Perzentile!Q65)","v":103.96680425944139},{"$f":"IF('Entrée des données_Eingabemaske'!$N$12=\"männlich / masculin\",Perzentile!H65,Perzentile!R65)","v":106.884},{"$f":"IF('Entrée des données_Eingabemaske'!$N$12=\"männlich / masculin\",Perzentile!I65,Perzentile!S65)","v":110.126},{"$f":"IF('Entrée des données_Eingabemaske'!$N$12=\"männlich / masculin\",Perzentile!J65,Perzentile!T65)","v":113.367},{"$f":"IF('Entrée des données_Eingabemaske'!$N$12=\"männlich / masculin\",Perzentile!K65,Perzentile!U65)","v":116.28479574055859},{"$f":"IF('Entrée des données_Eingabemaske'!$N$12=\"männlich / masculin\",Perzentile!L65,Perzentile!V65)","v":119.16500000000001},{"$f":"Perzentile!W65","v":{"$error":"#N/A"}},{"$f":"Perzentile!X65","v":{"$error":"#N/A"}},{"$f":"Perzentile!Y65","v":{"$error":"#N/A"}},0]
[5.3,5.25,63,{"$f":"IF('Entrée des données_Eingabemaske'!$N$12=\"männlich / masculin\",Perzentile!C66,Perzentile!M66)","v":1},{"$f":"IF('Entrée des données_Eingabemaske'!$N$12=\"männlich / masculin\",Perzentile!D66,Perzentile!N66)","v":110.6451},{"$f":"IF('Entrée des données_Eingabemaske'!$N$12=\"männlich / masculin\",Perzentile!E66,Perzentile!O66)","v":4.3729999999999998E-2},{"$f":"IF('Entrée des données_Eingabemaske'!$N$12=\"männlich / masculin\",Perzentile!F66,Perzentile!P66)","v":101.545},{"$f":"IF('Entrée des données_Eingabemaske'!$N$12=\"männlich / masculin\",Perzentile!G66,Perzentile!Q66)","v":104.4442996488108},{"$f":"IF('Entrée des données_Eingabemaske'!$N$12=\"männlich / masculin\",Perzentile!H66,Perzentile!R66)","v":107.38200000000001},{"$f":"IF('Entrée des données_Eingabemaske'!$N$12=\"männlich / masculin\",Perzentile!I66,Perzentile!S66)","v":110.645},{"$f":"IF('Entrée des données_Eingabemaske'!$N$12=\"männlich / masculin\",Perzentile!J66,Perzentile!T66)","v":113.90900000000001},{"$f":"IF('Entrée des données_Eingabemaske'!$N$12=\"männlich / masculin\",Perzentile!K66,Perzentile!U66)","v":116.8459003511892},{"$f":"IF('Entrée des données_Eingabemaske'!$N$12=\"männlich / masculin\",Perzentile!L66,Perzentile!V66)","v":119.745},{"$f":"Perzentile!W66","v":{"$error":"#N/A"}},{"$f":"Perzentile!X66","v":{"$error":"#N/A"}},{"$f":"Perzentile!Y66","v":{"$error":"#N/A"}},0]
[5.3,{"$f":"C66/12","v":5.333333333333333},64,{"$f":"IF('Entrée des données_Eingabemaske'!$N$12=\"männlich / masculin\",Perzentile!C67,Perzentile!M67)","v":1},{"$f":"IF('Entrée des données_Eingabemaske'!$N$12=\"männlich / masculin\",Perzentile!D67,Perzentile!N67)","v":111.1596},{"$f":"IF('Entrée des données_Eingabemaske'!$N$12=\"männlich / masculin\",Perzentile!E67,Perzentile!O67)","v":4.3819999999999998E-2},{"$f":"IF('Entrée des données_Eingabemaske'!$N$12=\"männlich / masculin\",Perzentile!F67,Perzentile!P67)","v":101.998},{"$f":"IF('Entrée des données_Eingabemaske'!$N$12=\"männlich / masculin\",Perzentile!G67,Perzentile!Q67)","v":104.91714480285924},{"$f":"IF('Entrée des données_Eingabemaske'!$N$12=\"männlich / masculin\",Perzentile!H67,Perzentile!R67)","v":107.874},{"$f":"IF('Entrée des données_Eingabemaske'!$N$12=\"männlich / masculin\",Perzentile!I67,Perzentile!S67)","v":111.16},{"$f":"IF('Entrée des données_Eingabemaske'!$N$12=\"männlich / masculin\",Perzentile!J67,Perzentile!T67)","v":114.44499999999999},{"$f":"IF('Entrée des données_Eingabemaske'!$N$12=\"männlich / masculin\",Perzentile!K67,Perzentile!U67)","v":117.40205519714075},{"$f":"IF('Entrée des données_Eingabemaske'!$N$12=\"männlich / masculin\",Perzentile!L67,Perzentile!V67)","v":120.321},{"$f":"Perzentile!W67","v":{"$error":"#N/A"}},{"$f":"Perzentile!X67","v":{"$error":"#N/A"}},{"$f":"Perzentile!Y67","v":{"$error":"#N/A"}},0]
[{"$f":"ROUND(B67,1)","v":5.4},5.416666666666667,65,{"$f":"IF('Entrée des données_Eingabemaske'!$N$12=\"männlich / masculin\",Perzentile!C68,Perzentile!M68)","v":1},{"$f":"IF('Entrée des données_Eingabemaske'!$N$12=\"männlich / masculin\",Perzentile!D68,Perzentile!N68)","v":111.6696},{"$f":"IF('Entrée des données_Eingabemaske'!$N$12=\"männlich / masculin\",Perzentile!E68,Perzentile!O68)","v":4.3900000000000002E-2},{"$f":"IF('Entrée des données_Eingabemaske'!$N$12=\"männlich / masculin\",Perzentile!F68,Perzentile!P68)","v":102.449},{"$f":"IF('Entrée des données_Eingabemaske'!$N$12=\"männlich / masculin\",Perzentile!G68,Perzentile!Q68)","v":105.38705560410584},{"$f":"IF('Entrée des données_Eingabemaske'!$N$12=\"männlich / masculin\",Perzentile!H68,Perzentile!R68)","v":108.363},{"$f":"IF('Entrée des données_Eingabemaske'!$N$12=\"männlich / masculin\",Perzentile!I68,Perzentile!S68)","v":111.67},{"$f":"IF('Entrée des données_Eingabemaske'!$N$12=\"männlich / masculin\",Perzentile!J68,Perzentile!T68)","v":114.976},{"$f":"IF('Entrée des données_Eingabemaske'!$N$12=\"männlich / masculin\",Perzentile!K68,Perzentile!U68)","v":117.95214439589415},{"$f":"IF('Entrée des données_Eingabemaske'!$N$12=\"männlich / masculin\",Perzentile!L68,Perzentile!V68)","v":120.89},{"$f":"Perzentile!W68","v":{"$error":"#N/A"}},{"$f":"Perzentile!X68","v":{"$error":"#N/A"}},{"$f":"Perzentile!Y68","v":{"$error":"#N/A"}},0]
[5.5,5.5,66,{"$f":"IF('Entrée des données_Eingabemaske'!$N$12=\"männlich / masculin\",Perzentile!C69,Perzentile!M69)","v":1},{"$f":"IF('Entrée des données_Eingabemaske'!$N$12=\"männlich / masculin\",Perzentile!D69,Perzentile!N69)","v":112.17529999999999},{"$f":"IF('Entrée des données_Eingabemaske'!$N$12=\"männlich / masculin\",Perzentile!E69,Perzentile!O69)","v":4.3990000000000001E-2},{"$f":"IF('Entrée des données_Eingabemaske'!$N$12=\"männlich / masculin\",Perzentile!F69,Perzentile!P69)","v":102.89400000000001},{"$f":"IF('Entrée des données_Eingabemaske'!$N$12=\"männlich / masculin\",Perzentile!G69,Perzentile!Q69)","v":105.85136660577413},{"$f":"IF('Entrée des données_Eingabemaske'!$N$12=\"männlich / masculin\",Perzentile!H69,Perzentile!R69)","v":108.84699999999999},{"$f":"IF('Entrée des données_Eingabemaske'!$N$12=\"männlich / masculin\",Perzentile!I69,Perzentile!S69)","v":112.175},{"$f":"IF('Entrée des données_Eingabemaske'!$N$12=\"männlich / masculin\",Perzentile!J69,Perzentile!T69)","v":115.504},{"$f":"IF('Entrée des données_Eingabemaske'!$N$12=\"männlich / masculin\",Perzentile!K69,Perzentile!U69)","v":118.49923339422584},{"$f":"IF('Entrée des données_Eingabemaske'!$N$12=\"männlich / masculin\",Perzentile!L69,Perzentile!V69)","v":121.456},{"$f":"Perzentile!W69","v":{"$error":"#N/A"}},{"$f":"Perzentile!X69","v":{"$error":"#N/A"}},{"$f":"Perzentile!Y69","v":{"$error":"#N/A"}},0]
[5.6,5.583333333333333,67,{"$f":"IF('Entrée des données_Eingabemaske'!$N$12=\"männlich / masculin\",Perzentile!C70,Perzentile!M70)","v":1},{"$f":"IF('Entrée des données_Eingabemaske'!$N$12=\"männlich / masculin\",Perzentile!D70,Perzentile!N70)","v":112.6767},{"$f":"IF('Entrée des données_Eingabemaske'!$N$12=\"männlich / masculin\",Perzentile!E70,Perzentile!O70)","v":4.4069999999999998E-2},{"$f":"IF('Entrée des données_Eingabemaske'!$N$12=\"männlich / masculin\",Perzentile!F70,Perzentile!P70)","v":103.337},{"$f":"IF('Entrée des données_Eingabemaske'!$N$12=\"männlich / masculin\",Perzentile!G70,Perzentile!Q70)","v":106.31294787335246},{"$f":"IF('Entrée des données_Eingabemaske'!$N$12=\"männlich / masculin\",Perzentile!H70,Perzentile!R70)","v":109.327},{"$f":"IF('Entrée des données_Eingabemaske'!$N$12=\"männlich / masculin\",Perzentile!I70,Perzentile!S70)","v":112.67700000000001},{"$f":"IF('Entrée des données_Eingabemaske'!$N$12=\"männlich / masculin\",Perzentile!J70,Perzentile!T70)","v":116.026},{"$f":"IF('Entrée des données_Eingabemaske'!$N$12=\"männlich / masculin\",Perzentile!K70,Perzentile!U70)","v":119.04045212664755},{"$f":"IF('Entrée des données_Eingabemaske'!$N$12=\"männlich / masculin\",Perzentile!L70,Perzentile!V70)","v":122.01600000000001},{"$f":"Perzentile!W70","v":{"$error":"#N/A"}},{"$f":"Perzentile!X70","v":{"$error":"#N/A"}},{"$f":"Perzentile!Y70","v":{"$error":"#N/A"}},0]
[5.7,5.666666666666667,68,{"$f":"IF('Entrée des données_Eingabemaske'!$N$12=\"männlich / masculin\",Perzentile!C71,Perzentile!M71)","v":1},{"$f":"IF('Entrée des données_Eingabemaske'!$N$12=\"männlich / masculin\",Perzentile!D71,Perzentile!N71)","v":113.17400000000001},{"$f":"IF('Entrée des données_Eingabemaske'!$N$12=\"männlich / masculin\",Perzentile!E71,Perzentile!O71)","v":4.4150000000000002E-2},{"$f":"IF('Entrée des données_Eingabemaske'!$N$12=\"männlich / masculin\",Perzentile!F71,Perzentile!P71)","v":103.776},{"$f":"IF('Entrée des données_Eingabemaske'!$N$12=\"männlich / masculin\",Perzentile!G71,Perzentile!Q71)","v":106.77055830979459},{"$f":"IF('Entrée des données_Eingabemaske'!$N$12=\"männlich / masculin\",Perzentile!H71,Perzentile!R71)","v":109.804},{"$f":"IF('Entrée des données_Eingabemaske'!$N$12=\"männlich / masculin\",Perzentile!I71,Perzentile!S71)","v":113.17400000000001},{"$f":"IF('Entrée des données_Eingabemaske'!$N$12=\"männlich / masculin\",Perzentile!J71,Perzentile!T71)","v":116.544},{"$f":"IF('Entrée des données_Eingabemaske'!$N$12=\"männlich / masculin\",Perzentile!K71,Perzentile!U71)","v":119.57744169020542},{"$f":"IF('Entrée des données_Eingabemaske'!$N$12=\"männlich / masculin\",Perzentile!L71,Perzentile!V71)","v":122.572},{"$f":"Perzentile!W71","v":{"$error":"#N/A"}},{"$f":"Perzentile!X71","v":{"$error":"#N/A"}},{"$f":"Perzentile!Y71","v":{"$error":"#N/A"}},0]
[5.8,5.75,69,{"$f":"IF('Entrée des données_Eingabemaske'!$N$12=\"männlich / masculin\",Perzentile!C72,Perzentile!M72)","v":1},{"$f":"IF('Entrée des données_Eingabemaske'!$N$12=\"männlich / masculin\",Perzentile!D72,Perzentile!N72)","v":113.66719999999999},{"$f":"IF('Entrée des données_Eingabemaske'!$N$12=\"männlich / masculin\",Perzentile!E72,Perzentile!O72)","v":4.4229999999999998E-2},{"$f":"IF('Entrée des données_Eingabemaske'!$N$12=\"männlich / masculin\",Perzentile!F72,Perzentile!P72)","v":104.212},{"$f":"IF('Entrée des données_Eingabemaske'!$N$12=\"männlich / masculin\",Perzentile!G72,Perzentile!Q72)","v":107.22419917614731},{"$f":"IF('Entrée des données_Eingabemaske'!$N$12=\"männlich / masculin\",Perzentile!H72,Perzentile!R72)","v":110.276},{"$f":"IF('Entrée des données_Eingabemaske'!$N$12=\"männlich / masculin\",Perzentile!I72,Perzentile!S72)","v":113.667},{"$f":"IF('Entrée des données_Eingabemaske'!$N$12=\"männlich / masculin\",Perzentile!J72,Perzentile!T72)","v":117.05800000000001},{"$f":"IF('Entrée des données_Eingabemaske'!$N$12=\"männlich / masculin\",Perzentile!K72,Perzentile!U72)","v":120.11020082385267},{"$f":"IF('Entrée des données_Eingabemaske'!$N$12=\"männlich / masculin\",Perzentile!L72,Perzentile!V72)","v":123.123},{"$f":"Perzentile!W72","v":{"$error":"#N/A"}},{"$f":"Perzentile!X72","v":{"$error":"#N/A"}},{"$f":"Perzentile!Y72","v":{"$error":"#N/A"}},0]
[5.8,5.833333333333333,70,{"$f":"IF('Entrée des données_Eingabemaske'!$N$12=\"männlich / masculin\",Perzentile!C73,Perzentile!M73)","v":1},{"$f":"IF('Entrée des données_Eingabemaske'!$N$12=\"männlich / masculin\",Perzentile!D73,Perzentile!N73)","v":114.15649999999999},{"$f":"IF('Entrée des données_Eingabemaske'!$N$12=\"männlich / masculin\",Perzentile!E73,Perzentile!O73)","v":4.4310000000000002E-2},{"$f":"IF('Entrée des données_Eingabemaske'!$N$12=\"männlich / masculin\",Perzentile!F73,Perzentile!P73)","v":104.643},{"$f":"IF('Entrée des données_Eingabemaske'!$N$12=\"männlich / masculin\",Perzentile!G73,Perzentile!Q73)","v":107.67406037634738},{"$f":"IF('Entrée des données_Eingabemaske'!$N$12=\"männlich / masculin\",Perzentile!H73,Perzentile!R73)","v":110.745},{"$f":"IF('Entrée des données_Eingabemaske'!$N$12=\"männlich / masculin\",Perzentile!I73,Perzentile!S73)","v":114.15600000000001},{"$f":"IF('Entrée des données_Eingabemaske'!$N$12=\"männlich / masculin\",Perzentile!J73,Perzentile!T73)","v":117.568},{"$f":"IF('Entrée des données_Eingabemaske'!$N$12=\"männlich / masculin\",Perzentile!K73,Perzentile!U73)","v":120.6389396236526},{"$f":"IF('Entrée des données_Eingabemaske'!$N$12=\"männlich / masculin\",Perzentile!L73,Perzentile!V73)","v":123.67},{"$f":"Perzentile!W73","v":{"$error":"#N/A"}},{"$f":"Perzentile!X73","v":{"$error":"#N/A"}},{"$f":"Perzentile!Y73","v":{"$error":"#N/A"}},0]
[5.9,5.916666666666667,71,{"$f":"IF('Entrée des données_Eingabemaske'!$N$12=\"männlich / masculin\",Perzentile!C74,Perzentile!M74)","v":1},{"$f":"IF('Entrée des données_Eingabemaske'!$N$12=\"männlich / masculin\",Perzentile!D74,Perzentile!N74)","v":114.6421},{"$f":"IF('Entrée des données_Eingabemaske'!$N$12=\"männlich / masculin\",Perzentile!E74,Perzentile!O74)","v":4.4389999999999999E-2},{"$f":"IF('Entrée des données_Eingabemaske'!$N$12=\"männlich / masculin\",Perzentile!F74,Perzentile!P74)","v":105.071},{"$f":"IF('Entrée des données_Eingabemaske'!$N$12=\"männlich / masculin\",Perzentile!G74,Perzentile!Q74)","v":108.12033173231228},{"$f":"IF('Entrée des données_Eingabemaske'!$N$12=\"männlich / masculin\",Perzentile!H74,Perzentile!R74)","v":111.21},{"$f":"IF('Entrée des données_Eingabemaske'!$N$12=\"männlich / masculin\",Perzentile!I74,Perzentile!S74)","v":114.642},{"$f":"IF('Entrée des données_Eingabemaske'!$N$12=\"männlich / masculin\",Perzentile!J74,Perzentile!T74)","v":118.075},{"$f":"IF('Entrée des données_Eingabemaske'!$N$12=\"männlich / masculin\",Perzentile!K74,Perzentile!U74)","v":121.1638682676877},{"$f":"IF('Entrée des données_Eingabemaske'!$N$12=\"männlich / masculin\",Perzentile!L74,Perzentile!V74)","v":124.21299999999999},{"$f":"Perzentile!W74","v":{"$error":"#N/A"}},{"$f":"Perzentile!X74","v":{"$error":"#N/A"}},{"$f":"Perzentile!Y74","v":{"$error":"#N/A"}},0]
[6,6,72,{"$f":"IF('Entrée des données_Eingabemaske'!$N$12=\"männlich / masculin\",Perzentile!C75,Perzentile!M75)","v":1},{"$f":"IF('Entrée des données_Eingabemaske'!$N$12=\"männlich / masculin\",Perzentile!D75,Perzentile!N75)","v":115.12439999999999},{"$f":"IF('Entrée des données_Eingabemaske'!$N$12=\"männlich / masculin\",Perzentile!E75,Perzentile!O75)","v":4.4470000000000003E-2},{"$f":"IF('Entrée des données_Eingabemaske'!$N$12=\"männlich / masculin\",Perzentile!F75,Perzentile!P75)","v":105.496},{"$f":"IF('Entrée des données_Eingabemaske'!$N$12=\"männlich / masculin\",Perzentile!G75,Perzentile!Q75)","v":108.56339158582053},{"$f":"IF('Entrée des données_Eingabemaske'!$N$12=\"männlich / masculin\",Perzentile!H75,Perzentile!R75)","v":111.67100000000001},{"$f":"IF('Entrée des données_Eingabemaske'!$N$12=\"männlich / masculin\",Perzentile!I75,Perzentile!S75)","v":115.124},{"$f":"IF('Entrée des données_Eingabemaske'!$N$12=\"männlich / masculin\",Perzentile!J75,Perzentile!T75)","v":118.578},{"$f":"IF('Entrée des données_Eingabemaske'!$N$12=\"männlich / masculin\",Perzentile!K75,Perzentile!U75)","v":121.68540841417946},{"$f":"IF('Entrée des données_Eingabemaske'!$N$12=\"männlich / masculin\",Perzentile!L75,Perzentile!V75)","v":124.753},{"$f":"Perzentile!W75","v":{"$error":"#N/A"}},{"$f":"Perzentile!X75","v":{"$error":"#N/A"}},{"$f":"Perzentile!Y75","v":{"$error":"#N/A"}},0]
[6.1,6.083333333333333,73,{"$f":"IF('Entrée des données_Eingabemaske'!$N$12=\"männlich / masculin\",Perzentile!C76,Perzentile!M76)","v":1},{"$f":"IF('Entrée des données_Eingabemaske'!$N$12=\"männlich / masculin\",Perzentile!D76,Perzentile!N76)","v":115.6039},{"$f":"IF('Entrée des données_Eingabemaske'!$N$12=\"männlich / masculin\",Perzentile!E76,Perzentile!O76)","v":4.4540000000000003E-2},{"$f":"IF('Entrée des données_Eingabemaske'!$N$12=\"männlich / masculin\",Perzentile!F76,Perzentile!P76)","v":105.92},{"$f":"IF('Entrée des données_Eingabemaske'!$N$12=\"männlich / masculin\",Perzentile!G76,Perzentile!Q76)","v":109.00519392889012},{"$f":"IF('Entrée des données_Eingabemaske'!$N$12=\"männlich / masculin\",Perzentile!H76,Perzentile!R76)","v":112.131},{"$f":"IF('Entrée des données_Eingabemaske'!$N$12=\"männlich / masculin\",Perzentile!I76,Perzentile!S76)","v":115.604},{"$f":"IF('Entrée des données_Eingabemaske'!$N$12=\"männlich / masculin\",Perzentile!J76,Perzentile!T76)","v":119.077},{"$f":"IF('Entrée des données_Eingabemaske'!$N$12=\"männlich / masculin\",Perzentile!K76,Perzentile!U76)","v":122.20260607110987},{"$f":"IF('Entrée des données_Eingabemaske'!$N$12=\"männlich / masculin\",Perzentile!L76,Perzentile!V76)","v":125.288},{"$f":"Perzentile!W76","v":{"$error":"#N/A"}},{"$f":"Perzentile!X76","v":{"$error":"#N/A"}},{"$f":"Perzentile!Y76","v":{"$error":"#N/A"}},0]
[6.2,6.166666666666667,74,{"$f":"IF('Entrée des données_Eingabemaske'!$N$12=\"männlich / masculin\",Perzentile!C77,Perzentile!M77)","v":1},{"$f":"IF('Entrée des données_Eingabemaske'!$N$12=\"männlich / masculin\",Perzentile!D77,Perzentile!N77)","v":116.0812},{"$f":"IF('Entrée des données_Eingabemaske'!$N$12=\"männlich / masculin\",Perzentile!E77,Perzentile!O77)","v":4.4609999999999997E-2},{"$f":"IF('Entrée des données_Eingabemaske'!$N$12=\"männlich / masculin\",Perzentile!F77,Perzentile!P77)","v":106.342},{"$f":"IF('Entrée des données_Eingabemaske'!$N$12=\"männlich / masculin\",Perzentile!G77,Perzentile!Q77)","v":109.44483601543689},{"$f":"IF('Entrée des données_Eingabemaske'!$N$12=\"männlich / masculin\",Perzentile!H77,Perzentile!R77)","v":112.58799999999999},{"$f":"IF('Entrée des données_Eingabemaske'!$N$12=\"männlich / masculin\",Perzentile!I77,Perzentile!S77)","v":116.081},{"$f":"IF('Entrée des données_Eingabemaske'!$N$12=\"männlich / masculin\",Perzentile!J77,Perzentile!T77)","v":119.574},{"$f":"IF('Entrée des données_Eingabemaske'!$N$12=\"männlich / masculin\",Perzentile!K77,Perzentile!U77)","v":122.7175639845631},{"$f":"IF('Entrée des données_Eingabemaske'!$N$12=\"männlich / masculin\",Perzentile!L77,Perzentile!V77)","v":125.821},{"$f":"Perzentile!W77","v":{"$error":"#N/A"}},{"$f":"Perzentile!X77","v":{"$error":"#N/A"}},{"$f":"Perzentile!Y77","v":{"$error":"#N/A"}},0]
[6.3,6.25,75,{"$f":"IF('Entrée des données_Eingabemaske'!$N$12=\"männlich / masculin\",Perzentile!C78,Perzentile!M78)","v":1},{"$f":"IF('Entrée des données_Eingabemaske'!$N$12=\"männlich / masculin\",Perzentile!D78,Perzentile!N78)","v":116.5568},{"$f":"IF('Entrée des données_Eingabemaske'!$N$12=\"männlich / masculin\",Perzentile!E78,Perzentile!O78)","v":4.4690000000000001E-2},{"$f":"IF('Entrée des données_Eingabemaske'!$N$12=\"männlich / masculin\",Perzentile!F78,Perzentile!P78)","v":106.76},{"$f":"IF('Entrée des données_Eingabemaske'!$N$12=\"männlich / masculin\",Perzentile!G78,Perzentile!Q78)","v":109.8812960721805},{"$f":"IF('Entrée des données_Eingabemaske'!$N$12=\"männlich / masculin\",Perzentile!H78,Perzentile!R78)","v":113.04300000000001},{"$f":"IF('Entrée des données_Eingabemaske'!$N$12=\"männlich / masculin\",Perzentile!I78,Perzentile!S78)","v":116.557},{"$f":"IF('Entrée des données_Eingabemaske'!$N$12=\"männlich / masculin\",Perzentile!J78,Perzentile!T78)","v":120.07},{"$f":"IF('Entrée des données_Eingabemaske'!$N$12=\"männlich / masculin\",Perzentile!K78,Perzentile!U78)","v":123.23230392781949},{"$f":"IF('Entrée des données_Eingabemaske'!$N$12=\"männlich / masculin\",Perzentile!L78,Perzentile!V78)","v":126.354},{"$f":"Perzentile!W78","v":{"$error":"#N/A"}},{"$f":"Perzentile!X78","v":{"$error":"#N/A"}},{"$f":"Perzentile!Y78","v":{"$error":"#N/A"}},0]
[6.3,6.333333333333333,76,{"$f":"IF('Entrée des données_Eingabemaske'!$N$12=\"männlich / masculin\",Perzentile!C79,Perzentile!M79)","v":1},{"$f":"IF('Entrée des données_Eingabemaske'!$N$12=\"männlich / masculin\",Perzentile!D79,Perzentile!N79)","v":117.0311},{"$f":"IF('Entrée des données_Eingabemaske'!$N$12=\"männlich / masculin\",Perzentile!E79,Perzentile!O79)","v":4.4749999999999998E-2},{"$f":"IF('Entrée des données_Eingabemaske'!$N$12=\"männlich / masculin\",Perzentile!F79,Perzentile!P79)","v":107.181},{"$f":"IF('Entrée des données_Eingabemaske'!$N$12=\"männlich / masculin\",Perzentile!G79,Perzentile!Q79)","v":110.31943282334728},{"$f":"IF('Entrée des données_Eingabemaske'!$N$12=\"männlich / masculin\",Perzentile!H79,Perzentile!R79)","v":113.499},{"$f":"IF('Entrée des données_Eingabemaske'!$N$12=\"männlich / masculin\",Perzentile!I79,Perzentile!S79)","v":117.03100000000001},{"$f":"IF('Entrée des données_Eingabemaske'!$N$12=\"männlich / masculin\",Perzentile!J79,Perzentile!T79)","v":120.563},{"$f":"IF('Entrée des données_Eingabemaske'!$N$12=\"männlich / masculin\",Perzentile!K79,Perzentile!U79)","v":123.74276717665271},{"$f":"IF('Entrée des données_Eingabemaske'!$N$12=\"männlich / masculin\",Perzentile!L79,Perzentile!V79)","v":126.881},{"$f":"Perzentile!W79","v":{"$error":"#N/A"}},{"$f":"Perzentile!X79","v":{"$error":"#N/A"}},{"$f":"Perzentile!Y79","v":{"$error":"#N/A"}},0]
[6.4,6.416666666666667,77,{"$f":"IF('Entrée des données_Eingabemaske'!$N$12=\"männlich / masculin\",Perzentile!C80,Perzentile!M80)","v":1},{"$f":"IF('Entrée des données_Eingabemaske'!$N$12=\"männlich / masculin\",Perzentile!D80,Perzentile!N80)","v":117.5044},{"$f":"IF('Entrée des données_Eingabemaske'!$N$12=\"männlich / masculin\",Perzentile!E80,Perzentile!O80)","v":4.4819999999999999E-2},{"$f":"IF('Entrée des données_Eingabemaske'!$N$12=\"männlich / masculin\",Perzentile!F80,Perzentile!P80)","v":107.599},{"$f":"IF('Entrée des données_Eingabemaske'!$N$12=\"männlich / masculin\",Perzentile!G80,Perzentile!Q80)","v":110.75504818057306},{"$f":"IF('Entrée des données_Eingabemaske'!$N$12=\"männlich / masculin\",Perzentile!H80,Perzentile!R80)","v":113.952},{"$f":"IF('Entrée des données_Eingabemaske'!$N$12=\"männlich / masculin\",Perzentile!I80,Perzentile!S80)","v":117.504},{"$f":"IF('Entrée des données_Eingabemaske'!$N$12=\"männlich / masculin\",Perzentile!J80,Perzentile!T80)","v":121.057},{"$f":"IF('Entrée des données_Eingabemaske'!$N$12=\"männlich / masculin\",Perzentile!K80,Perzentile!U80)","v":124.25375181942697},{"$f":"IF('Entrée des données_Eingabemaske'!$N$12=\"männlich / masculin\",Perzentile!L80,Perzentile!V80)","v":127.41},{"$f":"Perzentile!W80","v":{"$error":"#N/A"}},{"$f":"Perzentile!X80","v":{"$error":"#N/A"}},{"$f":"Perzentile!Y80","v":{"$error":"#N/A"}},0]
[6.5,6.5,78,{"$f":"IF('Entrée des données_Eingabemaske'!$N$12=\"männlich / masculin\",Perzentile!C81,Perzentile!M81)","v":1},{"$f":"IF('Entrée des données_Eingabemaske'!$N$12=\"männlich / masculin\",Perzentile!D81,Perzentile!N81)","v":117.9769},{"$f":"IF('Entrée des données_Eingabemaske'!$N$12=\"männlich / masculin\",Perzentile!E81,Perzentile!O81)","v":4.4889999999999999E-2},{"$f":"IF('Entrée des données_Eingabemaske'!$N$12=\"männlich / masculin\",Perzentile!F81,Perzentile!P81)","v":108.01600000000001},{"$f":"IF('Entrée des données_Eingabemaske'!$N$12=\"männlich / masculin\",Perzentile!G81,Perzentile!Q81)","v":111.1898246427088},{"$f":"IF('Entrée des données_Eingabemaske'!$N$12=\"männlich / masculin\",Perzentile!H81,Perzentile!R81)","v":114.405},{"$f":"IF('Entrée des données_Eingabemaske'!$N$12=\"männlich / masculin\",Perzentile!I81,Perzentile!S81)","v":117.977},{"$f":"IF('Entrée des données_Eingabemaske'!$N$12=\"männlich / masculin\",Perzentile!J81,Perzentile!T81)","v":121.54900000000001},{"$f":"IF('Entrée des données_Eingabemaske'!$N$12=\"männlich / masculin\",Perzentile!K81,Perzentile!U81)","v":124.76397535729122},{"$f":"IF('Entrée des données_Eingabemaske'!$N$12=\"männlich / masculin\",Perzentile!L81,Perzentile!V81)","v":127.938},{"$f":"Perzentile!W81","v":{"$error":"#N/A"}},{"$f":"Perzentile!X81","v":{"$error":"#N/A"}},{"$f":"Perzentile!Y81","v":{"$error":"#N/A"}},0]
[6.6,6.583333333333333,79,{"$f":"IF('Entrée des données_Eingabemaske'!$N$12=\"männlich / masculin\",Perzentile!C82,Perzentile!M82)","v":1},{"$f":"IF('Entrée des données_Eingabemaske'!$N$12=\"männlich / masculin\",Perzentile!D82,Perzentile!N82)","v":118.44889999999999},{"$f":"IF('Entrée des données_Eingabemaske'!$N$12=\"männlich / masculin\",Perzentile!E82,Perzentile!O82)","v":4.4949999999999997E-2},{"$f":"IF('Entrée des données_Eingabemaske'!$N$12=\"männlich / masculin\",Perzentile!F82,Perzentile!P82)","v":108.435},{"$f":"IF('Entrée des données_Eingabemaske'!$N$12=\"männlich / masculin\",Perzentile!G82,Perzentile!Q82)","v":111.62556312321998},{"$f":"IF('Entrée des données_Eingabemaske'!$N$12=\"männlich / masculin\",Perzentile!H82,Perzentile!R82)","v":114.858},{"$f":"IF('Entrée des données_Eingabemaske'!$N$12=\"männlich / masculin\",Perzentile!I82,Perzentile!S82)","v":118.449},{"$f":"IF('Entrée des données_Eingabemaske'!$N$12=\"männlich / masculin\",Perzentile!J82,Perzentile!T82)","v":122.04},{"$f":"IF('Entrée des données_Eingabemaske'!$N$12=\"männlich / masculin\",Perzentile!K82,Perzentile!U82)","v":125.27223687678},{"$f":"IF('Entrée des données_Eingabemaske'!$N$12=\"männlich / masculin\",Perzentile!L82,Perzentile!V82)","v":128.46299999999999},{"$f":"Perzentile!W82","v":{"$error":"#N/A"}},{"$f":"Perzentile!X82","v":{"$error":"#N/A"}},{"$f":"Perzentile!Y82","v":{"$error":"#N/A"}},0]
[6.7,6.666666666666667,80,{"$f":"IF('Entrée des données_Eingabemaske'!$N$12=\"männlich / masculin\",Perzentile!C83,Perzentile!M83)","v":1},{"$f":"IF('Entrée des données_Eingabemaske'!$N$12=\"männlich / masculin\",Perzentile!D83,Perzentile!N83)","v":118.9208},{"$f":"IF('Entrée des données_Eingabemaske'!$N$12=\"männlich / masculin\",Perzentile!E83,Perzentile!O83)","v":4.5019999999999998E-2},{"$f":"IF('Entrée des données_Eingabemaske'!$N$12=\"männlich / masculin\",Perzentile!F83,Perzentile!P83)","v":108.851},{"$f":"IF('Entrée des données_Eingabemaske'!$N$12=\"männlich / masculin\",Perzentile!G83,Perzentile!Q83)","v":112.05961075353994},{"$f":"IF('Entrée des données_Eingabemaske'!$N$12=\"männlich / masculin\",Perzentile!H83,Perzentile!R83)","v":115.31},{"$f":"IF('Entrée des données_Eingabemaske'!$N$12=\"männlich / masculin\",Perzentile!I83,Perzentile!S83)","v":118.92100000000001},{"$f":"IF('Entrée des données_Eingabemaske'!$N$12=\"männlich / masculin\",Perzentile!J83,Perzentile!T83)","v":122.532},{"$f":"IF('Entrée des données_Eingabemaske'!$N$12=\"männlich / masculin\",Perzentile!K83,Perzentile!U83)","v":125.78198924646004},{"$f":"IF('Entrée des données_Eingabemaske'!$N$12=\"männlich / masculin\",Perzentile!L83,Perzentile!V83)","v":128.99},{"$f":"Perzentile!W83","v":{"$error":"#N/A"}},{"$f":"Perzentile!X83","v":{"$error":"#N/A"}},{"$f":"Perzentile!Y83","v":{"$error":"#N/A"}},0]
[6.8,6.75,81,{"$f":"IF('Entrée des données_Eingabemaske'!$N$12=\"männlich / masculin\",Perzentile!C84,Perzentile!M84)","v":1},{"$f":"IF('Entrée des données_Eingabemaske'!$N$12=\"männlich / masculin\",Perzentile!D84,Perzentile!N84)","v":119.3926},{"$f":"IF('Entrée des données_Eingabemaske'!$N$12=\"männlich / masculin\",Perzentile!E84,Perzentile!O84)","v":4.5080000000000002E-2},{"$f":"IF('Entrée des données_Eingabemaske'!$N$12=\"männlich / masculin\",Perzentile!F84,Perzentile!P84)","v":109.27},{"$f":"IF('Entrée des données_Eingabemaske'!$N$12=\"männlich / masculin\",Perzentile!G84,Perzentile!Q84)","v":112.49500957312462},{"$f":"IF('Entrée des données_Eingabemaske'!$N$12=\"männlich / masculin\",Perzentile!H84,Perzentile!R84)","v":115.762},{"$f":"IF('Entrée des données_Eingabemaske'!$N$12=\"männlich / masculin\",Perzentile!I84,Perzentile!S84)","v":119.393},{"$f":"IF('Entrée des données_Eingabemaske'!$N$12=\"männlich / masculin\",Perzentile!J84,Perzentile!T84)","v":123.023},{"$f":"IF('Entrée des données_Eingabemaske'!$N$12=\"männlich / masculin\",Perzentile!K84,Perzentile!U84)","v":126.29019042687538},{"$f":"IF('Entrée des données_Eingabemaske'!$N$12=\"männlich / masculin\",Perzentile!L84,Perzentile!V84)","v":129.51499999999999},{"$f":"Perzentile!W84","v":{"$error":"#N/A"}},{"$f":"Perzentile!X84","v":{"$error":"#N/A"}},{"$f":"Perzentile!Y84","v":{"$error":"#N/A"}},0]
[6.8,6.833333333333333,82,{"$f":"IF('Entrée des données_Eingabemaske'!$N$12=\"männlich / masculin\",Perzentile!C85,Perzentile!M85)","v":1},{"$f":"IF('Entrée des données_Eingabemaske'!$N$12=\"männlich / masculin\",Perzentile!D85,Perzentile!N85)","v":119.8648},{"$f":"IF('Entrée des données_Eingabemaske'!$N$12=\"männlich / masculin\",Perzentile!E85,Perzentile!O85)","v":4.514E-2},{"$f":"IF('Entrée des données_Eingabemaske'!$N$12=\"männlich / masculin\",Perzentile!F85,Perzentile!P85)","v":109.688},{"$f":"IF('Entrée des données_Eingabemaske'!$N$12=\"männlich / masculin\",Perzentile!G85,Perzentile!Q85)","v":112.9307126966908},{"$f":"IF('Entrée des données_Eingabemaske'!$N$12=\"männlich / masculin\",Perzentile!H85,Perzentile!R85)","v":116.215},{"$f":"IF('Entrée des données_Eingabemaske'!$N$12=\"männlich / masculin\",Perzentile!I85,Perzentile!S85)","v":119.86499999999999},{"$f":"IF('Entrée des données_Eingabemaske'!$N$12=\"männlich / masculin\",Perzentile!J85,Perzentile!T85)","v":123.514},{"$f":"IF('Entrée des données_Eingabemaske'!$N$12=\"männlich / masculin\",Perzentile!K85,Perzentile!U85)","v":126.79888730330919},{"$f":"IF('Entrée des données_Eingabemaske'!$N$12=\"männlich / masculin\",Perzentile!L85,Perzentile!V85)","v":130.041},{"$f":"Perzentile!W85","v":{"$error":"#N/A"}},{"$f":"Perzentile!X85","v":{"$error":"#N/A"}},{"$f":"Perzentile!Y85","v":{"$error":"#N/A"}},0]
[6.9,6.916666666666667,83,{"$f":"IF('Entrée des données_Eingabemaske'!$N$12=\"männlich / masculin\",Perzentile!C86,Perzentile!M86)","v":1},{"$f":"IF('Entrée des données_Eingabemaske'!$N$12=\"männlich / masculin\",Perzentile!D86,Perzentile!N86)","v":120.3374},{"$f":"IF('Entrée des données_Eingabemaske'!$N$12=\"männlich / masculin\",Perzentile!E86,Perzentile!O86)","v":4.5199999999999997E-2},{"$f":"IF('Entrée des données_Eingabemaske'!$N$12=\"männlich / masculin\",Perzentile!F86,Perzentile!P86)","v":110.107},{"$f":"IF('Entrée des données_Eingabemaske'!$N$12=\"männlich / masculin\",Perzentile!G86,Perzentile!Q86)","v":113.36672003196678},{"$f":"IF('Entrée des données_Eingabemaske'!$N$12=\"männlich / masculin\",Perzentile!H86,Perzentile!R86)","v":116.669},{"$f":"IF('Entrée des données_Eingabemaske'!$N$12=\"männlich / masculin\",Perzentile!I86,Perzentile!S86)","v":120.337},{"$f":"IF('Entrée des données_Eingabemaske'!$N$12=\"männlich / masculin\",Perzentile!J86,Perzentile!T86)","v":124.006},{"$f":"IF('Entrée des données_Eingabemaske'!$N$12=\"männlich / masculin\",Perzentile!K86,Perzentile!U86)","v":127.30807996803323},{"$f":"IF('Entrée des données_Eingabemaske'!$N$12=\"männlich / masculin\",Perzentile!L86,Perzentile!V86)","v":130.56800000000001},{"$f":"Perzentile!W86","v":{"$error":"#N/A"}},{"$f":"Perzentile!X86","v":{"$error":"#N/A"}},{"$f":"Perzentile!Y86","v":{"$error":"#N/A"}},0]
[7,7,84,{"$f":"IF('Entrée des données_Eingabemaske'!$N$12=\"männlich / masculin\",Perzentile!C87,Perzentile!M87)","v":1},{"$f":"IF('Entrée des données_Eingabemaske'!$N$12=\"männlich / masculin\",Perzentile!D87,Perzentile!N87)","v":120.8105},{"$f":"IF('Entrée des données_Eingabemaske'!$N$12=\"männlich / masculin\",Perzentile!E87,Perzentile!O87)","v":4.5249999999999999E-2},{"$f":"IF('Entrée des données_Eingabemaske'!$N$12=\"männlich / masculin\",Perzentile!F87,Perzentile!P87)","v":110.529},{"$f":"IF('Entrée des données_Eingabemaske'!$N$12=\"männlich / masculin\",Perzentile!G87,Perzentile!Q87)","v":113.80467393523253},{"$f":"IF('Entrée des données_Eingabemaske'!$N$12=\"männlich / masculin\",Perzentile!H87,Perzentile!R87)","v":117.123},{"$f":"IF('Entrée des données_Eingabemaske'!$N$12=\"männlich / masculin\",Perzentile!I87,Perzentile!S87)","v":120.81},{"$f":"IF('Entrée des données_Eingabemaske'!$N$12=\"männlich / masculin\",Perzentile!J87,Perzentile!T87)","v":124.498},{"$f":"IF('Entrée des données_Eingabemaske'!$N$12=\"männlich / masculin\",Perzentile!K87,Perzentile!U87)","v":127.81632606476748},{"$f":"IF('Entrée des données_Eingabemaske'!$N$12=\"männlich / masculin\",Perzentile!L87,Perzentile!V87)","v":131.09200000000001},{"$f":"Perzentile!W87","v":{"$error":"#N/A"}},{"$f":"Perzentile!X87","v":{"$error":"#N/A"}},{"$f":"Perzentile!Y87","v":{"$error":"#N/A"}},0]
[7.1,7.083333333333333,85,{"$f":"IF('Entrée des données_Eingabemaske'!$N$12=\"männlich / masculin\",Perzentile!C88,Perzentile!M88)","v":1},{"$f":"IF('Entrée des données_Eingabemaske'!$N$12=\"männlich / masculin\",Perzentile!D88,Perzentile!N88)","v":121.2843},{"$f":"IF('Entrée des données_Eingabemaske'!$N$12=\"männlich / masculin\",Perzentile!E88,Perzentile!O88)","v":4.5310000000000003E-2},{"$f":"IF('Entrée des données_Eingabemaske'!$N$12=\"männlich / masculin\",Perzentile!F88,Perzentile!P88)","v":110.949},{"$f":"IF('Entrée des données_Eingabemaske'!$N$12=\"männlich / masculin\",Perzentile!G88,Perzentile!Q88)","v":114.24167224944816},{"$f":"IF('Entrée des données_Eingabemaske'!$N$12=\"männlich / masculin\",Perzentile!H88,Perzentile!R88)","v":117.578},{"$f":"IF('Entrée des données_Eingabemaske'!$N$12=\"männlich / masculin\",Perzentile!I88,Perzentile!S88)","v":121.28400000000001},{"$f":"IF('Entrée des données_Eingabemaske'!$N$12=\"männlich / masculin\",Perzentile!J88,Perzentile!T88)","v":124.991},{"$f":"IF('Entrée des données_Eingabemaske'!$N$12=\"männlich / masculin\",Perzentile!K88,Perzentile!U88)","v":128.32692775055187},{"$f":"IF('Entrée des données_Eingabemaske'!$N$12=\"männlich / masculin\",Perzentile!L88,Perzentile!V88)","v":131.62},{"$f":"Perzentile!W88","v":{"$error":"#N/A"}},{"$f":"Perzentile!X88","v":{"$error":"#N/A"}},{"$f":"Perzentile!Y88","v":{"$error":"#N/A"}},0]
[7.2,7.166666666666667,86,{"$f":"IF('Entrée des données_Eingabemaske'!$N$12=\"männlich / masculin\",Perzentile!C89,Perzentile!M89)","v":1},{"$f":"IF('Entrée des données_Eingabemaske'!$N$12=\"männlich / masculin\",Perzentile!D89,Perzentile!N89)","v":121.7587},{"$f":"IF('Entrée des données_Eingabemaske'!$N$12=\"männlich / masculin\",Perzentile!E89,Perzentile!O89)","v":4.5359999999999998E-2},{"$f":"IF('Entrée des données_Eingabemaske'!$N$12=\"männlich / masculin\",Perzentile!F89,Perzentile!P89)","v":111.371},{"$f":"IF('Entrée des données_Eingabemaske'!$N$12=\"männlich / masculin\",Perzentile!G89,Perzentile!Q89)","v":114.68072321389728},{"$f":"IF('Entrée des données_Eingabemaske'!$N$12=\"männlich / masculin\",Perzentile!H89,Perzentile!R89)","v":118.03400000000001},{"$f":"IF('Entrée des données_Eingabemaske'!$N$12=\"männlich / masculin\",Perzentile!I89,Perzentile!S89)","v":121.759},{"$f":"IF('Entrée des données_Eingabemaske'!$N$12=\"männlich / masculin\",Perzentile!J89,Perzentile!T89)","v":125.48399999999999},{"$f":"IF('Entrée des données_Eingabemaske'!$N$12=\"männlich / masculin\",Perzentile!K89,Perzentile!U89)","v":128.83667678610274},{"$f":"IF('Entrée des données_Eingabemaske'!$N$12=\"männlich / masculin\",Perzentile!L89,Perzentile!V89)","v":132.14599999999999},{"$f":"Perzentile!W89","v":{"$error":"#N/A"}},{"$f":"Perzentile!X89","v":{"$error":"#N/A"}},{"$f":"Perzentile!Y89","v":{"$error":"#N/A"}},0]
[7.3,7.25,87,{"$f":"IF('Entrée des données_Eingabemaske'!$N$12=\"männlich / masculin\",Perzentile!C90,Perzentile!M90)","v":1},{"$f":"IF('Entrée des données_Eingabemaske'!$N$12=\"männlich / masculin\",Perzentile!D90,Perzentile!N90)","v":122.2338},{"$f":"IF('Entrée des données_Eingabemaske'!$N$12=\"männlich / masculin\",Perzentile!E90,Perzentile!O90)","v":4.5420000000000002E-2},{"$f":"IF('Entrée des données_Eingabemaske'!$N$12=\"männlich / masculin\",Perzentile!F90,Perzentile!P90)","v":111.792},{"$f":"IF('Entrée des données_Eingabemaske'!$N$12=\"männlich / masculin\",Perzentile!G90,Perzentile!Q90)","v":115.118806155683},{"$f":"IF('Entrée des données_Eingabemaske'!$N$12=\"männlich / masculin\",Perzentile!H90,Perzentile!R90)","v":118.489},{"$f":"IF('Entrée des données_Eingabemaske'!$N$12=\"männlich / masculin\",Perzentile!I90,Perzentile!S90)","v":122.23399999999999},{"$f":"IF('Entrée des données_Eingabemaske'!$N$12=\"männlich / masculin\",Perzentile!J90,Perzentile!T90)","v":125.97799999999999},{"$f":"IF('Entrée des données_Eingabemaske'!$N$12=\"männlich / masculin\",Perzentile!K90,Perzentile!U90)","v":129.34879384431699},{"$f":"IF('Entrée des données_Eingabemaske'!$N$12=\"männlich / masculin\",Perzentile!L90,Perzentile!V90)","v":132.67599999999999},{"$f":"Perzentile!W90","v":{"$error":"#N/A"}},{"$f":"Perzentile!X90","v":{"$error":"#N/A"}},{"$f":"Perzentile!Y90","v":{"$error":"#N/A"}},0]
[7.3,7.333333333333333,88,{"$f":"IF('Entrée des données_Eingabemaske'!$N$12=\"männlich / masculin\",Perzentile!C91,Perzentile!M91)","v":1},{"$f":"IF('Entrée des données_Eingabemaske'!$N$12=\"männlich / masculin\",Perzentile!D91,Perzentile!N91)","v":122.7098},{"$f":"IF('Entrée des données_Eingabemaske'!$N$12=\"männlich / masculin\",Perzentile!E91,Perzentile!O91)","v":4.5469999999999997E-2},{"$f":"IF('Entrée des données_Eingabemaske'!$N$12=\"männlich / masculin\",Perzentile!F91,Perzentile!P91)","v":112.21599999999999},{"$f":"IF('Entrée des données_Eingabemaske'!$N$12=\"männlich / masculin\",Perzentile!G91,Perzentile!Q91)","v":115.55923616654518},{"$f":"IF('Entrée des données_Eingabemaske'!$N$12=\"männlich / masculin\",Perzentile!H91,Perzentile!R91)","v":118.946},{"$f":"IF('Entrée des données_Eingabemaske'!$N$12=\"männlich / masculin\",Perzentile!I91,Perzentile!S91)","v":122.71},{"$f":"IF('Entrée des données_Eingabemaske'!$N$12=\"männlich / masculin\",Perzentile!J91,Perzentile!T91)","v":126.473},{"$f":"IF('Entrée des données_Eingabemaske'!$N$12=\"männlich / masculin\",Perzentile!K91,Perzentile!U91)","v":129.86036383345484},{"$f":"IF('Entrée des données_Eingabemaske'!$N$12=\"männlich / masculin\",Perzentile!L91,Perzentile!V91)","v":133.20400000000001},{"$f":"Perzentile!W91","v":{"$error":"#N/A"}},{"$f":"Perzentile!X91","v":{"$error":"#N/A"}},{"$f":"Perzentile!Y91","v":{"$error":"#N/A"}},0]
[7.4,7.416666666666667,89,{"$f":"IF('Entrée des données_Eingabemaske'!$N$12=\"männlich / masculin\",Perzentile!C92,Perzentile!M92)","v":1},{"$f":"IF('Entrée des données_Eingabemaske'!$N$12=\"männlich / masculin\",Perzentile!D92,Perzentile!N92)","v":123.18680000000001},{"$f":"IF('Entrée des données_Eingabemaske'!$N$12=\"männlich / masculin\",Perzentile!E92,Perzentile!O92)","v":4.5510000000000002E-2},{"$f":"IF('Entrée des données_Eingabemaske'!$N$12=\"männlich / masculin\",Perzentile!F92,Perzentile!P92)","v":112.643},{"$f":"IF('Entrée des données_Eingabemaske'!$N$12=\"männlich / masculin\",Perzentile!G92,Perzentile!Q92)","v":116.00212554168951},{"$f":"IF('Entrée des données_Eingabemaske'!$N$12=\"männlich / masculin\",Perzentile!H92,Perzentile!R92)","v":119.405},{"$f":"IF('Entrée des données_Eingabemaske'!$N$12=\"männlich / masculin\",Perzentile!I92,Perzentile!S92)","v":123.187},{"$f":"IF('Entrée des données_Eingabemaske'!$N$12=\"männlich / masculin\",Perzentile!J92,Perzentile!T92)","v":126.968},{"$f":"IF('Entrée des données_Eingabemaske'!$N$12=\"männlich / masculin\",Perzentile!K92,Perzentile!U92)","v":130.3714744583105},{"$f":"IF('Entrée des données_Eingabemaske'!$N$12=\"männlich / masculin\",Perzentile!L92,Perzentile!V92)","v":133.73099999999999},{"$f":"Perzentile!W92","v":{"$error":"#N/A"}},{"$f":"Perzentile!X92","v":{"$error":"#N/A"}},{"$f":"Perzentile!Y92","v":{"$error":"#N/A"}},0]
[7.5,7.5,90,{"$f":"IF('Entrée des données_Eingabemaske'!$N$12=\"männlich / masculin\",Perzentile!C93,Perzentile!M93)","v":1},{"$f":"IF('Entrée des données_Eingabemaske'!$N$12=\"männlich / masculin\",Perzentile!D93,Perzentile!N93)","v":123.66459999999999},{"$f":"IF('Entrée des données_Eingabemaske'!$N$12=\"männlich / masculin\",Perzentile!E93,Perzentile!O93)","v":4.5560000000000003E-2},{"$f":"IF('Entrée des données_Eingabemaske'!$N$12=\"männlich / masculin\",Perzentile!F93,Perzentile!P93)","v":113.068},{"$f":"IF('Entrée des données_Eingabemaske'!$N$12=\"männlich / masculin\",Perzentile!G93,Perzentile!Q93)","v":116.44413448746971},{"$f":"IF('Entrée des données_Eingabemaske'!$N$12=\"männlich / masculin\",Perzentile!H93,Perzentile!R93)","v":119.864},{"$f":"IF('Entrée des données_Eingabemaske'!$N$12=\"männlich / masculin\",Perzentile!I93,Perzentile!S93)","v":123.66500000000001},{"$f":"IF('Entrée des données_Eingabemaske'!$N$12=\"männlich / masculin\",Perzentile!J93,Perzentile!T93)","v":127.465},{"$f":"IF('Entrée des données_Eingabemaske'!$N$12=\"männlich / masculin\",Perzentile!K93,Perzentile!U93)","v":130.88506551253028},{"$f":"IF('Entrée des données_Eingabemaske'!$N$12=\"männlich / masculin\",Perzentile!L93,Perzentile!V93)","v":134.261},{"$f":"Perzentile!W93","v":{"$error":"#N/A"}},{"$f":"Perzentile!X93","v":{"$error":"#N/A"}},{"$f":"Perzentile!Y93","v":{"$error":"#N/A"}},0]
[7.6,7.583333333333333,91,{"$f":"IF('Entrée des données_Eingabemaske'!$N$12=\"männlich / masculin\",Perzentile!C94,Perzentile!M94)","v":1},{"$f":"IF('Entrée des données_Eingabemaske'!$N$12=\"männlich / masculin\",Perzentile!D94,Perzentile!N94)","v":124.1435},{"$f":"IF('Entrée des données_Eingabemaske'!$N$12=\"männlich / masculin\",Perzentile!E94,Perzentile!O94)","v":4.5609999999999998E-2},{"$f":"IF('Entrée des données_Eingabemaske'!$N$12=\"männlich / masculin\",Perzentile!F94,Perzentile!P94)","v":113.494},{"$f":"IF('Entrée des données_Eingabemaske'!$N$12=\"männlich / masculin\",Perzentile!G94,Perzentile!Q94)","v":116.88711790399253},{"$f":"IF('Entrée des données_Eingabemaske'!$N$12=\"männlich / masculin\",Perzentile!H94,Perzentile!R94)","v":120.324},{"$f":"IF('Entrée des données_Eingabemaske'!$N$12=\"männlich / masculin\",Perzentile!I94,Perzentile!S94)","v":124.14400000000001},{"$f":"IF('Entrée des données_Eingabemaske'!$N$12=\"männlich / masculin\",Perzentile!J94,Perzentile!T94)","v":127.96299999999999},{"$f":"IF('Entrée des données_Eingabemaske'!$N$12=\"männlich / masculin\",Perzentile!K94,Perzentile!U94)","v":131.39988209600747},{"$f":"IF('Entrée des données_Eingabemaske'!$N$12=\"männlich / masculin\",Perzentile!L94,Perzentile!V94)","v":134.79300000000001},{"$f":"Perzentile!W94","v":{"$error":"#N/A"}},{"$f":"Perzentile!X94","v":{"$error":"#N/A"}},{"$f":"Perzentile!Y94","v":{"$error":"#N/A"}},0]
[7.7,7.666666666666667,92,{"$f":"IF('Entrée des données_Eingabemaske'!$N$12=\"männlich / masculin\",Perzentile!C95,Perzentile!M95)","v":1},{"$f":"IF('Entrée des données_Eingabemaske'!$N$12=\"männlich / masculin\",Perzentile!D95,Perzentile!N95)","v":124.6234},{"$f":"IF('Entrée des données_Eingabemaske'!$N$12=\"männlich / masculin\",Perzentile!E95,Perzentile!O95)","v":4.5650000000000003E-2},{"$f":"IF('Entrée des données_Eingabemaske'!$N$12=\"männlich / masculin\",Perzentile!F95,Perzentile!P95)","v":113.923},{"$f":"IF('Entrée des données_Eingabemaske'!$N$12=\"männlich / masculin\",Perzentile!G95,Perzentile!Q95)","v":117.33257854450014},{"$f":"IF('Entrée des données_Eingabemaske'!$N$12=\"männlich / masculin\",Perzentile!H95,Perzentile!R95)","v":120.786},{"$f":"IF('Entrée des données_Eingabemaske'!$N$12=\"männlich / masculin\",Perzentile!I95,Perzentile!S95)","v":124.623},{"$f":"IF('Entrée des données_Eingabemaske'!$N$12=\"männlich / masculin\",Perzentile!J95,Perzentile!T95)","v":128.46100000000001},{"$f":"IF('Entrée des données_Eingabemaske'!$N$12=\"männlich / masculin\",Perzentile!K95,Perzentile!U95)","v":131.91422145549987},{"$f":"IF('Entrée des données_Eingabemaske'!$N$12=\"männlich / masculin\",Perzentile!L95,Perzentile!V95)","v":135.32300000000001},{"$f":"Perzentile!W95","v":{"$error":"#N/A"}},{"$f":"Perzentile!X95","v":{"$error":"#N/A"}},{"$f":"Perzentile!Y95","v":{"$error":"#N/A"}},0]
[7.8,7.75,93,{"$f":"IF('Entrée des données_Eingabemaske'!$N$12=\"männlich / masculin\",Perzentile!C96,Perzentile!M96)","v":1},{"$f":"IF('Entrée des données_Eingabemaske'!$N$12=\"männlich / masculin\",Perzentile!D96,Perzentile!N96)","v":125.1045},{"$f":"IF('Entrée des données_Eingabemaske'!$N$12=\"männlich / masculin\",Perzentile!E96,Perzentile!O96)","v":4.5690000000000001E-2},{"$f":"IF('Entrée des données_Eingabemaske'!$N$12=\"männlich / masculin\",Perzentile!F96,Perzentile!P96)","v":114.354},{"$f":"IF('Entrée des données_Eingabemaske'!$N$12=\"männlich / masculin\",Perzentile!G96,Perzentile!Q96)","v":117.77911971877079},{"$f":"IF('Entrée des données_Eingabemaske'!$N$12=\"männlich / masculin\",Perzentile!H96,Perzentile!R96)","v":121.249},{"$f":"IF('Entrée des données_Eingabemaske'!$N$12=\"männlich / masculin\",Perzentile!I96,Perzentile!S96)","v":125.104},{"$f":"IF('Entrée des données_Eingabemaske'!$N$12=\"männlich / masculin\",Perzentile!J96,Perzentile!T96)","v":128.96},{"$f":"IF('Entrée des données_Eingabemaske'!$N$12=\"männlich / masculin\",Perzentile!K96,Perzentile!U96)","v":132.4298802812292},{"$f":"IF('Entrée des données_Eingabemaske'!$N$12=\"männlich / masculin\",Perzentile!L96,Perzentile!V96)","v":135.85499999999999},{"$f":"Perzentile!W96","v":{"$error":"#N/A"}},{"$f":"Perzentile!X96","v":{"$error":"#N/A"}},{"$f":"Perzentile!Y96","v":{"$error":"#N/A"}},0]
[7.8,7.833333333333333,94,{"$f":"IF('Entrée des données_Eingabemaske'!$N$12=\"männlich / masculin\",Perzentile!C97,Perzentile!M97)","v":1},{"$f":"IF('Entrée des données_Eingabemaske'!$N$12=\"männlich / masculin\",Perzentile!D97,Perzentile!N97)","v":125.5869},{"$f":"IF('Entrée des données_Eingabemaske'!$N$12=\"männlich / masculin\",Perzentile!E97,Perzentile!O97)","v":4.573E-2},{"$f":"IF('Entrée des données_Eingabemaske'!$N$12=\"männlich / masculin\",Perzentile!F97,Perzentile!P97)","v":114.785},{"$f":"IF('Entrée des données_Eingabemaske'!$N$12=\"männlich / masculin\",Perzentile!G97,Perzentile!Q97)","v":118.22683538172578},{"$f":"IF('Entrée des données_Eingabemaske'!$N$12=\"männlich / masculin\",Perzentile!H97,Perzentile!R97)","v":121.71299999999999},{"$f":"IF('Entrée des données_Eingabemaske'!$N$12=\"männlich / masculin\",Perzentile!I97,Perzentile!S97)","v":125.587},{"$f":"IF('Entrée des données_Eingabemaske'!$N$12=\"männlich / masculin\",Perzentile!J97,Perzentile!T97)","v":129.46100000000001},{"$f":"IF('Entrée des données_Eingabemaske'!$N$12=\"männlich / masculin\",Perzentile!K97,Perzentile!U97)","v":132.94696461827425},{"$f":"IF('Entrée des données_Eingabemaske'!$N$12=\"männlich / masculin\",Perzentile!L97,Perzentile!V97)","v":136.38800000000001},{"$f":"Perzentile!W97","v":{"$error":"#N/A"}},{"$f":"Perzentile!X97","v":{"$error":"#N/A"}},{"$f":"Perzentile!Y97","v":{"$error":"#N/A"}},0]
[7.9,7.916666666666667,95,{"$f":"IF('Entrée des données_Eingabemaske'!$N$12=\"männlich / masculin\",Perzentile!C98,Perzentile!M98)","v":1},{"$f":"IF('Entrée des données_Eingabemaske'!$N$12=\"männlich / masculin\",Perzentile!D98,Perzentile!N98)","v":126.0706},{"$f":"IF('Entrée des données_Eingabemaske'!$N$12=\"männlich / masculin\",Perzentile!E98,Perzentile!O98)","v":4.5769999999999998E-2},{"$f":"IF('Entrée des données_Eingabemaske'!$N$12=\"männlich / masculin\",Perzentile!F98,Perzentile!P98)","v":115.218},{"$f":"IF('Entrée des données_Eingabemaske'!$N$12=\"männlich / masculin\",Perzentile!G98,Perzentile!Q98)","v":118.67572533344303},{"$f":"IF('Entrée des données_Eingabemaske'!$N$12=\"männlich / masculin\",Perzentile!H98,Perzentile!R98)","v":122.179},{"$f":"IF('Entrée des données_Eingabemaske'!$N$12=\"männlich / masculin\",Perzentile!I98,Perzentile!S98)","v":126.071},{"$f":"IF('Entrée des données_Eingabemaske'!$N$12=\"männlich / masculin\",Perzentile!J98,Perzentile!T98)","v":129.96299999999999},{"$f":"IF('Entrée des données_Eingabemaske'!$N$12=\"männlich / masculin\",Perzentile!K98,Perzentile!U98)","v":133.46547466655696},{"$f":"IF('Entrée des données_Eingabemaske'!$N$12=\"männlich / masculin\",Perzentile!L98,Perzentile!V98)","v":136.923},{"$f":"Perzentile!W98","v":{"$error":"#N/A"}},{"$f":"Perzentile!X98","v":{"$error":"#N/A"}},{"$f":"Perzentile!Y98","v":{"$error":"#N/A"}},0]
[8,8,96,{"$f":"IF('Entrée des données_Eingabemaske'!$N$12=\"männlich / masculin\",Perzentile!C99,Perzentile!M99)","v":1},{"$f":"IF('Entrée des données_Eingabemaske'!$N$12=\"männlich / masculin\",Perzentile!D99,Perzentile!N99)","v":126.5558},{"$f":"IF('Entrée des données_Eingabemaske'!$N$12=\"männlich / masculin\",Perzentile!E99,Perzentile!O99)","v":4.5809999999999997E-2},{"$f":"IF('Entrée des données_Eingabemaske'!$N$12=\"männlich / masculin\",Perzentile!F99,Perzentile!P99)","v":115.652},{"$f":"IF('Entrée des données_Eingabemaske'!$N$12=\"männlich / masculin\",Perzentile!G99,Perzentile!Q99)","v":119.12597763242509},{"$f":"IF('Entrée des données_Eingabemaske'!$N$12=\"männlich / masculin\",Perzentile!H99,Perzentile!R99)","v":122.645},{"$f":"IF('Entrée des données_Eingabemaske'!$N$12=\"männlich / masculin\",Perzentile!I99,Perzentile!S99)","v":126.556},{"$f":"IF('Entrée des données_Eingabemaske'!$N$12=\"männlich / masculin\",Perzentile!J99,Perzentile!T99)","v":130.46600000000001},{"$f":"IF('Entrée des données_Eingabemaske'!$N$12=\"männlich / masculin\",Perzentile!K99,Perzentile!U99)","v":133.9856223675749},{"$f":"IF('Entrée des données_Eingabemaske'!$N$12=\"männlich / masculin\",Perzentile!L99,Perzentile!V99)","v":137.46},{"$f":"Perzentile!W99","v":{"$error":"#N/A"}},{"$f":"Perzentile!X99","v":{"$error":"#N/A"}},{"$f":"Perzentile!Y99","v":{"$error":"#N/A"}},0]
[8.1,8.0833333333333339,97,{"$f":"IF('Entrée des données_Eingabemaske'!$N$12=\"männlich / masculin\",Perzentile!C100,Perzentile!M100)","v":1},{"$f":"IF('Entrée des données_Eingabemaske'!$N$12=\"männlich / masculin\",Perzentile!D100,Perzentile!N100)","v":127.0424},{"$f":"IF('Entrée des données_Eingabemaske'!$N$12=\"männlich / masculin\",Perzentile!E100,Perzentile!O100)","v":4.5850000000000002E-2},{"$f":"IF('Entrée des données_Eingabemaske'!$N$12=\"männlich / masculin\",Perzentile!F100,Perzentile!P100)","v":116.087},{"$f":"IF('Entrée des données_Eingabemaske'!$N$12=\"männlich / masculin\",Perzentile!G100,Perzentile!Q100)","v":119.57749792390658},{"$f":"IF('Entrée des données_Eingabemaske'!$N$12=\"männlich / masculin\",Perzentile!H100,Perzentile!R100)","v":123.114},{"$f":"IF('Entrée des données_Eingabemaske'!$N$12=\"männlich / masculin\",Perzentile!I100,Perzentile!S100)","v":127.042},{"$f":"IF('Entrée des données_Eingabemaske'!$N$12=\"männlich / masculin\",Perzentile!J100,Perzentile!T100)","v":130.971},{"$f":"IF('Entrée des données_Eingabemaske'!$N$12=\"männlich / masculin\",Perzentile!K100,Perzentile!U100)","v":134.50730207609342},{"$f":"IF('Entrée des données_Eingabemaske'!$N$12=\"männlich / masculin\",Perzentile!L100,Perzentile!V100)","v":137.99799999999999},{"$f":"Perzentile!W100","v":{"$error":"#N/A"}},{"$f":"Perzentile!X100","v":{"$error":"#N/A"}},{"$f":"Perzentile!Y100","v":{"$error":"#N/A"}},0]
[8.1999999999999993,8.1666666666666661,98,{"$f":"IF('Entrée des données_Eingabemaske'!$N$12=\"männlich / masculin\",Perzentile!C101,Perzentile!M101)","v":1},{"$f":"IF('Entrée des données_Eingabemaske'!$N$12=\"männlich / masculin\",Perzentile!D101,Perzentile!N101)","v":127.5304},{"$f":"IF('Entrée des données_Eingabemaske'!$N$12=\"männlich / masculin\",Perzentile!E101,Perzentile!O101)","v":4.5879999999999997E-2},{"$f":"IF('Entrée des données_Eingabemaske'!$N$12=\"männlich / masculin\",Perzentile!F101,Perzentile!P101)","v":116.526},{"$f":"IF('Entrée des données_Eingabemaske'!$N$12=\"männlich / masculin\",Perzentile!G101,Perzentile!Q101)","v":120.03192036042459},{"$f":"IF('Entrée des données_Eingabemaske'!$N$12=\"männlich / masculin\",Perzentile!H101,Perzentile!R101)","v":123.584},{"$f":"IF('Entrée des données_Eingabemaske'!$N$12=\"männlich / masculin\",Perzentile!I101,Perzentile!S101)","v":127.53},{"$f":"IF('Entrée des données_Eingabemaske'!$N$12=\"männlich / masculin\",Perzentile!J101,Perzentile!T101)","v":131.477},{"$f":"IF('Entrée des données_Eingabemaske'!$N$12=\"männlich / masculin\",Perzentile!K101,Perzentile!U101)","v":135.02887963957539},{"$f":"IF('Entrée des données_Eingabemaske'!$N$12=\"männlich / masculin\",Perzentile!L101,Perzentile!V101)","v":138.535},{"$f":"Perzentile!W101","v":{"$error":"#N/A"}},{"$f":"Perzentile!X101","v":{"$error":"#N/A"}},{"$f":"Perzentile!Y101","v":{"$error":"#N/A"}},0]
[8.3000000000000007,8.25,99,{"$f":"IF('Entrée des données_Eingabemaske'!$N$12=\"männlich / masculin\",Perzentile!C102,Perzentile!M102)","v":1},{"$f":"IF('Entrée des données_Eingabemaske'!$N$12=\"männlich / masculin\",Perzentile!D102,Perzentile!N102)","v":128.01990000000001},{"$f":"IF('Entrée des données_Eingabemaske'!$N$12=\"männlich / masculin\",Perzentile!E102,Perzentile!O102)","v":4.5909999999999999E-2},{"$f":"IF('Entrée des données_Eingabemaske'!$N$12=\"männlich / masculin\",Perzentile!F102,Perzentile!P102)","v":116.96599999999999},{"$f":"IF('Entrée des données_Eingabemaske'!$N$12=\"männlich / masculin\",Perzentile!G102,Perzentile!Q102)","v":120.48771701906422},{"$f":"IF('Entrée des données_Eingabemaske'!$N$12=\"männlich / masculin\",Perzentile!H102,Perzentile!R102)","v":124.056},{"$f":"IF('Entrée des données_Eingabemaske'!$N$12=\"männlich / masculin\",Perzentile!I102,Perzentile!S102)","v":128.02000000000001},{"$f":"IF('Entrée des données_Eingabemaske'!$N$12=\"männlich / masculin\",Perzentile!J102,Perzentile!T102)","v":131.98400000000001},{"$f":"IF('Entrée des données_Eingabemaske'!$N$12=\"männlich / masculin\",Perzentile!K102,Perzentile!U102)","v":135.55208298093578},{"$f":"IF('Entrée des données_Eingabemaske'!$N$12=\"männlich / masculin\",Perzentile!L102,Perzentile!V102)","v":139.07400000000001},{"$f":"Perzentile!W102","v":{"$error":"#N/A"}},{"$f":"Perzentile!X102","v":{"$error":"#N/A"}},{"$f":"Perzentile!Y102","v":{"$error":"#N/A"}},0]
[8.3000000000000007,8.3333333333333339,100,{"$f":"IF('Entrée des données_Eingabemaske'!$N$12=\"männlich / masculin\",Perzentile!C103,Perzentile!M103)","v":1},{"$f":"IF('Entrée des données_Eingabemaske'!$N$12=\"männlich / masculin\",Perzentile!D103,Perzentile!N103)","v":128.51089999999999},{"$f":"IF('Entrée des données_Eingabemaske'!$N$12=\"männlich / masculin\",Perzentile!E103,Perzentile!O103)","v":4.5940000000000002E-2},{"$f":"IF('Entrée des données_Eingabemaske'!$N$12=\"männlich / masculin\",Perzentile!F103,Perzentile!P103)","v":117.407},{"$f":"IF('Entrée des données_Eingabemaske'!$N$12=\"männlich / masculin\",Perzentile!G103,Perzentile!Q103)","v":120.94488772681596},{"$f":"IF('Entrée des données_Eingabemaske'!$N$12=\"männlich / masculin\",Perzentile!H103,Perzentile!R103)","v":124.529},{"$f":"IF('Entrée des données_Eingabemaske'!$N$12=\"männlich / masculin\",Perzentile!I103,Perzentile!S103)","v":128.511},{"$f":"IF('Entrée des données_Eingabemaske'!$N$12=\"männlich / masculin\",Perzentile!J103,Perzentile!T103)","v":132.49299999999999},{"$f":"IF('Entrée des données_Eingabemaske'!$N$12=\"männlich / masculin\",Perzentile!K103,Perzentile!U103)","v":136.07691227318404},{"$f":"IF('Entrée des données_Eingabemaske'!$N$12=\"männlich / masculin\",Perzentile!L103,Perzentile!V103)","v":139.61500000000001},{"$f":"Perzentile!W103","v":{"$error":"#N/A"}},{"$f":"Perzentile!X103","v":{"$error":"#N/A"}},{"$f":"Perzentile!Y103","v":{"$error":"#N/A"}},0]
[8.4,8.4166666666666661,101,{"$f":"IF('Entrée des données_Eingabemaske'!$N$12=\"männlich / masculin\",Perzentile!C104,Perzentile!M104)","v":1},{"$f":"IF('Entrée des données_Eingabemaske'!$N$12=\"männlich / masculin\",Perzentile!D104,Perzentile!N104)","v":129.0035},{"$f":"IF('Entrée des données_Eingabemaske'!$N$12=\"männlich / masculin\",Perzentile!E104,Perzentile!O104)","v":4.5969999999999997E-2},{"$f":"IF('Entrée des données_Eingabemaske'!$N$12=\"männlich / masculin\",Perzentile!F104,Perzentile!P104)","v":117.85},{"$f":"IF('Entrée des données_Eingabemaske'!$N$12=\"männlich / masculin\",Perzentile!G104,Perzentile!Q104)","v":121.40352641937785},{"$f":"IF('Entrée des données_Eingabemaske'!$N$12=\"männlich / masculin\",Perzentile!H104,Perzentile!R104)","v":125.004},{"$f":"IF('Entrée des données_Eingabemaske'!$N$12=\"männlich / masculin\",Perzentile!I104,Perzentile!S104)","v":129.00399999999999},{"$f":"IF('Entrée des données_Eingabemaske'!$N$12=\"männlich / masculin\",Perzentile!J104,Perzentile!T104)","v":133.00299999999999},{"$f":"IF('Entrée des données_Eingabemaske'!$N$12=\"männlich / masculin\",Perzentile!K104,Perzentile!U104)","v":136.60347358062216},{"$f":"IF('Entrée des données_Eingabemaske'!$N$12=\"männlich / masculin\",Perzentile!L104,Perzentile!V104)","v":140.15700000000001},{"$f":"Perzentile!W104","v":{"$error":"#N/A"}},{"$f":"Perzentile!X104","v":{"$error":"#N/A"}},{"$f":"Perzentile!Y104","v":{"$error":"#N/A"}},0]
[8.5,8.5,102,{"$f":"IF('Entrée des données_Eingabemaske'!$N$12=\"männlich / masculin\",Perzentile!C105,Perzentile!M105)","v":1},{"$f":"IF('Entrée des données_Eingabemaske'!$N$12=\"männlich / masculin\",Perzentile!D105,Perzentile!N105)","v":129.4975},{"$f":"IF('Entrée des données_Eingabemaske'!$N$12=\"männlich / masculin\",Perzentile!E105,Perzentile!O105)","v":4.5999999999999999E-2},{"$f":"IF('Entrée des données_Eingabemaske'!$N$12=\"männlich / masculin\",Perzentile!F105,Perzentile!P105)","v":118.294},{"$f":"IF('Entrée des données_Eingabemaske'!$N$12=\"männlich / masculin\",Perzentile!G105,Perzentile!Q105)","v":121.86344470248085},{"$f":"IF('Entrée des données_Eingabemaske'!$N$12=\"männlich / masculin\",Perzentile!H105,Perzentile!R105)","v":125.48},{"$f":"IF('Entrée des données_Eingabemaske'!$N$12=\"männlich / masculin\",Perzentile!I105,Perzentile!S105)","v":129.49799999999999},{"$f":"IF('Entrée des données_Eingabemaske'!$N$12=\"männlich / masculin\",Perzentile!J105,Perzentile!T105)","v":133.51499999999999},{"$f":"IF('Entrée des données_Eingabemaske'!$N$12=\"männlich / masculin\",Perzentile!K105,Perzentile!U105)","v":137.13155529751916},{"$f":"IF('Entrée des données_Eingabemaske'!$N$12=\"männlich / masculin\",Perzentile!L105,Perzentile!V105)","v":140.70099999999999},{"$f":"Perzentile!W105","v":{"$error":"#N/A"}},{"$f":"Perzentile!X105","v":{"$error":"#N/A"}},{"$f":"Perzentile!Y105","v":{"$error":"#N/A"}},0]
[8.6,8.5833333333333339,103,{"$f":"IF('Entrée des données_Eingabemaske'!$N$12=\"männlich / masculin\",Perzentile!C106,Perzentile!M106)","v":1},{"$f":"IF('Entrée des données_Eingabemaske'!$N$12=\"männlich / masculin\",Perzentile!D106,Perzentile!N106)","v":129.9932},{"$f":"IF('Entrée des données_Eingabemaske'!$N$12=\"männlich / masculin\",Perzentile!E106,Perzentile!O106)","v":4.6019999999999998E-2},{"$f":"IF('Entrée des données_Eingabemaske'!$N$12=\"männlich / masculin\",Perzentile!F106,Perzentile!P106)","v":118.742},{"$f":"IF('Entrée des données_Eingabemaske'!$N$12=\"männlich / masculin\",Perzentile!G106,Perzentile!Q106)","v":122.32659064759359},{"$f":"IF('Entrée des données_Eingabemaske'!$N$12=\"männlich / masculin\",Perzentile!H106,Perzentile!R106)","v":125.958},{"$f":"IF('Entrée des données_Eingabemaske'!$N$12=\"männlich / masculin\",Perzentile!I106,Perzentile!S106)","v":129.99299999999999},{"$f":"IF('Entrée des données_Eingabemaske'!$N$12=\"männlich / masculin\",Perzentile!J106,Perzentile!T106)","v":134.02799999999999},{"$f":"IF('Entrée des données_Eingabemaske'!$N$12=\"männlich / masculin\",Perzentile!K106,Perzentile!U106)","v":137.65980935240643},{"$f":"IF('Entrée des données_Eingabemaske'!$N$12=\"männlich / masculin\",Perzentile!L106,Perzentile!V106)","v":141.245},{"$f":"Perzentile!W106","v":{"$error":"#N/A"}},{"$f":"Perzentile!X106","v":{"$error":"#N/A"}},{"$f":"Perzentile!Y106","v":{"$error":"#N/A"}},0]
[8.6999999999999993,8.6666666666666661,104,{"$f":"IF('Entrée des données_Eingabemaske'!$N$12=\"männlich / masculin\",Perzentile!C107,Perzentile!M107)","v":1},{"$f":"IF('Entrée des données_Eingabemaske'!$N$12=\"männlich / masculin\",Perzentile!D107,Perzentile!N107)","v":130.49039999999999},{"$f":"IF('Entrée des données_Eingabemaske'!$N$12=\"männlich / masculin\",Perzentile!E107,Perzentile!O107)","v":4.6039999999999998E-2},{"$f":"IF('Entrée des données_Eingabemaske'!$N$12=\"männlich / masculin\",Perzentile!F107,Perzentile!P107)","v":119.191},{"$f":"IF('Entrée des données_Eingabemaske'!$N$12=\"männlich / masculin\",Perzentile!G107,Perzentile!Q107)","v":122.79112267815076},{"$f":"IF('Entrée des données_Eingabemaske'!$N$12=\"männlich / masculin\",Perzentile!H107,Perzentile!R107)","v":126.438},{"$f":"IF('Entrée des données_Eingabemaske'!$N$12=\"männlich / masculin\",Perzentile!I107,Perzentile!S107)","v":130.49},{"$f":"IF('Entrée des données_Eingabemaske'!$N$12=\"männlich / masculin\",Perzentile!J107,Perzentile!T107)","v":134.54300000000001},{"$f":"IF('Entrée des données_Eingabemaske'!$N$12=\"männlich / masculin\",Perzentile!K107,Perzentile!U107)","v":138.18967732184925},{"$f":"IF('Entrée des données_Eingabemaske'!$N$12=\"männlich / masculin\",Perzentile!L107,Perzentile!V107)","v":141.79},{"$f":"Perzentile!W107","v":{"$error":"#N/A"}},{"$f":"Perzentile!X107","v":{"$error":"#N/A"}},{"$f":"Perzentile!Y107","v":{"$error":"#N/A"}},0]
[8.8000000000000007,8.75,105,{"$f":"IF('Entrée des données_Eingabemaske'!$N$12=\"männlich / masculin\",Perzentile!C108,Perzentile!M108)","v":1},{"$f":"IF('Entrée des données_Eingabemaske'!$N$12=\"männlich / masculin\",Perzentile!D108,Perzentile!N108)","v":130.98910000000001},{"$f":"IF('Entrée des données_Eingabemaske'!$N$12=\"männlich / masculin\",Perzentile!E108,Perzentile!O108)","v":4.607E-2},{"$f":"IF('Entrée des données_Eingabemaske'!$N$12=\"männlich / masculin\",Perzentile!F108,Perzentile!P108)","v":119.639},{"$f":"IF('Entrée des données_Eingabemaske'!$N$12=\"männlich / masculin\",Perzentile!G108,Perzentile!Q108)","v":123.25536198595101},{"$f":"IF('Entrée des données_Eingabemaske'!$N$12=\"männlich / masculin\",Perzentile!H108,Perzentile!R108)","v":126.919},{"$f":"IF('Entrée des données_Eingabemaske'!$N$12=\"männlich / masculin\",Perzentile!I108,Perzentile!S108)","v":130.989},{"$f":"IF('Entrée des données_Eingabemaske'!$N$12=\"männlich / masculin\",Perzentile!J108,Perzentile!T108)","v":135.059},{"$f":"IF('Entrée des données_Eingabemaske'!$N$12=\"männlich / masculin\",Perzentile!K108,Perzentile!U108)","v":138.72283801404902},{"$f":"IF('Entrée des données_Eingabemaske'!$N$12=\"männlich / masculin\",Perzentile!L108,Perzentile!V108)","v":142.339},{"$f":"Perzentile!W108","v":{"$error":"#N/A"}},{"$f":"Perzentile!X108","v":{"$error":"#N/A"}},{"$f":"Perzentile!Y108","v":{"$error":"#N/A"}},0]
[8.8000000000000007,8.8333333333333339,106,{"$f":"IF('Entrée des données_Eingabemaske'!$N$12=\"männlich / masculin\",Perzentile!C109,Perzentile!M109)","v":1},{"$f":"IF('Entrée des données_Eingabemaske'!$N$12=\"männlich / masculin\",Perzentile!D109,Perzentile!N109)","v":131.48949999999999},{"$f":"IF('Entrée des données_Eingabemaske'!$N$12=\"männlich / masculin\",Perzentile!E109,Perzentile!O109)","v":4.6080000000000003E-2},{"$f":"IF('Entrée des données_Eingabemaske'!$N$12=\"männlich / masculin\",Perzentile!F109,Perzentile!P109)","v":120.09399999999999},{"$f":"IF('Entrée des données_Eingabemaske'!$N$12=\"männlich / masculin\",Perzentile!G109,Perzentile!Q109)","v":123.72453272346064},{"$f":"IF('Entrée des données_Eingabemaske'!$N$12=\"männlich / masculin\",Perzentile!H109,Perzentile!R109)","v":127.40300000000001},{"$f":"IF('Entrée des données_Eingabemaske'!$N$12=\"männlich / masculin\",Perzentile!I109,Perzentile!S109)","v":131.49},{"$f":"IF('Entrée des données_Eingabemaske'!$N$12=\"männlich / masculin\",Perzentile!J109,Perzentile!T109)","v":135.57599999999999},{"$f":"IF('Entrée des données_Eingabemaske'!$N$12=\"männlich / masculin\",Perzentile!K109,Perzentile!U109)","v":139.25446727653934},{"$f":"IF('Entrée des données_Eingabemaske'!$N$12=\"männlich / masculin\",Perzentile!L109,Perzentile!V109)","v":142.88499999999999},{"$f":"Perzentile!W109","v":{"$error":"#N/A"}},{"$f":"Perzentile!X109","v":{"$error":"#N/A"}},{"$f":"Perzentile!Y109","v":{"$error":"#N/A"}},0]
[8.9,8.9166666666666661,107,{"$f":"IF('Entrée des données_Eingabemaske'!$N$12=\"männlich / masculin\",Perzentile!C110,Perzentile!M110)","v":1},{"$f":"IF('Entrée des données_Eingabemaske'!$N$12=\"männlich / masculin\",Perzentile!D110,Perzentile!N110)","v":131.99119999999999},{"$f":"IF('Entrée des données_Eingabemaske'!$N$12=\"männlich / masculin\",Perzentile!E110,Perzentile!O110)","v":4.6100000000000002E-2},{"$f":"IF('Entrée des données_Eingabemaske'!$N$12=\"männlich / masculin\",Perzentile!F110,Perzentile!P110)","v":120.547},{"$f":"IF('Entrée des données_Eingabemaske'!$N$12=\"männlich / masculin\",Perzentile!G110,Perzentile!Q110)","v":124.19322231318709},{"$f":"IF('Entrée des données_Eingabemaske'!$N$12=\"männlich / masculin\",Perzentile!H110,Perzentile!R110)","v":127.887},{"$f":"IF('Entrée des données_Eingabemaske'!$N$12=\"männlich / masculin\",Perzentile!I110,Perzentile!S110)","v":131.99100000000001},{"$f":"IF('Entrée des données_Eingabemaske'!$N$12=\"männlich / masculin\",Perzentile!J110,Perzentile!T110)","v":136.095},{"$f":"IF('Entrée des données_Eingabemaske'!$N$12=\"männlich / masculin\",Perzentile!K110,Perzentile!U110)","v":139.78917768681288},{"$f":"IF('Entrée des données_Eingabemaske'!$N$12=\"männlich / masculin\",Perzentile!L110,Perzentile!V110)","v":143.435},{"$f":"Perzentile!W110","v":{"$error":"#N/A"}},{"$f":"Perzentile!X110","v":{"$error":"#N/A"}},{"$f":"Perzentile!Y110","v":{"$error":"#N/A"}},0]
[9,9,108,{"$f":"IF('Entrée des données_Eingabemaske'!$N$12=\"männlich / masculin\",Perzentile!C111,Perzentile!M111)","v":1},{"$f":"IF('Entrée des données_Eingabemaske'!$N$12=\"männlich / masculin\",Perzentile!D111,Perzentile!N111)","v":132.49440000000001},{"$f":"IF('Entrée des données_Eingabemaske'!$N$12=\"männlich / masculin\",Perzentile!E111,Perzentile!O111)","v":4.6120000000000001E-2},{"$f":"IF('Entrée des données_Eingabemaske'!$N$12=\"männlich / masculin\",Perzentile!F111,Perzentile!P111)","v":121.002},{"$f":"IF('Entrée des données_Eingabemaske'!$N$12=\"männlich / masculin\",Perzentile!G111,Perzentile!Q111)","v":124.66329752699944},{"$f":"IF('Entrée des données_Eingabemaske'!$N$12=\"männlich / masculin\",Perzentile!H111,Perzentile!R111)","v":128.37299999999999},{"$f":"IF('Entrée des données_Eingabemaske'!$N$12=\"männlich / masculin\",Perzentile!I111,Perzentile!S111)","v":132.494},{"$f":"IF('Entrée des données_Eingabemaske'!$N$12=\"männlich / masculin\",Perzentile!J111,Perzentile!T111)","v":136.61600000000001},{"$f":"IF('Entrée des données_Eingabemaske'!$N$12=\"männlich / masculin\",Perzentile!K111,Perzentile!U111)","v":140.32550247300057},{"$f":"IF('Entrée des données_Eingabemaske'!$N$12=\"männlich / masculin\",Perzentile!L111,Perzentile!V111)","v":143.98699999999999},{"$f":"Perzentile!W111","v":{"$error":"#N/A"}},{"$f":"Perzentile!X111","v":{"$error":"#N/A"}},{"$f":"Perzentile!Y111","v":{"$error":"#N/A"}},0]
[9.1,9.0833333333333339,109,{"$f":"IF('Entrée des données_Eingabemaske'!$N$12=\"männlich / masculin\",Perzentile!C112,Perzentile!M112)","v":1},{"$f":"IF('Entrée des données_Eingabemaske'!$N$12=\"männlich / masculin\",Perzentile!D112,Perzentile!N112)","v":132.99889999999999},{"$f":"IF('Entrée des données_Eingabemaske'!$N$12=\"männlich / masculin\",Perzentile!E112,Perzentile!O112)","v":4.6129999999999997E-2},{"$f":"IF('Entrée des données_Eingabemaske'!$N$12=\"männlich / masculin\",Perzentile!F112,Perzentile!P112)","v":121.46},{"$f":"IF('Entrée des données_Eingabemaske'!$N$12=\"männlich / masculin\",Perzentile!G112,Perzentile!Q112)","v":125.13627452520095},{"$f":"IF('Entrée des données_Eingabemaske'!$N$12=\"männlich / masculin\",Perzentile!H112,Perzentile!R112)","v":128.86099999999999},{"$f":"IF('Entrée des données_Eingabemaske'!$N$12=\"männlich / masculin\",Perzentile!I112,Perzentile!S112)","v":132.999},{"$f":"IF('Entrée des données_Eingabemaske'!$N$12=\"männlich / masculin\",Perzentile!J112,Perzentile!T112)","v":137.137},{"$f":"IF('Entrée des données_Eingabemaske'!$N$12=\"männlich / masculin\",Perzentile!K112,Perzentile!U112)","v":140.86152547479904},{"$f":"IF('Entrée des données_Eingabemaske'!$N$12=\"männlich / masculin\",Perzentile!L112,Perzentile!V112)","v":144.53800000000001},{"$f":"Perzentile!W112","v":{"$error":"#N/A"}},{"$f":"Perzentile!X112","v":{"$error":"#N/A"}},{"$f":"Perzentile!Y112","v":{"$error":"#N/A"}},0]
[9.1999999999999993,9.1666666666666661,110,{"$f":"IF('Entrée des données_Eingabemaske'!$N$12=\"männlich / masculin\",Perzentile!C113,Perzentile!M113)","v":1},{"$f":"IF('Entrée des données_Eingabemaske'!$N$12=\"männlich / masculin\",Perzentile!D113,Perzentile!N113)","v":133.50460000000001},{"$f":"IF('Entrée des données_Eingabemaske'!$N$12=\"männlich / masculin\",Perzentile!E113,Perzentile!O113)","v":4.614E-2},{"$f":"IF('Entrée des données_Eingabemaske'!$N$12=\"männlich / masculin\",Perzentile!F113,Perzentile!P113)","v":121.919},{"$f":"IF('Entrée des données_Eingabemaske'!$N$12=\"männlich / masculin\",Perzentile!G113,Perzentile!Q113)","v":125.61036763560011},{"$f":"IF('Entrée des données_Eingabemaske'!$N$12=\"männlich / masculin\",Perzentile!H113,Perzentile!R113)","v":129.35},{"$f":"IF('Entrée des données_Eingabemaske'!$N$12=\"männlich / masculin\",Perzentile!I113,Perzentile!S113)","v":133.505},{"$f":"IF('Entrée des données_Eingabemaske'!$N$12=\"männlich / masculin\",Perzentile!J113,Perzentile!T113)","v":137.65899999999999},{"$f":"IF('Entrée des données_Eingabemaske'!$N$12=\"männlich / masculin\",Perzentile!K113,Perzentile!U113)","v":141.39883236439991},{"$f":"IF('Entrée des données_Eingabemaske'!$N$12=\"männlich / masculin\",Perzentile!L113,Perzentile!V113)","v":145.09},{"$f":"Perzentile!W113","v":{"$error":"#N/A"}},{"$f":"Perzentile!X113","v":{"$error":"#N/A"}},{"$f":"Perzentile!Y113","v":{"$error":"#N/A"}},0]
[9.3000000000000007,9.25,111,{"$f":"IF('Entrée des données_Eingabemaske'!$N$12=\"männlich / masculin\",Perzentile!C114,Perzentile!M114)","v":1},{"$f":"IF('Entrée des données_Eingabemaske'!$N$12=\"männlich / masculin\",Perzentile!D114,Perzentile!N114)","v":134.01179999999999},{"$f":"IF('Entrée des données_Eingabemaske'!$N$12=\"männlich / masculin\",Perzentile!E114,Perzentile!O114)","v":4.6149999999999997E-2},{"$f":"IF('Entrée des données_Eingabemaske'!$N$12=\"männlich / masculin\",Perzentile!F114,Perzentile!P114)","v":122.38},{"$f":"IF('Entrée des données_Eingabemaske'!$N$12=\"männlich / masculin\",Perzentile!G114,Perzentile!Q114)","v":126.08585906897957},{"$f":"IF('Entrée des données_Eingabemaske'!$N$12=\"männlich / masculin\",Perzentile!H114,Perzentile!R114)","v":129.84},{"$f":"IF('Entrée des données_Eingabemaske'!$N$12=\"männlich / masculin\",Perzentile!I114,Perzentile!S114)","v":134.012},{"$f":"IF('Entrée des données_Eingabemaske'!$N$12=\"männlich / masculin\",Perzentile!J114,Perzentile!T114)","v":138.18299999999999},{"$f":"IF('Entrée des données_Eingabemaske'!$N$12=\"männlich / masculin\",Perzentile!K114,Perzentile!U114)","v":141.93774093102041},{"$f":"IF('Entrée des données_Eingabemaske'!$N$12=\"männlich / masculin\",Perzentile!L114,Perzentile!V114)","v":145.64400000000001},{"$f":"Perzentile!W114","v":{"$error":"#N/A"}},{"$f":"Perzentile!X114","v":{"$error":"#N/A"}},{"$f":"Perzentile!Y114","v":{"$error":"#N/A"}},0]
[9.3000000000000007,9.3333333333333339,112,{"$f":"IF('Entrée des données_Eingabemaske'!$N$12=\"männlich / masculin\",Perzentile!C115,Perzentile!M115)","v":1},{"$f":"IF('Entrée des données_Eingabemaske'!$N$12=\"männlich / masculin\",Perzentile!D115,Perzentile!N115)","v":134.52019999999999},{"$f":"IF('Entrée des données_Eingabemaske'!$N$12=\"männlich / masculin\",Perzentile!E115,Perzentile!O115)","v":4.616E-2},{"$f":"IF('Entrée des données_Eingabemaske'!$N$12=\"männlich / masculin\",Perzentile!F115,Perzentile!P115)","v":122.842},{"$f":"IF('Entrée des données_Eingabemaske'!$N$12=\"männlich / masculin\",Perzentile!G115,Perzentile!Q115)","v":126.56246651459566},{"$f":"IF('Entrée des données_Eingabemaske'!$N$12=\"männlich / masculin\",Perzentile!H115,Perzentile!R115)","v":130.33199999999999},{"$f":"IF('Entrée des données_Eingabemaske'!$N$12=\"männlich / masculin\",Perzentile!I115,Perzentile!S115)","v":134.52000000000001},{"$f":"IF('Entrée des données_Eingabemaske'!$N$12=\"männlich / masculin\",Perzentile!J115,Perzentile!T115)","v":138.708},{"$f":"IF('Entrée des données_Eingabemaske'!$N$12=\"männlich / masculin\",Perzentile!K115,Perzentile!U115)","v":142.47793348540432},{"$f":"IF('Entrée des données_Eingabemaske'!$N$12=\"männlich / masculin\",Perzentile!L115,Perzentile!V115)","v":146.19900000000001},{"$f":"Perzentile!W115","v":{"$error":"#N/A"}},{"$f":"Perzentile!X115","v":{"$error":"#N/A"}},{"$f":"Perzentile!Y115","v":{"$error":"#N/A"}},0]
[9.4,9.4166666666666661,113,{"$f":"IF('Entrée des données_Eingabemaske'!$N$12=\"männlich / masculin\",Perzentile!C116,Perzentile!M116)","v":1},{"$f":"IF('Entrée des données_Eingabemaske'!$N$12=\"männlich / masculin\",Perzentile!D116,Perzentile!N116)","v":135.0299},{"$f":"IF('Entrée des données_Eingabemaske'!$N$12=\"männlich / masculin\",Perzentile!E116,Perzentile!O116)","v":4.616E-2},{"$f":"IF('Entrée des données_Eingabemaske'!$N$12=\"männlich / masculin\",Perzentile!F116,Perzentile!P116)","v":123.307},{"$f":"IF('Entrée des données_Eingabemaske'!$N$12=\"männlich / masculin\",Perzentile!G116,Perzentile!Q116)","v":127.04201448718632},{"$f":"IF('Entrée des données_Eingabemaske'!$N$12=\"männlich / masculin\",Perzentile!H116,Perzentile!R116)","v":130.82599999999999},{"$f":"IF('Entrée des données_Eingabemaske'!$N$12=\"männlich / masculin\",Perzentile!I116,Perzentile!S116)","v":135.03},{"$f":"IF('Entrée des données_Eingabemaske'!$N$12=\"männlich / masculin\",Perzentile!J116,Perzentile!T116)","v":139.23400000000001},{"$f":"IF('Entrée des données_Eingabemaske'!$N$12=\"männlich / masculin\",Perzentile!K116,Perzentile!U116)","v":143.01778551281367},{"$f":"IF('Entrée des données_Eingabemaske'!$N$12=\"männlich / masculin\",Perzentile!L116,Perzentile!V116)","v":146.75299999999999},{"$f":"Perzentile!W116","v":{"$error":"#N/A"}},{"$f":"Perzentile!X116","v":{"$error":"#N/A"}},{"$f":"Perzentile!Y116","v":{"$error":"#N/A"}},0]
[9.5,9.5,114,{"$f":"IF('Entrée des données_Eingabemaske'!$N$12=\"männlich / masculin\",Perzentile!C117,Perzentile!M117)","v":1},{"$f":"IF('Entrée des données_Eingabemaske'!$N$12=\"männlich / masculin\",Perzentile!D117,Perzentile!N117)","v":135.541},{"$f":"IF('Entrée des données_Eingabemaske'!$N$12=\"männlich / masculin\",Perzentile!E117,Perzentile!O117)","v":4.6170000000000003E-2},{"$f":"IF('Entrée des données_Eingabemaske'!$N$12=\"männlich / masculin\",Perzentile!F117,Perzentile!P117)","v":123.771},{"$f":"IF('Entrée des données_Eingabemaske'!$N$12=\"männlich / masculin\",Perzentile!G117,Perzentile!Q117)","v":127.52114261298115},{"$f":"IF('Entrée des données_Eingabemaske'!$N$12=\"männlich / masculin\",Perzentile!H117,Perzentile!R117)","v":131.32},{"$f":"IF('Entrée des données_Eingabemaske'!$N$12=\"männlich / masculin\",Perzentile!I117,Perzentile!S117)","v":135.541},{"$f":"IF('Entrée des données_Eingabemaske'!$N$12=\"männlich / masculin\",Perzentile!J117,Perzentile!T117)","v":139.762},{"$f":"IF('Entrée des données_Eingabemaske'!$N$12=\"männlich / masculin\",Perzentile!K117,Perzentile!U117)","v":143.56085738701884},{"$f":"IF('Entrée des données_Eingabemaske'!$N$12=\"männlich / masculin\",Perzentile!L117,Perzentile!V117)","v":147.31100000000001},{"$f":"Perzentile!W117","v":{"$error":"#N/A"}},{"$f":"Perzentile!X117","v":{"$error":"#N/A"}},{"$f":"Perzentile!Y117","v":{"$error":"#N/A"}},0]
[9.6,9.5833333333333339,115,{"$f":"IF('Entrée des données_Eingabemaske'!$N$12=\"männlich / masculin\",Perzentile!C118,Perzentile!M118)","v":1},{"$f":"IF('Entrée des données_Eingabemaske'!$N$12=\"männlich / masculin\",Perzentile!D118,Perzentile!N118)","v":136.05330000000001},{"$f":"IF('Entrée des données_Eingabemaske'!$N$12=\"männlich / masculin\",Perzentile!E118,Perzentile!O118)","v":4.6170000000000003E-2},{"$f":"IF('Entrée des données_Eingabemaske'!$N$12=\"männlich / masculin\",Perzentile!F118,Perzentile!P118)","v":124.239},{"$f":"IF('Entrée des données_Eingabemaske'!$N$12=\"männlich / masculin\",Perzentile!G118,Perzentile!Q118)","v":128.00313021349044},{"$f":"IF('Entrée des données_Eingabemaske'!$N$12=\"männlich / masculin\",Perzentile!H118,Perzentile!R118)","v":131.816},{"$f":"IF('Entrée des données_Eingabemaske'!$N$12=\"männlich / masculin\",Perzentile!I118,Perzentile!S118)","v":136.053},{"$f":"IF('Entrée des données_Eingabemaske'!$N$12=\"männlich / masculin\",Perzentile!J118,Perzentile!T118)","v":140.29},{"$f":"IF('Entrée des données_Eingabemaske'!$N$12=\"männlich / masculin\",Perzentile!K118,Perzentile!U118)","v":144.10346978650955},{"$f":"IF('Entrée des données_Eingabemaske'!$N$12=\"männlich / masculin\",Perzentile!L118,Perzentile!V118)","v":147.86799999999999},{"$f":"Perzentile!W118","v":{"$error":"#N/A"}},{"$f":"Perzentile!X118","v":{"$error":"#N/A"}},{"$f":"Perzentile!Y118","v":{"$error":"#N/A"}},0]
[9.6999999999999993,9.6666666666666661,116,{"$f":"IF('Entrée des données_Eingabemaske'!$N$12=\"männlich / masculin\",Perzentile!C119,Perzentile!M119)","v":1},{"$f":"IF('Entrée des données_Eingabemaske'!$N$12=\"männlich / masculin\",Perzentile!D119,Perzentile!N119)","v":136.56700000000001},{"$f":"IF('Entrée des données_Eingabemaske'!$N$12=\"männlich / masculin\",Perzentile!E119,Perzentile!O119)","v":4.616E-2},{"$f":"IF('Entrée des données_Eingabemaske'!$N$12=\"männlich / masculin\",Perzentile!F119,Perzentile!P119)","v":124.711},{"$f":"IF('Entrée des données_Eingabemaske'!$N$12=\"männlich / masculin\",Perzentile!G119,Perzentile!Q119)","v":128.48818515359616},{"$f":"IF('Entrée des données_Eingabemaske'!$N$12=\"männlich / masculin\",Perzentile!H119,Perzentile!R119)","v":132.315},{"$f":"IF('Entrée des données_Eingabemaske'!$N$12=\"männlich / masculin\",Perzentile!I119,Perzentile!S119)","v":136.56700000000001},{"$f":"IF('Entrée des données_Eingabemaske'!$N$12=\"männlich / masculin\",Perzentile!J119,Perzentile!T119)","v":140.81899999999999},{"$f":"IF('Entrée des données_Eingabemaske'!$N$12=\"männlich / masculin\",Perzentile!K119,Perzentile!U119)","v":144.64581484640385},{"$f":"IF('Entrée des données_Eingabemaske'!$N$12=\"männlich / masculin\",Perzentile!L119,Perzentile!V119)","v":148.423},{"$f":"Perzentile!W119","v":{"$error":"#N/A"}},{"$f":"Perzentile!X119","v":{"$error":"#N/A"}},{"$f":"Perzentile!Y119","v":{"$error":"#N/A"}},0]
[9.8000000000000007,9.75,117,{"$f":"IF('Entrée des données_Eingabemaske'!$N$12=\"männlich / masculin\",Perzentile!C120,Perzentile!M120)","v":1},{"$f":"IF('Entrée des données_Eingabemaske'!$N$12=\"männlich / masculin\",Perzentile!D120,Perzentile!N120)","v":137.0821},{"$f":"IF('Entrée des données_Eingabemaske'!$N$12=\"männlich / masculin\",Perzentile!E120,Perzentile!O120)","v":4.616E-2},{"$f":"IF('Entrée des données_Eingabemaske'!$N$12=\"männlich / masculin\",Perzentile!F120,Perzentile!P120)","v":125.181},{"$f":"IF('Entrée des données_Eingabemaske'!$N$12=\"männlich / masculin\",Perzentile!G120,Perzentile!Q120)","v":128.97281368151738},{"$f":"IF('Entrée des données_Eingabemaske'!$N$12=\"männlich / masculin\",Perzentile!H120,Perzentile!R120)","v":132.81399999999999},{"$f":"IF('Entrée des données_Eingabemaske'!$N$12=\"männlich / masculin\",Perzentile!I120,Perzentile!S120)","v":137.08199999999999},{"$f":"IF('Entrée des données_Eingabemaske'!$N$12=\"männlich / masculin\",Perzentile!J120,Perzentile!T120)","v":141.35},{"$f":"IF('Entrée des données_Eingabemaske'!$N$12=\"männlich / masculin\",Perzentile!K120,Perzentile!U120)","v":145.19138631848261},{"$f":"IF('Entrée des données_Eingabemaske'!$N$12=\"männlich / masculin\",Perzentile!L120,Perzentile!V120)","v":148.983},{"$f":"Perzentile!W120","v":{"$error":"#N/A"}},{"$f":"Perzentile!X120","v":{"$error":"#N/A"}},{"$f":"Perzentile!Y120","v":{"$error":"#N/A"}},0]
[9.8000000000000007,9.8333333333333339,118,{"$f":"IF('Entrée des données_Eingabemaske'!$N$12=\"männlich / masculin\",Perzentile!C121,Perzentile!M121)","v":1},{"$f":"IF('Entrée des données_Eingabemaske'!$N$12=\"männlich / masculin\",Perzentile!D121,Perzentile!N121)","v":137.59870000000001},{"$f":"IF('Entrée des données_Eingabemaske'!$N$12=\"männlich / masculin\",Perzentile!E121,Perzentile!O121)","v":4.616E-2},{"$f":"IF('Entrée des données_Eingabemaske'!$N$12=\"männlich / masculin\",Perzentile!F121,Perzentile!P121)","v":125.65300000000001},{"$f":"IF('Entrée des données_Eingabemaske'!$N$12=\"männlich / masculin\",Perzentile!G121,Perzentile!Q121)","v":129.45885347480822},{"$f":"IF('Entrée des données_Eingabemaske'!$N$12=\"männlich / masculin\",Perzentile!H121,Perzentile!R121)","v":133.315},{"$f":"IF('Entrée des données_Eingabemaske'!$N$12=\"männlich / masculin\",Perzentile!I121,Perzentile!S121)","v":137.59899999999999},{"$f":"IF('Entrée des données_Eingabemaske'!$N$12=\"männlich / masculin\",Perzentile!J121,Perzentile!T121)","v":141.88300000000001},{"$f":"IF('Entrée des données_Eingabemaske'!$N$12=\"männlich / masculin\",Perzentile!K121,Perzentile!U121)","v":145.73854652519179},{"$f":"IF('Entrée des données_Eingabemaske'!$N$12=\"männlich / masculin\",Perzentile!L121,Perzentile!V121)","v":149.54499999999999},{"$f":"Perzentile!W121","v":{"$error":"#N/A"}},{"$f":"Perzentile!X121","v":{"$error":"#N/A"}},{"$f":"Perzentile!Y121","v":{"$error":"#N/A"}},0]
[9.9,9.9166666666666661,119,{"$f":"IF('Entrée des données_Eingabemaske'!$N$12=\"männlich / masculin\",Perzentile!C122,Perzentile!M122)","v":1},{"$f":"IF('Entrée des données_Eingabemaske'!$N$12=\"männlich / masculin\",Perzentile!D122,Perzentile!N122)","v":138.11670000000001},{"$f":"IF('Entrée des données_Eingabemaske'!$N$12=\"männlich / masculin\",Perzentile!E122,Perzentile!O122)","v":4.6149999999999997E-2},{"$f":"IF('Entrée des données_Eingabemaske'!$N$12=\"männlich / masculin\",Perzentile!F122,Perzentile!P122)","v":126.128},{"$f":"IF('Entrée des données_Eingabemaske'!$N$12=\"männlich / masculin\",Perzentile!G122,Perzentile!Q122)","v":129.94798048584178},{"$f":"IF('Entrée des données_Eingabemaske'!$N$12=\"männlich / masculin\",Perzentile!H122,Perzentile!R122)","v":133.81700000000001},{"$f":"IF('Entrée des données_Eingabemaske'!$N$12=\"männlich / masculin\",Perzentile!I122,Perzentile!S122)","v":138.11699999999999},{"$f":"IF('Entrée des données_Eingabemaske'!$N$12=\"männlich / masculin\",Perzentile!J122,Perzentile!T122)","v":142.416},{"$f":"IF('Entrée des données_Eingabemaske'!$N$12=\"männlich / masculin\",Perzentile!K122,Perzentile!U122)","v":146.28541951415824},{"$f":"IF('Entrée des données_Eingabemaske'!$N$12=\"männlich / masculin\",Perzentile!L122,Perzentile!V122)","v":150.10499999999999},{"$f":"Perzentile!W122","v":{"$error":"#N/A"}},{"$f":"Perzentile!X122","v":{"$error":"#N/A"}},{"$f":"Perzentile!Y122","v":{"$error":"#N/A"}},0]
[10,10,120,{"$f":"IF('Entrée des données_Eingabemaske'!$N$12=\"männlich / masculin\",Perzentile!C123,Perzentile!M123)","v":1},{"$f":"IF('Entrée des données_Eingabemaske'!$N$12=\"männlich / masculin\",Perzentile!D123,Perzentile!N123)","v":138.63630000000001},{"$f":"IF('Entrée des données_Eingabemaske'!$N$12=\"männlich / masculin\",Perzentile!E123,Perzentile!O123)","v":4.614E-2},{"$f":"IF('Entrée des données_Eingabemaske'!$N$12=\"männlich / masculin\",Perzentile!F123,Perzentile!P123)","v":126.605},{"$f":"IF('Entrée des données_Eingabemaske'!$N$12=\"männlich / masculin\",Perzentile!G123,Perzentile!Q123)","v":130.43862616448681},{"$f":"IF('Entrée des données_Eingabemaske'!$N$12=\"männlich / masculin\",Perzentile!H123,Perzentile!R123)","v":134.322},{"$f":"IF('Entrée des données_Eingabemaske'!$N$12=\"männlich / masculin\",Perzentile!I123,Perzentile!S123)","v":138.636},{"$f":"IF('Entrée des données_Eingabemaske'!$N$12=\"männlich / masculin\",Perzentile!J123,Perzentile!T123)","v":142.95099999999999},{"$f":"IF('Entrée des données_Eingabemaske'!$N$12=\"männlich / masculin\",Perzentile!K123,Perzentile!U123)","v":146.83397383551321},{"$f":"IF('Entrée des données_Eingabemaske'!$N$12=\"männlich / masculin\",Perzentile!L123,Perzentile!V123)","v":150.667},{"$f":"Perzentile!W123","v":{"$error":"#N/A"}},{"$f":"Perzentile!X123","v":{"$error":"#N/A"}},{"$f":"Perzentile!Y123","v":{"$error":"#N/A"}},0]
[10.1,10.083333333333334,121,{"$f":"IF('Entrée des données_Eingabemaske'!$N$12=\"männlich / masculin\",Perzentile!C124,Perzentile!M124)","v":1},{"$f":"IF('Entrée des données_Eingabemaske'!$N$12=\"männlich / masculin\",Perzentile!D124,Perzentile!N124)","v":139.1575},{"$f":"IF('Entrée des données_Eingabemaske'!$N$12=\"männlich / masculin\",Perzentile!E124,Perzentile!O124)","v":4.6120000000000001E-2},{"$f":"IF('Entrée des données_Eingabemaske'!$N$12=\"männlich / masculin\",Perzentile!F124,Perzentile!P124)","v":127.087},{"$f":"IF('Entrée des données_Eingabemaske'!$N$12=\"männlich / masculin\",Perzentile!G124,Perzentile!Q124)","v":130.93257394737756},{"$f":"IF('Entrée des données_Eingabemaske'!$N$12=\"männlich / masculin\",Perzentile!H124,Perzentile!R124)","v":134.82900000000001},{"$f":"IF('Entrée des données_Eingabemaske'!$N$12=\"männlich / masculin\",Perzentile!I124,Perzentile!S124)","v":139.15799999999999},{"$f":"IF('Entrée des données_Eingabemaske'!$N$12=\"männlich / masculin\",Perzentile!J124,Perzentile!T124)","v":143.48599999999999},{"$f":"IF('Entrée des données_Eingabemaske'!$N$12=\"männlich / masculin\",Perzentile!K124,Perzentile!U124)","v":147.38242605262241},{"$f":"IF('Entrée des données_Eingabemaske'!$N$12=\"männlich / masculin\",Perzentile!L124,Perzentile!V124)","v":151.22800000000001},{"$f":"Perzentile!W124","v":{"$error":"#N/A"}},{"$f":"Perzentile!X124","v":{"$error":"#N/A"}},{"$f":"Perzentile!Y124","v":{"$error":"#N/A"}},0]
[10.199999999999999,10.166666666666666,122,{"$f":"IF('Entrée des données_Eingabemaske'!$N$12=\"männlich / masculin\",Perzentile!C125,Perzentile!M125)","v":1},{"$f":"IF('Entrée des données_Eingabemaske'!$N$12=\"männlich / masculin\",Perzentile!D125,Perzentile!N125)","v":139.68029999999999},{"$f":"IF('Entrée des données_Eingabemaske'!$N$12=\"männlich / masculin\",Perzentile!E125,Perzentile!O125)","v":4.6109999999999998E-2},{"$f":"IF('Entrée des données_Eingabemaske'!$N$12=\"männlich / masculin\",Perzentile!F125,Perzentile!P125)","v":127.56699999999999},{"$f":"IF('Entrée des données_Eingabemaske'!$N$12=\"männlich / masculin\",Perzentile!G125,Perzentile!Q125)","v":131.42626384574049},{"$f":"IF('Entrée des données_Eingabemaske'!$N$12=\"männlich / masculin\",Perzentile!H125,Perzentile!R125)","v":135.33600000000001},{"$f":"IF('Entrée des données_Eingabemaske'!$N$12=\"männlich / masculin\",Perzentile!I125,Perzentile!S125)","v":139.68},{"$f":"IF('Entrée des données_Eingabemaske'!$N$12=\"männlich / masculin\",Perzentile!J125,Perzentile!T125)","v":144.024},{"$f":"IF('Entrée des données_Eingabemaske'!$N$12=\"männlich / masculin\",Perzentile!K125,Perzentile!U125)","v":147.93433615425948},{"$f":"IF('Entrée des données_Eingabemaske'!$N$12=\"männlich / masculin\",Perzentile!L125,Perzentile!V125)","v":151.79400000000001},{"$f":"Perzentile!W125","v":{"$error":"#N/A"}},{"$f":"Perzentile!X125","v":{"$error":"#N/A"}},{"$f":"Perzentile!Y125","v":{"$error":"#N/A"}},0]
[10.3,10.25,123,{"$f":"IF('Entrée des données_Eingabemaske'!$N$12=\"männlich / masculin\",Perzentile!C126,Perzentile!M126)","v":1},{"$f":"IF('Entrée des données_Eingabemaske'!$N$12=\"männlich / masculin\",Perzentile!D126,Perzentile!N126)","v":140.20490000000001},{"$f":"IF('Entrée des données_Eingabemaske'!$N$12=\"männlich / masculin\",Perzentile!E126,Perzentile!O126)","v":4.6089999999999999E-2},{"$f":"IF('Entrée des données_Eingabemaske'!$N$12=\"männlich / masculin\",Perzentile!F126,Perzentile!P126)","v":128.05099999999999},{"$f":"IF('Entrée des données_Eingabemaske'!$N$12=\"männlich / masculin\",Perzentile!G126,Perzentile!Q126)","v":131.9234575989486},{"$f":"IF('Entrée des données_Eingabemaske'!$N$12=\"männlich / masculin\",Perzentile!H126,Perzentile!R126)","v":135.846},{"$f":"IF('Entrée des données_Eingabemaske'!$N$12=\"männlich / masculin\",Perzentile!I126,Perzentile!S126)","v":140.20500000000001},{"$f":"IF('Entrée des données_Eingabemaske'!$N$12=\"männlich / masculin\",Perzentile!J126,Perzentile!T126)","v":144.56299999999999},{"$f":"IF('Entrée des données_Eingabemaske'!$N$12=\"männlich / masculin\",Perzentile!K126,Perzentile!U126)","v":148.48634240105142},{"$f":"IF('Entrée des données_Eingabemaske'!$N$12=\"männlich / masculin\",Perzentile!L126,Perzentile!V126)","v":152.35900000000001},{"$f":"Perzentile!W126","v":{"$error":"#N/A"}},{"$f":"Perzentile!X126","v":{"$error":"#N/A"}},{"$f":"Perzentile!Y126","v":{"$error":"#N/A"}},0]
[10.3,10.333333333333334,124,{"$f":"IF('Entrée des données_Eingabemaske'!$N$12=\"männlich / masculin\",Perzentile!C127,Perzentile!M127)","v":1},{"$f":"IF('Entrée des données_Eingabemaske'!$N$12=\"männlich / masculin\",Perzentile!D127,Perzentile!N127)","v":140.7313},{"$f":"IF('Entrée des données_Eingabemaske'!$N$12=\"männlich / masculin\",Perzentile!E127,Perzentile!O127)","v":4.607E-2},{"$f":"IF('Entrée des données_Eingabemaske'!$N$12=\"männlich / masculin\",Perzentile!F127,Perzentile!P127)","v":128.53700000000001},{"$f":"IF('Entrée des données_Eingabemaske'!$N$12=\"männlich / masculin\",Perzentile!G127,Perzentile!Q127)","v":132.42237197028965},{"$f":"IF('Entrée des données_Eingabemaske'!$N$12=\"männlich / masculin\",Perzentile!H127,Perzentile!R127)","v":136.358},{"$f":"IF('Entrée des données_Eingabemaske'!$N$12=\"männlich / masculin\",Perzentile!I127,Perzentile!S127)","v":140.73099999999999},{"$f":"IF('Entrée des données_Eingabemaske'!$N$12=\"männlich / masculin\",Perzentile!J127,Perzentile!T127)","v":145.10400000000001},{"$f":"IF('Entrée des données_Eingabemaske'!$N$12=\"männlich / masculin\",Perzentile!K127,Perzentile!U127)","v":149.04022802971036},{"$f":"IF('Entrée des données_Eingabemaske'!$N$12=\"männlich / masculin\",Perzentile!L127,Perzentile!V127)","v":152.92500000000001},{"$f":"Perzentile!W127","v":{"$error":"#N/A"}},{"$f":"Perzentile!X127","v":{"$error":"#N/A"}},{"$f":"Perzentile!Y127","v":{"$error":"#N/A"}},0]
[10.4,10.416666666666666,125,{"$f":"IF('Entrée des données_Eingabemaske'!$N$12=\"männlich / masculin\",Perzentile!C128,Perzentile!M128)","v":1},{"$f":"IF('Entrée des données_Eingabemaske'!$N$12=\"männlich / masculin\",Perzentile!D128,Perzentile!N128)","v":141.2594},{"$f":"IF('Entrée des données_Eingabemaske'!$N$12=\"männlich / masculin\",Perzentile!E128,Perzentile!O128)","v":4.6050000000000001E-2},{"$f":"IF('Entrée des données_Eingabemaske'!$N$12=\"männlich / masculin\",Perzentile!F128,Perzentile!P128)","v":129.02500000000001},{"$f":"IF('Entrée des données_Eingabemaske'!$N$12=\"männlich / masculin\",Perzentile!G128,Perzentile!Q128)","v":132.92291299971612},{"$f":"IF('Entrée des données_Eingabemaske'!$N$12=\"männlich / masculin\",Perzentile!H128,Perzentile!R128)","v":136.87200000000001},{"$f":"IF('Entrée des données_Eingabemaske'!$N$12=\"männlich / masculin\",Perzentile!I128,Perzentile!S128)","v":141.25899999999999},{"$f":"IF('Entrée des données_Eingabemaske'!$N$12=\"männlich / masculin\",Perzentile!J128,Perzentile!T128)","v":145.64699999999999},{"$f":"IF('Entrée des données_Eingabemaske'!$N$12=\"männlich / masculin\",Perzentile!K128,Perzentile!U128)","v":149.59588700028388},{"$f":"IF('Entrée des données_Eingabemaske'!$N$12=\"männlich / masculin\",Perzentile!L128,Perzentile!V128)","v":153.494},{"$f":"Perzentile!W128","v":{"$error":"#N/A"}},{"$f":"Perzentile!X128","v":{"$error":"#N/A"}},{"$f":"Perzentile!Y128","v":{"$error":"#N/A"}},0]
[10.5,10.5,126,{"$f":"IF('Entrée des données_Eingabemaske'!$N$12=\"männlich / masculin\",Perzentile!C129,Perzentile!M129)","v":1},{"$f":"IF('Entrée des données_Eingabemaske'!$N$12=\"männlich / masculin\",Perzentile!D129,Perzentile!N129)","v":141.78919999999999},{"$f":"IF('Entrée des données_Eingabemaske'!$N$12=\"männlich / masculin\",Perzentile!E129,Perzentile!O129)","v":4.6030000000000001E-2},{"$f":"IF('Entrée des données_Eingabemaske'!$N$12=\"männlich / masculin\",Perzentile!F129,Perzentile!P129)","v":129.51400000000001},{"$f":"IF('Entrée des données_Eingabemaske'!$N$12=\"männlich / masculin\",Perzentile!G129,Perzentile!Q129)","v":133.42508081794631},{"$f":"IF('Entrée des données_Eingabemaske'!$N$12=\"männlich / masculin\",Perzentile!H129,Perzentile!R129)","v":137.387},{"$f":"IF('Entrée des données_Eingabemaske'!$N$12=\"männlich / masculin\",Perzentile!I129,Perzentile!S129)","v":141.78899999999999},{"$f":"IF('Entrée des données_Eingabemaske'!$N$12=\"männlich / masculin\",Perzentile!J129,Perzentile!T129)","v":146.191},{"$f":"IF('Entrée des données_Eingabemaske'!$N$12=\"männlich / masculin\",Perzentile!K129,Perzentile!U129)","v":150.15331918205365},{"$f":"IF('Entrée des données_Eingabemaske'!$N$12=\"männlich / masculin\",Perzentile!L129,Perzentile!V129)","v":154.06399999999999},{"$f":"Perzentile!W129","v":{"$error":"#N/A"}},{"$f":"Perzentile!X129","v":{"$error":"#N/A"}},{"$f":"Perzentile!Y129","v":{"$error":"#N/A"}},0]
[10.6,10.583333333333334,127,{"$f":"IF('Entrée des données_Eingabemaske'!$N$12=\"männlich / masculin\",Perzentile!C130,Perzentile!M130)","v":1},{"$f":"IF('Entrée des données_Eingabemaske'!$N$12=\"männlich / masculin\",Perzentile!D130,Perzentile!N130)","v":142.32060000000001},{"$f":"IF('Entrée des données_Eingabemaske'!$N$12=\"männlich / masculin\",Perzentile!E130,Perzentile!O130)","v":4.5999999999999999E-2},{"$f":"IF('Entrée des données_Eingabemaske'!$N$12=\"männlich / masculin\",Perzentile!F130,Perzentile!P130)","v":130.00800000000001},{"$f":"IF('Entrée des données_Eingabemaske'!$N$12=\"männlich / masculin\",Perzentile!G130,Perzentile!Q130)","v":133.93060536399466},{"$f":"IF('Entrée des données_Eingabemaske'!$N$12=\"männlich / masculin\",Perzentile!H130,Perzentile!R130)","v":137.905},{"$f":"IF('Entrée des données_Eingabemaske'!$N$12=\"männlich / masculin\",Perzentile!I130,Perzentile!S130)","v":142.321},{"$f":"IF('Entrée des données_Eingabemaske'!$N$12=\"männlich / masculin\",Perzentile!J130,Perzentile!T130)","v":146.73599999999999},{"$f":"IF('Entrée des données_Eingabemaske'!$N$12=\"männlich / masculin\",Perzentile!K130,Perzentile!U130)","v":150.71059463600537},{"$f":"IF('Entrée des données_Eingabemaske'!$N$12=\"männlich / masculin\",Perzentile!L130,Perzentile!V130)","v":154.63399999999999},{"$f":"Perzentile!W130","v":{"$error":"#N/A"}},{"$f":"Perzentile!X130","v":{"$error":"#N/A"}},{"$f":"Perzentile!Y130","v":{"$error":"#N/A"}},0]
[10.7,{"$f":"C130/12","v":10.666666666666666},128,{"$f":"IF('Entrée des données_Eingabemaske'!$N$12=\"männlich / masculin\",Perzentile!C131,Perzentile!M131)","v":1},{"$f":"IF('Entrée des données_Eingabemaske'!$N$12=\"männlich / masculin\",Perzentile!D131,Perzentile!N131)","v":142.85339999999999},{"$f":"IF('Entrée des données_Eingabemaske'!$N$12=\"männlich / masculin\",Perzentile!E131,Perzentile!O131)","v":4.5969999999999997E-2},{"$f":"IF('Entrée des données_Eingabemaske'!$N$12=\"männlich / masculin\",Perzentile!F131,Perzentile!P131)","v":130.50200000000001},{"$f":"IF('Entrée des données_Eingabemaske'!$N$12=\"männlich / masculin\",Perzentile!G131,Perzentile!Q131)","v":134.43748829293742},{"$f":"IF('Entrée des données_Eingabemaske'!$N$12=\"männlich / masculin\",Perzentile!H131,Perzentile!R131)","v":138.42400000000001},{"$f":"IF('Entrée des données_Eingabemaske'!$N$12=\"männlich / masculin\",Perzentile!I131,Perzentile!S131)","v":142.85300000000001},{"$f":"IF('Entrée des données_Eingabemaske'!$N$12=\"männlich / masculin\",Perzentile!J131,Perzentile!T131)","v":147.28299999999999},{"$f":"IF('Entrée des données_Eingabemaske'!$N$12=\"männlich / masculin\",Perzentile!K131,Perzentile!U131)","v":151.26931170706257},{"$f":"IF('Entrée des données_Eingabemaske'!$N$12=\"männlich / masculin\",Perzentile!L131,Perzentile!V131)","v":155.20500000000001},{"$f":"Perzentile!W131","v":{"$error":"#N/A"}},{"$f":"Perzentile!X131","v":{"$error":"#N/A"}},{"$f":"Perzentile!Y131","v":{"$error":"#N/A"}},0]
[{"$f":"ROUND(B131,1)","v":10.8},10.75,129,{"$f":"IF('Entrée des données_Eingabemaske'!$N$12=\"männlich / masculin\",Perzentile!C132,Perzentile!M132)","v":1},{"$f":"IF('Entrée des données_Eingabemaske'!$N$12=\"männlich / masculin\",Perzentile!D132,Perzentile!N132)","v":143.38740000000001},{"$f":"IF('Entrée des données_Eingabemaske'!$N$12=\"männlich / masculin\",Perzentile!E132,Perzentile!O132)","v":4.5940000000000002E-2},{"$f":"IF('Entrée des données_Eingabemaske'!$N$12=\"männlich / masculin\",Perzentile!F132,Perzentile!P132)","v":130.99799999999999},{"$f":"IF('Entrée des données_Eingabemaske'!$N$12=\"männlich / masculin\",Perzentile!G132,Perzentile!Q132)","v":134.94554154114596},{"$f":"IF('Entrée des données_Eingabemaske'!$N$12=\"männlich / masculin\",Perzentile!H132,Perzentile!R132)","v":138.94399999999999},{"$f":"IF('Entrée des données_Eingabemaske'!$N$12=\"männlich / masculin\",Perzentile!I132,Perzentile!S132)","v":143.387},{"$f":"IF('Entrée des données_Eingabemaske'!$N$12=\"männlich / masculin\",Perzentile!J132,Perzentile!T132)","v":147.83000000000001},{"$f":"IF('Entrée des données_Eingabemaske'!$N$12=\"männlich / masculin\",Perzentile!K132,Perzentile!U132)","v":151.82925845885407},{"$f":"IF('Entrée des données_Eingabemaske'!$N$12=\"männlich / masculin\",Perzentile!L132,Perzentile!V132)","v":155.77699999999999},{"$f":"Perzentile!W132","v":{"$error":"#N/A"}},{"$f":"Perzentile!X132","v":{"$error":"#N/A"}},{"$f":"Perzentile!Y132","v":{"$error":"#N/A"}},0]
[10.8,10.833333333333334,130,{"$f":"IF('Entrée des données_Eingabemaske'!$N$12=\"männlich / masculin\",Perzentile!C133,Perzentile!M133)","v":1},{"$f":"IF('Entrée des données_Eingabemaske'!$N$12=\"männlich / masculin\",Perzentile!D133,Perzentile!N133)","v":143.9222},{"$f":"IF('Entrée des données_Eingabemaske'!$N$12=\"männlich / masculin\",Perzentile!E133,Perzentile!O133)","v":4.5909999999999999E-2},{"$f":"IF('Entrée des données_Eingabemaske'!$N$12=\"männlich / masculin\",Perzentile!F133,Perzentile!P133)","v":131.495},{"$f":"IF('Entrée des données_Eingabemaske'!$N$12=\"männlich / masculin\",Perzentile!G133,Perzentile!Q133)","v":135.45438878144071},{"$f":"IF('Entrée des données_Eingabemaske'!$N$12=\"männlich / masculin\",Perzentile!H133,Perzentile!R133)","v":139.46600000000001},{"$f":"IF('Entrée des données_Eingabemaske'!$N$12=\"männlich / masculin\",Perzentile!I133,Perzentile!S133)","v":143.922},{"$f":"IF('Entrée des données_Eingabemaske'!$N$12=\"männlich / masculin\",Perzentile!J133,Perzentile!T133)","v":148.37899999999999},{"$f":"IF('Entrée des données_Eingabemaske'!$N$12=\"männlich / masculin\",Perzentile!K133,Perzentile!U133)","v":152.39001121855927},{"$f":"IF('Entrée des données_Eingabemaske'!$N$12=\"männlich / masculin\",Perzentile!L133,Perzentile!V133)","v":156.34899999999999},{"$f":"Perzentile!W133","v":{"$error":"#N/A"}},{"$f":"Perzentile!X133","v":{"$error":"#N/A"}},{"$f":"Perzentile!Y133","v":{"$error":"#N/A"}},0]
[10.9,10.916666666666666,131,{"$f":"IF('Entrée des données_Eingabemaske'!$N$12=\"männlich / masculin\",Perzentile!C134,Perzentile!M134)","v":1},{"$f":"IF('Entrée des données_Eingabemaske'!$N$12=\"männlich / masculin\",Perzentile!D134,Perzentile!N134)","v":144.45750000000001},{"$f":"IF('Entrée des données_Eingabemaske'!$N$12=\"männlich / masculin\",Perzentile!E134,Perzentile!O134)","v":4.5879999999999997E-2},{"$f":"IF('Entrée des données_Eingabemaske'!$N$12=\"männlich / masculin\",Perzentile!F134,Perzentile!P134)","v":131.99199999999999},{"$f":"IF('Entrée des données_Eingabemaske'!$N$12=\"männlich / masculin\",Perzentile!G134,Perzentile!Q134)","v":135.96374774536923},{"$f":"IF('Entrée des données_Eingabemaske'!$N$12=\"männlich / masculin\",Perzentile!H134,Perzentile!R134)","v":139.98699999999999},{"$f":"IF('Entrée des données_Eingabemaske'!$N$12=\"männlich / masculin\",Perzentile!I134,Perzentile!S134)","v":144.458},{"$f":"IF('Entrée des données_Eingabemaske'!$N$12=\"männlich / masculin\",Perzentile!J134,Perzentile!T134)","v":148.928},{"$f":"IF('Entrée des données_Eingabemaske'!$N$12=\"männlich / masculin\",Perzentile!K134,Perzentile!U134)","v":152.95125225463079},{"$f":"IF('Entrée des données_Eingabemaske'!$N$12=\"männlich / masculin\",Perzentile!L134,Perzentile!V134)","v":156.923},{"$f":"Perzentile!W134","v":{"$error":"#N/A"}},{"$f":"Perzentile!X134","v":{"$error":"#N/A"}},{"$f":"Perzentile!Y134","v":{"$error":"#N/A"}},0]
[11,11,132,{"$f":"IF('Entrée des données_Eingabemaske'!$N$12=\"männlich / masculin\",Perzentile!C135,Perzentile!M135)","v":1},{"$f":"IF('Entrée des données_Eingabemaske'!$N$12=\"männlich / masculin\",Perzentile!D135,Perzentile!N135)","v":144.99289999999999},{"$f":"IF('Entrée des données_Eingabemaske'!$N$12=\"männlich / masculin\",Perzentile!E135,Perzentile!O135)","v":4.5839999999999999E-2},{"$f":"IF('Entrée des données_Eingabemaske'!$N$12=\"männlich / masculin\",Perzentile!F135,Perzentile!P135)","v":132.49199999999999},{"$f":"IF('Entrée des données_Eingabemaske'!$N$12=\"männlich / masculin\",Perzentile!G135,Perzentile!Q135)","v":136.47510015303686},{"$f":"IF('Entrée des données_Eingabemaske'!$N$12=\"männlich / masculin\",Perzentile!H135,Perzentile!R135)","v":140.51},{"$f":"IF('Entrée des données_Eingabemaske'!$N$12=\"männlich / masculin\",Perzentile!I135,Perzentile!S135)","v":144.99299999999999},{"$f":"IF('Entrée des données_Eingabemaske'!$N$12=\"männlich / masculin\",Perzentile!J135,Perzentile!T135)","v":149.476},{"$f":"IF('Entrée des données_Eingabemaske'!$N$12=\"männlich / masculin\",Perzentile!K135,Perzentile!U135)","v":153.51069984696312},{"$f":"IF('Entrée des données_Eingabemaske'!$N$12=\"männlich / masculin\",Perzentile!L135,Perzentile!V135)","v":157.494},{"$f":"Perzentile!W135","v":{"$error":"#N/A"}},{"$f":"Perzentile!X135","v":{"$error":"#N/A"}},{"$f":"Perzentile!Y135","v":{"$error":"#N/A"}},0]
[11.1,11.083333333333334,133,{"$f":"IF('Entrée des données_Eingabemaske'!$N$12=\"männlich / masculin\",Perzentile!C136,Perzentile!M136)","v":1},{"$f":"IF('Entrée des données_Eingabemaske'!$N$12=\"männlich / masculin\",Perzentile!D136,Perzentile!N136)","v":145.52799999999999},{"$f":"IF('Entrée des données_Eingabemaske'!$N$12=\"männlich / masculin\",Perzentile!E136,Perzentile!O136)","v":4.58E-2},{"$f":"IF('Entrée des données_Eingabemaske'!$N$12=\"männlich / masculin\",Perzentile!F136,Perzentile!P136)","v":132.99199999999999},{"$f":"IF('Entrée des données_Eingabemaske'!$N$12=\"männlich / masculin\",Perzentile!G136,Perzentile!Q136)","v":136.98622506063967},{"$f":"IF('Entrée des données_Eingabemaske'!$N$12=\"männlich / masculin\",Perzentile!H136,Perzentile!R136)","v":141.03200000000001},{"$f":"IF('Entrée des données_Eingabemaske'!$N$12=\"männlich / masculin\",Perzentile!I136,Perzentile!S136)","v":145.52799999999999},{"$f":"IF('Entrée des données_Eingabemaske'!$N$12=\"männlich / masculin\",Perzentile!J136,Perzentile!T136)","v":150.024},{"$f":"IF('Entrée des données_Eingabemaske'!$N$12=\"männlich / masculin\",Perzentile!K136,Perzentile!U136)","v":154.06977493936031},{"$f":"IF('Entrée des données_Eingabemaske'!$N$12=\"männlich / masculin\",Perzentile!L136,Perzentile!V136)","v":158.06399999999999},{"$f":"Perzentile!W136","v":{"$error":"#N/A"}},{"$f":"Perzentile!X136","v":{"$error":"#N/A"}},{"$f":"Perzentile!Y136","v":{"$error":"#N/A"}},0]
[11.2,11.166666666666666,134,{"$f":"IF('Entrée des données_Eingabemaske'!$N$12=\"männlich / masculin\",Perzentile!C137,Perzentile!M137)","v":1},{"$f":"IF('Entrée des données_Eingabemaske'!$N$12=\"männlich / masculin\",Perzentile!D137,Perzentile!N137)","v":146.06219999999999},{"$f":"IF('Entrée des données_Eingabemaske'!$N$12=\"männlich / masculin\",Perzentile!E137,Perzentile!O137)","v":4.5760000000000002E-2},{"$f":"IF('Entrée des données_Eingabemaske'!$N$12=\"männlich / masculin\",Perzentile!F137,Perzentile!P137)","v":133.49100000000001},{"$f":"IF('Entrée des données_Eingabemaske'!$N$12=\"männlich / masculin\",Perzentile!G137,Perzentile!Q137)","v":137.49655760832155},{"$f":"IF('Entrée des données_Eingabemaske'!$N$12=\"männlich / masculin\",Perzentile!H137,Perzentile!R137)","v":141.554},{"$f":"IF('Entrée des données_Eingabemaske'!$N$12=\"männlich / masculin\",Perzentile!I137,Perzentile!S137)","v":146.06200000000001},{"$f":"IF('Entrée des données_Eingabemaske'!$N$12=\"männlich / masculin\",Perzentile!J137,Perzentile!T137)","v":150.57},{"$f":"IF('Entrée des données_Eingabemaske'!$N$12=\"männlich / masculin\",Perzentile!K137,Perzentile!U137)","v":154.62784239167843},{"$f":"IF('Entrée des données_Eingabemaske'!$N$12=\"männlich / masculin\",Perzentile!L137,Perzentile!V137)","v":158.63300000000001},{"$f":"Perzentile!W137","v":{"$error":"#N/A"}},{"$f":"Perzentile!X137","v":{"$error":"#N/A"}},{"$f":"Perzentile!Y137","v":{"$error":"#N/A"}},0]
[11.3,11.25,135,{"$f":"IF('Entrée des données_Eingabemaske'!$N$12=\"männlich / masculin\",Perzentile!C138,Perzentile!M138)","v":1},{"$f":"IF('Entrée des données_Eingabemaske'!$N$12=\"männlich / masculin\",Perzentile!D138,Perzentile!N138)","v":146.5951},{"$f":"IF('Entrée des données_Eingabemaske'!$N$12=\"männlich / masculin\",Perzentile!E138,Perzentile!O138)","v":4.5710000000000001E-2},{"$f":"IF('Entrée des données_Eingabemaske'!$N$12=\"männlich / masculin\",Perzentile!F138,Perzentile!P138)","v":133.99199999999999},{"$f":"IF('Entrée des données_Eingabemaske'!$N$12=\"männlich / masculin\",Perzentile!G138,Perzentile!Q138)","v":138.0075997864891},{"$f":"IF('Entrée des données_Eingabemaske'!$N$12=\"männlich / masculin\",Perzentile!H138,Perzentile!R138)","v":142.07499999999999},{"$f":"IF('Entrée des données_Eingabemaske'!$N$12=\"männlich / masculin\",Perzentile!I138,Perzentile!S138)","v":146.595},{"$f":"IF('Entrée des données_Eingabemaske'!$N$12=\"männlich / masculin\",Perzentile!J138,Perzentile!T138)","v":151.11500000000001},{"$f":"IF('Entrée des données_Eingabemaske'!$N$12=\"männlich / masculin\",Perzentile!K138,Perzentile!U138)","v":155.18260021351091},{"$f":"IF('Entrée des données_Eingabemaske'!$N$12=\"männlich / masculin\",Perzentile!L138,Perzentile!V138)","v":159.19800000000001},{"$f":"Perzentile!W138","v":{"$error":"#N/A"}},{"$f":"Perzentile!X138","v":{"$error":"#N/A"}},{"$f":"Perzentile!Y138","v":{"$error":"#N/A"}},0]
[11.3,11.333333333333334,136,{"$f":"IF('Entrée des données_Eingabemaske'!$N$12=\"männlich / masculin\",Perzentile!C139,Perzentile!M139)","v":1},{"$f":"IF('Entrée des données_Eingabemaske'!$N$12=\"männlich / masculin\",Perzentile!D139,Perzentile!N139)","v":147.12620000000001},{"$f":"IF('Entrée des données_Eingabemaske'!$N$12=\"männlich / masculin\",Perzentile!E139,Perzentile!O139)","v":4.5670000000000002E-2},{"$f":"IF('Entrée des données_Eingabemaske'!$N$12=\"männlich / masculin\",Perzentile!F139,Perzentile!P139)","v":134.489},{"$f":"IF('Entrée des données_Eingabemaske'!$N$12=\"männlich / masculin\",Perzentile!G139,Perzentile!Q139)","v":138.51513008858018},{"$f":"IF('Entrée des données_Eingabemaske'!$N$12=\"männlich / masculin\",Perzentile!H139,Perzentile!R139)","v":142.59399999999999},{"$f":"IF('Entrée des données_Eingabemaske'!$N$12=\"männlich / masculin\",Perzentile!I139,Perzentile!S139)","v":147.126},{"$f":"IF('Entrée des données_Eingabemaske'!$N$12=\"männlich / masculin\",Perzentile!J139,Perzentile!T139)","v":151.65799999999999},{"$f":"IF('Entrée des données_Eingabemaske'!$N$12=\"männlich / masculin\",Perzentile!K139,Perzentile!U139)","v":155.73726991141984},{"$f":"IF('Entrée des données_Eingabemaske'!$N$12=\"männlich / masculin\",Perzentile!L139,Perzentile!V139)","v":159.76400000000001},{"$f":"Perzentile!W139","v":{"$error":"#N/A"}},{"$f":"Perzentile!X139","v":{"$error":"#N/A"}},{"$f":"Perzentile!Y139","v":{"$error":"#N/A"}},0]
[11.4,11.416666666666666,137,{"$f":"IF('Entrée des données_Eingabemaske'!$N$12=\"männlich / masculin\",Perzentile!C140,Perzentile!M140)","v":1},{"$f":"IF('Entrée des données_Eingabemaske'!$N$12=\"männlich / masculin\",Perzentile!D140,Perzentile!N140)","v":147.65479999999999},{"$f":"IF('Entrée des données_Eingabemaske'!$N$12=\"männlich / masculin\",Perzentile!E140,Perzentile!O140)","v":4.5620000000000001E-2},{"$f":"IF('Entrée des données_Eingabemaske'!$N$12=\"männlich / masculin\",Perzentile!F140,Perzentile!P140)","v":134.98599999999999},{"$f":"IF('Entrée des données_Eingabemaske'!$N$12=\"männlich / masculin\",Perzentile!G140,Perzentile!Q140)","v":139.02225330663001},{"$f":"IF('Entrée des données_Eingabemaske'!$N$12=\"männlich / masculin\",Perzentile!H140,Perzentile!R140)","v":143.11099999999999},{"$f":"IF('Entrée des données_Eingabemaske'!$N$12=\"männlich / masculin\",Perzentile!I140,Perzentile!S140)","v":147.655},{"$f":"IF('Entrée des données_Eingabemaske'!$N$12=\"männlich / masculin\",Perzentile!J140,Perzentile!T140)","v":152.19800000000001},{"$f":"IF('Entrée des données_Eingabemaske'!$N$12=\"männlich / masculin\",Perzentile!K140,Perzentile!U140)","v":156.28734669336998},{"$f":"IF('Entrée des données_Eingabemaske'!$N$12=\"männlich / masculin\",Perzentile!L140,Perzentile!V140)","v":160.32400000000001},{"$f":"Perzentile!W140","v":{"$error":"#N/A"}},{"$f":"Perzentile!X140","v":{"$error":"#N/A"}},{"$f":"Perzentile!Y140","v":{"$error":"#N/A"}},0]
[11.5,11.5,138,{"$f":"IF('Entrée des données_Eingabemaske'!$N$12=\"männlich / masculin\",Perzentile!C141,Perzentile!M141)","v":1},{"$f":"IF('Entrée des données_Eingabemaske'!$N$12=\"männlich / masculin\",Perzentile!D141,Perzentile!N141)","v":148.18039999999999},{"$f":"IF('Entrée des données_Eingabemaske'!$N$12=\"männlich / masculin\",Perzentile!E141,Perzentile!O141)","v":4.5569999999999999E-2},{"$f":"IF('Entrée des données_Eingabemaske'!$N$12=\"männlich / masculin\",Perzentile!F141,Perzentile!P141)","v":135.47999999999999},{"$f":"IF('Entrée des données_Eingabemaske'!$N$12=\"männlich / masculin\",Perzentile!G141,Perzentile!Q141)","v":139.52661946841013},{"$f":"IF('Entrée des données_Eingabemaske'!$N$12=\"männlich / masculin\",Perzentile!H141,Perzentile!R141)","v":143.626},{"$f":"IF('Entrée des données_Eingabemaske'!$N$12=\"männlich / masculin\",Perzentile!I141,Perzentile!S141)","v":148.18},{"$f":"IF('Entrée des données_Eingabemaske'!$N$12=\"männlich / masculin\",Perzentile!J141,Perzentile!T141)","v":152.73500000000001},{"$f":"IF('Entrée des données_Eingabemaske'!$N$12=\"männlich / masculin\",Perzentile!K141,Perzentile!U141)","v":156.83418053158985},{"$f":"IF('Entrée des données_Eingabemaske'!$N$12=\"männlich / masculin\",Perzentile!L141,Perzentile!V141)","v":160.881},{"$f":"Perzentile!W141","v":{"$error":"#N/A"}},{"$f":"Perzentile!X141","v":{"$error":"#N/A"}},{"$f":"Perzentile!Y141","v":{"$error":"#N/A"}},0]
[11.6,11.583333333333334,139,{"$f":"IF('Entrée des données_Eingabemaske'!$N$12=\"männlich / masculin\",Perzentile!C142,Perzentile!M142)","v":1},{"$f":"IF('Entrée des données_Eingabemaske'!$N$12=\"männlich / masculin\",Perzentile!D142,Perzentile!N142)","v":148.70230000000001},{"$f":"IF('Entrée des données_Eingabemaske'!$N$12=\"männlich / masculin\",Perzentile!E142,Perzentile!O142)","v":4.5519999999999998E-2},{"$f":"IF('Entrée des données_Eingabemaske'!$N$12=\"männlich / masculin\",Perzentile!F142,Perzentile!P142)","v":135.971},{"$f":"IF('Entrée des données_Eingabemaske'!$N$12=\"männlich / masculin\",Perzentile!G142,Perzentile!Q142)","v":140.02756883258144},{"$f":"IF('Entrée des données_Eingabemaske'!$N$12=\"männlich / masculin\",Perzentile!H142,Perzentile!R142)","v":144.137},{"$f":"IF('Entrée des données_Eingabemaske'!$N$12=\"männlich / masculin\",Perzentile!I142,Perzentile!S142)","v":148.702},{"$f":"IF('Entrée des données_Eingabemaske'!$N$12=\"männlich / masculin\",Perzentile!J142,Perzentile!T142)","v":153.268},{"$f":"IF('Entrée des données_Eingabemaske'!$N$12=\"männlich / masculin\",Perzentile!K142,Perzentile!U142)","v":157.37703116741861},{"$f":"IF('Entrée des données_Eingabemaske'!$N$12=\"männlich / masculin\",Perzentile!L142,Perzentile!V142)","v":161.43299999999999},{"$f":"Perzentile!W142","v":{"$error":"#N/A"}},{"$f":"Perzentile!X142","v":{"$error":"#N/A"}},{"$f":"Perzentile!Y142","v":{"$error":"#N/A"}},0]
[11.7,11.666666666666666,140,{"$f":"IF('Entrée des données_Eingabemaske'!$N$12=\"männlich / masculin\",Perzentile!C143,Perzentile!M143)","v":1},{"$f":"IF('Entrée des données_Eingabemaske'!$N$12=\"männlich / masculin\",Perzentile!D143,Perzentile!N143)","v":149.21969999999999},{"$f":"IF('Entrée des données_Eingabemaske'!$N$12=\"männlich / masculin\",Perzentile!E143,Perzentile!O143)","v":4.546E-2},{"$f":"IF('Entrée des données_Eingabemaske'!$N$12=\"männlich / masculin\",Perzentile!F143,Perzentile!P143)","v":136.46100000000001},{"$f":"IF('Entrée des données_Eingabemaske'!$N$12=\"männlich / masculin\",Perzentile!G143,Perzentile!Q143)","v":140.52625963300395},{"$f":"IF('Entrée des données_Eingabemaske'!$N$12=\"männlich / masculin\",Perzentile!H143,Perzentile!R143)","v":144.64400000000001},{"$f":"IF('Entrée des données_Eingabemaske'!$N$12=\"männlich / masculin\",Perzentile!I143,Perzentile!S143)","v":149.22},{"$f":"IF('Entrée des données_Eingabemaske'!$N$12=\"männlich / masculin\",Perzentile!J143,Perzentile!T143)","v":153.79499999999999},{"$f":"IF('Entrée des données_Eingabemaske'!$N$12=\"männlich / masculin\",Perzentile!K143,Perzentile!U143)","v":157.91314036699603},{"$f":"IF('Entrée des données_Eingabemaske'!$N$12=\"männlich / masculin\",Perzentile!L143,Perzentile!V143)","v":161.97800000000001},{"$f":"Perzentile!W143","v":{"$error":"#N/A"}},{"$f":"Perzentile!X143","v":{"$error":"#N/A"}},{"$f":"Perzentile!Y143","v":{"$error":"#N/A"}},0]
[11.8,11.75,141,{"$f":"IF('Entrée des données_Eingabemaske'!$N$12=\"männlich / masculin\",Perzentile!C144,Perzentile!M144)","v":1},{"$f":"IF('Entrée des données_Eingabemaske'!$N$12=\"männlich / masculin\",Perzentile!D144,Perzentile!N144)","v":149.73220000000001},{"$f":"IF('Entrée des données_Eingabemaske'!$N$12=\"männlich / masculin\",Perzentile!E144,Perzentile!O144)","v":4.5409999999999999E-2},{"$f":"IF('Entrée des données_Eingabemaske'!$N$12=\"männlich / masculin\",Perzentile!F144,Perzentile!P144)","v":136.94399999999999},{"$f":"IF('Entrée des données_Eingabemaske'!$N$12=\"männlich / masculin\",Perzentile!G144,Perzentile!Q144)","v":141.01849620100813},{"$f":"IF('Entrée des données_Eingabemaske'!$N$12=\"männlich / masculin\",Perzentile!H144,Perzentile!R144)","v":145.14599999999999},{"$f":"IF('Entrée des données_Eingabemaske'!$N$12=\"männlich / masculin\",Perzentile!I144,Perzentile!S144)","v":149.732},{"$f":"IF('Entrée des données_Eingabemaske'!$N$12=\"männlich / masculin\",Perzentile!J144,Perzentile!T144)","v":154.31800000000001},{"$f":"IF('Entrée des données_Eingabemaske'!$N$12=\"männlich / masculin\",Perzentile!K144,Perzentile!U144)","v":158.44590379899188},{"$f":"IF('Entrée des données_Eingabemaske'!$N$12=\"männlich / masculin\",Perzentile!L144,Perzentile!V144)","v":162.52000000000001},{"$f":"Perzentile!W144","v":{"$error":"#N/A"}},{"$f":"Perzentile!X144","v":{"$error":"#N/A"}},{"$f":"Perzentile!Y144","v":{"$error":"#N/A"}},0]
[11.8,11.833333333333334,142,{"$f":"IF('Entrée des données_Eingabemaske'!$N$12=\"männlich / masculin\",Perzentile!C145,Perzentile!M145)","v":1},{"$f":"IF('Entrée des données_Eingabemaske'!$N$12=\"männlich / masculin\",Perzentile!D145,Perzentile!N145)","v":150.239},{"$f":"IF('Entrée des données_Eingabemaske'!$N$12=\"männlich / masculin\",Perzentile!E145,Perzentile!O145)","v":4.5350000000000001E-2},{"$f":"IF('Entrée des données_Eingabemaske'!$N$12=\"männlich / masculin\",Perzentile!F145,Perzentile!P145)","v":137.42500000000001},{"$f":"IF('Entrée des données_Eingabemaske'!$N$12=\"männlich / masculin\",Perzentile!G145,Perzentile!Q145)","v":141.50735518650697},{"$f":"IF('Entrée des données_Eingabemaske'!$N$12=\"männlich / masculin\",Perzentile!H145,Perzentile!R145)","v":145.643},{"$f":"IF('Entrée des données_Eingabemaske'!$N$12=\"männlich / masculin\",Perzentile!I145,Perzentile!S145)","v":150.239},{"$f":"IF('Entrée des données_Eingabemaske'!$N$12=\"männlich / masculin\",Perzentile!J145,Perzentile!T145)","v":154.83500000000001},{"$f":"IF('Entrée des données_Eingabemaske'!$N$12=\"männlich / masculin\",Perzentile!K145,Perzentile!U145)","v":158.97064481349304},{"$f":"IF('Entrée des données_Eingabemaske'!$N$12=\"männlich / masculin\",Perzentile!L145,Perzentile!V145)","v":163.053},{"$f":"Perzentile!W145","v":{"$error":"#N/A"}},{"$f":"Perzentile!X145","v":{"$error":"#N/A"}},{"$f":"Perzentile!Y145","v":{"$error":"#N/A"}},0]
[11.9,11.916666666666666,143,{"$f":"IF('Entrée des données_Eingabemaske'!$N$12=\"männlich / masculin\",Perzentile!C146,Perzentile!M146)","v":1},{"$f":"IF('Entrée des données_Eingabemaske'!$N$12=\"männlich / masculin\",Perzentile!D146,Perzentile!N146)","v":150.73939999999999},{"$f":"IF('Entrée des données_Eingabemaske'!$N$12=\"männlich / masculin\",Perzentile!E146,Perzentile!O146)","v":4.5289999999999997E-2},{"$f":"IF('Entrée des données_Eingabemaske'!$N$12=\"männlich / masculin\",Perzentile!F146,Perzentile!P146)","v":137.899},{"$f":"IF('Entrée des données_Eingabemaske'!$N$12=\"männlich / masculin\",Perzentile!G146,Perzentile!Q146)","v":141.99026357625638},{"$f":"IF('Entrée des données_Eingabemaske'!$N$12=\"männlich / masculin\",Perzentile!H146,Perzentile!R146)","v":146.13499999999999},{"$f":"IF('Entrée des données_Eingabemaske'!$N$12=\"männlich / masculin\",Perzentile!I146,Perzentile!S146)","v":150.739},{"$f":"IF('Entrée des données_Eingabemaske'!$N$12=\"männlich / masculin\",Perzentile!J146,Perzentile!T146)","v":155.34399999999999},{"$f":"IF('Entrée des données_Eingabemaske'!$N$12=\"männlich / masculin\",Perzentile!K146,Perzentile!U146)","v":159.4885364237436},{"$f":"IF('Entrée des données_Eingabemaske'!$N$12=\"männlich / masculin\",Perzentile!L146,Perzentile!V146)","v":163.58000000000001},{"$f":"Perzentile!W146","v":{"$error":"#N/A"}},{"$f":"Perzentile!X146","v":{"$error":"#N/A"}},{"$f":"Perzentile!Y146","v":{"$error":"#N/A"}},0]
[12,12,144,{"$f":"IF('Entrée des données_Eingabemaske'!$N$12=\"männlich / masculin\",Perzentile!C147,Perzentile!M147)","v":1},{"$f":"IF('Entrée des données_Eingabemaske'!$N$12=\"männlich / masculin\",Perzentile!D147,Perzentile!N147)","v":151.23269999999999},{"$f":"IF('Entrée des données_Eingabemaske'!$N$12=\"männlich / masculin\",Perzentile!E147,Perzentile!O147)","v":4.5229999999999999E-2},{"$f":"IF('Entrée des données_Eingabemaske'!$N$12=\"männlich / masculin\",Perzentile!F147,Perzentile!P147)","v":138.36799999999999},{"$f":"IF('Entrée des données_Eingabemaske'!$N$12=\"männlich / masculin\",Perzentile!G147,Perzentile!Q147)","v":142.46656046911312},{"$f":"IF('Entrée des données_Eingabemaske'!$N$12=\"männlich / masculin\",Perzentile!H147,Perzentile!R147)","v":146.619},{"$f":"IF('Entrée des données_Eingabemaske'!$N$12=\"männlich / masculin\",Perzentile!I147,Perzentile!S147)","v":151.233},{"$f":"IF('Entrée des données_Eingabemaske'!$N$12=\"männlich / masculin\",Perzentile!J147,Perzentile!T147)","v":155.846},{"$f":"IF('Entrée des données_Eingabemaske'!$N$12=\"männlich / masculin\",Perzentile!K147,Perzentile!U147)","v":159.99883953088687},{"$f":"IF('Entrée des données_Eingabemaske'!$N$12=\"männlich / masculin\",Perzentile!L147,Perzentile!V147)","v":164.09800000000001},{"$f":"Perzentile!W147","v":{"$error":"#N/A"}},{"$f":"Perzentile!X147","v":{"$error":"#N/A"}},{"$f":"Perzentile!Y147","v":{"$error":"#N/A"}},0]
[12.1,12.083333333333334,145,{"$f":"IF('Entrée des données_Eingabemaske'!$N$12=\"männlich / masculin\",Perzentile!C148,Perzentile!M148)","v":1},{"$f":"IF('Entrée des données_Eingabemaske'!$N$12=\"männlich / masculin\",Perzentile!D148,Perzentile!N148)","v":151.7182},{"$f":"IF('Entrée des données_Eingabemaske'!$N$12=\"männlich / masculin\",Perzentile!E148,Perzentile!O148)","v":4.5159999999999999E-2},{"$f":"IF('Entrée des données_Eingabemaske'!$N$12=\"männlich / masculin\",Perzentile!F148,Perzentile!P148)","v":138.83199999999999},{"$f":"IF('Entrée des données_Eingabemaske'!$N$12=\"männlich / masculin\",Perzentile!G148,Perzentile!Q148)","v":142.93752909560052},{"$f":"IF('Entrée des données_Eingabemaske'!$N$12=\"männlich / masculin\",Perzentile!H148,Perzentile!R148)","v":147.09700000000001},{"$f":"IF('Entrée des données_Eingabemaske'!$N$12=\"männlich / masculin\",Perzentile!I148,Perzentile!S148)","v":151.71799999999999},{"$f":"IF('Entrée des données_Eingabemaske'!$N$12=\"männlich / masculin\",Perzentile!J148,Perzentile!T148)","v":156.34},{"$f":"IF('Entrée des données_Eingabemaske'!$N$12=\"männlich / masculin\",Perzentile!K148,Perzentile!U148)","v":160.49887090439944},{"$f":"IF('Entrée des données_Eingabemaske'!$N$12=\"männlich / masculin\",Perzentile!L148,Perzentile!V148)","v":164.60499999999999},{"$f":"Perzentile!W148","v":{"$error":"#N/A"}},{"$f":"Perzentile!X148","v":{"$error":"#N/A"}},{"$f":"Perzentile!Y148","v":{"$error":"#N/A"}},0]
[12.2,12.166666666666666,146,{"$f":"IF('Entrée des données_Eingabemaske'!$N$12=\"männlich / masculin\",Perzentile!C149,Perzentile!M149)","v":1},{"$f":"IF('Entrée des données_Eingabemaske'!$N$12=\"männlich / masculin\",Perzentile!D149,Perzentile!N149)","v":152.1951},{"$f":"IF('Entrée des données_Eingabemaske'!$N$12=\"männlich / masculin\",Perzentile!E149,Perzentile!O149)","v":4.5100000000000001E-2},{"$f":"IF('Entrée des données_Eingabemaske'!$N$12=\"männlich / masculin\",Perzentile!F149,Perzentile!P149)","v":139.285},{"$f":"IF('Entrée des données_Eingabemaske'!$N$12=\"männlich / masculin\",Perzentile!G149,Perzentile!Q149)","v":143.3985313228379},{"$f":"IF('Entrée des données_Eingabemaske'!$N$12=\"männlich / masculin\",Perzentile!H149,Perzentile!R149)","v":147.565},{"$f":"IF('Entrée des données_Eingabemaske'!$N$12=\"männlich / masculin\",Perzentile!I149,Perzentile!S149)","v":152.19499999999999},{"$f":"IF('Entrée des données_Eingabemaske'!$N$12=\"männlich / masculin\",Perzentile!J149,Perzentile!T149)","v":156.82499999999999},{"$f":"IF('Entrée des données_Eingabemaske'!$N$12=\"männlich / masculin\",Perzentile!K149,Perzentile!U149)","v":160.9916686771621},{"$f":"IF('Entrée des données_Eingabemaske'!$N$12=\"männlich / masculin\",Perzentile!L149,Perzentile!V149)","v":165.10499999999999},{"$f":"Perzentile!W149","v":{"$error":"#N/A"}},{"$f":"Perzentile!X149","v":{"$error":"#N/A"}},{"$f":"Perzentile!Y149","v":{"$error":"#N/A"}},0]
[12.3,12.25,147,{"$f":"IF('Entrée des données_Eingabemaske'!$N$12=\"männlich / masculin\",Perzentile!C150,Perzentile!M150)","v":1},{"$f":"IF('Entrée des données_Eingabemaske'!$N$12=\"männlich / masculin\",Perzentile!D150,Perzentile!N150)","v":152.6628},{"$f":"IF('Entrée des données_Eingabemaske'!$N$12=\"männlich / masculin\",Perzentile!E150,Perzentile!O150)","v":4.5030000000000001E-2},{"$f":"IF('Entrée des données_Eingabemaske'!$N$12=\"männlich / masculin\",Perzentile!F150,Perzentile!P150)","v":139.733},{"$f":"IF('Entrée des données_Eingabemaske'!$N$12=\"männlich / masculin\",Perzentile!G150,Perzentile!Q150)","v":143.8528943771708},{"$f":"IF('Entrée des données_Eingabemaske'!$N$12=\"männlich / masculin\",Perzentile!H150,Perzentile!R150)","v":148.02600000000001},{"$f":"IF('Entrée des données_Eingabemaske'!$N$12=\"männlich / masculin\",Perzentile!I150,Perzentile!S150)","v":152.66300000000001},{"$f":"IF('Entrée des données_Eingabemaske'!$N$12=\"männlich / masculin\",Perzentile!J150,Perzentile!T150)","v":157.30000000000001},{"$f":"IF('Entrée des données_Eingabemaske'!$N$12=\"männlich / masculin\",Perzentile!K150,Perzentile!U150)","v":161.47270562282924},{"$f":"IF('Entrée des données_Eingabemaske'!$N$12=\"männlich / masculin\",Perzentile!L150,Perzentile!V150)","v":165.59200000000001},{"$f":"Perzentile!W150","v":{"$error":"#N/A"}},{"$f":"Perzentile!X150","v":{"$error":"#N/A"}},{"$f":"Perzentile!Y150","v":{"$error":"#N/A"}},0]
[12.3,12.333333333333334,148,{"$f":"IF('Entrée des données_Eingabemaske'!$N$12=\"männlich / masculin\",Perzentile!C151,Perzentile!M151)","v":1},{"$f":"IF('Entrée des données_Eingabemaske'!$N$12=\"männlich / masculin\",Perzentile!D151,Perzentile!N151)","v":153.1206},{"$f":"IF('Entrée des données_Eingabemaske'!$N$12=\"männlich / masculin\",Perzentile!E151,Perzentile!O151)","v":4.4970000000000003E-2},{"$f":"IF('Entrée des données_Eingabemaske'!$N$12=\"männlich / masculin\",Perzentile!F151,Perzentile!P151)","v":140.16999999999999},{"$f":"IF('Entrée des données_Eingabemaske'!$N$12=\"männlich / masculin\",Perzentile!G151,Perzentile!Q151)","v":144.29604944921863},{"$f":"IF('Entrée des données_Eingabemaske'!$N$12=\"männlich / masculin\",Perzentile!H151,Perzentile!R151)","v":148.476},{"$f":"IF('Entrée des données_Eingabemaske'!$N$12=\"männlich / masculin\",Perzentile!I151,Perzentile!S151)","v":153.12100000000001},{"$f":"IF('Entrée des données_Eingabemaske'!$N$12=\"männlich / masculin\",Perzentile!J151,Perzentile!T151)","v":157.76499999999999},{"$f":"IF('Entrée des données_Eingabemaske'!$N$12=\"männlich / masculin\",Perzentile!K151,Perzentile!U151)","v":161.94515055078136},{"$f":"IF('Entrée des données_Eingabemaske'!$N$12=\"männlich / masculin\",Perzentile!L151,Perzentile!V151)","v":166.071},{"$f":"Perzentile!W151","v":{"$error":"#N/A"}},{"$f":"Perzentile!X151","v":{"$error":"#N/A"}},{"$f":"Perzentile!Y151","v":{"$error":"#N/A"}},0]
[12.4,12.416666666666666,149,{"$f":"IF('Entrée des données_Eingabemaske'!$N$12=\"männlich / masculin\",Perzentile!C152,Perzentile!M152)","v":1},{"$f":"IF('Entrée des données_Eingabemaske'!$N$12=\"männlich / masculin\",Perzentile!D152,Perzentile!N152)","v":153.56780000000001},{"$f":"IF('Entrée des données_Eingabemaske'!$N$12=\"männlich / masculin\",Perzentile!E152,Perzentile!O152)","v":4.4900000000000002E-2},{"$f":"IF('Entrée des données_Eingabemaske'!$N$12=\"männlich / masculin\",Perzentile!F152,Perzentile!P152)","v":140.59899999999999},{"$f":"IF('Entrée des données_Eingabemaske'!$N$12=\"männlich / masculin\",Perzentile!G152,Perzentile!Q152)","v":144.73125305262494},{"$f":"IF('Entrée des données_Eingabemaske'!$N$12=\"männlich / masculin\",Perzentile!H152,Perzentile!R152)","v":148.917},{"$f":"IF('Entrée des données_Eingabemaske'!$N$12=\"männlich / masculin\",Perzentile!I152,Perzentile!S152)","v":153.56800000000001},{"$f":"IF('Entrée des données_Eingabemaske'!$N$12=\"männlich / masculin\",Perzentile!J152,Perzentile!T152)","v":158.21899999999999},{"$f":"IF('Entrée des données_Eingabemaske'!$N$12=\"männlich / masculin\",Perzentile!K152,Perzentile!U152)","v":162.40434694737507},{"$f":"IF('Entrée des données_Eingabemaske'!$N$12=\"männlich / masculin\",Perzentile!L152,Perzentile!V152)","v":166.536},{"$f":"Perzentile!W152","v":{"$error":"#N/A"}},{"$f":"Perzentile!X152","v":{"$error":"#N/A"}},{"$f":"Perzentile!Y152","v":{"$error":"#N/A"}},0]
[12.5,12.5,150,{"$f":"IF('Entrée des données_Eingabemaske'!$N$12=\"männlich / masculin\",Perzentile!C153,Perzentile!M153)","v":1},{"$f":"IF('Entrée des données_Eingabemaske'!$N$12=\"männlich / masculin\",Perzentile!D153,Perzentile!N153)","v":154.00409999999999},{"$f":"IF('Entrée des données_Eingabemaske'!$N$12=\"männlich / masculin\",Perzentile!E153,Perzentile!O153)","v":4.4830000000000002E-2},{"$f":"IF('Entrée des données_Eingabemaske'!$N$12=\"männlich / masculin\",Perzentile!F153,Perzentile!P153)","v":141.01900000000001},{"$f":"IF('Entrée des données_Eingabemaske'!$N$12=\"männlich / masculin\",Perzentile!G153,Perzentile!Q153)","v":145.15626311773946},{"$f":"IF('Entrée des données_Eingabemaske'!$N$12=\"männlich / masculin\",Perzentile!H153,Perzentile!R153)","v":149.34700000000001},{"$f":"IF('Entrée des données_Eingabemaske'!$N$12=\"männlich / masculin\",Perzentile!I153,Perzentile!S153)","v":154.00399999999999},{"$f":"IF('Entrée des données_Eingabemaske'!$N$12=\"männlich / masculin\",Perzentile!J153,Perzentile!T153)","v":158.661},{"$f":"IF('Entrée des données_Eingabemaske'!$N$12=\"männlich / masculin\",Perzentile!K153,Perzentile!U153)","v":162.85193688226053},{"$f":"IF('Entrée des données_Eingabemaske'!$N$12=\"männlich / masculin\",Perzentile!L153,Perzentile!V153)","v":166.989},{"$f":"Perzentile!W153","v":{"$error":"#N/A"}},{"$f":"Perzentile!X153","v":{"$error":"#N/A"}},{"$f":"Perzentile!Y153","v":{"$error":"#N/A"}},0]
[12.6,12.583333333333334,151,{"$f":"IF('Entrée des données_Eingabemaske'!$N$12=\"männlich / masculin\",Perzentile!C154,Perzentile!M154)","v":1},{"$f":"IF('Entrée des données_Eingabemaske'!$N$12=\"männlich / masculin\",Perzentile!D154,Perzentile!N154)","v":154.429},{"$f":"IF('Entrée des données_Eingabemaske'!$N$12=\"männlich / masculin\",Perzentile!E154,Perzentile!O154)","v":4.4760000000000001E-2},{"$f":"IF('Entrée des données_Eingabemaske'!$N$12=\"männlich / masculin\",Perzentile!F154,Perzentile!P154)","v":141.428},{"$f":"IF('Entrée des données_Eingabemaske'!$N$12=\"männlich / masculin\",Perzentile!G154,Perzentile!Q154)","v":145.57060539221479},{"$f":"IF('Entrée des données_Eingabemaske'!$N$12=\"männlich / masculin\",Perzentile!H154,Perzentile!R154)","v":149.767},{"$f":"IF('Entrée des données_Eingabemaske'!$N$12=\"männlich / masculin\",Perzentile!I154,Perzentile!S154)","v":154.429},{"$f":"IF('Entrée des données_Eingabemaske'!$N$12=\"männlich / masculin\",Perzentile!J154,Perzentile!T154)","v":159.09100000000001},{"$f":"IF('Entrée des données_Eingabemaske'!$N$12=\"männlich / masculin\",Perzentile!K154,Perzentile!U154)","v":163.28739460778522},{"$f":"IF('Entrée des données_Eingabemaske'!$N$12=\"männlich / masculin\",Perzentile!L154,Perzentile!V154)","v":167.43},{"$f":"Perzentile!W154","v":{"$error":"#N/A"}},{"$f":"Perzentile!X154","v":{"$error":"#N/A"}},{"$f":"Perzentile!Y154","v":{"$error":"#N/A"}},0]
[12.7,12.666666666666666,152,{"$f":"IF('Entrée des données_Eingabemaske'!$N$12=\"männlich / masculin\",Perzentile!C155,Perzentile!M155)","v":1},{"$f":"IF('Entrée des données_Eingabemaske'!$N$12=\"männlich / masculin\",Perzentile!D155,Perzentile!N155)","v":154.84229999999999},{"$f":"IF('Entrée des données_Eingabemaske'!$N$12=\"männlich / masculin\",Perzentile!E155,Perzentile!O155)","v":4.4679999999999997E-2},{"$f":"IF('Entrée des données_Eingabemaske'!$N$12=\"männlich / masculin\",Perzentile!F155,Perzentile!P155)","v":141.83000000000001},{"$f":"IF('Entrée des données_Eingabemaske'!$N$12=\"männlich / masculin\",Perzentile!G155,Perzentile!Q155)","v":145.97607264644409},{"$f":"IF('Entrée des données_Eingabemaske'!$N$12=\"männlich / masculin\",Perzentile!H155,Perzentile!R155)","v":150.17599999999999},{"$f":"IF('Entrée des données_Eingabemaske'!$N$12=\"männlich / masculin\",Perzentile!I155,Perzentile!S155)","v":154.84200000000001},{"$f":"IF('Entrée des données_Eingabemaske'!$N$12=\"männlich / masculin\",Perzentile!J155,Perzentile!T155)","v":159.50899999999999},{"$f":"IF('Entrée des données_Eingabemaske'!$N$12=\"männlich / masculin\",Perzentile!K155,Perzentile!U155)","v":163.70852735355589},{"$f":"IF('Entrée des données_Eingabemaske'!$N$12=\"männlich / masculin\",Perzentile!L155,Perzentile!V155)","v":167.85400000000001},{"$f":"Perzentile!W155","v":{"$error":"#N/A"}},{"$f":"Perzentile!X155","v":{"$error":"#N/A"}},{"$f":"Perzentile!Y155","v":{"$error":"#N/A"}},0]
[12.8,12.75,153,{"$f":"IF('Entrée des données_Eingabemaske'!$N$12=\"männlich / masculin\",Perzentile!C156,Perzentile!M156)","v":1},{"$f":"IF('Entrée des données_Eingabemaske'!$N$12=\"männlich / masculin\",Perzentile!D156,Perzentile!N156)","v":155.24369999999999},{"$f":"IF('Entrée des données_Eingabemaske'!$N$12=\"männlich / masculin\",Perzentile!E156,Perzentile!O156)","v":4.4609999999999997E-2},{"$f":"IF('Entrée des données_Eingabemaske'!$N$12=\"männlich / masculin\",Perzentile!F156,Perzentile!P156)","v":142.21799999999999},{"$f":"IF('Entrée des données_Eingabemaske'!$N$12=\"männlich / masculin\",Perzentile!G156,Perzentile!Q156)","v":146.36841528972545},{"$f":"IF('Entrée des données_Eingabemaske'!$N$12=\"männlich / masculin\",Perzentile!H156,Perzentile!R156)","v":150.57300000000001},{"$f":"IF('Entrée des données_Eingabemaske'!$N$12=\"männlich / masculin\",Perzentile!I156,Perzentile!S156)","v":155.244},{"$f":"IF('Entrée des données_Eingabemaske'!$N$12=\"männlich / masculin\",Perzentile!J156,Perzentile!T156)","v":159.91499999999999},{"$f":"IF('Entrée des données_Eingabemaske'!$N$12=\"männlich / masculin\",Perzentile!K156,Perzentile!U156)","v":164.11898471027453},{"$f":"IF('Entrée des données_Eingabemaske'!$N$12=\"männlich / masculin\",Perzentile!L156,Perzentile!V156)","v":168.26900000000001},{"$f":"Perzentile!W156","v":{"$error":"#N/A"}},{"$f":"Perzentile!X156","v":{"$error":"#N/A"}},{"$f":"Perzentile!Y156","v":{"$error":"#N/A"}},0]
[12.8,12.833333333333334,154,{"$f":"IF('Entrée des données_Eingabemaske'!$N$12=\"männlich / masculin\",Perzentile!C157,Perzentile!M157)","v":1},{"$f":"IF('Entrée des données_Eingabemaske'!$N$12=\"männlich / masculin\",Perzentile!D157,Perzentile!N157)","v":155.63300000000001},{"$f":"IF('Entrée des données_Eingabemaske'!$N$12=\"männlich / masculin\",Perzentile!E157,Perzentile!O157)","v":4.4540000000000003E-2},{"$f":"IF('Entrée des données_Eingabemaske'!$N$12=\"männlich / masculin\",Perzentile!F157,Perzentile!P157)","v":142.596},{"$f":"IF('Entrée des données_Eingabemaske'!$N$12=\"männlich / masculin\",Perzentile!G157,Perzentile!Q157)","v":146.74942062279004},{"$f":"IF('Entrée des données_Eingabemaske'!$N$12=\"männlich / masculin\",Perzentile!H157,Perzentile!R157)","v":150.958},{"$f":"IF('Entrée des données_Eingabemaske'!$N$12=\"männlich / masculin\",Perzentile!I157,Perzentile!S157)","v":155.63300000000001},{"$f":"IF('Entrée des données_Eingabemaske'!$N$12=\"männlich / masculin\",Perzentile!J157,Perzentile!T157)","v":160.30799999999999},{"$f":"IF('Entrée des données_Eingabemaske'!$N$12=\"männlich / masculin\",Perzentile!K157,Perzentile!U157)","v":164.51657937720998},{"$f":"IF('Entrée des données_Eingabemaske'!$N$12=\"männlich / masculin\",Perzentile!L157,Perzentile!V157)","v":168.67},{"$f":"Perzentile!W157","v":{"$error":"#N/A"}},{"$f":"Perzentile!X157","v":{"$error":"#N/A"}},{"$f":"Perzentile!Y157","v":{"$error":"#N/A"}},0]
[12.9,12.916666666666666,155,{"$f":"IF('Entrée des données_Eingabemaske'!$N$12=\"männlich / masculin\",Perzentile!C158,Perzentile!M158)","v":1},{"$f":"IF('Entrée des données_Eingabemaske'!$N$12=\"männlich / masculin\",Perzentile!D158,Perzentile!N158)","v":156.01009999999999},{"$f":"IF('Entrée des données_Eingabemaske'!$N$12=\"männlich / masculin\",Perzentile!E158,Perzentile!O158)","v":4.446E-2},{"$f":"IF('Entrée des données_Eingabemaske'!$N$12=\"männlich / masculin\",Perzentile!F158,Perzentile!P158)","v":142.965},{"$f":"IF('Entrée des données_Eingabemaske'!$N$12=\"männlich / masculin\",Perzentile!G158,Perzentile!Q158)","v":147.12099043815405},{"$f":"IF('Entrée des données_Eingabemaske'!$N$12=\"männlich / masculin\",Perzentile!H158,Perzentile!R158)","v":151.33199999999999},{"$f":"IF('Entrée des données_Eingabemaske'!$N$12=\"männlich / masculin\",Perzentile!I158,Perzentile!S158)","v":156.01},{"$f":"IF('Entrée des données_Eingabemaske'!$N$12=\"männlich / masculin\",Perzentile!J158,Perzentile!T158)","v":160.68899999999999},{"$f":"IF('Entrée des données_Eingabemaske'!$N$12=\"männlich / masculin\",Perzentile!K158,Perzentile!U158)","v":164.89920956184591},{"$f":"IF('Entrée des données_Eingabemaske'!$N$12=\"männlich / masculin\",Perzentile!L158,Perzentile!V158)","v":169.05600000000001},{"$f":"Perzentile!W158","v":{"$error":"#N/A"}},{"$f":"Perzentile!X158","v":{"$error":"#N/A"}},{"$f":"Perzentile!Y158","v":{"$error":"#N/A"}},0]
[13,13,156,{"$f":"IF('Entrée des données_Eingabemaske'!$N$12=\"männlich / masculin\",Perzentile!C159,Perzentile!M159)","v":1},{"$f":"IF('Entrée des données_Eingabemaske'!$N$12=\"männlich / masculin\",Perzentile!D159,Perzentile!N159)","v":156.37479999999999},{"$f":"IF('Entrée des données_Eingabemaske'!$N$12=\"männlich / masculin\",Perzentile!E159,Perzentile!O159)","v":4.4389999999999999E-2},{"$f":"IF('Entrée des données_Eingabemaske'!$N$12=\"männlich / masculin\",Perzentile!F159,Perzentile!P159)","v":143.31899999999999},{"$f":"IF('Entrée des données_Eingabemaske'!$N$12=\"männlich / masculin\",Perzentile!G159,Perzentile!Q159)","v":147.47893880672098},{"$f":"IF('Entrée des données_Eingabemaske'!$N$12=\"männlich / masculin\",Perzentile!H159,Perzentile!R159)","v":151.69300000000001},{"$f":"IF('Entrée des données_Eingabemaske'!$N$12=\"männlich / masculin\",Perzentile!I159,Perzentile!S159)","v":156.375},{"$f":"IF('Entrée des données_Eingabemaske'!$N$12=\"männlich / masculin\",Perzentile!J159,Perzentile!T159)","v":161.05699999999999},{"$f":"IF('Entrée des données_Eingabemaske'!$N$12=\"männlich / masculin\",Perzentile!K159,Perzentile!U159)","v":165.27066119327901},{"$f":"IF('Entrée des données_Eingabemaske'!$N$12=\"männlich / masculin\",Perzentile!L159,Perzentile!V159)","v":169.43},{"$f":"Perzentile!W159","v":{"$error":"#N/A"}},{"$f":"Perzentile!X159","v":{"$error":"#N/A"}},{"$f":"Perzentile!Y159","v":{"$error":"#N/A"}},0]
[13.1,13.083333333333334,157,{"$f":"IF('Entrée des données_Eingabemaske'!$N$12=\"männlich / masculin\",Perzentile!C160,Perzentile!M160)","v":1},{"$f":"IF('Entrée des données_Eingabemaske'!$N$12=\"männlich / masculin\",Perzentile!D160,Perzentile!N160)","v":156.7269},{"$f":"IF('Entrée des données_Eingabemaske'!$N$12=\"männlich / masculin\",Perzentile!E160,Perzentile!O160)","v":4.4310000000000002E-2},{"$f":"IF('Entrée des données_Eingabemaske'!$N$12=\"männlich / masculin\",Perzentile!F160,Perzentile!P160)","v":143.666},{"$f":"IF('Entrée des données_Eingabemaske'!$N$12=\"männlich / masculin\",Perzentile!G160,Perzentile!Q160)","v":147.82707680419213},{"$f":"IF('Entrée des données_Eingabemaske'!$N$12=\"männlich / masculin\",Perzentile!H160,Perzentile!R160)","v":152.04300000000001},{"$f":"IF('Entrée des données_Eingabemaske'!$N$12=\"männlich / masculin\",Perzentile!I160,Perzentile!S160)","v":156.727},{"$f":"IF('Entrée des données_Eingabemaske'!$N$12=\"männlich / masculin\",Perzentile!J160,Perzentile!T160)","v":161.411},{"$f":"IF('Entrée des données_Eingabemaske'!$N$12=\"männlich / masculin\",Perzentile!K160,Perzentile!U160)","v":165.62672319580787},{"$f":"IF('Entrée des données_Eingabemaske'!$N$12=\"männlich / masculin\",Perzentile!L160,Perzentile!V160)","v":169.78800000000001},{"$f":"Perzentile!W160","v":{"$error":"#N/A"}},{"$f":"Perzentile!X160","v":{"$error":"#N/A"}},{"$f":"Perzentile!Y160","v":{"$error":"#N/A"}},0]
[13.2,13.166666666666666,158,{"$f":"IF('Entrée des données_Eingabemaske'!$N$12=\"männlich / masculin\",Perzentile!C161,Perzentile!M161)","v":1},{"$f":"IF('Entrée des données_Eingabemaske'!$N$12=\"männlich / masculin\",Perzentile!D161,Perzentile!N161)","v":157.06659999999999},{"$f":"IF('Entrée des données_Eingabemaske'!$N$12=\"männlich / masculin\",Perzentile!E161,Perzentile!O161)","v":4.4229999999999998E-2},{"$f":"IF('Entrée des données_Eingabemaske'!$N$12=\"männlich / masculin\",Perzentile!F161,Perzentile!P161)","v":144.001},{"$f":"IF('Entrée des données_Eingabemaske'!$N$12=\"männlich / masculin\",Perzentile!G161,Perzentile!Q161)","v":148.16358986867152},{"$f":"IF('Entrée des données_Eingabemaske'!$N$12=\"männlich / masculin\",Perzentile!H161,Perzentile!R161)","v":152.381},{"$f":"IF('Entrée des données_Eingabemaske'!$N$12=\"männlich / masculin\",Perzentile!I161,Perzentile!S161)","v":157.06700000000001},{"$f":"IF('Entrée des données_Eingabemaske'!$N$12=\"männlich / masculin\",Perzentile!J161,Perzentile!T161)","v":161.75200000000001},{"$f":"IF('Entrée des données_Eingabemaske'!$N$12=\"männlich / masculin\",Perzentile!K161,Perzentile!U161)","v":165.96961013132844},{"$f":"IF('Entrée des données_Eingabemaske'!$N$12=\"männlich / masculin\",Perzentile!L161,Perzentile!V161)","v":170.13300000000001},{"$f":"Perzentile!W161","v":{"$error":"#N/A"}},{"$f":"Perzentile!X161","v":{"$error":"#N/A"}},{"$f":"Perzentile!Y161","v":{"$error":"#N/A"}},0]
[13.3,13.25,159,{"$f":"IF('Entrée des données_Eingabemaske'!$N$12=\"männlich / masculin\",Perzentile!C162,Perzentile!M162)","v":1},{"$f":"IF('Entrée des données_Eingabemaske'!$N$12=\"männlich / masculin\",Perzentile!D162,Perzentile!N162)","v":157.39359999999999},{"$f":"IF('Entrée des données_Eingabemaske'!$N$12=\"männlich / masculin\",Perzentile!E162,Perzentile!O162)","v":4.4150000000000002E-2},{"$f":"IF('Entrée des données_Eingabemaske'!$N$12=\"männlich / masculin\",Perzentile!F162,Perzentile!P162)","v":144.32400000000001},{"$f":"IF('Entrée des données_Eingabemaske'!$N$12=\"männlich / masculin\",Perzentile!G162,Perzentile!Q162)","v":148.48819116041216},{"$f":"IF('Entrée des données_Eingabemaske'!$N$12=\"männlich / masculin\",Perzentile!H162,Perzentile!R162)","v":152.70699999999999},{"$f":"IF('Entrée des données_Eingabemaske'!$N$12=\"männlich / masculin\",Perzentile!I162,Perzentile!S162)","v":157.39400000000001},{"$f":"IF('Entrée des données_Eingabemaske'!$N$12=\"männlich / masculin\",Perzentile!J162,Perzentile!T162)","v":162.08099999999999},{"$f":"IF('Entrée des données_Eingabemaske'!$N$12=\"männlich / masculin\",Perzentile!K162,Perzentile!U162)","v":166.29900883958783},{"$f":"IF('Entrée des données_Eingabemaske'!$N$12=\"männlich / masculin\",Perzentile!L162,Perzentile!V162)","v":170.46299999999999},{"$f":"Perzentile!W162","v":{"$error":"#N/A"}},{"$f":"Perzentile!X162","v":{"$error":"#N/A"}},{"$f":"Perzentile!Y162","v":{"$error":"#N/A"}},0]
[13.3,13.333333333333334,160,{"$f":"IF('Entrée des données_Eingabemaske'!$N$12=\"männlich / masculin\",Perzentile!C163,Perzentile!M163)","v":1},{"$f":"IF('Entrée des données_Eingabemaske'!$N$12=\"männlich / masculin\",Perzentile!D163,Perzentile!N163)","v":157.70820000000001},{"$f":"IF('Entrée des données_Eingabemaske'!$N$12=\"männlich / masculin\",Perzentile!E163,Perzentile!O163)","v":4.4080000000000001E-2},{"$f":"IF('Entrée des données_Eingabemaske'!$N$12=\"männlich / masculin\",Perzentile!F163,Perzentile!P163)","v":144.63300000000001},{"$f":"IF('Entrée des données_Eingabemaske'!$N$12=\"männlich / masculin\",Perzentile!G163,Perzentile!Q163)","v":148.79913871794554},{"$f":"IF('Entrée des données_Eingabemaske'!$N$12=\"männlich / masculin\",Perzentile!H163,Perzentile!R163)","v":153.01900000000001},{"$f":"IF('Entrée des données_Eingabemaske'!$N$12=\"männlich / masculin\",Perzentile!I163,Perzentile!S163)","v":157.708},{"$f":"IF('Entrée des données_Eingabemaske'!$N$12=\"männlich / masculin\",Perzentile!J163,Perzentile!T163)","v":162.39699999999999},{"$f":"IF('Entrée des données_Eingabemaske'!$N$12=\"männlich / masculin\",Perzentile!K163,Perzentile!U163)","v":166.61726128205447},{"$f":"IF('Entrée des données_Eingabemaske'!$N$12=\"männlich / masculin\",Perzentile!L163,Perzentile!V163)","v":170.78299999999999},{"$f":"Perzentile!W163","v":{"$error":"#N/A"}},{"$f":"Perzentile!X163","v":{"$error":"#N/A"}},{"$f":"Perzentile!Y163","v":{"$error":"#N/A"}},0]
[13.4,13.416666666666666,161,{"$f":"IF('Entrée des données_Eingabemaske'!$N$12=\"männlich / masculin\",Perzentile!C164,Perzentile!M164)","v":1},{"$f":"IF('Entrée des données_Eingabemaske'!$N$12=\"männlich / masculin\",Perzentile!D164,Perzentile!N164)","v":158.0102},{"$f":"IF('Entrée des données_Eingabemaske'!$N$12=\"männlich / masculin\",Perzentile!E164,Perzentile!O164)","v":4.3999999999999997E-2},{"$f":"IF('Entrée des données_Eingabemaske'!$N$12=\"männlich / masculin\",Perzentile!F164,Perzentile!P164)","v":144.934},{"$f":"IF('Entrée des données_Eingabemaske'!$N$12=\"männlich / masculin\",Perzentile!G164,Perzentile!Q164)","v":149.10027835599132},{"$f":"IF('Entrée des données_Eingabemaske'!$N$12=\"männlich / masculin\",Perzentile!H164,Perzentile!R164)","v":153.321},{"$f":"IF('Entrée des données_Eingabemaske'!$N$12=\"männlich / masculin\",Perzentile!I164,Perzentile!S164)","v":158.01},{"$f":"IF('Entrée des données_Eingabemaske'!$N$12=\"männlich / masculin\",Perzentile!J164,Perzentile!T164)","v":162.69999999999999},{"$f":"IF('Entrée des données_Eingabemaske'!$N$12=\"männlich / masculin\",Perzentile!K164,Perzentile!U164)","v":166.9201216440087},{"$f":"IF('Entrée des données_Eingabemaske'!$N$12=\"männlich / masculin\",Perzentile!L164,Perzentile!V164)","v":171.08600000000001},{"$f":"Perzentile!W164","v":{"$error":"#N/A"}},{"$f":"Perzentile!X164","v":{"$error":"#N/A"}},{"$f":"Perzentile!Y164","v":{"$error":"#N/A"}},0]
[13.5,13.5,162,{"$f":"IF('Entrée des données_Eingabemaske'!$N$12=\"männlich / masculin\",Perzentile!C165,Perzentile!M165)","v":1},{"$f":"IF('Entrée des données_Eingabemaske'!$N$12=\"männlich / masculin\",Perzentile!D165,Perzentile!N165)","v":158.2997},{"$f":"IF('Entrée des données_Eingabemaske'!$N$12=\"männlich / masculin\",Perzentile!E165,Perzentile!O165)","v":4.3920000000000001E-2},{"$f":"IF('Entrée des données_Eingabemaske'!$N$12=\"männlich / masculin\",Perzentile!F165,Perzentile!P165)","v":145.22300000000001},{"$f":"IF('Entrée des données_Eingabemaske'!$N$12=\"männlich / masculin\",Perzentile!G165,Perzentile!Q165)","v":149.38968349041821},{"$f":"IF('Entrée des données_Eingabemaske'!$N$12=\"männlich / masculin\",Perzentile!H165,Perzentile!R165)","v":153.61000000000001},{"$f":"IF('Entrée des données_Eingabemaske'!$N$12=\"männlich / masculin\",Perzentile!I165,Perzentile!S165)","v":158.30000000000001},{"$f":"IF('Entrée des données_Eingabemaske'!$N$12=\"männlich / masculin\",Perzentile!J165,Perzentile!T165)","v":162.989},{"$f":"IF('Entrée des données_Eingabemaske'!$N$12=\"männlich / masculin\",Perzentile!K165,Perzentile!U165)","v":167.20971650958177},{"$f":"IF('Entrée des données_Eingabemaske'!$N$12=\"männlich / masculin\",Perzentile!L165,Perzentile!V165)","v":171.376},{"$f":"Perzentile!W165","v":{"$error":"#N/A"}},{"$f":"Perzentile!X165","v":{"$error":"#N/A"}},{"$f":"Perzentile!Y165","v":{"$error":"#N/A"}},0]
[13.6,13.583333333333334,163,{"$f":"IF('Entrée des données_Eingabemaske'!$N$12=\"männlich / masculin\",Perzentile!C166,Perzentile!M166)","v":1},{"$f":"IF('Entrée des données_Eingabemaske'!$N$12=\"männlich / masculin\",Perzentile!D166,Perzentile!N166)","v":158.5771},{"$f":"IF('Entrée des données_Eingabemaske'!$N$12=\"männlich / masculin\",Perzentile!E166,Perzentile!O166)","v":4.3839999999999997E-2},{"$f":"IF('Entrée des données_Eingabemaske'!$N$12=\"männlich / masculin\",Perzentile!F166,Perzentile!P166)","v":145.50200000000001},{"$f":"IF('Entrée des données_Eingabemaske'!$N$12=\"männlich / masculin\",Perzentile!G166,Perzentile!Q166)","v":149.66772780328333},{"$f":"IF('Entrée des données_Eingabemaske'!$N$12=\"männlich / masculin\",Perzentile!H166,Perzentile!R166)","v":153.88800000000001},{"$f":"IF('Entrée des données_Eingabemaske'!$N$12=\"männlich / masculin\",Perzentile!I166,Perzentile!S166)","v":158.577},{"$f":"IF('Entrée des données_Eingabemaske'!$N$12=\"männlich / masculin\",Perzentile!J166,Perzentile!T166)","v":163.26599999999999},{"$f":"IF('Entrée des données_Eingabemaske'!$N$12=\"männlich / masculin\",Perzentile!K166,Perzentile!U166)","v":167.48647219671668},{"$f":"IF('Entrée des données_Eingabemaske'!$N$12=\"männlich / masculin\",Perzentile!L166,Perzentile!V166)","v":171.65199999999999},{"$f":"Perzentile!W166","v":{"$error":"#N/A"}},{"$f":"Perzentile!X166","v":{"$error":"#N/A"}},{"$f":"Perzentile!Y166","v":{"$error":"#N/A"}},0]
[13.7,13.666666666666666,164,{"$f":"IF('Entrée des données_Eingabemaske'!$N$12=\"männlich / masculin\",Perzentile!C167,Perzentile!M167)","v":1},{"$f":"IF('Entrée des données_Eingabemaske'!$N$12=\"männlich / masculin\",Perzentile!D167,Perzentile!N167)","v":158.8425},{"$f":"IF('Entrée des données_Eingabemaske'!$N$12=\"männlich / masculin\",Perzentile!E167,Perzentile!O167)","v":4.376E-2},{"$f":"IF('Entrée des données_Eingabemaske'!$N$12=\"männlich / masculin\",Perzentile!F167,Perzentile!P167)","v":145.76900000000001},{"$f":"IF('Entrée des données_Eingabemaske'!$N$12=\"männlich / masculin\",Perzentile!G167,Perzentile!Q167)","v":149.93450196489118},{"$f":"IF('Entrée des données_Eingabemaske'!$N$12=\"männlich / masculin\",Perzentile!H167,Perzentile!R167)","v":154.154},{"$f":"IF('Entrée des données_Eingabemaske'!$N$12=\"männlich / masculin\",Perzentile!I167,Perzentile!S167)","v":158.84200000000001},{"$f":"IF('Entrée des données_Eingabemaske'!$N$12=\"männlich / masculin\",Perzentile!J167,Perzentile!T167)","v":163.53100000000001},{"$f":"IF('Entrée des données_Eingabemaske'!$N$12=\"männlich / masculin\",Perzentile!K167,Perzentile!U167)","v":167.75049803510879},{"$f":"IF('Entrée des données_Eingabemaske'!$N$12=\"männlich / masculin\",Perzentile!L167,Perzentile!V167)","v":171.916},{"$f":"Perzentile!W167","v":{"$error":"#N/A"}},{"$f":"Perzentile!X167","v":{"$error":"#N/A"}},{"$f":"Perzentile!Y167","v":{"$error":"#N/A"}},0]
[13.8,13.75,165,{"$f":"IF('Entrée des données_Eingabemaske'!$N$12=\"männlich / masculin\",Perzentile!C168,Perzentile!M168)","v":1},{"$f":"IF('Entrée des données_Eingabemaske'!$N$12=\"männlich / masculin\",Perzentile!D168,Perzentile!N168)","v":159.09610000000001},{"$f":"IF('Entrée des données_Eingabemaske'!$N$12=\"männlich / masculin\",Perzentile!E168,Perzentile!O168)","v":4.369E-2},{"$f":"IF('Entrée des données_Eingabemaske'!$N$12=\"männlich / masculin\",Perzentile!F168,Perzentile!P168)","v":146.023},{"$f":"IF('Entrée des données_Eingabemaske'!$N$12=\"männlich / masculin\",Perzentile!G168,Perzentile!Q168)","v":150.18815219017861},{"$f":"IF('Entrée des données_Eingabemaske'!$N$12=\"männlich / masculin\",Perzentile!H168,Perzentile!R168)","v":154.40799999999999},{"$f":"IF('Entrée des données_Eingabemaske'!$N$12=\"männlich / masculin\",Perzentile!I168,Perzentile!S168)","v":159.096},{"$f":"IF('Entrée des données_Eingabemaske'!$N$12=\"männlich / masculin\",Perzentile!J168,Perzentile!T168)","v":163.78399999999999},{"$f":"IF('Entrée des données_Eingabemaske'!$N$12=\"männlich / masculin\",Perzentile!K168,Perzentile!U168)","v":168.0040478098214},{"$f":"IF('Entrée des données_Eingabemaske'!$N$12=\"männlich / masculin\",Perzentile!L168,Perzentile!V168)","v":172.16900000000001},{"$f":"Perzentile!W168","v":{"$error":"#N/A"}},{"$f":"Perzentile!X168","v":{"$error":"#N/A"}},{"$f":"Perzentile!Y168","v":{"$error":"#N/A"}},0]
[13.8,13.833333333333334,166,{"$f":"IF('Entrée des données_Eingabemaske'!$N$12=\"männlich / masculin\",Perzentile!C169,Perzentile!M169)","v":1},{"$f":"IF('Entrée des données_Eingabemaske'!$N$12=\"männlich / masculin\",Perzentile!D169,Perzentile!N169)","v":159.3382},{"$f":"IF('Entrée des données_Eingabemaske'!$N$12=\"männlich / masculin\",Perzentile!E169,Perzentile!O169)","v":4.3610000000000003E-2},{"$f":"IF('Entrée des données_Eingabemaske'!$N$12=\"männlich / masculin\",Perzentile!F169,Perzentile!P169)","v":146.26900000000001},{"$f":"IF('Entrée des données_Eingabemaske'!$N$12=\"männlich / masculin\",Perzentile!G169,Perzentile!Q169)","v":150.43303278158123},{"$f":"IF('Entrée des données_Eingabemaske'!$N$12=\"männlich / masculin\",Perzentile!H169,Perzentile!R169)","v":154.65100000000001},{"$f":"IF('Entrée des données_Eingabemaske'!$N$12=\"männlich / masculin\",Perzentile!I169,Perzentile!S169)","v":159.33799999999999},{"$f":"IF('Entrée des données_Eingabemaske'!$N$12=\"männlich / masculin\",Perzentile!J169,Perzentile!T169)","v":164.02500000000001},{"$f":"IF('Entrée des données_Eingabemaske'!$N$12=\"männlich / masculin\",Perzentile!K169,Perzentile!U169)","v":168.24336721841877},{"$f":"IF('Entrée des données_Eingabemaske'!$N$12=\"männlich / masculin\",Perzentile!L169,Perzentile!V169)","v":172.40700000000001},{"$f":"Perzentile!W169","v":{"$error":"#N/A"}},{"$f":"Perzentile!X169","v":{"$error":"#N/A"}},{"$f":"Perzentile!Y169","v":{"$error":"#N/A"}},0]
[13.9,13.916666666666666,167,{"$f":"IF('Entrée des données_Eingabemaske'!$N$12=\"männlich / masculin\",Perzentile!C170,Perzentile!M170)","v":1},{"$f":"IF('Entrée des données_Eingabemaske'!$N$12=\"männlich / masculin\",Perzentile!D170,Perzentile!N170)","v":159.56909999999999},{"$f":"IF('Entrée des données_Eingabemaske'!$N$12=\"männlich / masculin\",Perzentile!E170,Perzentile!O170)","v":4.3529999999999999E-2},{"$f":"IF('Entrée des données_Eingabemaske'!$N$12=\"männlich / masculin\",Perzentile!F170,Perzentile!P170)","v":146.505},{"$f":"IF('Entrée des données_Eingabemaske'!$N$12=\"männlich / masculin\",Perzentile!G170,Perzentile!Q170)","v":150.66738781768936},{"$f":"IF('Entrée des données_Eingabemaske'!$N$12=\"männlich / masculin\",Perzentile!H170,Perzentile!R170)","v":154.88399999999999},{"$f":"IF('Entrée des données_Eingabemaske'!$N$12=\"männlich / masculin\",Perzentile!I170,Perzentile!S170)","v":159.56899999999999},{"$f":"IF('Entrée des données_Eingabemaske'!$N$12=\"männlich / masculin\",Perzentile!J170,Perzentile!T170)","v":164.25399999999999},{"$f":"IF('Entrée des données_Eingabemaske'!$N$12=\"männlich / masculin\",Perzentile!K170,Perzentile!U170)","v":168.47081218231065},{"$f":"IF('Entrée des données_Eingabemaske'!$N$12=\"männlich / masculin\",Perzentile!L170,Perzentile!V170)","v":172.63300000000001},{"$f":"Perzentile!W170","v":{"$error":"#N/A"}},{"$f":"Perzentile!X170","v":{"$error":"#N/A"}},{"$f":"Perzentile!Y170","v":{"$error":"#N/A"}},0]
[14,14,168,{"$f":"IF('Entrée des données_Eingabemaske'!$N$12=\"männlich / masculin\",Perzentile!C171,Perzentile!M171)","v":1},{"$f":"IF('Entrée des données_Eingabemaske'!$N$12=\"männlich / masculin\",Perzentile!D171,Perzentile!N171)","v":159.78899999999999},{"$f":"IF('Entrée des données_Eingabemaske'!$N$12=\"männlich / masculin\",Perzentile!E171,Perzentile!O171)","v":4.3450000000000003E-2},{"$f":"IF('Entrée des données_Eingabemaske'!$N$12=\"männlich / masculin\",Perzentile!F171,Perzentile!P171)","v":146.73099999999999},{"$f":"IF('Entrée des données_Eingabemaske'!$N$12=\"männlich / masculin\",Perzentile!G171,Perzentile!Q171)","v":150.89140271700927},{"$f":"IF('Entrée des données_Eingabemaske'!$N$12=\"männlich / masculin\",Perzentile!H171,Perzentile!R171)","v":155.10599999999999},{"$f":"IF('Entrée des données_Eingabemaske'!$N$12=\"männlich / masculin\",Perzentile!I171,Perzentile!S171)","v":159.78899999999999},{"$f":"IF('Entrée des données_Eingabemaske'!$N$12=\"männlich / masculin\",Perzentile!J171,Perzentile!T171)","v":164.47200000000001},{"$f":"IF('Entrée des données_Eingabemaske'!$N$12=\"männlich / masculin\",Perzentile!K171,Perzentile!U171)","v":168.6865972829907},{"$f":"IF('Entrée des données_Eingabemaske'!$N$12=\"männlich / masculin\",Perzentile!L171,Perzentile!V171)","v":172.84700000000001},{"$f":"Perzentile!W171","v":{"$error":"#N/A"}},{"$f":"Perzentile!X171","v":{"$error":"#N/A"}},{"$f":"Perzentile!Y171","v":{"$error":"#N/A"}},0]
[14.1,14.083333333333334,169,{"$f":"IF('Entrée des données_Eingabemaske'!$N$12=\"männlich / masculin\",Perzentile!C172,Perzentile!M172)","v":1},{"$f":"IF('Entrée des données_Eingabemaske'!$N$12=\"männlich / masculin\",Perzentile!D172,Perzentile!N172)","v":159.9983},{"$f":"IF('Entrée des données_Eingabemaske'!$N$12=\"männlich / masculin\",Perzentile!E172,Perzentile!O172)","v":4.3369999999999999E-2},{"$f":"IF('Entrée des données_Eingabemaske'!$N$12=\"männlich / masculin\",Perzentile!F172,Perzentile!P172)","v":146.947},{"$f":"IF('Entrée des données_Eingabemaske'!$N$12=\"männlich / masculin\",Perzentile!G172,Perzentile!Q172)","v":151.10545186388828},{"$f":"IF('Entrée des données_Eingabemaske'!$N$12=\"männlich / masculin\",Perzentile!H172,Perzentile!R172)","v":155.31800000000001},{"$f":"IF('Entrée des données_Eingabemaske'!$N$12=\"männlich / masculin\",Perzentile!I172,Perzentile!S172)","v":159.99799999999999},{"$f":"IF('Entrée des données_Eingabemaske'!$N$12=\"männlich / masculin\",Perzentile!J172,Perzentile!T172)","v":164.679},{"$f":"IF('Entrée des données_Eingabemaske'!$N$12=\"männlich / masculin\",Perzentile!K172,Perzentile!U172)","v":168.89114813611172},{"$f":"IF('Entrée des données_Eingabemaske'!$N$12=\"männlich / masculin\",Perzentile!L172,Perzentile!V172)","v":173.04900000000001},{"$f":"Perzentile!W172","v":{"$error":"#N/A"}},{"$f":"Perzentile!X172","v":{"$error":"#N/A"}},{"$f":"Perzentile!Y172","v":{"$error":"#N/A"}},0]
[14.2,14.166666666666666,170,{"$f":"IF('Entrée des données_Eingabemaske'!$N$12=\"männlich / masculin\",Perzentile!C173,Perzentile!M173)","v":1},{"$f":"IF('Entrée des données_Eingabemaske'!$N$12=\"männlich / masculin\",Perzentile!D173,Perzentile!N173)","v":160.19710000000001},{"$f":"IF('Entrée des données_Eingabemaske'!$N$12=\"männlich / masculin\",Perzentile!E173,Perzentile!O173)","v":4.3299999999999998E-2},{"$f":"IF('Entrée des données_Eingabemaske'!$N$12=\"männlich / masculin\",Perzentile!F173,Perzentile!P173)","v":147.15100000000001},{"$f":"IF('Entrée des données_Eingabemaske'!$N$12=\"männlich / masculin\",Perzentile!G173,Perzentile!Q173)","v":151.30757344177945},{"$f":"IF('Entrée des données_Eingabemaske'!$N$12=\"männlich / masculin\",Perzentile!H173,Perzentile!R173)","v":155.518},{"$f":"IF('Entrée des données_Eingabemaske'!$N$12=\"männlich / masculin\",Perzentile!I173,Perzentile!S173)","v":160.197},{"$f":"IF('Entrée des données_Eingabemaske'!$N$12=\"männlich / masculin\",Perzentile!J173,Perzentile!T173)","v":164.876},{"$f":"IF('Entrée des données_Eingabemaske'!$N$12=\"männlich / masculin\",Perzentile!K173,Perzentile!U173)","v":169.08662655822056},{"$f":"IF('Entrée des données_Eingabemaske'!$N$12=\"männlich / masculin\",Perzentile!L173,Perzentile!V173)","v":173.24299999999999},{"$f":"Perzentile!W173","v":{"$error":"#N/A"}},{"$f":"Perzentile!X173","v":{"$error":"#N/A"}},{"$f":"Perzentile!Y173","v":{"$error":"#N/A"}},0]
[14.3,14.25,171,{"$f":"IF('Entrée des données_Eingabemaske'!$N$12=\"männlich / masculin\",Perzentile!C174,Perzentile!M174)","v":1},{"$f":"IF('Entrée des données_Eingabemaske'!$N$12=\"männlich / masculin\",Perzentile!D174,Perzentile!N174)","v":160.38570000000001},{"$f":"IF('Entrée des données_Eingabemaske'!$N$12=\"männlich / masculin\",Perzentile!E174,Perzentile!O174)","v":4.3220000000000001E-2},{"$f":"IF('Entrée des données_Eingabemaske'!$N$12=\"männlich / masculin\",Perzentile!F174,Perzentile!P174)","v":147.34800000000001},{"$f":"IF('Entrée des données_Eingabemaske'!$N$12=\"männlich / masculin\",Perzentile!G174,Perzentile!Q174)","v":151.50215120829972},{"$f":"IF('Entrée des données_Eingabemaske'!$N$12=\"männlich / masculin\",Perzentile!H174,Perzentile!R174)","v":155.71},{"$f":"IF('Entrée des données_Eingabemaske'!$N$12=\"männlich / masculin\",Perzentile!I174,Perzentile!S174)","v":160.386},{"$f":"IF('Entrée des données_Eingabemaske'!$N$12=\"männlich / masculin\",Perzentile!J174,Perzentile!T174)","v":165.06100000000001},{"$f":"IF('Entrée des données_Eingabemaske'!$N$12=\"männlich / masculin\",Perzentile!K174,Perzentile!U174)","v":169.26924879170028},{"$f":"IF('Entrée des données_Eingabemaske'!$N$12=\"männlich / masculin\",Perzentile!L174,Perzentile!V174)","v":173.423},{"$f":"Perzentile!W174","v":{"$error":"#N/A"}},{"$f":"Perzentile!X174","v":{"$error":"#N/A"}},{"$f":"Perzentile!Y174","v":{"$error":"#N/A"}},0]
[14.3,14.333333333333334,172,{"$f":"IF('Entrée des données_Eingabemaske'!$N$12=\"männlich / masculin\",Perzentile!C175,Perzentile!M175)","v":1},{"$f":"IF('Entrée des données_Eingabemaske'!$N$12=\"männlich / masculin\",Perzentile!D175,Perzentile!N175)","v":160.5643},{"$f":"IF('Entrée des données_Eingabemaske'!$N$12=\"männlich / masculin\",Perzentile!E175,Perzentile!O175)","v":4.3139999999999998E-2},{"$f":"IF('Entrée des données_Eingabemaske'!$N$12=\"männlich / masculin\",Perzentile!F175,Perzentile!P175)","v":147.53700000000001},{"$f":"IF('Entrée des données_Eingabemaske'!$N$12=\"männlich / masculin\",Perzentile!G175,Perzentile!Q175)","v":151.68732050826537},{"$f":"IF('Entrée des données_Eingabemaske'!$N$12=\"männlich / masculin\",Perzentile!H175,Perzentile!R175)","v":155.892},{"$f":"IF('Entrée des données_Eingabemaske'!$N$12=\"männlich / masculin\",Perzentile!I175,Perzentile!S175)","v":160.56399999999999},{"$f":"IF('Entrée des données_Eingabemaske'!$N$12=\"männlich / masculin\",Perzentile!J175,Perzentile!T175)","v":165.23599999999999},{"$f":"IF('Entrée des données_Eingabemaske'!$N$12=\"männlich / masculin\",Perzentile!K175,Perzentile!U175)","v":169.44127949173463},{"$f":"IF('Entrée des données_Eingabemaske'!$N$12=\"männlich / masculin\",Perzentile!L175,Perzentile!V175)","v":173.59200000000001},{"$f":"Perzentile!W175","v":{"$error":"#N/A"}},{"$f":"Perzentile!X175","v":{"$error":"#N/A"}},{"$f":"Perzentile!Y175","v":{"$error":"#N/A"}},0]
[14.4,14.416666666666666,173,{"$f":"IF('Entrée des données_Eingabemaske'!$N$12=\"männlich / masculin\",Perzentile!C176,Perzentile!M176)","v":1},{"$f":"IF('Entrée des données_Eingabemaske'!$N$12=\"männlich / masculin\",Perzentile!D176,Perzentile!N176)","v":160.73320000000001},{"$f":"IF('Entrée des données_Eingabemaske'!$N$12=\"männlich / masculin\",Perzentile!E176,Perzentile!O176)","v":4.3069999999999997E-2},{"$f":"IF('Entrée des données_Eingabemaske'!$N$12=\"männlich / masculin\",Perzentile!F176,Perzentile!P176)","v":147.71299999999999},{"$f":"IF('Entrée des données_Eingabemaske'!$N$12=\"männlich / masculin\",Perzentile!G176,Perzentile!Q176)","v":151.86130183202863},{"$f":"IF('Entrée des données_Eingabemaske'!$N$12=\"männlich / masculin\",Perzentile!H176,Perzentile!R176)","v":156.06399999999999},{"$f":"IF('Entrée des données_Eingabemaske'!$N$12=\"männlich / masculin\",Perzentile!I176,Perzentile!S176)","v":160.733},{"$f":"IF('Entrée des données_Eingabemaske'!$N$12=\"männlich / masculin\",Perzentile!J176,Perzentile!T176)","v":165.40299999999999},{"$f":"IF('Entrée des données_Eingabemaske'!$N$12=\"männlich / masculin\",Perzentile!K176,Perzentile!U176)","v":169.60509816797139},{"$f":"IF('Entrée des données_Eingabemaske'!$N$12=\"männlich / masculin\",Perzentile!L176,Perzentile!V176)","v":173.75399999999999},{"$f":"Perzentile!W176","v":{"$error":"#N/A"}},{"$f":"Perzentile!X176","v":{"$error":"#N/A"}},{"$f":"Perzentile!Y176","v":{"$error":"#N/A"}},0]
[14.5,14.5,174,{"$f":"IF('Entrée des données_Eingabemaske'!$N$12=\"männlich / masculin\",Perzentile!C177,Perzentile!M177)","v":1},{"$f":"IF('Entrée des données_Eingabemaske'!$N$12=\"männlich / masculin\",Perzentile!D177,Perzentile!N177)","v":160.89269999999999},{"$f":"IF('Entrée des données_Eingabemaske'!$N$12=\"männlich / masculin\",Perzentile!E177,Perzentile!O177)","v":4.299E-2},{"$f":"IF('Entrée des données_Eingabemaske'!$N$12=\"männlich / masculin\",Perzentile!F177,Perzentile!P177)","v":147.88399999999999},{"$f":"IF('Entrée des données_Eingabemaske'!$N$12=\"männlich / masculin\",Perzentile!G177,Perzentile!Q177)","v":152.02849338541867},{"$f":"IF('Entrée des données_Eingabemaske'!$N$12=\"männlich / masculin\",Perzentile!H177,Perzentile!R177)","v":156.227},{"$f":"IF('Entrée des données_Eingabemaske'!$N$12=\"männlich / masculin\",Perzentile!I177,Perzentile!S177)","v":160.893},{"$f":"IF('Entrée des données_Eingabemaske'!$N$12=\"männlich / masculin\",Perzentile!J177,Perzentile!T177)","v":165.55799999999999},{"$f":"IF('Entrée des données_Eingabemaske'!$N$12=\"männlich / masculin\",Perzentile!K177,Perzentile!U177)","v":169.75690661458131},{"$f":"IF('Entrée des données_Eingabemaske'!$N$12=\"männlich / masculin\",Perzentile!L177,Perzentile!V177)","v":173.90199999999999},{"$f":"Perzentile!W177","v":{"$error":"#N/A"}},{"$f":"Perzentile!X177","v":{"$error":"#N/A"}},{"$f":"Perzentile!Y177","v":{"$error":"#N/A"}},0]
[14.6,14.583333333333334,175,{"$f":"IF('Entrée des données_Eingabemaske'!$N$12=\"männlich / masculin\",Perzentile!C178,Perzentile!M178)","v":1},{"$f":"IF('Entrée des données_Eingabemaske'!$N$12=\"männlich / masculin\",Perzentile!D178,Perzentile!N178)","v":161.04300000000001},{"$f":"IF('Entrée des données_Eingabemaske'!$N$12=\"männlich / masculin\",Perzentile!E178,Perzentile!O178)","v":4.292E-2},{"$f":"IF('Entrée des données_Eingabemaske'!$N$12=\"männlich / masculin\",Perzentile!F178,Perzentile!P178)","v":148.04300000000001},{"$f":"IF('Entrée des données_Eingabemaske'!$N$12=\"männlich / masculin\",Perzentile!G178,Perzentile!Q178)","v":152.18495971559165},{"$f":"IF('Entrée des données_Eingabemaske'!$N$12=\"männlich / masculin\",Perzentile!H178,Perzentile!R178)","v":156.381},{"$f":"IF('Entrée des données_Eingabemaske'!$N$12=\"männlich / masculin\",Perzentile!I178,Perzentile!S178)","v":161.04300000000001},{"$f":"IF('Entrée des données_Eingabemaske'!$N$12=\"männlich / masculin\",Perzentile!J178,Perzentile!T178)","v":165.70500000000001},{"$f":"IF('Entrée des données_Eingabemaske'!$N$12=\"männlich / masculin\",Perzentile!K178,Perzentile!U178)","v":169.9010402844084},{"$f":"IF('Entrée des données_Eingabemaske'!$N$12=\"männlich / masculin\",Perzentile!L178,Perzentile!V178)","v":174.04300000000001},{"$f":"Perzentile!W178","v":{"$error":"#N/A"}},{"$f":"Perzentile!X178","v":{"$error":"#N/A"}},{"$f":"Perzentile!Y178","v":{"$error":"#N/A"}},0]
[14.7,14.666666666666666,176,{"$f":"IF('Entrée des données_Eingabemaske'!$N$12=\"männlich / masculin\",Perzentile!C179,Perzentile!M179)","v":1},{"$f":"IF('Entrée des données_Eingabemaske'!$N$12=\"männlich / masculin\",Perzentile!D179,Perzentile!N179)","v":161.18450000000001},{"$f":"IF('Entrée des données_Eingabemaske'!$N$12=\"männlich / masculin\",Perzentile!E179,Perzentile!O179)","v":4.2840000000000003E-2},{"$f":"IF('Entrée des données_Eingabemaske'!$N$12=\"männlich / masculin\",Perzentile!F179,Perzentile!P179)","v":148.197},{"$f":"IF('Entrée des données_Eingabemaske'!$N$12=\"männlich / masculin\",Perzentile!G179,Perzentile!Q179)","v":152.33520192212015},{"$f":"IF('Entrée des données_Eingabemaske'!$N$12=\"männlich / masculin\",Perzentile!H179,Perzentile!R179)","v":156.52699999999999},{"$f":"IF('Entrée des données_Eingabemaske'!$N$12=\"männlich / masculin\",Perzentile!I179,Perzentile!S179)","v":161.184},{"$f":"IF('Entrée des données_Eingabemaske'!$N$12=\"männlich / masculin\",Perzentile!J179,Perzentile!T179)","v":165.84200000000001},{"$f":"IF('Entrée des données_Eingabemaske'!$N$12=\"männlich / masculin\",Perzentile!K179,Perzentile!U179)","v":170.03379807787988},{"$f":"IF('Entrée des données_Eingabemaske'!$N$12=\"männlich / masculin\",Perzentile!L179,Perzentile!V179)","v":174.172},{"$f":"Perzentile!W179","v":{"$error":"#N/A"}},{"$f":"Perzentile!X179","v":{"$error":"#N/A"}},{"$f":"Perzentile!Y179","v":{"$error":"#N/A"}},0]
[14.8,14.75,177,{"$f":"IF('Entrée des données_Eingabemaske'!$N$12=\"männlich / masculin\",Perzentile!C180,Perzentile!M180)","v":1},{"$f":"IF('Entrée des données_Eingabemaske'!$N$12=\"männlich / masculin\",Perzentile!D180,Perzentile!N180)","v":161.3176},{"$f":"IF('Entrée des données_Eingabemaske'!$N$12=\"männlich / masculin\",Perzentile!E180,Perzentile!O180)","v":4.2770000000000002E-2},{"$f":"IF('Entrée des données_Eingabemaske'!$N$12=\"männlich / masculin\",Perzentile!F180,Perzentile!P180)","v":148.34100000000001},{"$f":"IF('Entrée des données_Eingabemaske'!$N$12=\"männlich / masculin\",Perzentile!G180,Perzentile!Q180)","v":152.47546608756528},{"$f":"IF('Entrée des données_Eingabemaske'!$N$12=\"männlich / masculin\",Perzentile!H180,Perzentile!R180)","v":156.66399999999999},{"$f":"IF('Entrée des données_Eingabemaske'!$N$12=\"männlich / masculin\",Perzentile!I180,Perzentile!S180)","v":161.31800000000001},{"$f":"IF('Entrée des données_Eingabemaske'!$N$12=\"männlich / masculin\",Perzentile!J180,Perzentile!T180)","v":165.971},{"$f":"IF('Entrée des données_Eingabemaske'!$N$12=\"männlich / masculin\",Perzentile!K180,Perzentile!U180)","v":170.15973391243472},{"$f":"IF('Entrée des données_Eingabemaske'!$N$12=\"männlich / masculin\",Perzentile!L180,Perzentile!V180)","v":174.29400000000001},{"$f":"Perzentile!W180","v":{"$error":"#N/A"}},{"$f":"Perzentile!X180","v":{"$error":"#N/A"}},{"$f":"Perzentile!Y180","v":{"$error":"#N/A"}},0]
[14.8,14.833333333333334,178,{"$f":"IF('Entrée des données_Eingabemaske'!$N$12=\"männlich / masculin\",Perzentile!C181,Perzentile!M181)","v":1},{"$f":"IF('Entrée des données_Eingabemaske'!$N$12=\"männlich / masculin\",Perzentile!D181,Perzentile!N181)","v":161.4425},{"$f":"IF('Entrée des données_Eingabemaske'!$N$12=\"männlich / masculin\",Perzentile!E181,Perzentile!O181)","v":4.2700000000000002E-2},{"$f":"IF('Entrée des données_Eingabemaske'!$N$12=\"männlich / masculin\",Perzentile!F181,Perzentile!P181)","v":148.477},{"$f":"IF('Entrée des données_Eingabemaske'!$N$12=\"männlich / masculin\",Perzentile!G181,Perzentile!Q181)","v":152.60800285590744},{"$f":"IF('Entrée des données_Eingabemaske'!$N$12=\"männlich / masculin\",Perzentile!H181,Perzentile!R181)","v":156.79300000000001},{"$f":"IF('Entrée des données_Eingabemaske'!$N$12=\"männlich / masculin\",Perzentile!I181,Perzentile!S181)","v":161.44200000000001},{"$f":"IF('Entrée des données_Eingabemaske'!$N$12=\"männlich / masculin\",Perzentile!J181,Perzentile!T181)","v":166.09200000000001},{"$f":"IF('Entrée des données_Eingabemaske'!$N$12=\"männlich / masculin\",Perzentile!K181,Perzentile!U181)","v":170.27699714409255},{"$f":"IF('Entrée des données_Eingabemaske'!$N$12=\"männlich / masculin\",Perzentile!L181,Perzentile!V181)","v":174.40799999999999},{"$f":"Perzentile!W181","v":{"$error":"#N/A"}},{"$f":"Perzentile!X181","v":{"$error":"#N/A"}},{"$f":"Perzentile!Y181","v":{"$error":"#N/A"}},0]
[14.9,14.916666666666666,179,{"$f":"IF('Entrée des données_Eingabemaske'!$N$12=\"männlich / masculin\",Perzentile!C182,Perzentile!M182)","v":1},{"$f":"IF('Entrée des données_Eingabemaske'!$N$12=\"männlich / masculin\",Perzentile!D182,Perzentile!N182)","v":161.55959999999999},{"$f":"IF('Entrée des données_Eingabemaske'!$N$12=\"männlich / masculin\",Perzentile!E182,Perzentile!O182)","v":4.2630000000000001E-2},{"$f":"IF('Entrée des données_Eingabemaske'!$N$12=\"männlich / masculin\",Perzentile!F182,Perzentile!P182)","v":148.60599999999999},{"$f":"IF('Entrée des données_Eingabemaske'!$N$12=\"männlich / masculin\",Perzentile!G182,Perzentile!Q182)","v":152.73318816729758},{"$f":"IF('Entrée des données_Eingabemaske'!$N$12=\"männlich / masculin\",Perzentile!H182,Perzentile!R182)","v":156.91399999999999},{"$f":"IF('Entrée des données_Eingabemaske'!$N$12=\"männlich / masculin\",Perzentile!I182,Perzentile!S182)","v":161.56},{"$f":"IF('Entrée des données_Eingabemaske'!$N$12=\"männlich / masculin\",Perzentile!J182,Perzentile!T182)","v":166.20500000000001},{"$f":"IF('Entrée des données_Eingabemaske'!$N$12=\"männlich / masculin\",Perzentile!K182,Perzentile!U182)","v":170.38601183270239},{"$f":"IF('Entrée des données_Eingabemaske'!$N$12=\"männlich / masculin\",Perzentile!L182,Perzentile!V182)","v":174.51300000000001},{"$f":"Perzentile!W182","v":{"$error":"#N/A"}},{"$f":"Perzentile!X182","v":{"$error":"#N/A"}},{"$f":"Perzentile!Y182","v":{"$error":"#N/A"}},0]
[15,15,180,{"$f":"IF('Entrée des données_Eingabemaske'!$N$12=\"männlich / masculin\",Perzentile!C183,Perzentile!M183)","v":1},{"$f":"IF('Entrée des données_Eingabemaske'!$N$12=\"männlich / masculin\",Perzentile!D183,Perzentile!N183)","v":161.66919999999999},{"$f":"IF('Entrée des données_Eingabemaske'!$N$12=\"männlich / masculin\",Perzentile!E183,Perzentile!O183)","v":4.2549999999999998E-2},{"$f":"IF('Entrée des données_Eingabemaske'!$N$12=\"männlich / masculin\",Perzentile!F183,Perzentile!P183)","v":148.73099999999999},{"$f":"IF('Entrée des données_Eingabemaske'!$N$12=\"männlich / masculin\",Perzentile!G183,Perzentile!Q183)","v":152.8533754338674},{"$f":"IF('Entrée des données_Eingabemaske'!$N$12=\"männlich / masculin\",Perzentile!H183,Perzentile!R183)","v":157.029},{"$f":"IF('Entrée des données_Eingabemaske'!$N$12=\"männlich / masculin\",Perzentile!I183,Perzentile!S183)","v":161.66900000000001},{"$f":"IF('Entrée des données_Eingabemaske'!$N$12=\"männlich / masculin\",Perzentile!J183,Perzentile!T183)","v":166.309},{"$f":"IF('Entrée des données_Eingabemaske'!$N$12=\"männlich / masculin\",Perzentile!K183,Perzentile!U183)","v":170.48502456613261},{"$f":"IF('Entrée des données_Eingabemaske'!$N$12=\"männlich / masculin\",Perzentile!L183,Perzentile!V183)","v":174.607},{"$f":"Perzentile!W183","v":{"$error":"#N/A"}},{"$f":"Perzentile!X183","v":{"$error":"#N/A"}},{"$f":"Perzentile!Y183","v":{"$error":"#N/A"}},0]
[15.1,15.083333333333334,181,{"$f":"IF('Entrée des données_Eingabemaske'!$N$12=\"männlich / masculin\",Perzentile!C184,Perzentile!M184)","v":1},{"$f":"IF('Entrée des données_Eingabemaske'!$N$12=\"männlich / masculin\",Perzentile!D184,Perzentile!N184)","v":161.77170000000001},{"$f":"IF('Entrée des données_Eingabemaske'!$N$12=\"männlich / masculin\",Perzentile!E184,Perzentile!O184)","v":4.2479999999999997E-2},{"$f":"IF('Entrée des données_Eingabemaske'!$N$12=\"männlich / masculin\",Perzentile!F184,Perzentile!P184)","v":148.84700000000001},{"$f":"IF('Entrée des données_Eingabemaske'!$N$12=\"männlich / masculin\",Perzentile!G184,Perzentile!Q184)","v":152.96479842118595},{"$f":"IF('Entrée des données_Eingabemaske'!$N$12=\"männlich / masculin\",Perzentile!H184,Perzentile!R184)","v":157.137},{"$f":"IF('Entrée des données_Eingabemaske'!$N$12=\"männlich / masculin\",Perzentile!I184,Perzentile!S184)","v":161.77199999999999},{"$f":"IF('Entrée des données_Eingabemaske'!$N$12=\"männlich / masculin\",Perzentile!J184,Perzentile!T184)","v":166.40700000000001},{"$f":"IF('Entrée des données_Eingabemaske'!$N$12=\"männlich / masculin\",Perzentile!K184,Perzentile!U184)","v":170.5786015788141},{"$f":"IF('Entrée des données_Eingabemaske'!$N$12=\"männlich / masculin\",Perzentile!L184,Perzentile!V184)","v":174.697},{"$f":"Perzentile!W184","v":{"$error":"#N/A"}},{"$f":"Perzentile!X184","v":{"$error":"#N/A"}},{"$f":"Perzentile!Y184","v":{"$error":"#N/A"}},0]
[15.2,15.166666666666666,182,{"$f":"IF('Entrée des données_Eingabemaske'!$N$12=\"männlich / masculin\",Perzentile!C185,Perzentile!M185)","v":1},{"$f":"IF('Entrée des données_Eingabemaske'!$N$12=\"männlich / masculin\",Perzentile!D185,Perzentile!N185)","v":161.8673},{"$f":"IF('Entrée des données_Eingabemaske'!$N$12=\"männlich / masculin\",Perzentile!E185,Perzentile!O185)","v":4.2410000000000003E-2},{"$f":"IF('Entrée des données_Eingabemaske'!$N$12=\"männlich / masculin\",Perzentile!F185,Perzentile!P185)","v":148.95599999999999},{"$f":"IF('Entrée des données_Eingabemaske'!$N$12=\"männlich / masculin\",Perzentile!G185,Perzentile!Q185)","v":153.06971481792249},{"$f":"IF('Entrée des données_Eingabemaske'!$N$12=\"männlich / masculin\",Perzentile!H185,Perzentile!R185)","v":157.23699999999999},{"$f":"IF('Entrée des données_Eingabemaske'!$N$12=\"männlich / masculin\",Perzentile!I185,Perzentile!S185)","v":161.86699999999999},{"$f":"IF('Entrée des données_Eingabemaske'!$N$12=\"männlich / masculin\",Perzentile!J185,Perzentile!T185)","v":166.49799999999999},{"$f":"IF('Entrée des données_Eingabemaske'!$N$12=\"männlich / masculin\",Perzentile!K185,Perzentile!U185)","v":170.66488518207751},{"$f":"IF('Entrée des données_Eingabemaske'!$N$12=\"männlich / masculin\",Perzentile!L185,Perzentile!V185)","v":174.779},{"$f":"Perzentile!W185","v":{"$error":"#N/A"}},{"$f":"Perzentile!X185","v":{"$error":"#N/A"}},{"$f":"Perzentile!Y185","v":{"$error":"#N/A"}},0]
[15.3,15.25,183,{"$f":"IF('Entrée des données_Eingabemaske'!$N$12=\"männlich / masculin\",Perzentile!C186,Perzentile!M186)","v":1},{"$f":"IF('Entrée des données_Eingabemaske'!$N$12=\"männlich / masculin\",Perzentile!D186,Perzentile!N186)","v":161.9564},{"$f":"IF('Entrée des données_Eingabemaske'!$N$12=\"männlich / masculin\",Perzentile!E186,Perzentile!O186)","v":4.2349999999999999E-2},{"$f":"IF('Entrée des données_Eingabemaske'!$N$12=\"männlich / masculin\",Perzentile!F186,Perzentile!P186)","v":149.05600000000001},{"$f":"IF('Entrée des données_Eingabemaske'!$N$12=\"männlich / masculin\",Perzentile!G186,Perzentile!Q186)","v":153.16642550797187},{"$f":"IF('Entrée des données_Eingabemaske'!$N$12=\"männlich / masculin\",Perzentile!H186,Perzentile!R186)","v":157.33000000000001},{"$f":"IF('Entrée des données_Eingabemaske'!$N$12=\"männlich / masculin\",Perzentile!I186,Perzentile!S186)","v":161.95599999999999},{"$f":"IF('Entrée des données_Eingabemaske'!$N$12=\"männlich / masculin\",Perzentile!J186,Perzentile!T186)","v":166.583},{"$f":"IF('Entrée des données_Eingabemaske'!$N$12=\"männlich / masculin\",Perzentile!K186,Perzentile!U186)","v":170.74637449202814},{"$f":"IF('Entrée des données_Eingabemaske'!$N$12=\"männlich / masculin\",Perzentile!L186,Perzentile!V186)","v":174.85599999999999},{"$f":"Perzentile!W186","v":{"$error":"#N/A"}},{"$f":"Perzentile!X186","v":{"$error":"#N/A"}},{"$f":"Perzentile!Y186","v":{"$error":"#N/A"}},0]
[15.3,15.333333333333334,184,{"$f":"IF('Entrée des données_Eingabemaske'!$N$12=\"männlich / masculin\",Perzentile!C187,Perzentile!M187)","v":1},{"$f":"IF('Entrée des données_Eingabemaske'!$N$12=\"männlich / masculin\",Perzentile!D187,Perzentile!N187)","v":162.0393},{"$f":"IF('Entrée des données_Eingabemaske'!$N$12=\"männlich / masculin\",Perzentile!E187,Perzentile!O187)","v":4.2279999999999998E-2},{"$f":"IF('Entrée des données_Eingabemaske'!$N$12=\"männlich / masculin\",Perzentile!F187,Perzentile!P187)","v":149.154},{"$f":"IF('Entrée des données_Eingabemaske'!$N$12=\"männlich / masculin\",Perzentile!G187,Perzentile!Q187)","v":153.25936253781393},{"$f":"IF('Entrée des données_Eingabemaske'!$N$12=\"männlich / masculin\",Perzentile!H187,Perzentile!R187)","v":157.41800000000001},{"$f":"IF('Entrée des données_Eingabemaske'!$N$12=\"männlich / masculin\",Perzentile!I187,Perzentile!S187)","v":162.03899999999999},{"$f":"IF('Entrée des données_Eingabemaske'!$N$12=\"männlich / masculin\",Perzentile!J187,Perzentile!T187)","v":166.66},{"$f":"IF('Entrée des données_Eingabemaske'!$N$12=\"männlich / masculin\",Perzentile!K187,Perzentile!U187)","v":170.81923746218607},{"$f":"IF('Entrée des données_Eingabemaske'!$N$12=\"männlich / masculin\",Perzentile!L187,Perzentile!V187)","v":174.92500000000001},{"$f":"Perzentile!W187","v":{"$error":"#N/A"}},{"$f":"Perzentile!X187","v":{"$error":"#N/A"}},{"$f":"Perzentile!Y187","v":{"$error":"#N/A"}},0]
[15.4,15.416666666666666,185,{"$f":"IF('Entrée des données_Eingabemaske'!$N$12=\"männlich / masculin\",Perzentile!C188,Perzentile!M188)","v":1},{"$f":"IF('Entrée des données_Eingabemaske'!$N$12=\"männlich / masculin\",Perzentile!D188,Perzentile!N188)","v":162.1164},{"$f":"IF('Entrée des données_Eingabemaske'!$N$12=\"männlich / masculin\",Perzentile!E188,Perzentile!O188)","v":4.2209999999999998E-2},{"$f":"IF('Entrée des données_Eingabemaske'!$N$12=\"männlich / masculin\",Perzentile!F188,Perzentile!P188)","v":149.24600000000001},{"$f":"IF('Entrée des données_Eingabemaske'!$N$12=\"männlich / masculin\",Perzentile!G188,Perzentile!Q188)","v":153.34682818823461},{"$f":"IF('Entrée des données_Eingabemaske'!$N$12=\"männlich / masculin\",Perzentile!H188,Perzentile!R188)","v":157.501},{"$f":"IF('Entrée des données_Eingabemaske'!$N$12=\"männlich / masculin\",Perzentile!I188,Perzentile!S188)","v":162.11600000000001},{"$f":"IF('Entrée des données_Eingabemaske'!$N$12=\"männlich / masculin\",Perzentile!J188,Perzentile!T188)","v":166.732},{"$f":"IF('Entrée des données_Eingabemaske'!$N$12=\"männlich / masculin\",Perzentile!K188,Perzentile!U188)","v":170.88597181176539},{"$f":"IF('Entrée des données_Eingabemaske'!$N$12=\"männlich / masculin\",Perzentile!L188,Perzentile!V188)","v":174.98699999999999},{"$f":"Perzentile!W188","v":{"$error":"#N/A"}},{"$f":"Perzentile!X188","v":{"$error":"#N/A"}},{"$f":"Perzentile!Y188","v":{"$error":"#N/A"}},0]
[15.5,15.5,186,{"$f":"IF('Entrée des données_Eingabemaske'!$N$12=\"männlich / masculin\",Perzentile!C189,Perzentile!M189)","v":1},{"$f":"IF('Entrée des données_Eingabemaske'!$N$12=\"männlich / masculin\",Perzentile!D189,Perzentile!N189)","v":162.18799999999999},{"$f":"IF('Entrée des données_Eingabemaske'!$N$12=\"männlich / masculin\",Perzentile!E189,Perzentile!O189)","v":4.2139999999999997E-2},{"$f":"IF('Entrée des données_Eingabemaske'!$N$12=\"männlich / masculin\",Perzentile!F189,Perzentile!P189)","v":149.334},{"$f":"IF('Entrée des données_Eingabemaske'!$N$12=\"männlich / masculin\",Perzentile!G189,Perzentile!Q189)","v":153.42910469692924},{"$f":"IF('Entrée des données_Eingabemaske'!$N$12=\"männlich / masculin\",Perzentile!H189,Perzentile!R189)","v":157.578},{"$f":"IF('Entrée des données_Eingabemaske'!$N$12=\"männlich / masculin\",Perzentile!I189,Perzentile!S189)","v":162.18799999999999},{"$f":"IF('Entrée des données_Eingabemaske'!$N$12=\"männlich / masculin\",Perzentile!J189,Perzentile!T189)","v":166.798},{"$f":"IF('Entrée des données_Eingabemaske'!$N$12=\"männlich / masculin\",Perzentile!K189,Perzentile!U189)","v":170.94689530307073},{"$f":"IF('Entrée des données_Eingabemaske'!$N$12=\"männlich / masculin\",Perzentile!L189,Perzentile!V189)","v":175.042},{"$f":"Perzentile!W189","v":{"$error":"#N/A"}},{"$f":"Perzentile!X189","v":{"$error":"#N/A"}},{"$f":"Perzentile!Y189","v":{"$error":"#N/A"}},0]
[15.6,15.583333333333334,187,{"$f":"IF('Entrée des données_Eingabemaske'!$N$12=\"männlich / masculin\",Perzentile!C190,Perzentile!M190)","v":1},{"$f":"IF('Entrée des données_Eingabemaske'!$N$12=\"männlich / masculin\",Perzentile!D190,Perzentile!N190)","v":162.2542},{"$f":"IF('Entrée des données_Eingabemaske'!$N$12=\"männlich / masculin\",Perzentile!E190,Perzentile!O190)","v":4.2079999999999999E-2},{"$f":"IF('Entrée des données_Eingabemaske'!$N$12=\"männlich / masculin\",Perzentile!F190,Perzentile!P190)","v":149.41300000000001},{"$f":"IF('Entrée des données_Eingabemaske'!$N$12=\"männlich / masculin\",Perzentile!G190,Perzentile!Q190)","v":153.50420582097806},{"$f":"IF('Entrée des données_Eingabemaske'!$N$12=\"männlich / masculin\",Perzentile!H190,Perzentile!R190)","v":157.649},{"$f":"IF('Entrée des données_Eingabemaske'!$N$12=\"männlich / masculin\",Perzentile!I190,Perzentile!S190)","v":162.25399999999999},{"$f":"IF('Entrée des données_Eingabemaske'!$N$12=\"männlich / masculin\",Perzentile!J190,Perzentile!T190)","v":166.85900000000001},{"$f":"IF('Entrée des données_Eingabemaske'!$N$12=\"männlich / masculin\",Perzentile!K190,Perzentile!U190)","v":171.00419417902197},{"$f":"IF('Entrée des données_Eingabemaske'!$N$12=\"männlich / masculin\",Perzentile!L190,Perzentile!V190)","v":175.096},{"$f":"Perzentile!W190","v":{"$error":"#N/A"}},{"$f":"Perzentile!X190","v":{"$error":"#N/A"}},{"$f":"Perzentile!Y190","v":{"$error":"#N/A"}},0]
[15.7,15.666666666666666,188,{"$f":"IF('Entrée des données_Eingabemaske'!$N$12=\"männlich / masculin\",Perzentile!C191,Perzentile!M191)","v":1},{"$f":"IF('Entrée des données_Eingabemaske'!$N$12=\"männlich / masculin\",Perzentile!D191,Perzentile!N191)","v":162.31540000000001},{"$f":"IF('Entrée des données_Eingabemaske'!$N$12=\"männlich / masculin\",Perzentile!E191,Perzentile!O191)","v":4.2009999999999999E-2},{"$f":"IF('Entrée des données_Eingabemaske'!$N$12=\"männlich / masculin\",Perzentile!F191,Perzentile!P191)","v":149.49100000000001},{"$f":"IF('Entrée des données_Eingabemaske'!$N$12=\"männlich / masculin\",Perzentile!G191,Perzentile!Q191)","v":153.57666653520627},{"$f":"IF('Entrée des données_Eingabemaske'!$N$12=\"männlich / masculin\",Perzentile!H191,Perzentile!R191)","v":157.71600000000001},{"$f":"IF('Entrée des données_Eingabemaske'!$N$12=\"männlich / masculin\",Perzentile!I191,Perzentile!S191)","v":162.315},{"$f":"IF('Entrée des données_Eingabemaske'!$N$12=\"männlich / masculin\",Perzentile!J191,Perzentile!T191)","v":166.91499999999999},{"$f":"IF('Entrée des données_Eingabemaske'!$N$12=\"männlich / masculin\",Perzentile!K191,Perzentile!U191)","v":171.05413346479378},{"$f":"IF('Entrée des données_Eingabemaske'!$N$12=\"männlich / masculin\",Perzentile!L191,Perzentile!V191)","v":175.14},{"$f":"Perzentile!W191","v":{"$error":"#N/A"}},{"$f":"Perzentile!X191","v":{"$error":"#N/A"}},{"$f":"Perzentile!Y191","v":{"$error":"#N/A"}},0]
[15.8,15.75,189,{"$f":"IF('Entrée des données_Eingabemaske'!$N$12=\"männlich / masculin\",Perzentile!C192,Perzentile!M192)","v":1},{"$f":"IF('Entrée des données_Eingabemaske'!$N$12=\"männlich / masculin\",Perzentile!D192,Perzentile!N192)","v":162.37190000000001},{"$f":"IF('Entrée des données_Eingabemaske'!$N$12=\"männlich / masculin\",Perzentile!E192,Perzentile!O192)","v":4.1950000000000001E-2},{"$f":"IF('Entrée des données_Eingabemaske'!$N$12=\"männlich / masculin\",Perzentile!F192,Perzentile!P192)","v":149.56100000000001},{"$f":"IF('Entrée des données_Eingabemaske'!$N$12=\"männlich / masculin\",Perzentile!G192,Perzentile!Q192)","v":153.64260996702333},{"$f":"IF('Entrée des données_Eingabemaske'!$N$12=\"männlich / masculin\",Perzentile!H192,Perzentile!R192)","v":157.77799999999999},{"$f":"IF('Entrée des données_Eingabemaske'!$N$12=\"männlich / masculin\",Perzentile!I192,Perzentile!S192)","v":162.37200000000001},{"$f":"IF('Entrée des données_Eingabemaske'!$N$12=\"männlich / masculin\",Perzentile!J192,Perzentile!T192)","v":166.96600000000001},{"$f":"IF('Entrée des données_Eingabemaske'!$N$12=\"männlich / masculin\",Perzentile!K192,Perzentile!U192)","v":171.10119003297669},{"$f":"IF('Entrée des données_Eingabemaske'!$N$12=\"männlich / masculin\",Perzentile!L192,Perzentile!V192)","v":175.18299999999999},{"$f":"Perzentile!W192","v":{"$error":"#N/A"}},{"$f":"Perzentile!X192","v":{"$error":"#N/A"}},{"$f":"Perzentile!Y192","v":{"$error":"#N/A"}},0]
[15.8,15.833333333333334,190,{"$f":"IF('Entrée des données_Eingabemaske'!$N$12=\"männlich / masculin\",Perzentile!C193,Perzentile!M193)","v":1},{"$f":"IF('Entrée des données_Eingabemaske'!$N$12=\"männlich / masculin\",Perzentile!D193,Perzentile!N193)","v":162.4239},{"$f":"IF('Entrée des données_Eingabemaske'!$N$12=\"männlich / masculin\",Perzentile!E193,Perzentile!O193)","v":4.1889999999999997E-2},{"$f":"IF('Entrée des données_Eingabemaske'!$N$12=\"männlich / masculin\",Perzentile!F193,Perzentile!P193)","v":149.62700000000001},{"$f":"IF('Entrée des données_Eingabemaske'!$N$12=\"männlich / masculin\",Perzentile!G193,Perzentile!Q193)","v":153.70430366663786},{"$f":"IF('Entrée des données_Eingabemaske'!$N$12=\"männlich / masculin\",Perzentile!H193,Perzentile!R193)","v":157.83500000000001},{"$f":"IF('Entrée des données_Eingabemaske'!$N$12=\"männlich / masculin\",Perzentile!I193,Perzentile!S193)","v":162.42400000000001},{"$f":"IF('Entrée des données_Eingabemaske'!$N$12=\"männlich / masculin\",Perzentile!J193,Perzentile!T193)","v":167.01300000000001},{"$f":"IF('Entrée des données_Eingabemaske'!$N$12=\"männlich / masculin\",Perzentile!K193,Perzentile!U193)","v":171.14349633336215},{"$f":"IF('Entrée des données_Eingabemaske'!$N$12=\"männlich / masculin\",Perzentile!L193,Perzentile!V193)","v":175.221},{"$f":"Perzentile!W193","v":{"$error":"#N/A"}},{"$f":"Perzentile!X193","v":{"$error":"#N/A"}},{"$f":"Perzentile!Y193","v":{"$error":"#N/A"}},0]
[15.9,15.916666666666666,191,{"$f":"IF('Entrée des données_Eingabemaske'!$N$12=\"männlich / masculin\",Perzentile!C194,Perzentile!M194)","v":1},{"$f":"IF('Entrée des données_Eingabemaske'!$N$12=\"männlich / masculin\",Perzentile!D194,Perzentile!N194)","v":162.4717},{"$f":"IF('Entrée des données_Eingabemaske'!$N$12=\"männlich / masculin\",Perzentile!E194,Perzentile!O194)","v":4.1820000000000003E-2},{"$f":"IF('Entrée des données_Eingabemaske'!$N$12=\"männlich / masculin\",Perzentile!F194,Perzentile!P194)","v":149.69300000000001},{"$f":"IF('Entrée des données_Eingabemaske'!$N$12=\"männlich / masculin\",Perzentile!G194,Perzentile!Q194)","v":153.76411267241741},{"$f":"IF('Entrée des données_Eingabemaske'!$N$12=\"männlich / masculin\",Perzentile!H194,Perzentile!R194)","v":157.88900000000001},{"$f":"IF('Entrée des données_Eingabemaske'!$N$12=\"männlich / masculin\",Perzentile!I194,Perzentile!S194)","v":162.47200000000001},{"$f":"IF('Entrée des données_Eingabemaske'!$N$12=\"männlich / masculin\",Perzentile!J194,Perzentile!T194)","v":167.05500000000001},{"$f":"IF('Entrée des données_Eingabemaske'!$N$12=\"männlich / masculin\",Perzentile!K194,Perzentile!U194)","v":171.17928732758261},{"$f":"IF('Entrée des données_Eingabemaske'!$N$12=\"männlich / masculin\",Perzentile!L194,Perzentile!V194)","v":175.251},{"$f":"Perzentile!W194","v":{"$error":"#N/A"}},{"$f":"Perzentile!X194","v":{"$error":"#N/A"}},{"$f":"Perzentile!Y194","v":{"$error":"#N/A"}},0]
[16,{"$f":"C194/12","v":16},192,{"$f":"IF('Entrée des données_Eingabemaske'!$N$12=\"männlich / masculin\",Perzentile!C195,Perzentile!M195)","v":1},{"$f":"IF('Entrée des données_Eingabemaske'!$N$12=\"männlich / masculin\",Perzentile!D195,Perzentile!N195)","v":162.51560000000001},{"$f":"IF('Entrée des données_Eingabemaske'!$N$12=\"männlich / masculin\",Perzentile!E195,Perzentile!O195)","v":4.1759999999999999E-2},{"$f":"IF('Entrée des données_Eingabemaske'!$N$12=\"männlich / masculin\",Perzentile!F195,Perzentile!P195)","v":149.751},{"$f":"IF('Entrée des données_Eingabemaske'!$N$12=\"männlich / masculin\",Perzentile!G195,Perzentile!Q195)","v":153.81815620175766},{"$f":"IF('Entrée des données_Eingabemaske'!$N$12=\"männlich / masculin\",Perzentile!H195,Perzentile!R195)","v":157.93799999999999},{"$f":"IF('Entrée des données_Eingabemaske'!$N$12=\"männlich / masculin\",Perzentile!I195,Perzentile!S195)","v":162.51599999999999},{"$f":"IF('Entrée des données_Eingabemaske'!$N$12=\"männlich / masculin\",Perzentile!J195,Perzentile!T195)","v":167.09299999999999},{"$f":"IF('Entrée des données_Eingabemaske'!$N$12=\"männlich / masculin\",Perzentile!K195,Perzentile!U195)","v":171.21304379824235},{"$f":"IF('Entrée des données_Eingabemaske'!$N$12=\"männlich / masculin\",Perzentile!L195,Perzentile!V195)","v":175.28},{"$f":"Perzentile!W195","v":{"$error":"#N/A"}},{"$f":"Perzentile!X195","v":{"$error":"#N/A"}},{"$f":"Perzentile!Y195","v":{"$error":"#N/A"}},0]
[{"$f":"ROUND(B195,1)","v":16.100000000000001},16.083333333333332,193,{"$f":"IF('Entrée des données_Eingabemaske'!$N$12=\"männlich / masculin\",Perzentile!C196,Perzentile!M196)","v":1},{"$f":"IF('Entrée des données_Eingabemaske'!$N$12=\"männlich / masculin\",Perzentile!D196,Perzentile!N196)","v":162.55600000000001},{"$f":"IF('Entrée des données_Eingabemaske'!$N$12=\"männlich / masculin\",Perzentile!E196,Perzentile!O196)","v":4.1700000000000001E-2},{"$f":"IF('Entrée des données_Eingabemaske'!$N$12=\"männlich / masculin\",Perzentile!F196,Perzentile!P196)","v":149.80699999999999},{"$f":"IF('Entrée des données_Eingabemaske'!$N$12=\"männlich / masculin\",Perzentile!G196,Perzentile!Q196)","v":153.86889352476254},{"$f":"IF('Entrée des données_Eingabemaske'!$N$12=\"männlich / masculin\",Perzentile!H196,Perzentile!R196)","v":157.98400000000001},{"$f":"IF('Entrée des données_Eingabemaske'!$N$12=\"männlich / masculin\",Perzentile!I196,Perzentile!S196)","v":162.55600000000001},{"$f":"IF('Entrée des données_Eingabemaske'!$N$12=\"männlich / masculin\",Perzentile!J196,Perzentile!T196)","v":167.12799999999999},{"$f":"IF('Entrée des données_Eingabemaske'!$N$12=\"männlich / masculin\",Perzentile!K196,Perzentile!U196)","v":171.24310647523745},{"$f":"IF('Entrée des données_Eingabemaske'!$N$12=\"männlich / masculin\",Perzentile!L196,Perzentile!V196)","v":175.30500000000001},{"$f":"Perzentile!W196","v":{"$error":"#N/A"}},{"$f":"Perzentile!X196","v":{"$error":"#N/A"}},{"$f":"Perzentile!Y196","v":{"$error":"#N/A"}},0]
[16.2,16.166666666666668,194,{"$f":"IF('Entrée des données_Eingabemaske'!$N$12=\"männlich / masculin\",Perzentile!C197,Perzentile!M197)","v":1},{"$f":"IF('Entrée des données_Eingabemaske'!$N$12=\"männlich / masculin\",Perzentile!D197,Perzentile!N197)","v":162.5933},{"$f":"IF('Entrée des données_Eingabemaske'!$N$12=\"männlich / masculin\",Perzentile!E197,Perzentile!O197)","v":4.1640000000000003E-2},{"$f":"IF('Entrée des données_Eingabemaske'!$N$12=\"männlich / masculin\",Perzentile!F197,Perzentile!P197)","v":149.86000000000001},{"$f":"IF('Entrée des données_Eingabemaske'!$N$12=\"männlich / masculin\",Perzentile!G197,Perzentile!Q197)","v":153.91670248853168},{"$f":"IF('Entrée des données_Eingabemaske'!$N$12=\"männlich / masculin\",Perzentile!H197,Perzentile!R197)","v":158.02699999999999},{"$f":"IF('Entrée des données_Eingabemaske'!$N$12=\"männlich / masculin\",Perzentile!I197,Perzentile!S197)","v":162.59299999999999},{"$f":"IF('Entrée des données_Eingabemaske'!$N$12=\"männlich / masculin\",Perzentile!J197,Perzentile!T197)","v":167.16},{"$f":"IF('Entrée des données_Eingabemaske'!$N$12=\"männlich / masculin\",Perzentile!K197,Perzentile!U197)","v":171.26989751146832},{"$f":"IF('Entrée des données_Eingabemaske'!$N$12=\"männlich / masculin\",Perzentile!L197,Perzentile!V197)","v":175.327},{"$f":"Perzentile!W197","v":{"$error":"#N/A"}},{"$f":"Perzentile!X197","v":{"$error":"#N/A"}},{"$f":"Perzentile!Y197","v":{"$error":"#N/A"}},0]
[16.3,16.25,195,{"$f":"IF('Entrée des données_Eingabemaske'!$N$12=\"männlich / masculin\",Perzentile!C198,Perzentile!M198)","v":1},{"$f":"IF('Entrée des données_Eingabemaske'!$N$12=\"männlich / masculin\",Perzentile!D198,Perzentile!N198)","v":162.6276},{"$f":"IF('Entrée des données_Eingabemaske'!$N$12=\"männlich / masculin\",Perzentile!E198,Perzentile!O198)","v":4.1579999999999999E-2},{"$f":"IF('Entrée des données_Eingabemaske'!$N$12=\"männlich / masculin\",Perzentile!F198,Perzentile!P198)","v":149.91},{"$f":"IF('Entrée des données_Eingabemaske'!$N$12=\"männlich / masculin\",Perzentile!G198,Perzentile!Q198)","v":153.96167704926796},{"$f":"IF('Entrée des données_Eingabemaske'!$N$12=\"männlich / masculin\",Perzentile!H198,Perzentile!R198)","v":158.06700000000001},{"$f":"IF('Entrée des données_Eingabemaske'!$N$12=\"männlich / masculin\",Perzentile!I198,Perzentile!S198)","v":162.62799999999999},{"$f":"IF('Entrée des données_Eingabemaske'!$N$12=\"männlich / masculin\",Perzentile!J198,Perzentile!T198)","v":167.18899999999999},{"$f":"IF('Entrée des données_Eingabemaske'!$N$12=\"männlich / masculin\",Perzentile!K198,Perzentile!U198)","v":171.29352295073204},{"$f":"IF('Entrée des données_Eingabemaske'!$N$12=\"männlich / masculin\",Perzentile!L198,Perzentile!V198)","v":175.346},{"$f":"Perzentile!W198","v":{"$error":"#N/A"}},{"$f":"Perzentile!X198","v":{"$error":"#N/A"}},{"$f":"Perzentile!Y198","v":{"$error":"#N/A"}},0]
[16.3,16.333333333333332,196,{"$f":"IF('Entrée des données_Eingabemaske'!$N$12=\"männlich / masculin\",Perzentile!C199,Perzentile!M199)","v":1},{"$f":"IF('Entrée des données_Eingabemaske'!$N$12=\"männlich / masculin\",Perzentile!D199,Perzentile!N199)","v":162.65940000000001},{"$f":"IF('Entrée des données_Eingabemaske'!$N$12=\"männlich / masculin\",Perzentile!E199,Perzentile!O199)","v":4.1520000000000001E-2},{"$f":"IF('Entrée des données_Eingabemaske'!$N$12=\"männlich / masculin\",Perzentile!F199,Perzentile!P199)","v":149.95699999999999},{"$f":"IF('Entrée des données_Eingabemaske'!$N$12=\"männlich / masculin\",Perzentile!G199,Perzentile!Q199)","v":154.00428990992296},{"$f":"IF('Entrée des données_Eingabemaske'!$N$12=\"männlich / masculin\",Perzentile!H199,Perzentile!R199)","v":158.10400000000001},{"$f":"IF('Entrée des données_Eingabemaske'!$N$12=\"männlich / masculin\",Perzentile!I199,Perzentile!S199)","v":162.65899999999999},{"$f":"IF('Entrée des données_Eingabemaske'!$N$12=\"männlich / masculin\",Perzentile!J199,Perzentile!T199)","v":167.215},{"$f":"IF('Entrée des données_Eingabemaske'!$N$12=\"männlich / masculin\",Perzentile!K199,Perzentile!U199)","v":171.31451009007708},{"$f":"IF('Entrée des données_Eingabemaske'!$N$12=\"männlich / masculin\",Perzentile!L199,Perzentile!V199)","v":175.36199999999999},{"$f":"Perzentile!W199","v":{"$error":"#N/A"}},{"$f":"Perzentile!X199","v":{"$error":"#N/A"}},{"$f":"Perzentile!Y199","v":{"$error":"#N/A"}},0]
[16.399999999999999,16.416666666666668,197,{"$f":"IF('Entrée des données_Eingabemaske'!$N$12=\"männlich / masculin\",Perzentile!C200,Perzentile!M200)","v":1},{"$f":"IF('Entrée des données_Eingabemaske'!$N$12=\"männlich / masculin\",Perzentile!D200,Perzentile!N200)","v":162.68899999999999},{"$f":"IF('Entrée des données_Eingabemaske'!$N$12=\"männlich / masculin\",Perzentile!E200,Perzentile!O200)","v":4.147E-2},{"$f":"IF('Entrée des données_Eingabemaske'!$N$12=\"männlich / masculin\",Perzentile!F200,Perzentile!P200)","v":150},{"$f":"IF('Entrée des données_Eingabemaske'!$N$12=\"männlich / masculin\",Perzentile!G200,Perzentile!Q200)","v":154.04273961043364},{"$f":"IF('Entrée des données_Eingabemaske'!$N$12=\"männlich / masculin\",Perzentile!H200,Perzentile!R200)","v":158.13800000000001},{"$f":"IF('Entrée des données_Eingabemaske'!$N$12=\"männlich / masculin\",Perzentile!I200,Perzentile!S200)","v":162.68899999999999},{"$f":"IF('Entrée des données_Eingabemaske'!$N$12=\"männlich / masculin\",Perzentile!J200,Perzentile!T200)","v":167.24},{"$f":"IF('Entrée des données_Eingabemaske'!$N$12=\"männlich / masculin\",Perzentile!K200,Perzentile!U200)","v":171.33526038956634},{"$f":"IF('Entrée des données_Eingabemaske'!$N$12=\"männlich / masculin\",Perzentile!L200,Perzentile!V200)","v":175.37799999999999},{"$f":"Perzentile!W200","v":{"$error":"#N/A"}},{"$f":"Perzentile!X200","v":{"$error":"#N/A"}},{"$f":"Perzentile!Y200","v":{"$error":"#N/A"}},0]
[16.5,16.5,198,{"$f":"IF('Entrée des données_Eingabemaske'!$N$12=\"männlich / masculin\",Perzentile!C201,Perzentile!M201)","v":1},{"$f":"IF('Entrée des données_Eingabemaske'!$N$12=\"männlich / masculin\",Perzentile!D201,Perzentile!N201)","v":162.7165},{"$f":"IF('Entrée des données_Eingabemaske'!$N$12=\"männlich / masculin\",Perzentile!E201,Perzentile!O201)","v":4.1410000000000002E-2},{"$f":"IF('Entrée des données_Eingabemaske'!$N$12=\"männlich / masculin\",Perzentile!F201,Perzentile!P201)","v":150.04400000000001},{"$f":"IF('Entrée des données_Eingabemaske'!$N$12=\"männlich / masculin\",Perzentile!G201,Perzentile!Q201)","v":154.08128987210841},{"$f":"IF('Entrée des données_Eingabemaske'!$N$12=\"männlich / masculin\",Perzentile!H201,Perzentile!R201)","v":158.172},{"$f":"IF('Entrée des données_Eingabemaske'!$N$12=\"männlich / masculin\",Perzentile!I201,Perzentile!S201)","v":162.71600000000001},{"$f":"IF('Entrée des données_Eingabemaske'!$N$12=\"männlich / masculin\",Perzentile!J201,Perzentile!T201)","v":167.261},{"$f":"IF('Entrée des données_Eingabemaske'!$N$12=\"männlich / masculin\",Perzentile!K201,Perzentile!U201)","v":171.35171012789158},{"$f":"IF('Entrée des données_Eingabemaske'!$N$12=\"männlich / masculin\",Perzentile!L201,Perzentile!V201)","v":175.38900000000001},{"$f":"Perzentile!W201","v":{"$error":"#N/A"}},{"$f":"Perzentile!X201","v":{"$error":"#N/A"}},{"$f":"Perzentile!Y201","v":{"$error":"#N/A"}},0]
[16.600000000000001,16.583333333333332,199,{"$f":"IF('Entrée des données_Eingabemaske'!$N$12=\"männlich / masculin\",Perzentile!C202,Perzentile!M202)","v":1},{"$f":"IF('Entrée des données_Eingabemaske'!$N$12=\"männlich / masculin\",Perzentile!D202,Perzentile!N202)","v":162.74250000000001},{"$f":"IF('Entrée des données_Eingabemaske'!$N$12=\"männlich / masculin\",Perzentile!E202,Perzentile!O202)","v":4.1360000000000001E-2},{"$f":"IF('Entrée des données_Eingabemaske'!$N$12=\"männlich / masculin\",Perzentile!F202,Perzentile!P202)","v":150.083},{"$f":"IF('Entrée des données_Eingabemaske'!$N$12=\"männlich / masculin\",Perzentile!G202,Perzentile!Q202)","v":154.11633822208265},{"$f":"IF('Entrée des données_Eingabemaske'!$N$12=\"männlich / masculin\",Perzentile!H202,Perzentile!R202)","v":158.202},{"$f":"IF('Entrée des données_Eingabemaske'!$N$12=\"männlich / masculin\",Perzentile!I202,Perzentile!S202)","v":162.74199999999999},{"$f":"IF('Entrée des données_Eingabemaske'!$N$12=\"männlich / masculin\",Perzentile!J202,Perzentile!T202)","v":167.28299999999999},{"$f":"IF('Entrée des données_Eingabemaske'!$N$12=\"männlich / masculin\",Perzentile!K202,Perzentile!U202)","v":171.36866177791737},{"$f":"IF('Entrée des données_Eingabemaske'!$N$12=\"männlich / masculin\",Perzentile!L202,Perzentile!V202)","v":175.40199999999999},{"$f":"Perzentile!W202","v":{"$error":"#N/A"}},{"$f":"Perzentile!X202","v":{"$error":"#N/A"}},{"$f":"Perzentile!Y202","v":{"$error":"#N/A"}},0]
[16.7,16.666666666666668,200,{"$f":"IF('Entrée des données_Eingabemaske'!$N$12=\"männlich / masculin\",Perzentile!C203,Perzentile!M203)","v":1},{"$f":"IF('Entrée des données_Eingabemaske'!$N$12=\"männlich / masculin\",Perzentile!D203,Perzentile!N203)","v":162.767},{"$f":"IF('Entrée des données_Eingabemaske'!$N$12=\"männlich / masculin\",Perzentile!E203,Perzentile!O203)","v":4.1300000000000003E-2},{"$f":"IF('Entrée des données_Eingabemaske'!$N$12=\"männlich / masculin\",Perzentile!F203,Perzentile!P203)","v":150.124},{"$f":"IF('Entrée des données_Eingabemaske'!$N$12=\"männlich / masculin\",Perzentile!G203,Perzentile!Q203)","v":154.15205525847037},{"$f":"IF('Entrée des données_Eingabemaske'!$N$12=\"männlich / masculin\",Perzentile!H203,Perzentile!R203)","v":158.233},{"$f":"IF('Entrée des données_Eingabemaske'!$N$12=\"männlich / masculin\",Perzentile!I203,Perzentile!S203)","v":162.767},{"$f":"IF('Entrée des données_Eingabemaske'!$N$12=\"männlich / masculin\",Perzentile!J203,Perzentile!T203)","v":167.30099999999999},{"$f":"IF('Entrée des données_Eingabemaske'!$N$12=\"männlich / masculin\",Perzentile!K203,Perzentile!U203)","v":171.38194474152962},{"$f":"IF('Entrée des données_Eingabemaske'!$N$12=\"männlich / masculin\",Perzentile!L203,Perzentile!V203)","v":175.41},{"$f":"Perzentile!W203","v":{"$error":"#N/A"}},{"$f":"Perzentile!X203","v":{"$error":"#N/A"}},{"$f":"Perzentile!Y203","v":{"$error":"#N/A"}},0]
[16.8,16.75,201,{"$f":"IF('Entrée des données_Eingabemaske'!$N$12=\"männlich / masculin\",Perzentile!C204,Perzentile!M204)","v":1},{"$f":"IF('Entrée des données_Eingabemaske'!$N$12=\"männlich / masculin\",Perzentile!D204,Perzentile!N204)","v":162.79040000000001},{"$f":"IF('Entrée des données_Eingabemaske'!$N$12=\"männlich / masculin\",Perzentile!E204,Perzentile!O204)","v":4.1250000000000002E-2},{"$f":"IF('Entrée des données_Eingabemaske'!$N$12=\"männlich / masculin\",Perzentile!F204,Perzentile!P204)","v":150.161},{"$f":"IF('Entrée des données_Eingabemaske'!$N$12=\"männlich / masculin\",Perzentile!G204,Perzentile!Q204)","v":154.18464795600519},{"$f":"IF('Entrée des données_Eingabemaske'!$N$12=\"männlich / masculin\",Perzentile!H204,Perzentile!R204)","v":158.261},{"$f":"IF('Entrée des données_Eingabemaske'!$N$12=\"männlich / masculin\",Perzentile!I204,Perzentile!S204)","v":162.79},{"$f":"IF('Entrée des données_Eingabemaske'!$N$12=\"männlich / masculin\",Perzentile!J204,Perzentile!T204)","v":167.32},{"$f":"IF('Entrée des données_Eingabemaske'!$N$12=\"männlich / masculin\",Perzentile!K204,Perzentile!U204)","v":171.39615204399482},{"$f":"IF('Entrée des données_Eingabemaske'!$N$12=\"männlich / masculin\",Perzentile!L204,Perzentile!V204)","v":175.42},{"$f":"Perzentile!W204","v":{"$error":"#N/A"}},{"$f":"Perzentile!X204","v":{"$error":"#N/A"}},{"$f":"Perzentile!Y204","v":{"$error":"#N/A"}},0]
[16.8,16.833333333333332,202,{"$f":"IF('Entrée des données_Eingabemaske'!$N$12=\"männlich / masculin\",Perzentile!C205,Perzentile!M205)","v":1},{"$f":"IF('Entrée des données_Eingabemaske'!$N$12=\"männlich / masculin\",Perzentile!D205,Perzentile!N205)","v":162.8126},{"$f":"IF('Entrée des données_Eingabemaske'!$N$12=\"männlich / masculin\",Perzentile!E205,Perzentile!O205)","v":4.1189999999999997E-2},{"$f":"IF('Entrée des données_Eingabemaske'!$N$12=\"männlich / masculin\",Perzentile!F205,Perzentile!P205)","v":150.19999999999999},{"$f":"IF('Entrée des données_Eingabemaske'!$N$12=\"männlich / masculin\",Perzentile!G205,Perzentile!Q205)","v":154.21819353970426},{"$f":"IF('Entrée des données_Eingabemaske'!$N$12=\"männlich / masculin\",Perzentile!H205,Perzentile!R205)","v":158.28899999999999},{"$f":"IF('Entrée des données_Eingabemaske'!$N$12=\"männlich / masculin\",Perzentile!I205,Perzentile!S205)","v":162.81299999999999},{"$f":"IF('Entrée des données_Eingabemaske'!$N$12=\"männlich / masculin\",Perzentile!J205,Perzentile!T205)","v":167.33600000000001},{"$f":"IF('Entrée des données_Eingabemaske'!$N$12=\"männlich / masculin\",Perzentile!K205,Perzentile!U205)","v":171.40700646029575},{"$f":"IF('Entrée des données_Eingabemaske'!$N$12=\"männlich / masculin\",Perzentile!L205,Perzentile!V205)","v":175.42599999999999},{"$f":"Perzentile!W205","v":{"$error":"#N/A"}},{"$f":"Perzentile!X205","v":{"$error":"#N/A"}},{"$f":"Perzentile!Y205","v":{"$error":"#N/A"}},0]
[16.899999999999999,16.916666666666668,203,{"$f":"IF('Entrée des données_Eingabemaske'!$N$12=\"männlich / masculin\",Perzentile!C206,Perzentile!M206)","v":1},{"$f":"IF('Entrée des données_Eingabemaske'!$N$12=\"männlich / masculin\",Perzentile!D206,Perzentile!N206)","v":162.834},{"$f":"IF('Entrée des données_Eingabemaske'!$N$12=\"männlich / masculin\",Perzentile!E206,Perzentile!O206)","v":4.1140000000000003E-2},{"$f":"IF('Entrée des données_Eingabemaske'!$N$12=\"männlich / masculin\",Perzentile!F206,Perzentile!P206)","v":150.23500000000001},{"$f":"IF('Entrée des données_Eingabemaske'!$N$12=\"männlich / masculin\",Perzentile!G206,Perzentile!Q206)","v":154.24889790395318},{"$f":"IF('Entrée des données_Eingabemaske'!$N$12=\"männlich / masculin\",Perzentile!H206,Perzentile!R206)","v":158.316},{"$f":"IF('Entrée des données_Eingabemaske'!$N$12=\"männlich / masculin\",Perzentile!I206,Perzentile!S206)","v":162.834},{"$f":"IF('Entrée des données_Eingabemaske'!$N$12=\"männlich / masculin\",Perzentile!J206,Perzentile!T206)","v":167.352},{"$f":"IF('Entrée des données_Eingabemaske'!$N$12=\"männlich / masculin\",Perzentile!K206,Perzentile!U206)","v":171.4191020960468},{"$f":"IF('Entrée des données_Eingabemaske'!$N$12=\"männlich / masculin\",Perzentile!L206,Perzentile!V206)","v":175.43299999999999},{"$f":"Perzentile!W206","v":{"$error":"#N/A"}},{"$f":"Perzentile!X206","v":{"$error":"#N/A"}},{"$f":"Perzentile!Y206","v":{"$error":"#N/A"}},0]
[17,17,204,{"$f":"IF('Entrée des données_Eingabemaske'!$N$12=\"männlich / masculin\",Perzentile!C207,Perzentile!M207)","v":1},{"$f":"IF('Entrée des données_Eingabemaske'!$N$12=\"männlich / masculin\",Perzentile!D207,Perzentile!N207)","v":162.8545},{"$f":"IF('Entrée des données_Eingabemaske'!$N$12=\"männlich / masculin\",Perzentile!E207,Perzentile!O207)","v":4.1090000000000002E-2},{"$f":"IF('Entrée des données_Eingabemaske'!$N$12=\"männlich / masculin\",Perzentile!F207,Perzentile!P207)","v":150.26900000000001},{"$f":"IF('Entrée des données_Eingabemaske'!$N$12=\"männlich / masculin\",Perzentile!G207,Perzentile!Q207)","v":154.27875240378089},{"$f":"IF('Entrée des données_Eingabemaske'!$N$12=\"männlich / masculin\",Perzentile!H207,Perzentile!R207)","v":158.34100000000001},{"$f":"IF('Entrée des données_Eingabemaske'!$N$12=\"männlich / masculin\",Perzentile!I207,Perzentile!S207)","v":162.85400000000001},{"$f":"IF('Entrée des données_Eingabemaske'!$N$12=\"männlich / masculin\",Perzentile!J207,Perzentile!T207)","v":167.36799999999999},{"$f":"IF('Entrée des données_Eingabemaske'!$N$12=\"männlich / masculin\",Perzentile!K207,Perzentile!U207)","v":171.43024759621909},{"$f":"IF('Entrée des données_Eingabemaske'!$N$12=\"männlich / masculin\",Perzentile!L207,Perzentile!V207)","v":175.44},{"$f":"Perzentile!W207","v":{"$error":"#N/A"}},{"$f":"Perzentile!X207","v":{"$error":"#N/A"}},{"$f":"Perzentile!Y207","v":{"$error":"#N/A"}},0]
[17.100000000000001,17.083333333333332,205,{"$f":"IF('Entrée des données_Eingabemaske'!$N$12=\"männlich / masculin\",Perzentile!C208,Perzentile!M208)","v":1},{"$f":"IF('Entrée des données_Eingabemaske'!$N$12=\"männlich / masculin\",Perzentile!D208,Perzentile!N208)","v":162.87430000000001},{"$f":"IF('Entrée des données_Eingabemaske'!$N$12=\"männlich / masculin\",Perzentile!E208,Perzentile!O208)","v":4.104E-2},{"$f":"IF('Entrée des données_Eingabemaske'!$N$12=\"männlich / masculin\",Perzentile!F208,Perzentile!P208)","v":150.30199999999999},{"$f":"IF('Entrée des données_Eingabemaske'!$N$12=\"männlich / masculin\",Perzentile!G208,Perzentile!Q208)","v":154.30794634720272},{"$f":"IF('Entrée des données_Eingabemaske'!$N$12=\"männlich / masculin\",Perzentile!H208,Perzentile!R208)","v":158.36600000000001},{"$f":"IF('Entrée des données_Eingabemaske'!$N$12=\"männlich / masculin\",Perzentile!I208,Perzentile!S208)","v":162.874},{"$f":"IF('Entrée des données_Eingabemaske'!$N$12=\"männlich / masculin\",Perzentile!J208,Perzentile!T208)","v":167.38300000000001},{"$f":"IF('Entrée des données_Eingabemaske'!$N$12=\"männlich / masculin\",Perzentile!K208,Perzentile!U208)","v":171.44065365279729},{"$f":"IF('Entrée des données_Eingabemaske'!$N$12=\"männlich / masculin\",Perzentile!L208,Perzentile!V208)","v":175.446},{"$f":"Perzentile!W208","v":{"$error":"#N/A"}},{"$f":"Perzentile!X208","v":{"$error":"#N/A"}},{"$f":"Perzentile!Y208","v":{"$error":"#N/A"}},0]
[17.2,17.166666666666668,206,{"$f":"IF('Entrée des données_Eingabemaske'!$N$12=\"männlich / masculin\",Perzentile!C209,Perzentile!M209)","v":1},{"$f":"IF('Entrée des données_Eingabemaske'!$N$12=\"männlich / masculin\",Perzentile!D209,Perzentile!N209)","v":162.89349999999999},{"$f":"IF('Entrée des données_Eingabemaske'!$N$12=\"männlich / masculin\",Perzentile!E209,Perzentile!O209)","v":4.0989999999999999E-2},{"$f":"IF('Entrée des données_Eingabemaske'!$N$12=\"männlich / masculin\",Perzentile!F209,Perzentile!P209)","v":150.33500000000001},{"$f":"IF('Entrée des données_Eingabemaske'!$N$12=\"männlich / masculin\",Perzentile!G209,Perzentile!Q209)","v":154.33657434657579},{"$f":"IF('Entrée des données_Eingabemaske'!$N$12=\"männlich / masculin\",Perzentile!H209,Perzentile!R209)","v":158.38999999999999},{"$f":"IF('Entrée des données_Eingabemaske'!$N$12=\"männlich / masculin\",Perzentile!I209,Perzentile!S209)","v":162.89400000000001},{"$f":"IF('Entrée des données_Eingabemaske'!$N$12=\"männlich / masculin\",Perzentile!J209,Perzentile!T209)","v":167.39699999999999},{"$f":"IF('Entrée des données_Eingabemaske'!$N$12=\"männlich / masculin\",Perzentile!K209,Perzentile!U209)","v":171.45042565342419},{"$f":"IF('Entrée des données_Eingabemaske'!$N$12=\"männlich / masculin\",Perzentile!L209,Perzentile!V209)","v":175.452},{"$f":"Perzentile!W209","v":{"$error":"#N/A"}},{"$f":"Perzentile!X209","v":{"$error":"#N/A"}},{"$f":"Perzentile!Y209","v":{"$error":"#N/A"}},0]
[17.3,17.25,207,{"$f":"IF('Entrée des données_Eingabemaske'!$N$12=\"männlich / masculin\",Perzentile!C210,Perzentile!M210)","v":1},{"$f":"IF('Entrée des données_Eingabemaske'!$N$12=\"männlich / masculin\",Perzentile!D210,Perzentile!N210)","v":162.91200000000001},{"$f":"IF('Entrée des données_Eingabemaske'!$N$12=\"männlich / masculin\",Perzentile!E210,Perzentile!O210)","v":4.0939999999999997E-2},{"$f":"IF('Entrée des données_Eingabemaske'!$N$12=\"männlich / masculin\",Perzentile!F210,Perzentile!P210)","v":150.36799999999999},{"$f":"IF('Entrée des données_Eingabemaske'!$N$12=\"männlich / masculin\",Perzentile!G210,Perzentile!Q210)","v":154.36454153323268},{"$f":"IF('Entrée des données_Eingabemaske'!$N$12=\"männlich / masculin\",Perzentile!H210,Perzentile!R210)","v":158.41300000000001},{"$f":"IF('Entrée des données_Eingabemaske'!$N$12=\"männlich / masculin\",Perzentile!I210,Perzentile!S210)","v":162.91200000000001},{"$f":"IF('Entrée des données_Eingabemaske'!$N$12=\"männlich / masculin\",Perzentile!J210,Perzentile!T210)","v":167.411},{"$f":"IF('Entrée des données_Eingabemaske'!$N$12=\"männlich / masculin\",Perzentile!K210,Perzentile!U210)","v":171.45945846676733},{"$f":"IF('Entrée des données_Eingabemaske'!$N$12=\"männlich / masculin\",Perzentile!L210,Perzentile!V210)","v":175.45599999999999},{"$f":"Perzentile!W210","v":{"$error":"#N/A"}},{"$f":"Perzentile!X210","v":{"$error":"#N/A"}},{"$f":"Perzentile!Y210","v":{"$error":"#N/A"}},0]
[17.3,17.333333333333332,208,{"$f":"IF('Entrée des données_Eingabemaske'!$N$12=\"männlich / masculin\",Perzentile!C211,Perzentile!M211)","v":1},{"$f":"IF('Entrée des données_Eingabemaske'!$N$12=\"männlich / masculin\",Perzentile!D211,Perzentile!N211)","v":162.93},{"$f":"IF('Entrée des données_Eingabemaske'!$N$12=\"männlich / masculin\",Perzentile!E211,Perzentile!O211)","v":4.0890000000000003E-2},{"$f":"IF('Entrée des données_Eingabemaske'!$N$12=\"männlich / masculin\",Perzentile!F211,Perzentile!P211)","v":150.4},{"$f":"IF('Entrée des données_Eingabemaske'!$N$12=\"männlich / masculin\",Perzentile!G211,Perzentile!Q211)","v":154.39203729208171},{"$f":"IF('Entrée des données_Eingabemaske'!$N$12=\"männlich / masculin\",Perzentile!H211,Perzentile!R211)","v":158.43600000000001},{"$f":"IF('Entrée des données_Eingabemaske'!$N$12=\"männlich / masculin\",Perzentile!I211,Perzentile!S211)","v":162.93},{"$f":"IF('Entrée des données_Eingabemaske'!$N$12=\"männlich / masculin\",Perzentile!J211,Perzentile!T211)","v":167.42400000000001},{"$f":"IF('Entrée des données_Eingabemaske'!$N$12=\"männlich / masculin\",Perzentile!K211,Perzentile!U211)","v":171.4679627079183},{"$f":"IF('Entrée des données_Eingabemaske'!$N$12=\"männlich / masculin\",Perzentile!L211,Perzentile!V211)","v":175.46},{"$f":"Perzentile!W211","v":{"$error":"#N/A"}},{"$f":"Perzentile!X211","v":{"$error":"#N/A"}},{"$f":"Perzentile!Y211","v":{"$error":"#N/A"}},0]
[17.399999999999999,17.416666666666668,209,{"$f":"IF('Entrée des données_Eingabemaske'!$N$12=\"männlich / masculin\",Perzentile!C212,Perzentile!M212)","v":1},{"$f":"IF('Entrée des données_Eingabemaske'!$N$12=\"männlich / masculin\",Perzentile!D212,Perzentile!N212)","v":162.94759999999999},{"$f":"IF('Entrée des données_Eingabemaske'!$N$12=\"männlich / masculin\",Perzentile!E212,Perzentile!O212)","v":4.0840000000000001E-2},{"$f":"IF('Entrée des données_Eingabemaske'!$N$12=\"männlich / masculin\",Perzentile!F212,Perzentile!P212)","v":150.43100000000001},{"$f":"IF('Entrée des données_Eingabemaske'!$N$12=\"männlich / masculin\",Perzentile!G212,Perzentile!Q212)","v":154.41915629314991},{"$f":"IF('Entrée des données_Eingabemaske'!$N$12=\"männlich / masculin\",Perzentile!H212,Perzentile!R212)","v":158.459},{"$f":"IF('Entrée des données_Eingabemaske'!$N$12=\"männlich / masculin\",Perzentile!I212,Perzentile!S212)","v":162.94800000000001},{"$f":"IF('Entrée des données_Eingabemaske'!$N$12=\"männlich / masculin\",Perzentile!J212,Perzentile!T212)","v":167.43600000000001},{"$f":"IF('Entrée des données_Eingabemaske'!$N$12=\"männlich / masculin\",Perzentile!K212,Perzentile!U212)","v":171.47604370685008},{"$f":"IF('Entrée des données_Eingabemaske'!$N$12=\"männlich / masculin\",Perzentile!L212,Perzentile!V212)","v":175.464},{"$f":"Perzentile!W212","v":{"$error":"#N/A"}},{"$f":"Perzentile!X212","v":{"$error":"#N/A"}},{"$f":"Perzentile!Y212","v":{"$error":"#N/A"}},0]
[17.5,17.5,210,{"$f":"IF('Entrée des données_Eingabemaske'!$N$12=\"männlich / masculin\",Perzentile!C213,Perzentile!M213)","v":1},{"$f":"IF('Entrée des données_Eingabemaske'!$N$12=\"männlich / masculin\",Perzentile!D213,Perzentile!N213)","v":162.9649},{"$f":"IF('Entrée des données_Eingabemaske'!$N$12=\"männlich / masculin\",Perzentile!E213,Perzentile!O213)","v":4.0800000000000003E-2},{"$f":"IF('Entrée des données_Eingabemaske'!$N$12=\"männlich / masculin\",Perzentile!F213,Perzentile!P213)","v":150.46},{"$f":"IF('Entrée des données_Eingabemaske'!$N$12=\"männlich / masculin\",Perzentile!G213,Perzentile!Q213)","v":154.44390475286818},{"$f":"IF('Entrée des données_Eingabemaske'!$N$12=\"männlich / masculin\",Perzentile!H213,Perzentile!R213)","v":158.47999999999999},{"$f":"IF('Entrée des données_Eingabemaske'!$N$12=\"männlich / masculin\",Perzentile!I213,Perzentile!S213)","v":162.965},{"$f":"IF('Entrée des données_Eingabemaske'!$N$12=\"männlich / masculin\",Perzentile!J213,Perzentile!T213)","v":167.45},{"$f":"IF('Entrée des données_Eingabemaske'!$N$12=\"männlich / masculin\",Perzentile!K213,Perzentile!U213)","v":171.48589524713182},{"$f":"IF('Entrée des données_Eingabemaske'!$N$12=\"männlich / masculin\",Perzentile!L213,Perzentile!V213)","v":175.47},{"$f":"Perzentile!W213","v":{"$error":"#N/A"}},{"$f":"Perzentile!X213","v":{"$error":"#N/A"}},{"$f":"Perzentile!Y213","v":{"$error":"#N/A"}},0]
[17.600000000000001,17.583333333333332,211,{"$f":"IF('Entrée des données_Eingabemaske'!$N$12=\"männlich / masculin\",Perzentile!C214,Perzentile!M214)","v":1},{"$f":"IF('Entrée des données_Eingabemaske'!$N$12=\"männlich / masculin\",Perzentile!D214,Perzentile!N214)","v":162.98169999999999},{"$f":"IF('Entrée des données_Eingabemaske'!$N$12=\"männlich / masculin\",Perzentile!E214,Perzentile!O214)","v":4.0750000000000001E-2},{"$f":"IF('Entrée des données_Eingabemaske'!$N$12=\"männlich / masculin\",Perzentile!F214,Perzentile!P214)","v":150.49},{"$f":"IF('Entrée des données_Eingabemaske'!$N$12=\"männlich / masculin\",Perzentile!G214,Perzentile!Q214)","v":154.47026979880258},{"$f":"IF('Entrée des données_Eingabemaske'!$N$12=\"männlich / masculin\",Perzentile!H214,Perzentile!R214)","v":158.50200000000001},{"$f":"IF('Entrée des données_Eingabemaske'!$N$12=\"männlich / masculin\",Perzentile!I214,Perzentile!S214)","v":162.982},{"$f":"IF('Entrée des données_Eingabemaske'!$N$12=\"männlich / masculin\",Perzentile!J214,Perzentile!T214)","v":167.46100000000001},{"$f":"IF('Entrée des données_Eingabemaske'!$N$12=\"männlich / masculin\",Perzentile!K214,Perzentile!U214)","v":171.4931302011974},{"$f":"IF('Entrée des données_Eingabemaske'!$N$12=\"männlich / masculin\",Perzentile!L214,Perzentile!V214)","v":175.47300000000001},{"$f":"Perzentile!W214","v":{"$error":"#N/A"}},{"$f":"Perzentile!X214","v":{"$error":"#N/A"}},{"$f":"Perzentile!Y214","v":{"$error":"#N/A"}},0]
[17.7,17.666666666666668,212,{"$f":"IF('Entrée des données_Eingabemaske'!$N$12=\"männlich / masculin\",Perzentile!C215,Perzentile!M215)","v":1},{"$f":"IF('Entrée des données_Eingabemaske'!$N$12=\"männlich / masculin\",Perzentile!D215,Perzentile!N215)","v":162.9983},{"$f":"IF('Entrée des données_Eingabemaske'!$N$12=\"männlich / masculin\",Perzentile!E215,Perzentile!O215)","v":4.0710000000000003E-2},{"$f":"IF('Entrée des données_Eingabemaske'!$N$12=\"männlich / masculin\",Perzentile!F215,Perzentile!P215)","v":150.518},{"$f":"IF('Entrée des données_Eingabemaske'!$N$12=\"männlich / masculin\",Perzentile!G215,Perzentile!Q215)","v":154.49435852230792},{"$f":"IF('Entrée des données_Eingabemaske'!$N$12=\"männlich / masculin\",Perzentile!H215,Perzentile!R215)","v":158.523},{"$f":"IF('Entrée des données_Eingabemaske'!$N$12=\"männlich / masculin\",Perzentile!I215,Perzentile!S215)","v":162.99799999999999},{"$f":"IF('Entrée des données_Eingabemaske'!$N$12=\"männlich / masculin\",Perzentile!J215,Perzentile!T215)","v":167.47399999999999},{"$f":"IF('Entrée des données_Eingabemaske'!$N$12=\"männlich / masculin\",Perzentile!K215,Perzentile!U215)","v":171.50224147769208},{"$f":"IF('Entrée des données_Eingabemaske'!$N$12=\"männlich / masculin\",Perzentile!L215,Perzentile!V215)","v":175.47900000000001},{"$f":"Perzentile!W215","v":{"$error":"#N/A"}},{"$f":"Perzentile!X215","v":{"$error":"#N/A"}},{"$f":"Perzentile!Y215","v":{"$error":"#N/A"}},0]
[17.8,17.75,213,{"$f":"IF('Entrée des données_Eingabemaske'!$N$12=\"männlich / masculin\",Perzentile!C216,Perzentile!M216)","v":1},{"$f":"IF('Entrée des données_Eingabemaske'!$N$12=\"männlich / masculin\",Perzentile!D216,Perzentile!N216)","v":163.01439999999999},{"$f":"IF('Entrée des données_Eingabemaske'!$N$12=\"männlich / masculin\",Perzentile!E216,Perzentile!O216)","v":4.0660000000000002E-2},{"$f":"IF('Entrée des données_Eingabemaske'!$N$12=\"männlich / masculin\",Perzentile!F216,Perzentile!P216)","v":150.548},{"$f":"IF('Entrée des données_Eingabemaske'!$N$12=\"männlich / masculin\",Perzentile!G216,Perzentile!Q216)","v":154.52006412166008},{"$f":"IF('Entrée des données_Eingabemaske'!$N$12=\"männlich / masculin\",Perzentile!H216,Perzentile!R216)","v":158.54400000000001},{"$f":"IF('Entrée des données_Eingabemaske'!$N$12=\"männlich / masculin\",Perzentile!I216,Perzentile!S216)","v":163.01400000000001},{"$f":"IF('Entrée des données_Eingabemaske'!$N$12=\"männlich / masculin\",Perzentile!J216,Perzentile!T216)","v":167.48500000000001},{"$f":"IF('Entrée des données_Eingabemaske'!$N$12=\"männlich / masculin\",Perzentile!K216,Perzentile!U216)","v":171.50873587833991},{"$f":"IF('Entrée des données_Eingabemaske'!$N$12=\"männlich / masculin\",Perzentile!L216,Perzentile!V216)","v":175.48099999999999},{"$f":"Perzentile!W216","v":{"$error":"#N/A"}},{"$f":"Perzentile!X216","v":{"$error":"#N/A"}},{"$f":"Perzentile!Y216","v":{"$error":"#N/A"}},0]
[17.8,17.833333333333332,214,{"$f":"IF('Entrée des données_Eingabemaske'!$N$12=\"männlich / masculin\",Perzentile!C217,Perzentile!M217)","v":1},{"$f":"IF('Entrée des données_Eingabemaske'!$N$12=\"männlich / masculin\",Perzentile!D217,Perzentile!N217)","v":163.03},{"$f":"IF('Entrée des données_Eingabemaske'!$N$12=\"männlich / masculin\",Perzentile!E217,Perzentile!O217)","v":4.0620000000000003E-2},{"$f":"IF('Entrée des données_Eingabemaske'!$N$12=\"männlich / masculin\",Perzentile!F217,Perzentile!P217)","v":150.57499999999999},{"$f":"IF('Entrée des données_Eingabemaske'!$N$12=\"männlich / masculin\",Perzentile!G217,Perzentile!Q217)","v":154.54320849269749},{"$f":"IF('Entrée des données_Eingabemaske'!$N$12=\"männlich / masculin\",Perzentile!H217,Perzentile!R217)","v":158.56299999999999},{"$f":"IF('Entrée des données_Eingabemaske'!$N$12=\"männlich / masculin\",Perzentile!I217,Perzentile!S217)","v":163.03},{"$f":"IF('Entrée des données_Eingabemaske'!$N$12=\"männlich / masculin\",Perzentile!J217,Perzentile!T217)","v":167.49700000000001},{"$f":"IF('Entrée des données_Eingabemaske'!$N$12=\"männlich / masculin\",Perzentile!K217,Perzentile!U217)","v":171.51679150730251},{"$f":"IF('Entrée des données_Eingabemaske'!$N$12=\"männlich / masculin\",Perzentile!L217,Perzentile!V217)","v":175.48500000000001},{"$f":"Perzentile!W217","v":{"$error":"#N/A"}},{"$f":"Perzentile!X217","v":{"$error":"#N/A"}},{"$f":"Perzentile!Y217","v":{"$error":"#N/A"}},0]
[17.899999999999999,17.916666666666668,215,{"$f":"IF('Entrée des données_Eingabemaske'!$N$12=\"männlich / masculin\",Perzentile!C218,Perzentile!M218)","v":1},{"$f":"IF('Entrée des données_Eingabemaske'!$N$12=\"männlich / masculin\",Perzentile!D218,Perzentile!N218)","v":163.04509999999999},{"$f":"IF('Entrée des données_Eingabemaske'!$N$12=\"männlich / masculin\",Perzentile!E218,Perzentile!O218)","v":4.0579999999999998E-2},{"$f":"IF('Entrée des données_Eingabemaske'!$N$12=\"männlich / masculin\",Perzentile!F218,Perzentile!P218)","v":150.601},{"$f":"IF('Entrée des données_Eingabemaske'!$N$12=\"männlich / masculin\",Perzentile!G218,Perzentile!Q218)","v":154.5658804657925},{"$f":"IF('Entrée des données_Eingabemaske'!$N$12=\"männlich / masculin\",Perzentile!H218,Perzentile!R218)","v":158.58199999999999},{"$f":"IF('Entrée des données_Eingabemaske'!$N$12=\"männlich / masculin\",Perzentile!I218,Perzentile!S218)","v":163.04499999999999},{"$f":"IF('Entrée des données_Eingabemaske'!$N$12=\"männlich / masculin\",Perzentile!J218,Perzentile!T218)","v":167.50800000000001},{"$f":"IF('Entrée des données_Eingabemaske'!$N$12=\"männlich / masculin\",Perzentile!K218,Perzentile!U218)","v":171.52431953420745},{"$f":"IF('Entrée des données_Eingabemaske'!$N$12=\"männlich / masculin\",Perzentile!L218,Perzentile!V218)","v":175.489},{"$f":"Perzentile!W218","v":{"$error":"#N/A"}},{"$f":"Perzentile!X218","v":{"$error":"#N/A"}},{"$f":"Perzentile!Y218","v":{"$error":"#N/A"}},0]
[18,18,216,{"$f":"IF('Entrée des données_Eingabemaske'!$N$12=\"männlich / masculin\",Perzentile!C219,Perzentile!M219)","v":1},{"$f":"IF('Entrée des données_Eingabemaske'!$N$12=\"männlich / masculin\",Perzentile!D219,Perzentile!N219)","v":163.05950000000001},{"$f":"IF('Entrée des données_Eingabemaske'!$N$12=\"männlich / masculin\",Perzentile!E219,Perzentile!O219)","v":4.0529999999999997E-2},{"$f":"IF('Entrée des données_Eingabemaske'!$N$12=\"männlich / masculin\",Perzentile!F219,Perzentile!P219)","v":150.63},{"$f":"IF('Entrée des données_Eingabemaske'!$N$12=\"männlich / masculin\",Perzentile!G219,Perzentile!Q219)","v":154.58998004644718},{"$f":"IF('Entrée des données_Eingabemaske'!$N$12=\"männlich / masculin\",Perzentile!H219,Perzentile!R219)","v":158.602},{"$f":"IF('Entrée des données_Eingabemaske'!$N$12=\"männlich / masculin\",Perzentile!I219,Perzentile!S219)","v":163.06},{"$f":"IF('Entrée des données_Eingabemaske'!$N$12=\"männlich / masculin\",Perzentile!J219,Perzentile!T219)","v":167.517},{"$f":"IF('Entrée des données_Eingabemaske'!$N$12=\"männlich / masculin\",Perzentile!K219,Perzentile!U219)","v":171.52901995355282},{"$f":"IF('Entrée des données_Eingabemaske'!$N$12=\"männlich / masculin\",Perzentile!L219,Perzentile!V219)","v":175.489},{"$f":"Perzentile!W219","v":{"$error":"#N/A"}},{"$f":"Perzentile!X219","v":{"$error":"#N/A"}},{"$f":"Perzentile!Y219","v":{"$error":"#N/A"}},0]
[18.100000000000001,18.083333333333332,217,{"$f":"IF('Entrée des données_Eingabemaske'!$N$12=\"männlich / masculin\",Perzentile!C220,Perzentile!M220)","v":1},{"$f":"IF('Entrée des données_Eingabemaske'!$N$12=\"männlich / masculin\",Perzentile!D220,Perzentile!N220)","v":163.07329999999999},{"$f":"IF('Entrée des données_Eingabemaske'!$N$12=\"männlich / masculin\",Perzentile!E220,Perzentile!O220)","v":4.0489999999999998E-2},{"$f":"IF('Entrée des données_Eingabemaske'!$N$12=\"männlich / masculin\",Perzentile!F220,Perzentile!P220)","v":150.655},{"$f":"IF('Entrée des données_Eingabemaske'!$N$12=\"männlich / masculin\",Perzentile!G220,Perzentile!Q220)","v":154.6114227304314},{"$f":"IF('Entrée des données_Eingabemaske'!$N$12=\"männlich / masculin\",Perzentile!H220,Perzentile!R220)","v":158.62},{"$f":"IF('Entrée des données_Eingabemaske'!$N$12=\"männlich / masculin\",Perzentile!I220,Perzentile!S220)","v":163.07300000000001},{"$f":"IF('Entrée des données_Eingabemaske'!$N$12=\"männlich / masculin\",Perzentile!J220,Perzentile!T220)","v":167.52699999999999},{"$f":"IF('Entrée des données_Eingabemaske'!$N$12=\"männlich / masculin\",Perzentile!K220,Perzentile!U220)","v":171.53517726956861},{"$f":"IF('Entrée des données_Eingabemaske'!$N$12=\"männlich / masculin\",Perzentile!L220,Perzentile!V220)","v":175.49199999999999},{"$f":"Perzentile!W220","v":{"$error":"#N/A"}},{"$f":"Perzentile!X220","v":{"$error":"#N/A"}},{"$f":"Perzentile!Y220","v":{"$error":"#N/A"}},0]
[18.2,18.166666666666668,218,{"$f":"IF('Entrée des données_Eingabemaske'!$N$12=\"männlich / masculin\",Perzentile!C221,Perzentile!M221)","v":1},{"$f":"IF('Entrée des données_Eingabemaske'!$N$12=\"männlich / masculin\",Perzentile!D221,Perzentile!N221)","v":163.08619999999999},{"$f":"IF('Entrée des données_Eingabemaske'!$N$12=\"männlich / masculin\",Perzentile!E221,Perzentile!O221)","v":4.045E-2},{"$f":"IF('Entrée des données_Eingabemaske'!$N$12=\"männlich / masculin\",Perzentile!F221,Perzentile!P221)","v":150.679},{"$f":"IF('Entrée des données_Eingabemaske'!$N$12=\"männlich / masculin\",Perzentile!G221,Perzentile!Q221)","v":154.63201348413327},{"$f":"IF('Entrée des données_Eingabemaske'!$N$12=\"männlich / masculin\",Perzentile!H221,Perzentile!R221)","v":158.637},{"$f":"IF('Entrée des données_Eingabemaske'!$N$12=\"männlich / masculin\",Perzentile!I221,Perzentile!S221)","v":163.08600000000001},{"$f":"IF('Entrée des données_Eingabemaske'!$N$12=\"männlich / masculin\",Perzentile!J221,Perzentile!T221)","v":167.536},{"$f":"IF('Entrée des données_Eingabemaske'!$N$12=\"männlich / masculin\",Perzentile!K221,Perzentile!U221)","v":171.54038651586671},{"$f":"IF('Entrée des données_Eingabemaske'!$N$12=\"männlich / masculin\",Perzentile!L221,Perzentile!V221)","v":175.49299999999999},{"$f":"Perzentile!W221","v":{"$error":"#N/A"}},{"$f":"Perzentile!X221","v":{"$error":"#N/A"}},{"$f":"Perzentile!Y221","v":{"$error":"#N/A"}},0]
[18.3,18.25,219,{"$f":"IF('Entrée des données_Eingabemaske'!$N$12=\"männlich / masculin\",Perzentile!C222,Perzentile!M222)","v":1},{"$f":"IF('Entrée des données_Eingabemaske'!$N$12=\"männlich / masculin\",Perzentile!D222,Perzentile!N222)","v":163.09819999999999},{"$f":"IF('Entrée des données_Eingabemaske'!$N$12=\"männlich / masculin\",Perzentile!E222,Perzentile!O222)","v":4.0410000000000001E-2},{"$f":"IF('Entrée des données_Eingabemaske'!$N$12=\"männlich / masculin\",Perzentile!F222,Perzentile!P222)","v":150.702},{"$f":"IF('Entrée des données_Eingabemaske'!$N$12=\"männlich / masculin\",Perzentile!G222,Perzentile!Q222)","v":154.65175216914525},{"$f":"IF('Entrée des données_Eingabemaske'!$N$12=\"männlich / masculin\",Perzentile!H222,Perzentile!R222)","v":158.65299999999999},{"$f":"IF('Entrée des données_Eingabemaske'!$N$12=\"männlich / masculin\",Perzentile!I222,Perzentile!S222)","v":163.09800000000001},{"$f":"IF('Entrée des données_Eingabemaske'!$N$12=\"männlich / masculin\",Perzentile!J222,Perzentile!T222)","v":167.54400000000001},{"$f":"IF('Entrée des données_Eingabemaske'!$N$12=\"männlich / masculin\",Perzentile!K222,Perzentile!U222)","v":171.54464783085473},{"$f":"IF('Entrée des données_Eingabemaske'!$N$12=\"männlich / masculin\",Perzentile!L222,Perzentile!V222)","v":175.494},{"$f":"Perzentile!W222","v":{"$error":"#N/A"}},{"$f":"Perzentile!X222","v":{"$error":"#N/A"}},{"$f":"Perzentile!Y222","v":{"$error":"#N/A"}},0]
[18.3,18.333333333333332,220,{"$f":"IF('Entrée des données_Eingabemaske'!$N$12=\"männlich / masculin\",Perzentile!C223,Perzentile!M223)","v":1},{"$f":"IF('Entrée des données_Eingabemaske'!$N$12=\"männlich / masculin\",Perzentile!D223,Perzentile!N223)","v":163.10919999999999},{"$f":"IF('Entrée des données_Eingabemaske'!$N$12=\"männlich / masculin\",Perzentile!E223,Perzentile!O223)","v":4.0370000000000003E-2},{"$f":"IF('Entrée des données_Eingabemaske'!$N$12=\"männlich / masculin\",Perzentile!F223,Perzentile!P223)","v":150.72499999999999},{"$f":"IF('Entrée des données_Eingabemaske'!$N$12=\"männlich / masculin\",Perzentile!G223,Perzentile!Q223)","v":154.67054382068343},{"$f":"IF('Entrée des données_Eingabemaske'!$N$12=\"männlich / masculin\",Perzentile!H223,Perzentile!R223)","v":158.66800000000001},{"$f":"IF('Entrée des données_Eingabemaske'!$N$12=\"männlich / masculin\",Perzentile!I223,Perzentile!S223)","v":163.10900000000001},{"$f":"IF('Entrée des données_Eingabemaske'!$N$12=\"männlich / masculin\",Perzentile!J223,Perzentile!T223)","v":167.55099999999999},{"$f":"IF('Entrée des données_Eingabemaske'!$N$12=\"männlich / masculin\",Perzentile!K223,Perzentile!U223)","v":171.54785617931654},{"$f":"IF('Entrée des données_Eingabemaske'!$N$12=\"männlich / masculin\",Perzentile!L223,Perzentile!V223)","v":175.494},{"$f":"Perzentile!W223","v":{"$error":"#N/A"}},{"$f":"Perzentile!X223","v":{"$error":"#N/A"}},{"$f":"Perzentile!Y223","v":{"$error":"#N/A"}},0]
[18.399999999999999,18.416666666666668,221,{"$f":"IF('Entrée des données_Eingabemaske'!$N$12=\"männlich / masculin\",Perzentile!C224,Perzentile!M224)","v":1},{"$f":"IF('Entrée des données_Eingabemaske'!$N$12=\"männlich / masculin\",Perzentile!D224,Perzentile!N224)","v":163.11920000000001},{"$f":"IF('Entrée des données_Eingabemaske'!$N$12=\"männlich / masculin\",Perzentile!E224,Perzentile!O224)","v":4.0340000000000001E-2},{"$f":"IF('Entrée des données_Eingabemaske'!$N$12=\"männlich / masculin\",Perzentile!F224,Perzentile!P224)","v":150.74299999999999},{"$f":"IF('Entrée des données_Eingabemaske'!$N$12=\"männlich / masculin\",Perzentile!G224,Perzentile!Q224)","v":154.68629782830035},{"$f":"IF('Entrée des données_Eingabemaske'!$N$12=\"männlich / masculin\",Perzentile!H224,Perzentile!R224)","v":158.68100000000001},{"$f":"IF('Entrée des données_Eingabemaske'!$N$12=\"männlich / masculin\",Perzentile!I224,Perzentile!S224)","v":163.119},{"$f":"IF('Entrée des données_Eingabemaske'!$N$12=\"männlich / masculin\",Perzentile!J224,Perzentile!T224)","v":167.55699999999999},{"$f":"IF('Entrée des données_Eingabemaske'!$N$12=\"männlich / masculin\",Perzentile!K224,Perzentile!U224)","v":171.55210217169966},{"$f":"IF('Entrée des données_Eingabemaske'!$N$12=\"männlich / masculin\",Perzentile!L224,Perzentile!V224)","v":175.495},{"$f":"Perzentile!W224","v":{"$error":"#N/A"}},{"$f":"Perzentile!X224","v":{"$error":"#N/A"}},{"$f":"Perzentile!Y224","v":{"$error":"#N/A"}},0]
[18.5,18.5,222,{"$f":"IF('Entrée des données_Eingabemaske'!$N$12=\"männlich / masculin\",Perzentile!C225,Perzentile!M225)","v":1},{"$f":"IF('Entrée des données_Eingabemaske'!$N$12=\"männlich / masculin\",Perzentile!D225,Perzentile!N225)","v":163.12790000000001},{"$f":"IF('Entrée des données_Eingabemaske'!$N$12=\"männlich / masculin\",Perzentile!E225,Perzentile!O225)","v":4.0300000000000002E-2},{"$f":"IF('Entrée des données_Eingabemaske'!$N$12=\"männlich / masculin\",Perzentile!F225,Perzentile!P225)","v":150.76300000000001},{"$f":"IF('Entrée des données_Eingabemaske'!$N$12=\"männlich / masculin\",Perzentile!G225,Perzentile!Q225)","v":154.70291033015118},{"$f":"IF('Entrée des données_Eingabemaske'!$N$12=\"männlich / masculin\",Perzentile!H225,Perzentile!R225)","v":158.69399999999999},{"$f":"IF('Entrée des données_Eingabemaske'!$N$12=\"männlich / masculin\",Perzentile!I225,Perzentile!S225)","v":163.12799999999999},{"$f":"IF('Entrée des données_Eingabemaske'!$N$12=\"männlich / masculin\",Perzentile!J225,Perzentile!T225)","v":167.56200000000001},{"$f":"IF('Entrée des données_Eingabemaske'!$N$12=\"männlich / masculin\",Perzentile!K225,Perzentile!U225)","v":171.55288966984887},{"$f":"IF('Entrée des données_Eingabemaske'!$N$12=\"männlich / masculin\",Perzentile!L225,Perzentile!V225)","v":175.49199999999999},{"$f":"Perzentile!W225","v":{"$error":"#N/A"}},{"$f":"Perzentile!X225","v":{"$error":"#N/A"}},{"$f":"Perzentile!Y225","v":{"$error":"#N/A"}},0]
[18.600000000000001,18.583333333333332,223,{"$f":"IF('Entrée des données_Eingabemaske'!$N$12=\"männlich / masculin\",Perzentile!C226,Perzentile!M226)","v":1},{"$f":"IF('Entrée des données_Eingabemaske'!$N$12=\"männlich / masculin\",Perzentile!D226,Perzentile!N226)","v":163.13550000000001},{"$f":"IF('Entrée des données_Eingabemaske'!$N$12=\"männlich / masculin\",Perzentile!E226,Perzentile!O226)","v":4.0259999999999997E-2},{"$f":"IF('Entrée des données_Eingabemaske'!$N$12=\"männlich / masculin\",Perzentile!F226,Perzentile!P226)","v":150.78299999999999},{"$f":"IF('Entrée des données_Eingabemaske'!$N$12=\"männlich / masculin\",Perzentile!G226,Perzentile!Q226)","v":154.71848047875451},{"$f":"IF('Entrée des données_Eingabemaske'!$N$12=\"männlich / masculin\",Perzentile!H226,Perzentile!R226)","v":158.70599999999999},{"$f":"IF('Entrée des données_Eingabemaske'!$N$12=\"männlich / masculin\",Perzentile!I226,Perzentile!S226)","v":163.136},{"$f":"IF('Entrée des données_Eingabemaske'!$N$12=\"männlich / masculin\",Perzentile!J226,Perzentile!T226)","v":167.565},{"$f":"IF('Entrée des données_Eingabemaske'!$N$12=\"männlich / masculin\",Perzentile!K226,Perzentile!U226)","v":171.5525195212455},{"$f":"IF('Entrée des données_Eingabemaske'!$N$12=\"männlich / masculin\",Perzentile!L226,Perzentile!V226)","v":175.488},{"$f":"Perzentile!W226","v":{"$error":"#N/A"}},{"$f":"Perzentile!X226","v":{"$error":"#N/A"}},{"$f":"Perzentile!Y226","v":{"$error":"#N/A"}},0]
[18.7,18.666666666666668,224,{"$f":"IF('Entrée des données_Eingabemaske'!$N$12=\"männlich / masculin\",Perzentile!C227,Perzentile!M227)","v":1},{"$f":"IF('Entrée des données_Eingabemaske'!$N$12=\"männlich / masculin\",Perzentile!D227,Perzentile!N227)","v":163.14179999999999},{"$f":"IF('Entrée des données_Eingabemaske'!$N$12=\"männlich / masculin\",Perzentile!E227,Perzentile!O227)","v":4.0230000000000002E-2},{"$f":"IF('Entrée des données_Eingabemaske'!$N$12=\"männlich / masculin\",Perzentile!F227,Perzentile!P227)","v":150.798},{"$f":"IF('Entrée des données_Eingabemaske'!$N$12=\"männlich / masculin\",Perzentile!G227,Perzentile!Q227)","v":154.7307276674544},{"$f":"IF('Entrée des données_Eingabemaske'!$N$12=\"männlich / masculin\",Perzentile!H227,Perzentile!R227)","v":158.715},{"$f":"IF('Entrée des données_Eingabemaske'!$N$12=\"männlich / masculin\",Perzentile!I227,Perzentile!S227)","v":163.142},{"$f":"IF('Entrée des données_Eingabemaske'!$N$12=\"männlich / masculin\",Perzentile!J227,Perzentile!T227)","v":167.56899999999999},{"$f":"IF('Entrée des données_Eingabemaske'!$N$12=\"männlich / masculin\",Perzentile!K227,Perzentile!U227)","v":171.5528723325456},{"$f":"IF('Entrée des données_Eingabemaske'!$N$12=\"männlich / masculin\",Perzentile!L227,Perzentile!V227)","v":175.48599999999999},{"$f":"Perzentile!W227","v":{"$error":"#N/A"}},{"$f":"Perzentile!X227","v":{"$error":"#N/A"}},{"$f":"Perzentile!Y227","v":{"$error":"#N/A"}},0]
[18.8,18.75,225,{"$f":"IF('Entrée des données_Eingabemaske'!$N$12=\"männlich / masculin\",Perzentile!C228,Perzentile!M228)","v":1},{"$f":"IF('Entrée des données_Eingabemaske'!$N$12=\"männlich / masculin\",Perzentile!D228,Perzentile!N228)","v":163.14689999999999},{"$f":"IF('Entrée des données_Eingabemaske'!$N$12=\"männlich / masculin\",Perzentile!E228,Perzentile!O228)","v":4.0189999999999997E-2},{"$f":"IF('Entrée des données_Eingabemaske'!$N$12=\"männlich / masculin\",Perzentile!F228,Perzentile!P228)","v":150.815},{"$f":"IF('Entrée des données_Eingabemaske'!$N$12=\"männlich / masculin\",Perzentile!G228,Perzentile!Q228)","v":154.74392797427939},{"$f":"IF('Entrée des données_Eingabemaske'!$N$12=\"männlich / masculin\",Perzentile!H228,Perzentile!R228)","v":158.72399999999999},{"$f":"IF('Entrée des données_Eingabemaske'!$N$12=\"männlich / masculin\",Perzentile!I228,Perzentile!S228)","v":163.14699999999999},{"$f":"IF('Entrée des données_Eingabemaske'!$N$12=\"männlich / masculin\",Perzentile!J228,Perzentile!T228)","v":167.56899999999999},{"$f":"IF('Entrée des données_Eingabemaske'!$N$12=\"männlich / masculin\",Perzentile!K228,Perzentile!U228)","v":171.54987202572059},{"$f":"IF('Entrée des données_Eingabemaske'!$N$12=\"männlich / masculin\",Perzentile!L228,Perzentile!V228)","v":175.47900000000001},{"$f":"Perzentile!W228","v":{"$error":"#N/A"}},{"$f":"Perzentile!X228","v":{"$error":"#N/A"}},{"$f":"Perzentile!Y228","v":{"$error":"#N/A"}},0]
[18.8,18.833333333333332,226,{"$f":"IF('Entrée des données_Eingabemaske'!$N$12=\"männlich / masculin\",Perzentile!C229,Perzentile!M229)","v":1},{"$f":"IF('Entrée des données_Eingabemaske'!$N$12=\"männlich / masculin\",Perzentile!D229,Perzentile!N229)","v":163.1508},{"$f":"IF('Entrée des données_Eingabemaske'!$N$12=\"männlich / masculin\",Perzentile!E229,Perzentile!O229)","v":4.0160000000000001E-2},{"$f":"IF('Entrée des données_Eingabemaske'!$N$12=\"männlich / masculin\",Perzentile!F229,Perzentile!P229)","v":150.828},{"$f":"IF('Entrée des données_Eingabemaske'!$N$12=\"männlich / masculin\",Perzentile!G229,Perzentile!Q229)","v":154.75389968750025},{"$f":"IF('Entrée des données_Eingabemaske'!$N$12=\"männlich / masculin\",Perzentile!H229,Perzentile!R229)","v":158.73099999999999},{"$f":"IF('Entrée des données_Eingabemaske'!$N$12=\"männlich / masculin\",Perzentile!I229,Perzentile!S229)","v":163.15100000000001},{"$f":"IF('Entrée des données_Eingabemaske'!$N$12=\"männlich / masculin\",Perzentile!J229,Perzentile!T229)","v":167.57},{"$f":"IF('Entrée des données_Eingabemaske'!$N$12=\"männlich / masculin\",Perzentile!K229,Perzentile!U229)","v":171.54770031249976},{"$f":"IF('Entrée des données_Eingabemaske'!$N$12=\"männlich / masculin\",Perzentile!L229,Perzentile!V229)","v":175.47399999999999},{"$f":"Perzentile!W229","v":{"$error":"#N/A"}},{"$f":"Perzentile!X229","v":{"$error":"#N/A"}},{"$f":"Perzentile!Y229","v":{"$error":"#N/A"}},0]
[18.899999999999999,18.916666666666668,227,{"$f":"IF('Entrée des données_Eingabemaske'!$N$12=\"männlich / masculin\",Perzentile!C230,Perzentile!M230)","v":1},{"$f":"IF('Entrée des données_Eingabemaske'!$N$12=\"männlich / masculin\",Perzentile!D230,Perzentile!N230)","v":163.1534},{"$f":"IF('Entrée des données_Eingabemaske'!$N$12=\"männlich / masculin\",Perzentile!E230,Perzentile!O230)","v":4.0120000000000003E-2},{"$f":"IF('Entrée des données_Eingabemaske'!$N$12=\"männlich / masculin\",Perzentile!F230,Perzentile!P230)","v":150.84200000000001},{"$f":"IF('Entrée des données_Eingabemaske'!$N$12=\"männlich / masculin\",Perzentile!G230,Perzentile!Q230)","v":154.76472945281975},{"$f":"IF('Entrée des données_Eingabemaske'!$N$12=\"männlich / masculin\",Perzentile!H230,Perzentile!R230)","v":158.738},{"$f":"IF('Entrée des données_Eingabemaske'!$N$12=\"männlich / masculin\",Perzentile!I230,Perzentile!S230)","v":163.15299999999999},{"$f":"IF('Entrée des données_Eingabemaske'!$N$12=\"männlich / masculin\",Perzentile!J230,Perzentile!T230)","v":167.56800000000001},{"$f":"IF('Entrée des données_Eingabemaske'!$N$12=\"männlich / masculin\",Perzentile!K230,Perzentile!U230)","v":171.54207054718026},{"$f":"IF('Entrée des données_Eingabemaske'!$N$12=\"männlich / masculin\",Perzentile!L230,Perzentile!V230)","v":175.465},{"$f":"Perzentile!W230","v":{"$error":"#N/A"}},{"$f":"Perzentile!X230","v":{"$error":"#N/A"}},{"$f":"Perzentile!Y230","v":{"$error":"#N/A"}},0]
[19,19,228,{"$f":"IF('Entrée des données_Eingabemaske'!$N$12=\"männlich / masculin\",Perzentile!C231,Perzentile!M231)","v":1},{"$f":"IF('Entrée des données_Eingabemaske'!$N$12=\"männlich / masculin\",Perzentile!D231,Perzentile!N231)","v":163.15479999999999},{"$f":"IF('Entrée des données_Eingabemaske'!$N$12=\"männlich / masculin\",Perzentile!E231,Perzentile!O231)","v":4.0090000000000001E-2},{"$f":"IF('Entrée des données_Eingabemaske'!$N$12=\"männlich / masculin\",Perzentile!F231,Perzentile!P231)","v":150.85300000000001},{"$f":"IF('Entrée des données_Eingabemaske'!$N$12=\"männlich / masculin\",Perzentile!G231,Perzentile!Q231)","v":154.7723302093124},{"$f":"IF('Entrée des données_Eingabemaske'!$N$12=\"männlich / masculin\",Perzentile!H231,Perzentile!R231)","v":158.74299999999999},{"$f":"IF('Entrée des données_Eingabemaske'!$N$12=\"männlich / masculin\",Perzentile!I231,Perzentile!S231)","v":163.155},{"$f":"IF('Entrée des données_Eingabemaske'!$N$12=\"männlich / masculin\",Perzentile!J231,Perzentile!T231)","v":167.56700000000001},{"$f":"IF('Entrée des données_Eingabemaske'!$N$12=\"männlich / masculin\",Perzentile!K231,Perzentile!U231)","v":171.53726979068762},{"$f":"IF('Entrée des données_Eingabemaske'!$N$12=\"männlich / masculin\",Perzentile!L231,Perzentile!V231)","v":175.45699999999999},{"$f":"Perzentile!W231","v":{"$error":"#N/A"}},{"$f":"Perzentile!X231","v":{"$error":"#N/A"}},{"$f":"Perzentile!Y231","v":{"$error":"#N/A"}},0]
[19.100000000000001,{"$f":"C231/12","v":19.083333333333332},229,{"$f":"IF('Entrée des données_Eingabemaske'!$N$12=\"männlich / masculin\",Perzentile!C232,Perzentile!M232)","v":1},{"$f":"IF('Entrée des données_Eingabemaske'!$N$12=\"männlich / masculin\",Perzentile!D232,Perzentile!N232)","v":163.15479999999999},{"$f":"IF('Entrée des données_Eingabemaske'!$N$12=\"männlich / masculin\",Perzentile!E232,Perzentile!O232)","v":4.0090000000000001E-2},{"$f":"IF('Entrée des données_Eingabemaske'!$N$12=\"männlich / masculin\",Perzentile!F232,Perzentile!P232)","v":150.85300000000001},{"$f":"IF('Entrée des données_Eingabemaske'!$N$12=\"männlich / masculin\",Perzentile!G232,Perzentile!Q232)","v":154.7723302093124},{"$f":"IF('Entrée des données_Eingabemaske'!$N$12=\"männlich / masculin\",Perzentile!H232,Perzentile!R232)","v":158.74299999999999},{"$f":"IF('Entrée des données_Eingabemaske'!$N$12=\"männlich / masculin\",Perzentile!I232,Perzentile!S232)","v":163.155},{"$f":"IF('Entrée des données_Eingabemaske'!$N$12=\"männlich / masculin\",Perzentile!J232,Perzentile!T232)","v":167.56700000000001},{"$f":"IF('Entrée des données_Eingabemaske'!$N$12=\"männlich / masculin\",Perzentile!K232,Perzentile!U232)","v":171.53726979068762},{"$f":"IF('Entrée des données_Eingabemaske'!$N$12=\"männlich / masculin\",Perzentile!L232,Perzentile!V232)","v":175.45699999999999},{"$f":"Perzentile!W232","v":{"$error":"#N/A"}},{"$f":"Perzentile!X232","v":{"$error":"#N/A"}},{"$f":"Perzentile!Y232","v":{"$error":"#N/A"}},0]
[19.2,{"$f":"C232/12","v":19.166666666666668},230,{"$f":"IF('Entrée des données_Eingabemaske'!$N$12=\"männlich / masculin\",Perzentile!C233,Perzentile!M233)","v":1},{"$f":"IF('Entrée des données_Eingabemaske'!$N$12=\"männlich / masculin\",Perzentile!D233,Perzentile!N233)","v":163.15479999999999},{"$f":"IF('Entrée des données_Eingabemaske'!$N$12=\"männlich / masculin\",Perzentile!E233,Perzentile!O233)","v":4.0090000000000001E-2},{"$f":"IF('Entrée des données_Eingabemaske'!$N$12=\"männlich / masculin\",Perzentile!F233,Perzentile!P233)","v":150.85300000000001},{"$f":"IF('Entrée des données_Eingabemaske'!$N$12=\"männlich / masculin\",Perzentile!G233,Perzentile!Q233)","v":154.7723302093124},{"$f":"IF('Entrée des données_Eingabemaske'!$N$12=\"männlich / masculin\",Perzentile!H233,Perzentile!R233)","v":158.74299999999999},{"$f":"IF('Entrée des données_Eingabemaske'!$N$12=\"männlich / masculin\",Perzentile!I233,Perzentile!S233)","v":163.155},{"$f":"IF('Entrée des données_Eingabemaske'!$N$12=\"männlich / masculin\",Perzentile!J233,Perzentile!T233)","v":167.56700000000001},{"$f":"IF('Entrée des données_Eingabemaske'!$N$12=\"männlich / masculin\",Perzentile!K233,Perzentile!U233)","v":171.53726979068762},{"$f":"IF('Entrée des données_Eingabemaske'!$N$12=\"männlich / masculin\",Perzentile!L233,Perzentile!V233)","v":175.45699999999999},{"$f":"Perzentile!W233","v":{"$error":"#N/A"}},{"$f":"Perzentile!X233","v":{"$error":"#N/A"}},{"$f":"Perzentile!Y233","v":{"$error":"#N/A"}},0]
[19.3,{"$f":"C233/12","v":19.25},231,{"$f":"IF('Entrée des données_Eingabemaske'!$N$12=\"männlich / masculin\",Perzentile!C234,Perzentile!M234)","v":1},{"$f":"IF('Entrée des données_Eingabemaske'!$N$12=\"männlich / masculin\",Perzentile!D234,Perzentile!N234)","v":163.15479999999999},{"$f":"IF('Entrée des données_Eingabemaske'!$N$12=\"männlich / masculin\",Perzentile!E234,Perzentile!O234)","v":4.0090000000000001E-2},{"$f":"IF('Entrée des données_Eingabemaske'!$N$12=\"männlich / masculin\",Perzentile!F234,Perzentile!P234)","v":150.85300000000001},{"$f":"IF('Entrée des données_Eingabemaske'!$N$12=\"männlich / masculin\",Perzentile!G234,Perzentile!Q234)","v":154.7723302093124},{"$f":"IF('Entrée des données_Eingabemaske'!$N$12=\"männlich / masculin\",Perzentile!H234,Perzentile!R234)","v":158.74299999999999},{"$f":"IF('Entrée des données_Eingabemaske'!$N$12=\"männlich / masculin\",Perzentile!I234,Perzentile!S234)","v":163.155},{"$f":"IF('Entrée des données_Eingabemaske'!$N$12=\"männlich / masculin\",Perzentile!J234,Perzentile!T234)","v":167.56700000000001},{"$f":"IF('Entrée des données_Eingabemaske'!$N$12=\"männlich / masculin\",Perzentile!K234,Perzentile!U234)","v":171.53726979068762},{"$f":"IF('Entrée des données_Eingabemaske'!$N$12=\"männlich / masculin\",Perzentile!L234,Perzentile!V234)","v":175.45699999999999},{"$f":"Perzentile!W234","v":{"$error":"#N/A"}},{"$f":"Perzentile!X234","v":{"$error":"#N/A"}},{"$f":"Perzentile!Y234","v":{"$error":"#N/A"}},0]
[19.3,{"$f":"C234/12","v":19.333333333333332},232,{"$f":"IF('Entrée des données_Eingabemaske'!$N$12=\"männlich / masculin\",Perzentile!C235,Perzentile!M235)","v":1},{"$f":"IF('Entrée des données_Eingabemaske'!$N$12=\"männlich / masculin\",Perzentile!D235,Perzentile!N235)","v":163.15479999999999},{"$f":"IF('Entrée des données_Eingabemaske'!$N$12=\"männlich / masculin\",Perzentile!E235,Perzentile!O235)","v":4.0090000000000001E-2},{"$f":"IF('Entrée des données_Eingabemaske'!$N$12=\"männlich / masculin\",Perzentile!F235,Perzentile!P235)","v":150.85300000000001},{"$f":"IF('Entrée des données_Eingabemaske'!$N$12=\"männlich / masculin\",Perzentile!G235,Perzentile!Q235)","v":154.7723302093124},{"$f":"IF('Entrée des données_Eingabemaske'!$N$12=\"männlich / masculin\",Perzentile!H235,Perzentile!R235)","v":158.74299999999999},{"$f":"IF('Entrée des données_Eingabemaske'!$N$12=\"männlich / masculin\",Perzentile!I235,Perzentile!S235)","v":163.155},{"$f":"IF('Entrée des données_Eingabemaske'!$N$12=\"männlich / masculin\",Perzentile!J235,Perzentile!T235)","v":167.56700000000001},{"$f":"IF('Entrée des données_Eingabemaske'!$N$12=\"männlich / masculin\",Perzentile!K235,Perzentile!U235)","v":171.53726979068762},{"$f":"IF('Entrée des données_Eingabemaske'!$N$12=\"männlich / masculin\",Perzentile!L235,Perzentile!V235)","v":175.45699999999999},{"$f":"Perzentile!W235","v":{"$error":"#N/A"}},{"$f":"Perzentile!X235","v":{"$error":"#N/A"}},{"$f":"Perzentile!Y235","v":{"$error":"#N/A"}},0]
[19.399999999999999,19.416666666666668,233,{"$f":"IF('Entrée des données_Eingabemaske'!$N$12=\"männlich / masculin\",Perzentile!C236,Perzentile!M236)","v":1},{"$f":"IF('Entrée des données_Eingabemaske'!$N$12=\"männlich / masculin\",Perzentile!D236,Perzentile!N236)","v":163.15479999999999},{"$f":"IF('Entrée des données_Eingabemaske'!$N$12=\"männlich / masculin\",Perzentile!E236,Perzentile!O236)","v":4.0090000000000001E-2},{"$f":"IF('Entrée des données_Eingabemaske'!$N$12=\"männlich / masculin\",Perzentile!F236,Perzentile!P236)","v":150.85300000000001},{"$f":"IF('Entrée des données_Eingabemaske'!$N$12=\"männlich / masculin\",Perzentile!G236,Perzentile!Q236)","v":154.7723302093124},{"$f":"IF('Entrée des données_Eingabemaske'!$N$12=\"männlich / masculin\",Perzentile!H236,Perzentile!R236)","v":158.74299999999999},{"$f":"IF('Entrée des données_Eingabemaske'!$N$12=\"männlich / masculin\",Perzentile!I236,Perzentile!S236)","v":163.155},{"$f":"IF('Entrée des données_Eingabemaske'!$N$12=\"männlich / masculin\",Perzentile!J236,Perzentile!T236)","v":167.56700000000001},{"$f":"IF('Entrée des données_Eingabemaske'!$N$12=\"männlich / masculin\",Perzentile!K236,Perzentile!U236)","v":171.53726979068762},{"$f":"IF('Entrée des données_Eingabemaske'!$N$12=\"männlich / masculin\",Perzentile!L236,Perzentile!V236)","v":175.45699999999999},{"$f":"Perzentile!W236","v":{"$error":"#N/A"}},{"$f":"Perzentile!X236","v":{"$error":"#N/A"}},{"$f":"Perzentile!Y236","v":{"$error":"#N/A"}},0]
[19.5,19.5,234,{"$f":"IF('Entrée des données_Eingabemaske'!$N$12=\"männlich / masculin\",Perzentile!C237,Perzentile!M237)","v":1},{"$f":"IF('Entrée des données_Eingabemaske'!$N$12=\"männlich / masculin\",Perzentile!D237,Perzentile!N237)","v":163.15479999999999},{"$f":"IF('Entrée des données_Eingabemaske'!$N$12=\"männlich / masculin\",Perzentile!E237,Perzentile!O237)","v":4.0090000000000001E-2},{"$f":"IF('Entrée des données_Eingabemaske'!$N$12=\"männlich / masculin\",Perzentile!F237,Perzentile!P237)","v":150.85300000000001},{"$f":"IF('Entrée des données_Eingabemaske'!$N$12=\"männlich / masculin\",Perzentile!G237,Perzentile!Q237)","v":154.7723302093124},{"$f":"IF('Entrée des données_Eingabemaske'!$N$12=\"männlich / masculin\",Perzentile!H237,Perzentile!R237)","v":158.74299999999999},{"$f":"IF('Entrée des données_Eingabemaske'!$N$12=\"männlich / masculin\",Perzentile!I237,Perzentile!S237)","v":163.155},{"$f":"IF('Entrée des données_Eingabemaske'!$N$12=\"männlich / masculin\",Perzentile!J237,Perzentile!T237)","v":167.56700000000001},{"$f":"IF('Entrée des données_Eingabemaske'!$N$12=\"männlich / masculin\",Perzentile!K237,Perzentile!U237)","v":171.53726979068762},{"$f":"IF('Entrée des données_Eingabemaske'!$N$12=\"männlich / masculin\",Perzentile!L237,Perzentile!V237)","v":175.45699999999999},{"$f":"Perzentile!W237","v":{"$error":"#N/A"}},{"$f":"Perzentile!X237","v":{"$error":"#N/A"}},{"$f":"Perzentile!Y237","v":{"$error":"#N/A"}},0]
[19.600000000000001,19.583333333333332,235,{"$f":"IF('Entrée des données_Eingabemaske'!$N$12=\"männlich / masculin\",Perzentile!C238,Perzentile!M238)","v":1},{"$f":"IF('Entrée des données_Eingabemaske'!$N$12=\"männlich / masculin\",Perzentile!D238,Perzentile!N238)","v":163.15479999999999},{"$f":"IF('Entrée des données_Eingabemaske'!$N$12=\"männlich / masculin\",Perzentile!E238,Perzentile!O238)","v":4.0090000000000001E-2},{"$f":"IF('Entrée des données_Eingabemaske'!$N$12=\"männlich / masculin\",Perzentile!F238,Perzentile!P238)","v":150.85300000000001},{"$f":"IF('Entrée des données_Eingabemaske'!$N$12=\"männlich / masculin\",Perzentile!G238,Perzentile!Q238)","v":154.7723302093124},{"$f":"IF('Entrée des données_Eingabemaske'!$N$12=\"männlich / masculin\",Perzentile!H238,Perzentile!R238)","v":158.74299999999999},{"$f":"IF('Entrée des données_Eingabemaske'!$N$12=\"männlich / masculin\",Perzentile!I238,Perzentile!S238)","v":163.155},{"$f":"IF('Entrée des données_Eingabemaske'!$N$12=\"männlich / masculin\",Perzentile!J238,Perzentile!T238)","v":167.56700000000001},{"$f":"IF('Entrée des données_Eingabemaske'!$N$12=\"männlich / masculin\",Perzentile!K238,Perzentile!U238)","v":171.53726979068762},{"$f":"IF('Entrée des données_Eingabemaske'!$N$12=\"männlich / masculin\",Perzentile!L238,Perzentile!V238)","v":175.45699999999999},{"$f":"Perzentile!W238","v":{"$error":"#N/A"}},{"$f":"Perzentile!X238","v":{"$error":"#N/A"}},{"$f":"Perzentile!Y238","v":{"$error":"#N/A"}},0]
[19.7,19.666666666666668,236,{"$f":"IF('Entrée des données_Eingabemaske'!$N$12=\"männlich / masculin\",Perzentile!C239,Perzentile!M239)","v":1},{"$f":"IF('Entrée des données_Eingabemaske'!$N$12=\"männlich / masculin\",Perzentile!D239,Perzentile!N239)","v":163.15479999999999},{"$f":"IF('Entrée des données_Eingabemaske'!$N$12=\"männlich / masculin\",Perzentile!E239,Perzentile!O239)","v":4.0090000000000001E-2},{"$f":"IF('Entrée des données_Eingabemaske'!$N$12=\"männlich / masculin\",Perzentile!F239,Perzentile!P239)","v":150.85300000000001},{"$f":"IF('Entrée des données_Eingabemaske'!$N$12=\"männlich / masculin\",Perzentile!G239,Perzentile!Q239)","v":154.7723302093124},{"$f":"IF('Entrée des données_Eingabemaske'!$N$12=\"männlich / masculin\",Perzentile!H239,Perzentile!R239)","v":158.74299999999999},{"$f":"IF('Entrée des données_Eingabemaske'!$N$12=\"männlich / masculin\",Perzentile!I239,Perzentile!S239)","v":163.155},{"$f":"IF('Entrée des données_Eingabemaske'!$N$12=\"männlich / masculin\",Perzentile!J239,Perzentile!T239)","v":167.56700000000001},{"$f":"IF('Entrée des données_Eingabemaske'!$N$12=\"männlich / masculin\",Perzentile!K239,Perzentile!U239)","v":171.53726979068762},{"$f":"IF('Entrée des données_Eingabemaske'!$N$12=\"männlich / masculin\",Perzentile!L239,Perzentile!V239)","v":175.45699999999999},{"$f":"Perzentile!W239","v":{"$error":"#N/A"}},{"$f":"Perzentile!X239","v":{"$error":"#N/A"}},{"$f":"Perzentile!Y239","v":{"$error":"#N/A"}},0]
[19.8,19.75,237,{"$f":"IF('Entrée des données_Eingabemaske'!$N$12=\"männlich / masculin\",Perzentile!C240,Perzentile!M240)","v":1},{"$f":"IF('Entrée des données_Eingabemaske'!$N$12=\"männlich / masculin\",Perzentile!D240,Perzentile!N240)","v":163.15479999999999},{"$f":"IF('Entrée des données_Eingabemaske'!$N$12=\"männlich / masculin\",Perzentile!E240,Perzentile!O240)","v":4.0090000000000001E-2},{"$f":"IF('Entrée des données_Eingabemaske'!$N$12=\"männlich / masculin\",Perzentile!F240,Perzentile!P240)","v":150.85300000000001},{"$f":"IF('Entrée des données_Eingabemaske'!$N$12=\"männlich / masculin\",Perzentile!G240,Perzentile!Q240)","v":154.7723302093124},{"$f":"IF('Entrée des données_Eingabemaske'!$N$12=\"männlich / masculin\",Perzentile!H240,Perzentile!R240)","v":158.74299999999999},{"$f":"IF('Entrée des données_Eingabemaske'!$N$12=\"männlich / masculin\",Perzentile!I240,Perzentile!S240)","v":163.155},{"$f":"IF('Entrée des données_Eingabemaske'!$N$12=\"männlich / masculin\",Perzentile!J240,Perzentile!T240)","v":167.56700000000001},{"$f":"IF('Entrée des données_Eingabemaske'!$N$12=\"männlich / masculin\",Perzentile!K240,Perzentile!U240)","v":171.53726979068762},{"$f":"IF('Entrée des données_Eingabemaske'!$N$12=\"männlich / masculin\",Perzentile!L240,Perzentile!V240)","v":175.45699999999999},{"$f":"Perzentile!W240","v":{"$error":"#N/A"}},{"$f":"Perzentile!X240","v":{"$error":"#N/A"}},{"$f":"Perzentile!Y240","v":{"$error":"#N/A"}},0]
[19.8,19.833333333333332,238,{"$f":"IF('Entrée des données_Eingabemaske'!$N$12=\"männlich / masculin\",Perzentile!C241,Perzentile!M241)","v":1},{"$f":"IF('Entrée des données_Eingabemaske'!$N$12=\"männlich / masculin\",Perzentile!D241,Perzentile!N241)","v":163.15479999999999},{"$f":"IF('Entrée des données_Eingabemaske'!$N$12=\"männlich / masculin\",Perzentile!E241,Perzentile!O241)","v":4.0090000000000001E-2},{"$f":"IF('Entrée des données_Eingabemaske'!$N$12=\"männlich / masculin\",Perzentile!F241,Perzentile!P241)","v":150.85300000000001},{"$f":"IF('Entrée des données_Eingabemaske'!$N$12=\"männlich / masculin\",Perzentile!G241,Perzentile!Q241)","v":154.7723302093124},{"$f":"IF('Entrée des données_Eingabemaske'!$N$12=\"männlich / masculin\",Perzentile!H241,Perzentile!R241)","v":158.74299999999999},{"$f":"IF('Entrée des données_Eingabemaske'!$N$12=\"männlich / masculin\",Perzentile!I241,Perzentile!S241)","v":163.155},{"$f":"IF('Entrée des données_Eingabemaske'!$N$12=\"männlich / masculin\",Perzentile!J241,Perzentile!T241)","v":167.56700000000001},{"$f":"IF('Entrée des données_Eingabemaske'!$N$12=\"männlich / masculin\",Perzentile!K241,Perzentile!U241)","v":171.53726979068762},{"$f":"IF('Entrée des données_Eingabemaske'!$N$12=\"männlich / masculin\",Perzentile!L241,Perzentile!V241)","v":175.45699999999999},{"$f":"Perzentile!W241","v":{"$error":"#N/A"}},{"$f":"Perzentile!X241","v":{"$error":"#N/A"}},{"$f":"Perzentile!Y241","v":{"$error":"#N/A"}},0]
[19.899999999999999,19.916666666666668,239,{"$f":"IF('Entrée des données_Eingabemaske'!$N$12=\"männlich / masculin\",Perzentile!C242,Perzentile!M242)","v":1},{"$f":"IF('Entrée des données_Eingabemaske'!$N$12=\"männlich / masculin\",Perzentile!D242,Perzentile!N242)","v":163.15479999999999},{"$f":"IF('Entrée des données_Eingabemaske'!$N$12=\"männlich / masculin\",Perzentile!E242,Perzentile!O242)","v":4.0090000000000001E-2},{"$f":"IF('Entrée des données_Eingabemaske'!$N$12=\"männlich / masculin\",Perzentile!F242,Perzentile!P242)","v":150.85300000000001},{"$f":"IF('Entrée des données_Eingabemaske'!$N$12=\"männlich / masculin\",Perzentile!G242,Perzentile!Q242)","v":154.7723302093124},{"$f":"IF('Entrée des données_Eingabemaske'!$N$12=\"männlich / masculin\",Perzentile!H242,Perzentile!R242)","v":158.74299999999999},{"$f":"IF('Entrée des données_Eingabemaske'!$N$12=\"männlich / masculin\",Perzentile!I242,Perzentile!S242)","v":163.155},{"$f":"IF('Entrée des données_Eingabemaske'!$N$12=\"männlich / masculin\",Perzentile!J242,Perzentile!T242)","v":167.56700000000001},{"$f":"IF('Entrée des données_Eingabemaske'!$N$12=\"männlich / masculin\",Perzentile!K242,Perzentile!U242)","v":171.53726979068762},{"$f":"IF('Entrée des données_Eingabemaske'!$N$12=\"männlich / masculin\",Perzentile!L242,Perzentile!V242)","v":175.45699999999999},{"$f":"Perzentile!W242","v":{"$error":"#N/A"}},{"$f":"Perzentile!X242","v":{"$error":"#N/A"}},{"$f":"Perzentile!Y242","v":{"$error":"#N/A"}},0]
[20,20,240,{"$f":"IF('Entrée des données_Eingabemaske'!$N$12=\"männlich / masculin\",Perzentile!C243,Perzentile!M243)","v":1},{"$f":"IF('Entrée des données_Eingabemaske'!$N$12=\"männlich / masculin\",Perzentile!D243,Perzentile!N243)","v":163.15479999999999},{"$f":"IF('Entrée des données_Eingabemaske'!$N$12=\"männlich / masculin\",Perzentile!E243,Perzentile!O243)","v":4.0090000000000001E-2},{"$f":"IF('Entrée des données_Eingabemaske'!$N$12=\"männlich / masculin\",Perzentile!F243,Perzentile!P243)","v":150.85300000000001},{"$f":"IF('Entrée des données_Eingabemaske'!$N$12=\"männlich / masculin\",Perzentile!G243,Perzentile!Q243)","v":154.7723302093124},{"$f":"IF('Entrée des données_Eingabemaske'!$N$12=\"männlich / masculin\",Perzentile!H243,Perzentile!R243)","v":158.74299999999999},{"$f":"IF('Entrée des données_Eingabemaske'!$N$12=\"männlich / masculin\",Perzentile!I243,Perzentile!S243)","v":163.155},{"$f":"IF('Entrée des données_Eingabemaske'!$N$12=\"männlich / masculin\",Perzentile!J243,Perzentile!T243)","v":167.56700000000001},{"$f":"IF('Entrée des données_Eingabemaske'!$N$12=\"männlich / masculin\",Perzentile!K243,Perzentile!U243)","v":171.53726979068762},{"$f":"IF('Entrée des données_Eingabemaske'!$N$12=\"männlich / masculin\",Perzentile!L243,Perzentile!V243)","v":175.45699999999999},{"$f":"Perzentile!W243","v":{"$error":"#N/A"}},{"$f":"Perzentile!X243","v":{"$error":"#N/A"}},{"$f":"Perzentile!Y243","v":{"$error":"#N/A"}},0]
[20.100000000000001,20.083333333333332,241,{"$f":"IF('Entrée des données_Eingabemaske'!$N$12=\"männlich / masculin\",Perzentile!C244,Perzentile!M244)","v":1},{"$f":"IF('Entrée des données_Eingabemaske'!$N$12=\"männlich / masculin\",Perzentile!D244,Perzentile!N244)","v":163.15479999999999},{"$f":"IF('Entrée des données_Eingabemaske'!$N$12=\"männlich / masculin\",Perzentile!E244,Perzentile!O244)","v":4.0090000000000001E-2},{"$f":"IF('Entrée des données_Eingabemaske'!$N$12=\"männlich / masculin\",Perzentile!F244,Perzentile!P244)","v":150.85300000000001},{"$f":"IF('Entrée des données_Eingabemaske'!$N$12=\"männlich / masculin\",Perzentile!G244,Perzentile!Q244)","v":154.7723302093124},{"$f":"IF('Entrée des données_Eingabemaske'!$N$12=\"männlich / masculin\",Perzentile!H244,Perzentile!R244)","v":158.74299999999999},{"$f":"IF('Entrée des données_Eingabemaske'!$N$12=\"männlich / masculin\",Perzentile!I244,Perzentile!S244)","v":163.155},{"$f":"IF('Entrée des données_Eingabemaske'!$N$12=\"männlich / masculin\",Perzentile!J244,Perzentile!T244)","v":167.56700000000001},{"$f":"IF('Entrée des données_Eingabemaske'!$N$12=\"männlich / masculin\",Perzentile!K244,Perzentile!U244)","v":171.53726979068762},{"$f":"IF('Entrée des données_Eingabemaske'!$N$12=\"männlich / masculin\",Perzentile!L244,Perzentile!V244)","v":175.45699999999999},{"$f":"Perzentile!W244","v":{"$error":"#N/A"}},{"$f":"Perzentile!X244","v":{"$error":"#N/A"}},{"$f":"Perzentile!Y244","v":{"$error":"#N/A"}},0]
[20.2,20.166666666666668,242,{"$f":"IF('Entrée des données_Eingabemaske'!$N$12=\"männlich / masculin\",Perzentile!C245,Perzentile!M245)","v":1},{"$f":"IF('Entrée des données_Eingabemaske'!$N$12=\"männlich / masculin\",Perzentile!D245,Perzentile!N245)","v":163.15479999999999},{"$f":"IF('Entrée des données_Eingabemaske'!$N$12=\"männlich / masculin\",Perzentile!E245,Perzentile!O245)","v":4.0090000000000001E-2},{"$f":"IF('Entrée des données_Eingabemaske'!$N$12=\"männlich / masculin\",Perzentile!F245,Perzentile!P245)","v":150.85300000000001},{"$f":"IF('Entrée des données_Eingabemaske'!$N$12=\"männlich / masculin\",Perzentile!G245,Perzentile!Q245)","v":154.7723302093124},{"$f":"IF('Entrée des données_Eingabemaske'!$N$12=\"männlich / masculin\",Perzentile!H245,Perzentile!R245)","v":158.74299999999999},{"$f":"IF('Entrée des données_Eingabemaske'!$N$12=\"männlich / masculin\",Perzentile!I245,Perzentile!S245)","v":163.155},{"$f":"IF('Entrée des données_Eingabemaske'!$N$12=\"männlich / masculin\",Perzentile!J245,Perzentile!T245)","v":167.56700000000001},{"$f":"IF('Entrée des données_Eingabemaske'!$N$12=\"männlich / masculin\",Perzentile!K245,Perzentile!U245)","v":171.53726979068762},{"$f":"IF('Entrée des données_Eingabemaske'!$N$12=\"männlich / masculin\",Perzentile!L245,Perzentile!V245)","v":175.45699999999999},{"$f":"Perzentile!W245","v":{"$error":"#N/A"}},{"$f":"Perzentile!X245","v":{"$error":"#N/A"}},{"$f":"Perzentile!Y245","v":{"$error":"#N/A"}},0]
[20.3,20.25,243,{"$f":"IF('Entrée des données_Eingabemaske'!$N$12=\"männlich / masculin\",Perzentile!C246,Perzentile!M246)","v":1},{"$f":"IF('Entrée des données_Eingabemaske'!$N$12=\"männlich / masculin\",Perzentile!D246,Perzentile!N246)","v":163.15479999999999},{"$f":"IF('Entrée des données_Eingabemaske'!$N$12=\"männlich / masculin\",Perzentile!E246,Perzentile!O246)","v":4.0090000000000001E-2},{"$f":"IF('Entrée des données_Eingabemaske'!$N$12=\"männlich / masculin\",Perzentile!F246,Perzentile!P246)","v":150.85300000000001},{"$f":"IF('Entrée des données_Eingabemaske'!$N$12=\"männlich / masculin\",Perzentile!G246,Perzentile!Q246)","v":154.7723302093124},{"$f":"IF('Entrée des données_Eingabemaske'!$N$12=\"männlich / masculin\",Perzentile!H246,Perzentile!R246)","v":158.74299999999999},{"$f":"IF('Entrée des données_Eingabemaske'!$N$12=\"männlich / masculin\",Perzentile!I246,Perzentile!S246)","v":163.155},{"$f":"IF('Entrée des données_Eingabemaske'!$N$12=\"männlich / masculin\",Perzentile!J246,Perzentile!T246)","v":167.56700000000001},{"$f":"IF('Entrée des données_Eingabemaske'!$N$12=\"männlich / masculin\",Perzentile!K246,Perzentile!U246)","v":171.53726979068762},{"$f":"IF('Entrée des données_Eingabemaske'!$N$12=\"männlich / masculin\",Perzentile!L246,Perzentile!V246)","v":175.45699999999999},{"$f":"Perzentile!W246","v":{"$error":"#N/A"}},{"$f":"Perzentile!X246","v":{"$error":"#N/A"}},{"$f":"Perzentile!Y246","v":{"$error":"#N/A"}},0]
[20.3,20.333333333333332,244,{"$f":"IF('Entrée des données_Eingabemaske'!$N$12=\"männlich / masculin\",Perzentile!C247,Perzentile!M247)","v":1},{"$f":"IF('Entrée des données_Eingabemaske'!$N$12=\"männlich / masculin\",Perzentile!D247,Perzentile!N247)","v":163.15479999999999},{"$f":"IF('Entrée des données_Eingabemaske'!$N$12=\"männlich / masculin\",Perzentile!E247,Perzentile!O247)","v":4.0090000000000001E-2},{"$f":"IF('Entrée des données_Eingabemaske'!$N$12=\"männlich / masculin\",Perzentile!F247,Perzentile!P247)","v":150.85300000000001},{"$f":"IF('Entrée des données_Eingabemaske'!$N$12=\"männlich / masculin\",Perzentile!G247,Perzentile!Q247)","v":154.7723302093124},{"$f":"IF('Entrée des données_Eingabemaske'!$N$12=\"männlich / masculin\",Perzentile!H247,Perzentile!R247)","v":158.74299999999999},{"$f":"IF('Entrée des données_Eingabemaske'!$N$12=\"männlich / masculin\",Perzentile!I247,Perzentile!S247)","v":163.155},{"$f":"IF('Entrée des données_Eingabemaske'!$N$12=\"männlich / masculin\",Perzentile!J247,Perzentile!T247)","v":167.56700000000001},{"$f":"IF('Entrée des données_Eingabemaske'!$N$12=\"männlich / masculin\",Perzentile!K247,Perzentile!U247)","v":171.53726979068762},{"$f":"IF('Entrée des données_Eingabemaske'!$N$12=\"männlich / masculin\",Perzentile!L247,Perzentile!V247)","v":175.45699999999999},{"$f":"Perzentile!W247","v":{"$error":"#N/A"}},{"$f":"Perzentile!X247","v":{"$error":"#N/A"}},{"$f":"Perzentile!Y247","v":{"$error":"#N/A"}},0]
[20.399999999999999,20.416666666666668,245,{"$f":"IF('Entrée des données_Eingabemaske'!$N$12=\"männlich / masculin\",Perzentile!C248,Perzentile!M248)","v":1},{"$f":"IF('Entrée des données_Eingabemaske'!$N$12=\"männlich / masculin\",Perzentile!D248,Perzentile!N248)","v":163.15479999999999},{"$f":"IF('Entrée des données_Eingabemaske'!$N$12=\"männlich / masculin\",Perzentile!E248,Perzentile!O248)","v":4.0090000000000001E-2},{"$f":"IF('Entrée des données_Eingabemaske'!$N$12=\"männlich / masculin\",Perzentile!F248,Perzentile!P248)","v":150.85300000000001},{"$f":"IF('Entrée des données_Eingabemaske'!$N$12=\"männlich / masculin\",Perzentile!G248,Perzentile!Q248)","v":154.7723302093124},{"$f":"IF('Entrée des données_Eingabemaske'!$N$12=\"männlich / masculin\",Perzentile!H248,Perzentile!R248)","v":158.74299999999999},{"$f":"IF('Entrée des données_Eingabemaske'!$N$12=\"männlich / masculin\",Perzentile!I248,Perzentile!S248)","v":163.155},{"$f":"IF('Entrée des données_Eingabemaske'!$N$12=\"männlich / masculin\",Perzentile!J248,Perzentile!T248)","v":167.56700000000001},{"$f":"IF('Entrée des données_Eingabemaske'!$N$12=\"männlich / masculin\",Perzentile!K248,Perzentile!U248)","v":171.53726979068762},{"$f":"IF('Entrée des données_Eingabemaske'!$N$12=\"männlich / masculin\",Perzentile!L248,Perzentile!V248)","v":175.45699999999999},{"$f":"Perzentile!W248","v":{"$error":"#N/A"}},{"$f":"Perzentile!X248","v":{"$error":"#N/A"}},{"$f":"Perzentile!Y248","v":{"$error":"#N/A"}},0]
[20.5,20.5,246,{"$f":"IF('Entrée des données_Eingabemaske'!$N$12=\"männlich / masculin\",Perzentile!C249,Perzentile!M249)","v":1},{"$f":"IF('Entrée des données_Eingabemaske'!$N$12=\"männlich / masculin\",Perzentile!D249,Perzentile!N249)","v":163.15479999999999},{"$f":"IF('Entrée des données_Eingabemaske'!$N$12=\"männlich / masculin\",Perzentile!E249,Perzentile!O249)","v":4.0090000000000001E-2},{"$f":"IF('Entrée des données_Eingabemaske'!$N$12=\"männlich / masculin\",Perzentile!F249,Perzentile!P249)","v":150.85300000000001},{"$f":"IF('Entrée des données_Eingabemaske'!$N$12=\"männlich / masculin\",Perzentile!G249,Perzentile!Q249)","v":154.7723302093124},{"$f":"IF('Entrée des données_Eingabemaske'!$N$12=\"männlich / masculin\",Perzentile!H249,Perzentile!R249)","v":158.74299999999999},{"$f":"IF('Entrée des données_Eingabemaske'!$N$12=\"männlich / masculin\",Perzentile!I249,Perzentile!S249)","v":163.155},{"$f":"IF('Entrée des données_Eingabemaske'!$N$12=\"männlich / masculin\",Perzentile!J249,Perzentile!T249)","v":167.56700000000001},{"$f":"IF('Entrée des données_Eingabemaske'!$N$12=\"männlich / masculin\",Perzentile!K249,Perzentile!U249)","v":171.53726979068762},{"$f":"IF('Entrée des données_Eingabemaske'!$N$12=\"männlich / masculin\",Perzentile!L249,Perzentile!V249)","v":175.45699999999999},{"$f":"Perzentile!W249","v":{"$error":"#N/A"}},{"$f":"Perzentile!X249","v":{"$error":"#N/A"}},{"$f":"Perzentile!Y249","v":{"$error":"#N/A"}},0]
[20.6,20.583333333333332,247,{"$f":"IF('Entrée des données_Eingabemaske'!$N$12=\"männlich / masculin\",Perzentile!C250,Perzentile!M250)","v":1},{"$f":"IF('Entrée des données_Eingabemaske'!$N$12=\"männlich / masculin\",Perzentile!D250,Perzentile!N250)","v":163.15479999999999},{"$f":"IF('Entrée des données_Eingabemaske'!$N$12=\"männlich / masculin\",Perzentile!E250,Perzentile!O250)","v":4.0090000000000001E-2},{"$f":"IF('Entrée des données_Eingabemaske'!$N$12=\"männlich / masculin\",Perzentile!F250,Perzentile!P250)","v":150.85300000000001},{"$f":"IF('Entrée des données_Eingabemaske'!$N$12=\"männlich / masculin\",Perzentile!G250,Perzentile!Q250)","v":154.7723302093124},{"$f":"IF('Entrée des données_Eingabemaske'!$N$12=\"männlich / masculin\",Perzentile!H250,Perzentile!R250)","v":158.74299999999999},{"$f":"IF('Entrée des données_Eingabemaske'!$N$12=\"männlich / masculin\",Perzentile!I250,Perzentile!S250)","v":163.155},{"$f":"IF('Entrée des données_Eingabemaske'!$N$12=\"männlich / masculin\",Perzentile!J250,Perzentile!T250)","v":167.56700000000001},{"$f":"IF('Entrée des données_Eingabemaske'!$N$12=\"männlich / masculin\",Perzentile!K250,Perzentile!U250)","v":171.53726979068762},{"$f":"IF('Entrée des données_Eingabemaske'!$N$12=\"männlich / masculin\",Perzentile!L250,Perzentile!V250)","v":175.45699999999999},{"$f":"Perzentile!W250","v":{"$error":"#N/A"}},{"$f":"Perzentile!X250","v":{"$error":"#N/A"}},{"$f":"Perzentile!Y250","v":{"$error":"#N/A"}},0]
[20.7,20.666666666666668,248,{"$f":"IF('Entrée des données_Eingabemaske'!$N$12=\"männlich / masculin\",Perzentile!C251,Perzentile!M251)","v":1},{"$f":"IF('Entrée des données_Eingabemaske'!$N$12=\"männlich / masculin\",Perzentile!D251,Perzentile!N251)","v":163.15479999999999},{"$f":"IF('Entrée des données_Eingabemaske'!$N$12=\"männlich / masculin\",Perzentile!E251,Perzentile!O251)","v":4.0090000000000001E-2},{"$f":"IF('Entrée des données_Eingabemaske'!$N$12=\"männlich / masculin\",Perzentile!F251,Perzentile!P251)","v":150.85300000000001},{"$f":"IF('Entrée des données_Eingabemaske'!$N$12=\"männlich / masculin\",Perzentile!G251,Perzentile!Q251)","v":154.7723302093124},{"$f":"IF('Entrée des données_Eingabemaske'!$N$12=\"männlich / masculin\",Perzentile!H251,Perzentile!R251)","v":158.74299999999999},{"$f":"IF('Entrée des données_Eingabemaske'!$N$12=\"männlich / masculin\",Perzentile!I251,Perzentile!S251)","v":163.155},{"$f":"IF('Entrée des données_Eingabemaske'!$N$12=\"männlich / masculin\",Perzentile!J251,Perzentile!T251)","v":167.56700000000001},{"$f":"IF('Entrée des données_Eingabemaske'!$N$12=\"männlich / masculin\",Perzentile!K251,Perzentile!U251)","v":171.53726979068762},{"$f":"IF('Entrée des données_Eingabemaske'!$N$12=\"männlich / masculin\",Perzentile!L251,Perzentile!V251)","v":175.45699999999999},{"$f":"Perzentile!W251","v":{"$error":"#N/A"}},{"$f":"Perzentile!X251","v":{"$error":"#N/A"}},{"$f":"Perzentile!Y251","v":{"$error":"#N/A"}},0]
[20.8,20.75,249,{"$f":"IF('Entrée des données_Eingabemaske'!$N$12=\"männlich / masculin\",Perzentile!C252,Perzentile!M252)","v":1},{"$f":"IF('Entrée des données_Eingabemaske'!$N$12=\"männlich / masculin\",Perzentile!D252,Perzentile!N252)","v":163.15479999999999},{"$f":"IF('Entrée des données_Eingabemaske'!$N$12=\"männlich / masculin\",Perzentile!E252,Perzentile!O252)","v":4.0090000000000001E-2},{"$f":"IF('Entrée des données_Eingabemaske'!$N$12=\"männlich / masculin\",Perzentile!F252,Perzentile!P252)","v":150.85300000000001},{"$f":"IF('Entrée des données_Eingabemaske'!$N$12=\"männlich / masculin\",Perzentile!G252,Perzentile!Q252)","v":154.7723302093124},{"$f":"IF('Entrée des données_Eingabemaske'!$N$12=\"männlich / masculin\",Perzentile!H252,Perzentile!R252)","v":158.74299999999999},{"$f":"IF('Entrée des données_Eingabemaske'!$N$12=\"männlich / masculin\",Perzentile!I252,Perzentile!S252)","v":163.155},{"$f":"IF('Entrée des données_Eingabemaske'!$N$12=\"männlich / masculin\",Perzentile!J252,Perzentile!T252)","v":167.56700000000001},{"$f":"IF('Entrée des données_Eingabemaske'!$N$12=\"männlich / masculin\",Perzentile!K252,Perzentile!U252)","v":171.53726979068762},{"$f":"IF('Entrée des données_Eingabemaske'!$N$12=\"männlich / masculin\",Perzentile!L252,Perzentile!V252)","v":175.45699999999999},{"$f":"Perzentile!W252","v":{"$error":"#N/A"}},{"$f":"Perzentile!X252","v":{"$error":"#N/A"}},{"$f":"Perzentile!Y252","v":{"$error":"#N/A"}},0]
[20.8,20.833333333333332,250,{"$f":"IF('Entrée des données_Eingabemaske'!$N$12=\"männlich / masculin\",Perzentile!C253,Perzentile!M253)","v":1},{"$f":"IF('Entrée des données_Eingabemaske'!$N$12=\"männlich / masculin\",Perzentile!D253,Perzentile!N253)","v":163.15479999999999},{"$f":"IF('Entrée des données_Eingabemaske'!$N$12=\"männlich / masculin\",Perzentile!E253,Perzentile!O253)","v":4.0090000000000001E-2},{"$f":"IF('Entrée des données_Eingabemaske'!$N$12=\"männlich / masculin\",Perzentile!F253,Perzentile!P253)","v":150.85300000000001},{"$f":"IF('Entrée des données_Eingabemaske'!$N$12=\"männlich / masculin\",Perzentile!G253,Perzentile!Q253)","v":154.7723302093124},{"$f":"IF('Entrée des données_Eingabemaske'!$N$12=\"männlich / masculin\",Perzentile!H253,Perzentile!R253)","v":158.74299999999999},{"$f":"IF('Entrée des données_Eingabemaske'!$N$12=\"männlich / masculin\",Perzentile!I253,Perzentile!S253)","v":163.155},{"$f":"IF('Entrée des données_Eingabemaske'!$N$12=\"männlich / masculin\",Perzentile!J253,Perzentile!T253)","v":167.56700000000001},{"$f":"IF('Entrée des données_Eingabemaske'!$N$12=\"männlich / masculin\",Perzentile!K253,Perzentile!U253)","v":171.53726979068762},{"$f":"IF('Entrée des données_Eingabemaske'!$N$12=\"männlich / masculin\",Perzentile!L253,Perzentile!V253)","v":175.45699999999999},{"$f":"Perzentile!W253","v":{"$error":"#N/A"}},{"$f":"Perzentile!X253","v":{"$error":"#N/A"}},{"$f":"Perzentile!Y253","v":{"$error":"#N/A"}},0]
[20.9,20.916666666666668,251,{"$f":"IF('Entrée des données_Eingabemaske'!$N$12=\"männlich / masculin\",Perzentile!C254,Perzentile!M254)","v":1},{"$f":"IF('Entrée des données_Eingabemaske'!$N$12=\"männlich / masculin\",Perzentile!D254,Perzentile!N254)","v":163.15479999999999},{"$f":"IF('Entrée des données_Eingabemaske'!$N$12=\"männlich / masculin\",Perzentile!E254,Perzentile!O254)","v":4.0090000000000001E-2},{"$f":"IF('Entrée des données_Eingabemaske'!$N$12=\"männlich / masculin\",Perzentile!F254,Perzentile!P254)","v":150.85300000000001},{"$f":"IF('Entrée des données_Eingabemaske'!$N$12=\"männlich / masculin\",Perzentile!G254,Perzentile!Q254)","v":154.7723302093124},{"$f":"IF('Entrée des données_Eingabemaske'!$N$12=\"männlich / masculin\",Perzentile!H254,Perzentile!R254)","v":158.74299999999999},{"$f":"IF('Entrée des données_Eingabemaske'!$N$12=\"männlich / masculin\",Perzentile!I254,Perzentile!S254)","v":163.155},{"$f":"IF('Entrée des données_Eingabemaske'!$N$12=\"männlich / masculin\",Perzentile!J254,Perzentile!T254)","v":167.56700000000001},{"$f":"IF('Entrée des données_Eingabemaske'!$N$12=\"männlich / masculin\",Perzentile!K254,Perzentile!U254)","v":171.53726979068762},{"$f":"IF('Entrée des données_Eingabemaske'!$N$12=\"männlich / masculin\",Perzentile!L254,Perzentile!V254)","v":175.45699999999999},{"$f":"Perzentile!W254","v":{"$error":"#N/A"}},{"$f":"Perzentile!X254","v":{"$error":"#N/A"}},{"$f":"Perzentile!Y254","v":{"$error":"#N/A"}},0]
[21,21,252,{"$f":"IF('Entrée des données_Eingabemaske'!$N$12=\"männlich / masculin\",Perzentile!C255,Perzentile!M255)","v":1},{"$f":"IF('Entrée des données_Eingabemaske'!$N$12=\"männlich / masculin\",Perzentile!D255,Perzentile!N255)","v":163.15479999999999},{"$f":"IF('Entrée des données_Eingabemaske'!$N$12=\"männlich / masculin\",Perzentile!E255,Perzentile!O255)","v":4.0090000000000001E-2},{"$f":"IF('Entrée des données_Eingabemaske'!$N$12=\"männlich / masculin\",Perzentile!F255,Perzentile!P255)","v":150.85300000000001},{"$f":"IF('Entrée des données_Eingabemaske'!$N$12=\"männlich / masculin\",Perzentile!G255,Perzentile!Q255)","v":154.7723302093124},{"$f":"IF('Entrée des données_Eingabemaske'!$N$12=\"männlich / masculin\",Perzentile!H255,Perzentile!R255)","v":158.74299999999999},{"$f":"IF('Entrée des données_Eingabemaske'!$N$12=\"männlich / masculin\",Perzentile!I255,Perzentile!S255)","v":163.155},{"$f":"IF('Entrée des données_Eingabemaske'!$N$12=\"männlich / masculin\",Perzentile!J255,Perzentile!T255)","v":167.56700000000001},{"$f":"IF('Entrée des données_Eingabemaske'!$N$12=\"männlich / masculin\",Perzentile!K255,Perzentile!U255)","v":171.53726979068762},{"$f":"IF('Entrée des données_Eingabemaske'!$N$12=\"männlich / masculin\",Perzentile!L255,Perzentile!V255)","v":175.45699999999999},{"$f":"Perzentile!W255","v":{"$error":"#N/A"}},{"$f":"Perzentile!X255","v":{"$error":"#N/A"}},{"$f":"Perzentile!Y255","v":{"$error":"#N/A"}},0]
[21.1,21.083333333333332,253,{"$f":"IF('Entrée des données_Eingabemaske'!$N$12=\"männlich / masculin\",Perzentile!C256,Perzentile!M256)","v":1},{"$f":"IF('Entrée des données_Eingabemaske'!$N$12=\"männlich / masculin\",Perzentile!D256,Perzentile!N256)","v":163.15479999999999},{"$f":"IF('Entrée des données_Eingabemaske'!$N$12=\"männlich / masculin\",Perzentile!E256,Perzentile!O256)","v":4.0090000000000001E-2},{"$f":"IF('Entrée des données_Eingabemaske'!$N$12=\"männlich / masculin\",Perzentile!F256,Perzentile!P256)","v":150.85300000000001},{"$f":"IF('Entrée des données_Eingabemaske'!$N$12=\"männlich / masculin\",Perzentile!G256,Perzentile!Q256)","v":154.7723302093124},{"$f":"IF('Entrée des données_Eingabemaske'!$N$12=\"männlich / masculin\",Perzentile!H256,Perzentile!R256)","v":158.74299999999999},{"$f":"IF('Entrée des données_Eingabemaske'!$N$12=\"männlich / masculin\",Perzentile!I256,Perzentile!S256)","v":163.155},{"$f":"IF('Entrée des données_Eingabemaske'!$N$12=\"männlich / masculin\",Perzentile!J256,Perzentile!T256)","v":167.56700000000001},{"$f":"IF('Entrée des données_Eingabemaske'!$N$12=\"männlich / masculin\",Perzentile!K256,Perzentile!U256)","v":171.53726979068762},{"$f":"IF('Entrée des données_Eingabemaske'!$N$12=\"männlich / masculin\",Perzentile!L256,Perzentile!V256)","v":175.45699999999999},{"$f":"Perzentile!W256","v":{"$error":"#N/A"}},{"$f":"Perzentile!X256","v":{"$error":"#N/A"}},{"$f":"Perzentile!Y256","v":{"$error":"#N/A"}},0]
[21.2,21.166666666666668,254,{"$f":"IF('Entrée des données_Eingabemaske'!$N$12=\"männlich / masculin\",Perzentile!C257,Perzentile!M257)","v":1},{"$f":"IF('Entrée des données_Eingabemaske'!$N$12=\"männlich / masculin\",Perzentile!D257,Perzentile!N257)","v":163.15479999999999},{"$f":"IF('Entrée des données_Eingabemaske'!$N$12=\"männlich / masculin\",Perzentile!E257,Perzentile!O257)","v":4.0090000000000001E-2},{"$f":"IF('Entrée des données_Eingabemaske'!$N$12=\"männlich / masculin\",Perzentile!F257,Perzentile!P257)","v":150.85300000000001},{"$f":"IF('Entrée des données_Eingabemaske'!$N$12=\"männlich / masculin\",Perzentile!G257,Perzentile!Q257)","v":154.7723302093124},{"$f":"IF('Entrée des données_Eingabemaske'!$N$12=\"männlich / masculin\",Perzentile!H257,Perzentile!R257)","v":158.74299999999999},{"$f":"IF('Entrée des données_Eingabemaske'!$N$12=\"männlich / masculin\",Perzentile!I257,Perzentile!S257)","v":163.155},{"$f":"IF('Entrée des données_Eingabemaske'!$N$12=\"männlich / masculin\",Perzentile!J257,Perzentile!T257)","v":167.56700000000001},{"$f":"IF('Entrée des données_Eingabemaske'!$N$12=\"männlich / masculin\",Perzentile!K257,Perzentile!U257)","v":171.53726979068762},{"$f":"IF('Entrée des données_Eingabemaske'!$N$12=\"männlich / masculin\",Perzentile!L257,Perzentile!V257)","v":175.45699999999999},{"$f":"Perzentile!W257","v":{"$error":"#N/A"}},{"$f":"Perzentile!X257","v":{"$error":"#N/A"}},{"$f":"Perzentile!Y257","v":{"$error":"#N/A"}},0]
[21.3,21.25,255,{"$f":"IF('Entrée des données_Eingabemaske'!$N$12=\"männlich / masculin\",Perzentile!C258,Perzentile!M258)","v":1},{"$f":"IF('Entrée des données_Eingabemaske'!$N$12=\"männlich / masculin\",Perzentile!D258,Perzentile!N258)","v":163.15479999999999},{"$f":"IF('Entrée des données_Eingabemaske'!$N$12=\"männlich / masculin\",Perzentile!E258,Perzentile!O258)","v":4.0090000000000001E-2},{"$f":"IF('Entrée des données_Eingabemaske'!$N$12=\"männlich / masculin\",Perzentile!F258,Perzentile!P258)","v":150.85300000000001},{"$f":"IF('Entrée des données_Eingabemaske'!$N$12=\"männlich / masculin\",Perzentile!G258,Perzentile!Q258)","v":154.7723302093124},{"$f":"IF('Entrée des données_Eingabemaske'!$N$12=\"männlich / masculin\",Perzentile!H258,Perzentile!R258)","v":158.74299999999999},{"$f":"IF('Entrée des données_Eingabemaske'!$N$12=\"männlich / masculin\",Perzentile!I258,Perzentile!S258)","v":163.155},{"$f":"IF('Entrée des données_Eingabemaske'!$N$12=\"männlich / masculin\",Perzentile!J258,Perzentile!T258)","v":167.56700000000001},{"$f":"IF('Entrée des données_Eingabemaske'!$N$12=\"männlich / masculin\",Perzentile!K258,Perzentile!U258)","v":171.53726979068762},{"$f":"IF('Entrée des données_Eingabemaske'!$N$12=\"männlich / masculin\",Perzentile!L258,Perzentile!V258)","v":175.45699999999999},{"$f":"Perzentile!W258","v":{"$error":"#N/A"}},{"$f":"Perzentile!X258","v":{"$error":"#N/A"}},{"$f":"Perzentile!Y258","v":{"$error":"#N/A"}},0]
[21.3,21.333333333333332,256,{"$f":"IF('Entrée des données_Eingabemaske'!$N$12=\"männlich / masculin\",Perzentile!C259,Perzentile!M259)","v":1},{"$f":"IF('Entrée des données_Eingabemaske'!$N$12=\"männlich / masculin\",Perzentile!D259,Perzentile!N259)","v":163.15479999999999},{"$f":"IF('Entrée des données_Eingabemaske'!$N$12=\"männlich / masculin\",Perzentile!E259,Perzentile!O259)","v":4.0090000000000001E-2},{"$f":"IF('Entrée des données_Eingabemaske'!$N$12=\"männlich / masculin\",Perzentile!F259,Perzentile!P259)","v":150.85300000000001},{"$f":"IF('Entrée des données_Eingabemaske'!$N$12=\"männlich / masculin\",Perzentile!G259,Perzentile!Q259)","v":154.7723302093124},{"$f":"IF('Entrée des données_Eingabemaske'!$N$12=\"männlich / masculin\",Perzentile!H259,Perzentile!R259)","v":158.74299999999999},{"$f":"IF('Entrée des données_Eingabemaske'!$N$12=\"männlich / masculin\",Perzentile!I259,Perzentile!S259)","v":163.155},{"$f":"IF('Entrée des données_Eingabemaske'!$N$12=\"männlich / masculin\",Perzentile!J259,Perzentile!T259)","v":167.56700000000001},{"$f":"IF('Entrée des données_Eingabemaske'!$N$12=\"männlich / masculin\",Perzentile!K259,Perzentile!U259)","v":171.53726979068762},{"$f":"IF('Entrée des données_Eingabemaske'!$N$12=\"männlich / masculin\",Perzentile!L259,Perzentile!V259)","v":175.45699999999999},{"$f":"Perzentile!W259","v":{"$error":"#N/A"}},{"$f":"Perzentile!X259","v":{"$error":"#N/A"}},{"$f":"Perzentile!Y259","v":{"$error":"#N/A"}},0]
[{"$f":"ROUND(B259,1)","v":21.4},21.416666666666668,257,{"$f":"IF('Entrée des données_Eingabemaske'!$N$12=\"männlich / masculin\",Perzentile!C260,Perzentile!M260)","v":1},{"$f":"IF('Entrée des données_Eingabemaske'!$N$12=\"männlich / masculin\",Perzentile!D260,Perzentile!N260)","v":163.15479999999999},{"$f":"IF('Entrée des données_Eingabemaske'!$N$12=\"männlich / masculin\",Perzentile!E260,Perzentile!O260)","v":4.0090000000000001E-2},{"$f":"IF('Entrée des données_Eingabemaske'!$N$12=\"männlich / masculin\",Perzentile!F260,Perzentile!P260)","v":150.85300000000001},{"$f":"IF('Entrée des données_Eingabemaske'!$N$12=\"männlich / masculin\",Perzentile!G260,Perzentile!Q260)","v":154.7723302093124},{"$f":"IF('Entrée des données_Eingabemaske'!$N$12=\"männlich / masculin\",Perzentile!H260,Perzentile!R260)","v":158.74299999999999},{"$f":"IF('Entrée des données_Eingabemaske'!$N$12=\"männlich / masculin\",Perzentile!I260,Perzentile!S260)","v":163.155},{"$f":"IF('Entrée des données_Eingabemaske'!$N$12=\"männlich / masculin\",Perzentile!J260,Perzentile!T260)","v":167.56700000000001},{"$f":"IF('Entrée des données_Eingabemaske'!$N$12=\"männlich / masculin\",Perzentile!K260,Perzentile!U260)","v":171.53726979068762},{"$f":"IF('Entrée des données_Eingabemaske'!$N$12=\"männlich / masculin\",Perzentile!L260,Perzentile!V260)","v":175.45699999999999},{"$f":"Perzentile!W260","v":{"$error":"#N/A"}},{"$f":"Perzentile!X260","v":{"$error":"#N/A"}},{"$f":"Perzentile!Y260","v":{"$error":"#N/A"}},0]
[21.5,21.5,258,{"$f":"IF('Entrée des données_Eingabemaske'!$N$12=\"männlich / masculin\",Perzentile!C261,Perzentile!M261)","v":1},{"$f":"IF('Entrée des données_Eingabemaske'!$N$12=\"männlich / masculin\",Perzentile!D261,Perzentile!N261)","v":163.15479999999999},{"$f":"IF('Entrée des données_Eingabemaske'!$N$12=\"männlich / masculin\",Perzentile!E261,Perzentile!O261)","v":4.0090000000000001E-2},{"$f":"IF('Entrée des données_Eingabemaske'!$N$12=\"männlich / masculin\",Perzentile!F261,Perzentile!P261)","v":150.85300000000001},{"$f":"IF('Entrée des données_Eingabemaske'!$N$12=\"männlich / masculin\",Perzentile!G261,Perzentile!Q261)","v":154.7723302093124},{"$f":"IF('Entrée des données_Eingabemaske'!$N$12=\"männlich / masculin\",Perzentile!H261,Perzentile!R261)","v":158.74299999999999},{"$f":"IF('Entrée des données_Eingabemaske'!$N$12=\"männlich / masculin\",Perzentile!I261,Perzentile!S261)","v":163.155},{"$f":"IF('Entrée des données_Eingabemaske'!$N$12=\"männlich / masculin\",Perzentile!J261,Perzentile!T261)","v":167.56700000000001},{"$f":"IF('Entrée des données_Eingabemaske'!$N$12=\"männlich / masculin\",Perzentile!K261,Perzentile!U261)","v":171.53726979068762},{"$f":"IF('Entrée des données_Eingabemaske'!$N$12=\"männlich / masculin\",Perzentile!L261,Perzentile!V261)","v":175.45699999999999},{"$f":"Perzentile!W261","v":{"$error":"#N/A"}},{"$f":"Perzentile!X261","v":{"$error":"#N/A"}},{"$f":"Perzentile!Y261","v":{"$error":"#N/A"}},0]
[21.6,21.583333333333332,259,{"$f":"IF('Entrée des données_Eingabemaske'!$N$12=\"männlich / masculin\",Perzentile!C262,Perzentile!M262)","v":1},{"$f":"IF('Entrée des données_Eingabemaske'!$N$12=\"männlich / masculin\",Perzentile!D262,Perzentile!N262)","v":163.15479999999999},{"$f":"IF('Entrée des données_Eingabemaske'!$N$12=\"männlich / masculin\",Perzentile!E262,Perzentile!O262)","v":4.0090000000000001E-2},{"$f":"IF('Entrée des données_Eingabemaske'!$N$12=\"männlich / masculin\",Perzentile!F262,Perzentile!P262)","v":150.85300000000001},{"$f":"IF('Entrée des données_Eingabemaske'!$N$12=\"männlich / masculin\",Perzentile!G262,Perzentile!Q262)","v":154.7723302093124},{"$f":"IF('Entrée des données_Eingabemaske'!$N$12=\"männlich / masculin\",Perzentile!H262,Perzentile!R262)","v":158.74299999999999},{"$f":"IF('Entrée des données_Eingabemaske'!$N$12=\"männlich / masculin\",Perzentile!I262,Perzentile!S262)","v":163.155},{"$f":"IF('Entrée des données_Eingabemaske'!$N$12=\"männlich / masculin\",Perzentile!J262,Perzentile!T262)","v":167.56700000000001},{"$f":"IF('Entrée des données_Eingabemaske'!$N$12=\"männlich / masculin\",Perzentile!K262,Perzentile!U262)","v":171.53726979068762},{"$f":"IF('Entrée des données_Eingabemaske'!$N$12=\"männlich / masculin\",Perzentile!L262,Perzentile!V262)","v":175.45699999999999},{"$f":"Perzentile!W262","v":{"$error":"#N/A"}},{"$f":"Perzentile!X262","v":{"$error":"#N/A"}},{"$f":"Perzentile!Y262","v":{"$error":"#N/A"}},0]
[21.7,21.666666666666668,260,{"$f":"IF('Entrée des données_Eingabemaske'!$N$12=\"männlich / masculin\",Perzentile!C263,Perzentile!M263)","v":1},{"$f":"IF('Entrée des données_Eingabemaske'!$N$12=\"männlich / masculin\",Perzentile!D263,Perzentile!N263)","v":163.15479999999999},{"$f":"IF('Entrée des données_Eingabemaske'!$N$12=\"männlich / masculin\",Perzentile!E263,Perzentile!O263)","v":4.0090000000000001E-2},{"$f":"IF('Entrée des données_Eingabemaske'!$N$12=\"männlich / masculin\",Perzentile!F263,Perzentile!P263)","v":150.85300000000001},{"$f":"IF('Entrée des données_Eingabemaske'!$N$12=\"männlich / masculin\",Perzentile!G263,Perzentile!Q263)","v":154.7723302093124},{"$f":"IF('Entrée des données_Eingabemaske'!$N$12=\"männlich / masculin\",Perzentile!H263,Perzentile!R263)","v":158.74299999999999},{"$f":"IF('Entrée des données_Eingabemaske'!$N$12=\"männlich / masculin\",Perzentile!I263,Perzentile!S263)","v":163.155},{"$f":"IF('Entrée des données_Eingabemaske'!$N$12=\"männlich / masculin\",Perzentile!J263,Perzentile!T263)","v":167.56700000000001},{"$f":"IF('Entrée des données_Eingabemaske'!$N$12=\"männlich / masculin\",Perzentile!K263,Perzentile!U263)","v":171.53726979068762},{"$f":"IF('Entrée des données_Eingabemaske'!$N$12=\"männlich / masculin\",Perzentile!L263,Perzentile!V263)","v":175.45699999999999},{"$f":"Perzentile!W263","v":{"$error":"#N/A"}},{"$f":"Perzentile!X263","v":{"$error":"#N/A"}},{"$f":"Perzentile!Y263","v":{"$error":"#N/A"}},0]
[21.8,21.75,261,{"$f":"IF('Entrée des données_Eingabemaske'!$N$12=\"männlich / masculin\",Perzentile!C264,Perzentile!M264)","v":1},{"$f":"IF('Entrée des données_Eingabemaske'!$N$12=\"männlich / masculin\",Perzentile!D264,Perzentile!N264)","v":163.15479999999999},{"$f":"IF('Entrée des données_Eingabemaske'!$N$12=\"männlich / masculin\",Perzentile!E264,Perzentile!O264)","v":4.0090000000000001E-2},{"$f":"IF('Entrée des données_Eingabemaske'!$N$12=\"männlich / masculin\",Perzentile!F264,Perzentile!P264)","v":150.85300000000001},{"$f":"IF('Entrée des données_Eingabemaske'!$N$12=\"männlich / masculin\",Perzentile!G264,Perzentile!Q264)","v":154.7723302093124},{"$f":"IF('Entrée des données_Eingabemaske'!$N$12=\"männlich / masculin\",Perzentile!H264,Perzentile!R264)","v":158.74299999999999},{"$f":"IF('Entrée des données_Eingabemaske'!$N$12=\"männlich / masculin\",Perzentile!I264,Perzentile!S264)","v":163.155},{"$f":"IF('Entrée des données_Eingabemaske'!$N$12=\"männlich / masculin\",Perzentile!J264,Perzentile!T264)","v":167.56700000000001},{"$f":"IF('Entrée des données_Eingabemaske'!$N$12=\"männlich / masculin\",Perzentile!K264,Perzentile!U264)","v":171.53726979068762},{"$f":"IF('Entrée des données_Eingabemaske'!$N$12=\"männlich / masculin\",Perzentile!L264,Perzentile!V264)","v":175.45699999999999},{"$f":"Perzentile!W264","v":{"$error":"#N/A"}},{"$f":"Perzentile!X264","v":{"$error":"#N/A"}},{"$f":"Perzentile!Y264","v":{"$error":"#N/A"}},0]
[21.8,21.833333333333332,262,{"$f":"IF('Entrée des données_Eingabemaske'!$N$12=\"männlich / masculin\",Perzentile!C265,Perzentile!M265)","v":1},{"$f":"IF('Entrée des données_Eingabemaske'!$N$12=\"männlich / masculin\",Perzentile!D265,Perzentile!N265)","v":163.15479999999999},{"$f":"IF('Entrée des données_Eingabemaske'!$N$12=\"männlich / masculin\",Perzentile!E265,Perzentile!O265)","v":4.0090000000000001E-2},{"$f":"IF('Entrée des données_Eingabemaske'!$N$12=\"männlich / masculin\",Perzentile!F265,Perzentile!P265)","v":150.85300000000001},{"$f":"IF('Entrée des données_Eingabemaske'!$N$12=\"männlich / masculin\",Perzentile!G265,Perzentile!Q265)","v":154.7723302093124},{"$f":"IF('Entrée des données_Eingabemaske'!$N$12=\"männlich / masculin\",Perzentile!H265,Perzentile!R265)","v":158.74299999999999},{"$f":"IF('Entrée des données_Eingabemaske'!$N$12=\"männlich / masculin\",Perzentile!I265,Perzentile!S265)","v":163.155},{"$f":"IF('Entrée des données_Eingabemaske'!$N$12=\"männlich / masculin\",Perzentile!J265,Perzentile!T265)","v":167.56700000000001},{"$f":"IF('Entrée des données_Eingabemaske'!$N$12=\"männlich / masculin\",Perzentile!K265,Perzentile!U265)","v":171.53726979068762},{"$f":"IF('Entrée des données_Eingabemaske'!$N$12=\"männlich / masculin\",Perzentile!L265,Perzentile!V265)","v":175.45699999999999},{"$f":"Perzentile!W265","v":{"$error":"#N/A"}},{"$f":"Perzentile!X265","v":{"$error":"#N/A"}},{"$f":"Perzentile!Y265","v":{"$error":"#N/A"}},0]
[21.9,21.916666666666668,263,{"$f":"IF('Entrée des données_Eingabemaske'!$N$12=\"männlich / masculin\",Perzentile!C266,Perzentile!M266)","v":1},{"$f":"IF('Entrée des données_Eingabemaske'!$N$12=\"männlich / masculin\",Perzentile!D266,Perzentile!N266)","v":163.15479999999999},{"$f":"IF('Entrée des données_Eingabemaske'!$N$12=\"männlich / masculin\",Perzentile!E266,Perzentile!O266)","v":4.0090000000000001E-2},{"$f":"IF('Entrée des données_Eingabemaske'!$N$12=\"männlich / masculin\",Perzentile!F266,Perzentile!P266)","v":150.85300000000001},{"$f":"IF('Entrée des données_Eingabemaske'!$N$12=\"männlich / masculin\",Perzentile!G266,Perzentile!Q266)","v":154.7723302093124},{"$f":"IF('Entrée des données_Eingabemaske'!$N$12=\"männlich / masculin\",Perzentile!H266,Perzentile!R266)","v":158.74299999999999},{"$f":"IF('Entrée des données_Eingabemaske'!$N$12=\"männlich / masculin\",Perzentile!I266,Perzentile!S266)","v":163.155},{"$f":"IF('Entrée des données_Eingabemaske'!$N$12=\"männlich / masculin\",Perzentile!J266,Perzentile!T266)","v":167.56700000000001},{"$f":"IF('Entrée des données_Eingabemaske'!$N$12=\"männlich / masculin\",Perzentile!K266,Perzentile!U266)","v":171.53726979068762},{"$f":"IF('Entrée des données_Eingabemaske'!$N$12=\"männlich / masculin\",Perzentile!L266,Perzentile!V266)","v":175.45699999999999},{"$f":"Perzentile!W266","v":{"$error":"#N/A"}},{"$f":"Perzentile!X266","v":{"$error":"#N/A"}},{"$f":"Perzentile!Y266","v":{"$error":"#N/A"}},0]
[22,22,264,{"$f":"IF('Entrée des données_Eingabemaske'!$N$12=\"männlich / masculin\",Perzentile!C267,Perzentile!M267)","v":1},{"$f":"IF('Entrée des données_Eingabemaske'!$N$12=\"männlich / masculin\",Perzentile!D267,Perzentile!N267)","v":163.15479999999999},{"$f":"IF('Entrée des données_Eingabemaske'!$N$12=\"männlich / masculin\",Perzentile!E267,Perzentile!O267)","v":4.0090000000000001E-2},{"$f":"IF('Entrée des données_Eingabemaske'!$N$12=\"männlich / masculin\",Perzentile!F267,Perzentile!P267)","v":150.85300000000001},{"$f":"IF('Entrée des données_Eingabemaske'!$N$12=\"männlich / masculin\",Perzentile!G267,Perzentile!Q267)","v":154.7723302093124},{"$f":"IF('Entrée des données_Eingabemaske'!$N$12=\"männlich / masculin\",Perzentile!H267,Perzentile!R267)","v":158.74299999999999},{"$f":"IF('Entrée des données_Eingabemaske'!$N$12=\"männlich / masculin\",Perzentile!I267,Perzentile!S267)","v":163.155},{"$f":"IF('Entrée des données_Eingabemaske'!$N$12=\"männlich / masculin\",Perzentile!J267,Perzentile!T267)","v":167.56700000000001},{"$f":"IF('Entrée des données_Eingabemaske'!$N$12=\"männlich / masculin\",Perzentile!K267,Perzentile!U267)","v":171.53726979068762},{"$f":"IF('Entrée des données_Eingabemaske'!$N$12=\"männlich / masculin\",Perzentile!L267,Perzentile!V267)","v":175.45699999999999},{"$f":"Perzentile!W267","v":{"$error":"#N/A"}},{"$f":"Perzentile!X267","v":{"$error":"#N/A"}},{"$f":"Perzentile!Y267","v":{"$error":"#N/A"}},0]